{"text_format":"1","workbook":"xlsx","n_sheets":15,"sheets":["Front Page","Char 1","Char 2","Char 3","Char 4","Lookups","Rotation Assembler","Calcs","Results (Team)","Results (Personal)","MVs","Char Stats","weapons","artisDB","Artifact Database"],"not_rendered":{"charts":0,"images":0,"macros":1,"external_links":0,"defined_names":875,"comments":1,"pivot_tables":0},"unopened":[],"bounds":{"document_bytes":16777216,"sheet_cells":100000,"rows_first":2000,"rows_last":500,"rows_between":2000,"halvings":0,"cell_chars":16384,"cell_head_chars":4096},"cells_cut":0,"cells_raw":0,"read":"whole","date_system":"1900"}

{"sheet":"Front Page","index":0,"n_rows":34,"n_cols":23,"rows_kept":34,"cut":false,"hidden":false,"merged":[[17,16,22,20],[6,16,7,20],[9,16,15,20],[1,16,2,20],[3,16,4,20],[12,11,12,13],[11,11,11,13],[7,22,9,26],[1,1,2,5],[3,1,3,5],[1,10,2,14],[3,10,3,11],[1,22,2,26],[5,10,6,14],[9,10,10,14]]}
[]
[null,"GICalc v2.4.6",null,null,null,null,null,null,null,null,"Contact Information",null,null,null,null,null,"Things to Note",null,null,null,null,null,"Credits"]
[]
[null,"Created by Ayzel",null,null,null,null,null,null,null,null,"Discord Tag:",null,"Ayzel#7399",null,null,null,"The MCs have names stored as \"AMC\", \"GMC\", and \"EMC\". (Other names may be added in the future.)",null,null,null,null,null,"Thanks to srl for feedback on version 1 of this sheet."]
[]
[null,"Changelog:",null,null,null,null,null,null,null,null,"How to Use",null,null,null,null,null,null,null,null,null,null,null,"Thanks to Zanto for inspiration."]
[null,null,null,null,null,null,null,null,null,null,null,null,null,null,null,null,"Hu Tao's name must be entered as \"HuTao\". (May be changed in a future patch.)"]
[null,"Version 2.4",null,null,null,null,null,null,null,null,"There will be a youtube guide soon!",null,null,null,null,null,null,null,null,null,null,null,"Thanks to Arte, Nep, xf3, tenten, Sitri, and more for being great friends and giving me a reason to stick with Genshin TC."]
[null,"Yae Miko implemented"]
[null,null,null,null,null,null,null,null,null,null,"Legend",null,null,null,null,null,"Attacks which have a separate MV value attached to them, such as Zhongli (from A4) are given separate attacks for those bonuses only, for my sanity. For example, adding Zhongli's burst as an attack in the rotation assembler requires adding both the base damage from the burst and adding the separate A4 bonus damage as another attack."]
[null,"Version 2.3"]
[null,"Added dynamic adjustment for quills/Yunjin burst",null,null,null,null,null,null,null,null,null,"Cells to Change"]
[null,null,null,null,null,null,null,null,null,null,null,"Cells that shouldn't be changed"]
[null,"Version 2.2"]
[null,"Added Thoma, Sara, Yunjin, Shenhe, Shenhe Weapon, Prototype Amber"]
[null,"Fixed Childe talent scaling errors and DEF calculation errors"]
[null,"Fixed issue with Mistspitter"]
[null,"Fixed Flat Healing giving numbers that were too large",null,null,null,null,null,null,null,null,null,null,null,null,null,null,"Raiden's Resolve Bonus needs to be entered in the same manner as bonus MV; simply change the values in the \"Stacks\" row to the requisite amount of resolve stacks. (Unhide Row 7 to see stacks row. Unhide rows by highlighting cells in the rows around it and pressing ALT-H-O-U-O.)"]
[]
[null,"Version 2.1"]
[null,"Optimized sheet by removing volatile functions"]
[]
[null,"Version 2.0 - 10/30/2021"]
[null,"Added Full Dark Mode"]
[null,"Revamped Character Page Design"]
[null,"Added Motion Value Database/Lookup"]
[null,"Revamped Calculation System"]
[null,"Added Burst/Skill Specific Buffs"]
[null,"Added Skill Echo Damage Type"]
[null,"Added Team Damage Calc Capability"]
[]
[null,"Current Known Issues:"]
[null,"I have no idea how to implement Zhongli C6 with OHC"]
[null,"Healing Bonus doesn't work as a conditional buff with Kokomi's Song of Pearls (must be added on Character Page)"]

{"sheet":"Char 1","index":1,"n_rows":50,"n_cols":42,"rows_kept":50,"cut":false,"hidden":false,"merged":[[29,9,29,10],[21,17,21,18],[8,2,8,3],[8,4,8,5],[17,23,17,24],[18,23,18,24],[19,23,19,24],[27,17,27,18],[28,17,28,18],[29,17,29,18],[22,17,22,18],[23,17,23,18],[24,17,24,18],[21,2,21,3],[22,2,22,3],[21,4,21,5],[22,4,22,5],[26,2,27,5],[26,9,26,10],[26,11,26,13],[27,11,27,13],[28,11,28,13],[20,9,21,13],[22,9,22,10],[20,2,20,3],[14,4,14,5],[13,11,13,13],[14,11,14,13],[18,2,18,3],[19,2,19,3],[16,2,16,3],[17,2,17,3],[12,2,13,5],[14,2,14,3],[15,2,15,3],[25,23,25,24],[25,9,25,10],[27,9,27,10],[28,9,28,10],[6,23,6,24],[7,23,7,24],[8,23,8,24],[9,23,9,24],[10,23,10,24],[11,23,11,24],[16,9,16,10],[15,11,15,13],[16,11,16,13],[13,9,13,10],[14,9,14,10],[15,9,15,10],[14,23,14,24],[15,23,15,24],[16,23,16,24],[7,17,7,18],[8,17,8,18],[23,9,23,10],[24,9,24,10],[23,23,24,25],[33,11,33,13],[34,11,34,13],[31,9,31,10],[40,4,40,5],[32,2,32,3],[32,4,32,5],[36,2,36,3],[36,4,36,5],[30,4,30,5],[31,4,31,5],[28,2,28,3],[29,2,29,3],[30,2,30,3],[31,2,31,3],[33,2,33,3],[33,4,33,5],[35,2,35,3],[35,4,35,5],[34,2,34,3],[34,4,34,5],[28,4,28,5],[29,4,29,5],[2,9,3,13],[4,9,4,10],[5,9,5,10],[6,9,6,10],[7,9,7,10],[4,11,4,13],[5,11,5,13],[2,2,3,5],[4,2,4,3],[5,2,5,3],[6,2,6,3],[7,2,7,3],[4,4,4,5],[5,4,5,5],[6,4,6,5],[7,4,7,5],[47,17,47,18],[48,17,48,18],[15,17,15,18],[9,17,9,18],[18,9,18,10],[11,9,12,13],[16,17,16,18],[17,17,17,18],[18,17,18,18],[19,17,19,18],[39,17,39,18],[24,11,24,13],[25,11,25,13],[22,11,22,13],[23,11,23,13],[32,9,32,10],[33,9,33,10],[38,17,38,18],[30,9,30,10],[29,11,29,13],[30,11,30,13],[34,9,34,10],[31,11,31,13],[32,11,32,13],[49,17,49,18],[2,23,3,25],[42,17,42,18],[43,17,43,18],[44,17,44,18],[45,17,45,18],[46,17,46,18],[35,17,35,18],[36,17,36,18],[37,17,37,18],[40,17,40,18],[41,17,41,18],[30,17,30,18],[31,17,31,18],[32,17,32,18],[33,17,33,18],[34,17,34,18],[25,17,25,18],[26,17,26,18],[2,17,3,19],[4,17,4,18],[4,23,4,24],[5,23,5,24],[35,23,35,24],[18,29,18,30],[19,29,19,30],[20,29,20,30],[2,29,3,32],[4,29,4,30],[4,31,4,32],[15,4,15,5],[16,4,16,5],[17,4,17,5],[18,4,18,5],[19,4,19,5],[20,4,20,5],[20,17,20,18],[6,11,6,13],[7,11,7,13],[10,17,10,18],[11,17,11,18],[12,17,12,18],[13,17,13,18],[14,17,14,18],[5,17,5,18],[6,17,6,18],[12,23,12,24],[13,23,13,24],[21,29,21,30],[22,29,22,30],[23,29,23,30],[24,29,24,30],[25,29,25,30],[26,29,26,30],[27,29,27,30],[28,29,28,30],[29,29,29,30],[21,31,21,32],[22,31,22,32],[23,31,23,32],[24,31,24,32],[25,31,25,32],[26,31,26,32],[27,31,27,32],[28,31,28,32],[29,31,29,32],[10,36,10,40],[8,36,9,41],[30,29,30,30],[30,31,30,32],[8,29,9,32],[10,31,10,32],[11,31,11,32],[12,31,12,32],[13,31,13,32],[14,31,14,32],[15,31,15,32],[16,31,16,32],[17,31,17,32],[12,29,12,30],[13,29,13,30],[14,29,14,30],[15,29,15,30],[16,29,16,30],[17,29,17,30],[10,29,10,30],[11,29,11,30],[18,31,18,32],[19,31,19,32],[20,31,20,32],[33,23,33,24],[34,23,34,24],[32,23,32,24],[30,23,30,24],[31,23,31,24],[27,23,27,24],[26,23,26,24],[28,23,28,24],[29,23,29,24]]}
[]
[]
[null,null,"Character 1 Info",null,null,null,null,null,null,"Weapon Info",null,null,null,null,null,null,null,"Buffs",null,null,null,null,null,"Optimization Settings",null,null,null,null,null,"Final Damage"]
[]
[null,null,"Character Name",null,"Diluc",null,null,null,null,"Name",null,"Serpent Spine",null,null,null,null,null,"Flat ATK",null,0,null,null,null,"Number of Subs",null,40,null,null,null,"Damage",null,{"$f":"'Rotation Assembler'!B312","v":438447.01709926367}]
[null,null,"Level",null,90,null,null,null,null,"Refinement",null,1,null,null,null,null,null,"Flat DEF",null,0,null,null,null,"Sub Caps?",null,true,null,null,null,null,null,null,null,null,null,null,"Requires Solver Add-In"]
[null,null,"Normal Talent Lvl",null,9,null,null,null,null,"Stacks",null,5,null,null,null,null,null,"Flat HP",null,0,null,null,null,"Sub Values",null,"KQMC"]
[null,null,"Skill Talent Lvl",null,9,null,null,null,null,"Toggle",null,true,null,null,null,null,null,"EM",null,0,null,null,null,"ER Requirement",null,1.2]
[null,null,"Burst Talent Lvl",null,9,null,null,null,null,null,null,null,null,null,null,null,null,"ATK%",null,0,null,null,null,"Flat Subs Per Stat",null,2,null,null,null,"Character Final Stats",null,null,null,null,null,null,"Manual Substat Input"]
[null,null,null,null,null,null,null,null,null,null,null,null,null,null,null,null,null,"DEF%",null,0,null,null,null,"Sub Cap Multiplier",null,2]
[null,null,null,null,null,null,null,null,null,null,null,null,null,null,null,null,null,"HP%",null,0,null,null,null,"Flat ATK Cap",null,{"$f":"ROUND(IF($Z$6 = TRUE, Z9+4*Z10, 1000), 0)","v":10},null,null,null,"Final HP",null,{"$f":"char1FinalHP","v":19556.5952},null,null,null,null,"Use Personal Stats?"]
[null,null,null,null,null,null,null,null,null,"Artifact Set Info",null,null,null,null,null,null,null,"CR%",null,0,null,null,null,"Flat DEF Cap",null,{"$f":"ROUND(IF($Z$6 = TRUE, Z9+5*Z10, 1000),0)","v":12},null,null,null,"Final DEF",null,{"$f":"char1FinalDEF","v":920.57600000000014}]
[null,null,"Attack Element Type",null,null,null,null,null,null,null,null,null,null,null,null,null,null,"CDMG%",null,0,null,null,null,"Flat HP Cap",null,{"$f":"ROUND(IF($Z$6 = TRUE, Z9+4*Z10, 1000),0)","v":10},null,null,null,"Final ATK",null,{"$f":"char1FinalATK","v":1272.904},null,null,null,null,null,"Flower","Feather","Sands","Goblet","Circlet"]
[null,null,null,null,null,null,null,null,null,"Set 1 Name",null,"2-piece Crimson Witch of Flames",null,null,null,null,null,"ER%",null,0,null,null,null,"ATK% Cap",null,{"$f":"ROUND(IF($Z$6 = TRUE, (Z9+Z10*5)-COUNTIF($L$28:$N$34, \"ATK%\")*Z10, 1000),0)","v":12},null,null,null,"Final ER",null,{"$f":"char1FinalER","v":1.2203999999999999},null,null,null,null,"Flat ATK"]
[null,null,"Normal Attack",null,"Pyro",null,null,null,null,"Set 2 Name",null,"4-piece Crimson Witch of Flames",null,null,null,null,null,"DMG%",null,0,null,null,null,"DEF% Cap",null,{"$f":"ROUND(IF($Z$6 = TRUE, (Z9+Z10*5)-COUNTIF($L$28:$N$34, \"DEF%\")*Z10, 1000),0)","v":12},null,null,null,"Final EM",null,{"$f":"char1FinalEM","v":226.64},null,null,null,null,"Flat DEF"]
[null,null,"Charged Attack",null,"Pyro",null,null,null,null,"Stacks",null,0,null,null,null,null,null,"Phys DMG%",null,0,null,null,null,"HP% Cap",null,{"$f":"ROUND(IF($Z$6 = TRUE, (Z9+Z10*5)-COUNTIF($L$28:$N$34, \"HP%\")*Z10, 1000),0)","v":12},null,null,null,"Final CR",null,{"$f":"char1FinalCR","v":0.91520000000000001},null,null,null,null,"Flat HP"]
[null,null,"Plunge Attack",null,"Pyro",null,null,null,null,"Toggle",null,false,null,null,null,null,null,"Anemo DMG%",null,0,null,null,null,"CR% Cap",null,{"$f":"ROUND(IF($Z$6 = TRUE, (Z9+Z10*5)-COUNTIF($L$28:$N$34, \"CR%\")*Z10, 1000),0)","v":12},null,null,null,"Final CDMG",null,{"$f":"char1FinalCDMG","v":1.7839999999999998},null,null,null,null,"EM"]
[null,null,"Skill",null,"Pyro",null,null,null,null,null,null,null,null,null,null,null,null,"Geo DMG%",null,0,null,null,null,"CDMG% Cap",null,{"$f":"ROUND(IF($Z$6 = TRUE, (Z9+Z10*5)-COUNTIF($L$28:$N$34, \"CDMG%\")*Z10, 1000),0)","v":10},null,null,null,"DMG%",null,{"$f":"char1FinalDMGPercent","v":0.3},null,null,null,null,"ATK%"]
[null,null,"Skill Echo",null,"Pyro",null,null,null,null,null,null,null,null,null,null,null,null,"Pyro DMG%",null,0.2,null,null,null,"ER% Cap",null,{"$f":"ROUND(IF($Z$6 = TRUE, (2+Z10*5)-COUNTIF($L$28:$N$34, \"ER%\")*Z10, 1000),0)","v":12},null,null,null,"Phys DMG%",null,{"$f":"char1FinalPhysDMG","v":0},null,null,null,null,"DEF%"]
[null,null,"Skill Echo DMG Type",null,"Skill",null,null,null,null,null,null,null,null,null,null,null,null,"Cryo DMG%",null,0,null,null,null,"EM Cap",null,{"$f":"ROUND(IF($Z$6 = TRUE, (Z9+Z10*5)-COUNTIF($L$28:$N$34, \"EM\")*Z10, 1000),0)","v":10},null,null,null,"Anemo DMG%",null,{"$f":"char1FinalAnemoDMG","v":0},null,null,null,null,"HP%"]
[null,null,"Burst",null,"Pyro",null,null,null,null,"Artifact Stat Info",null,null,null,null,null,null,null,"Hydro DMG%",null,0,null,null,null,null,null,null,null,null,null,"Geo DMG%",null,{"$f":"char1FinalGeoDMG","v":0},null,null,null,null,"CR%"]
[null,null,"Burst Echo",null,"Pyro",null,null,null,null,null,null,null,null,null,null,null,null,"Electro DMG%",null,0,null,null,null,null,null,null,null,null,null,"Pyro DMG%",null,{"$f":"char1FinalPyroDMG","v":0.81600000000000006},null,null,null,null,"CDMG%"]
[null,null,"Burst Echo DMG Type",null,"Burst",null,null,null,null,"Flower Level",null,20,null,null,null,null,null,"Normal DMG%",null,0,null,null,null,null,null,null,null,null,null,"Cryo DMG%",null,{"$f":"char1FinalCryoDMG","v":0},null,null,null,null,"ER%"]
[null,null,null,null,null,null,null,null,null,"Flower Rarity",null,"5 star",null,null,null,null,null,"Charged DMG%",null,0,null,null,null,"Substat Distribution",null,null,null,null,null,"Hydro DMG%",null,{"$f":"char1FinalHydroDMG","v":0}]
[null,null,null,null,null,null,null,null,null,"Feather Level",null,20,null,null,null,null,null,"Plunging DMG%",null,0,null,null,null,null,null,null,null,null,null,"Electro DMG%",null,{"$f":"char1FinalElectroDMG","v":0}]
[null,null,null,null,null,null,null,null,null,"Feather Rarity",null,"5 star",null,null,null,null,null,"Skill DMG%",null,0,null,null,null,"Subs to Distribute",null,{"$f":"SUM(Z27:Z36)","v":40},null,null,null,"Normal DMG%",null,{"$f":"char1FinalNormalDMG","v":0}]
[null,null,"Enemy Info",null,null,null,null,null,null,"Sands Level",null,20,null,null,null,null,null,"Burst DMG%",null,0,null,null,null,"Flat ATK",null,2,null,null,null,"Charged DMG%",null,{"$f":"char1FinalChargedDMG","v":0}]
[null,null,null,null,null,null,null,null,null,"Sands Stat",null,"EM",null,null,null,null,null,"Swirl%",null,0,null,null,null,"Flat DEF",null,2,null,null,null,"Plunging DMG%",null,{"$f":"char1FinalPlungingDMG","v":0}]
[null,null,"Enemy Level",null,100,null,null,null,null,"Sands Rarity",null,"5 star",null,null,null,null,null,"Overload%",null,0,null,null,null,"Flat HP",null,2,null,null,null,"Skill DMG%",null,{"$f":"char1FinalSkillDMG","v":0}]
[null,null,"Pyro Res",null,0.1,null,null,null,null,"Goblet Level",null,20,null,null,null,null,null,"Crystallize%",null,0,null,null,null,"ATK%",null,2,null,null,null,"Burst DMG%",null,{"$f":"char1FinalBurstDMG","v":0}]
[null,null,"Hydro Res",null,0.1,null,null,null,null,"Goblet Stat",null,"Pyro DMG%",null,null,null,null,null,"Electrocharged%",null,0,null,null,null,"DEF%",null,2,null,null,null,"Healing Bonus%",null,{"$f":"char1FinalHealingBonus","v":0}]
[null,null,"Cryo Res",null,0.1,null,null,null,null,"Goblet Rarity",null,"5 star",null,null,null,null,null,"Superconduct%",null,0,null,null,null,"HP%",null,2]
[null,null,"Electro Res",null,0.1,null,null,null,null,"Circlet Level",null,20,null,null,null,null,null,"Shatter%",null,0,null,null,null,"CR%",null,12]
[null,null,"Anemo Res",null,0.1,null,null,null,null,"Circlet Stat",null,"CDMG%",null,null,null,null,null,"Melt%",null,0,null,null,null,"CDMG%",null,10,null,null,null,null,{"$f":"SUM('Rotation Assembler'!K296:M296)/2","v":28973.177614349814},{"$f":"'Rotation Assembler'!B296","v":44000.855146813032},{"$f":"'Rotation Assembler'!N296","v":32952.044315695341}]
[null,null,"Geo Res",null,0.1,null,null,null,null,"Circlet Rarity",null,"5 Star",null,null,null,null,null,"Vaporize%",null,0,null,null,null,"ER%",null,4,null,null,null,"Heizou Soft Targets - 4VV","Skill Damage","Burst Damage","CA Damage"]
[null,null,"Phys Res",null,0.1,null,null,null,null,null,null,null,null,null,null,null,null,"DEF Shred",null,0,null,null,null,"EM",null,2,null,null,null,"Skyward Atlas",28790.068842727316,15927.922405859368,3694.8897518872982]
[null,null,"Dendro Res (WIP)",null,0.1,null,null,null,null,null,null,null,null,null,null,null,null,"Shield Strength%",null,0]
[null,null,null,null,null,null,null,null,null,null,null,null,null,null,null,null,null,"Phys RES%",null,0]
[null,null,null,null,null,null,null,null,null,null,null,null,null,null,null,null,null,"Healing Bonus%",null,0]
[null,null,null,null,null,null,null,null,null,null,null,null,null,null,null,null,null,"Healing Received%",null,0]
[null,null,null,null,null,null,null,null,null,null,null,null,null,null,null,null,null,"Anemo RES%",null,0]
[null,null,null,null,null,null,null,null,null,null,null,null,null,null,null,null,null,"Geo RES%",null,0]
[null,null,null,null,null,null,null,null,null,null,null,null,null,null,null,null,null,"Pyro RES%",null,0]
[null,null,null,null,null,null,null,null,null,null,null,null,null,null,null,null,null,"Cryo RES%",null,0]
[null,null,null,null,null,null,null,null,null,null,null,null,null,null,null,null,null,"Hydro RES%",null,0]
[null,null,null,null,null,null,null,null,null,null,null,null,null,null,null,null,null,"Electro RES%",null,0]
[null,null,null,null,null,null,null,null,null,null,null,null,null,null,null,null,null,"Burst CR%",null,0]
[null,null,null,null,null,null,null,null,null,null,null,null,null,null,null,null,null,"Skill CR%",null,0]
[null,null,null,null,null,null,null,null,null,null,null,null,null,null,null,null,null,"Burst CDMG%",null,0]
[null,null,null,null,null,null,null,null,null,null,null,null,null,null,null,null,null,"Skill CDMG%",null,0]

{"sheet":"Char 2","index":2,"n_rows":50,"n_cols":42,"rows_kept":50,"cut":false,"hidden":false,"merged":[[35,23,35,24],[13,23,13,24],[14,23,14,24],[15,23,15,24],[16,23,16,24],[17,23,17,24],[18,23,18,24],[19,23,19,24],[32,23,32,24],[33,23,33,24],[34,23,34,24],[28,23,28,24],[29,23,29,24],[30,23,30,24],[31,23,31,24],[23,23,24,25],[25,23,25,24],[26,23,26,24],[27,23,27,24],[44,17,44,18],[45,17,45,18],[46,17,46,18],[47,17,47,18],[48,17,48,18],[49,17,49,18],[40,2,40,3],[40,4,40,5],[40,17,40,18],[41,17,41,18],[42,17,42,18],[43,17,43,18],[36,17,36,18],[37,17,37,18],[38,17,38,18],[39,17,39,18],[34,9,34,10],[34,11,34,13],[34,17,34,18],[35,17,35,18],[32,9,32,10],[32,11,32,13],[32,17,32,18],[33,9,33,10],[33,11,33,13],[33,17,33,18],[31,9,31,10],[31,11,31,13],[31,17,31,18],[30,9,30,10],[30,11,30,13],[30,17,30,18],[29,9,29,10],[29,11,29,13],[29,17,29,18],[26,9,26,10],[26,11,26,13],[26,17,26,18],[28,9,28,10],[28,11,28,13],[28,17,28,18],[27,9,27,10],[27,11,27,13],[27,17,27,18],[23,9,23,10],[23,11,23,13],[23,17,23,18],[24,9,24,10],[24,11,24,13],[24,17,24,18],[25,9,25,10],[25,11,25,13],[25,17,25,18],[22,2,22,3],[22,4,22,5],[22,9,22,10],[22,11,22,13],[22,17,22,18],[20,2,20,3],[20,4,20,5],[20,9,21,13],[20,17,20,18],[21,2,21,3],[21,4,21,5],[21,17,21,18],[19,2,19,3],[19,4,19,5],[19,17,19,18],[17,2,17,3],[17,4,17,5],[17,17,17,18],[18,2,18,3],[18,4,18,5],[18,9,18,10],[18,17,18,18],[16,2,16,3],[16,4,16,5],[16,9,16,10],[16,11,16,13],[16,17,16,18],[15,2,15,3],[15,4,15,5],[15,9,15,10],[15,11,15,13],[15,17,15,18],[14,2,14,3],[14,4,14,5],[14,9,14,10],[14,11,14,13],[14,17,14,18],[12,2,13,5],[12,17,12,18],[13,9,13,10],[13,11,13,13],[13,17,13,18],[10,17,10,18],[10,23,10,24],[11,9,12,13],[11,17,11,18],[11,23,11,24],[8,2,8,3],[8,4,8,5],[8,17,8,18],[8,23,8,24],[9,17,9,18],[9,23,9,24],[12,23,12,24],[7,11,7,13],[7,17,7,18],[7,23,7,24],[6,2,6,3],[6,4,6,5],[6,9,6,10],[6,11,6,13],[6,17,6,18],[6,23,6,24],[19,29,19,30],[19,31,19,32],[2,2,3,5],[2,9,3,13],[2,17,3,19],[2,23,3,25],[2,29,3,32],[4,2,4,3],[4,4,4,5],[4,9,4,10],[4,11,4,13],[4,17,4,18],[4,23,4,24],[4,29,4,30],[4,31,4,32],[5,2,5,3],[5,4,5,5],[5,9,5,10],[5,11,5,13],[5,17,5,18],[5,23,5,24],[7,2,7,3],[7,4,7,5],[7,9,7,10],[14,29,14,30],[14,31,14,32],[15,29,15,30],[15,31,15,32],[16,29,16,30],[16,31,16,32],[17,29,17,30],[17,31,17,32],[18,29,18,30],[18,31,18,32],[8,29,9,32],[10,29,10,30],[10,31,10,32],[11,29,11,30],[11,31,11,32],[12,29,12,30],[12,31,12,32],[13,29,13,30],[13,31,13,32],[8,36,9,41],[10,36,10,40],[30,29,30,30],[30,31,30,32],[25,29,25,30],[25,31,25,32],[26,29,26,30],[26,31,26,32],[27,29,27,30],[27,31,27,32],[28,29,28,30],[28,31,28,32],[29,29,29,30],[29,31,29,32],[20,29,20,30],[20,31,20,32],[21,29,21,30],[21,31,21,32],[22,29,22,30],[22,31,22,32],[23,29,23,30],[23,31,23,32],[24,29,24,30],[24,31,24,32]]}
[]
[]
[null,null,"Character 2 Info",null,null,null,null,null,null,"Weapon Info",null,null,null,null,null,null,null,"Buffs",null,null,null,null,null,"Optimization Settings",null,null,null,null,null,"Final Damage"]
[]
[null,null,"Character Name",null,"Xingqiu",null,null,null,null,"Name",null,"Favonius Sword",null,null,null,null,null,"Flat ATK",null,0,null,null,null,"Number of Subs",null,40,null,null,null,"Damage",null,{"$f":"'Rotation Assembler'!B313","v":233817.7280777136}]
[null,null,"Level",null,90,null,null,null,null,"Refinement",null,1,null,null,null,null,null,"Flat DEF",null,0,null,null,null,"Sub Caps?",null,true]
[null,null,"Normal Talent Lvl",null,9,null,null,null,null,"Stacks",null,0,null,null,null,null,null,"Flat HP",null,0,null,null,null,"Sub Values",null,"KQMC"]
[null,null,"Skill Talent Lvl",null,12,null,null,null,null,"Toggle",null,false,null,null,null,null,null,"EM",null,0,null,null,null,"ER Requirement",null,2.06]
[null,null,"Burst Talent Lvl",null,12,null,null,null,null,null,null,null,null,null,null,null,null,"ATK%",null,0,null,null,null,"Flat Subs Per Stat",null,2,null,null,null,"Character Final Stats",null,null,null,null,null,null,"Manual Substat Input"]
[null,null,null,null,null,null,null,null,null,null,null,null,null,null,null,null,null,"DEF%",null,0,null,null,null,"Sub Cap Multiplier",null,2]
[null,null,null,null,null,null,null,null,null,null,null,null,null,null,null,null,null,"HP%",null,0,null,null,null,"Flat ATK Cap",null,{"$f":"ROUND(IF($Z$6 = TRUE, Z9+4*Z10, 1000), 0)","v":10},null,null,null,"Final HP",null,{"$f":"char2FinalHP","v":16523.902399999999},null,null,null,null,"Use Personal Stats?"]
[null,null,null,null,null,null,null,null,null,"Artifact Set Info",null,null,null,null,null,null,null,"CR%",null,0,null,null,null,"Flat DEF Cap",null,{"$f":"ROUND(IF($Z$6 = TRUE, Z9+5*Z10, 1000),0)","v":12},null,null,null,"Final DEF",null,{"$f":"char2FinalDEF","v":891.35200000000009}]
[null,null,"Attack Element Type",null,null,null,null,null,null,null,null,null,null,null,null,null,null,"CDMG%",null,0,null,null,null,"Flat HP Cap",null,{"$f":"ROUND(IF($Z$6 = TRUE, Z9+4*Z10, 1000),0)","v":10},null,null,null,"Final ATK",null,{"$f":"char2FinalATK","v":1560.8288},null,null,null,null,null,"Flower","Feather","Sands","Goblet","Circlet"]
[null,null,null,null,null,null,null,null,null,"Set 1 Name",null,"2-piece Emblem of Severed Fate",null,null,null,null,null,"ER%",null,0,null,null,null,"ATK% Cap",null,{"$f":"ROUND(IF($Z$6 = TRUE, (Z9+Z10*5)-COUNTIF($L$28:$N$34, \"ATK%\")*Z10, 1000),0)","v":10},null,null,null,"Final ER",null,{"$f":"Calcs!K67","v":2.0884999999999998},null,null,null,null,"Flat ATK"]
[null,null,"Normal Attack",null,"Phys",null,null,null,null,"Set 2 Name",null,"4-piece Emblem of Severed Fate",null,null,null,null,null,"DMG%",null,0,null,null,null,"DEF% Cap",null,{"$f":"ROUND(IF($Z$6 = TRUE, (Z9+Z10*5)-COUNTIF($L$28:$N$34, \"DEF%\")*Z10, 1000),0)","v":12},null,null,null,"Final EM",null,{"$f":"Calcs!K61","v":39.64},null,null,null,null,"Flat DEF"]
[null,null,"Charged Attack",null,"Phys",null,null,null,null,"Stacks",null,0,null,null,null,null,null,"Phys DMG%",null,0,null,null,null,"HP% Cap",null,{"$f":"ROUND(IF($Z$6 = TRUE, (Z9+Z10*5)-COUNTIF($L$28:$N$34, \"HP%\")*Z10, 1000),0)","v":12},null,null,null,"Final CR",null,{"$f":"Calcs!K65","v":0.62579999999999991},null,null,null,null,"Flat HP"]
[null,null,"Plunge Attack",null,"Phys",null,null,null,null,"Toggle",null,false,null,null,null,null,null,"Anemo DMG%",null,0,null,null,null,"CR% Cap",null,{"$f":"ROUND(IF($Z$6 = TRUE, (Z9+Z10*5)-COUNTIF($L$28:$N$34, \"CR%\")*Z10, 1000),0)","v":10},null,null,null,"Final CDMG",null,{"$f":"Calcs!K66","v":1.2944},null,null,null,null,"EM"]
[null,null,"Skill",null,"Hydro",null,null,null,null,null,null,null,null,null,null,null,null,"Geo DMG%",null,0,null,null,null,"CDMG% Cap",null,{"$f":"ROUND(IF($Z$6 = TRUE, (Z9+Z10*5)-COUNTIF($L$28:$N$34, \"CDMG%\")*Z10, 1000),0)","v":12},null,null,null,"DMG%",null,{"$f":"Calcs!K68","v":0},null,null,null,null,"ATK%"]
[null,null,"Skill Echo",null,"Hydro",null,null,null,null,null,null,null,null,null,null,null,null,"Pyro DMG%",null,0,null,null,null,"ER% Cap",null,{"$f":"ROUND(IF($Z$6 = TRUE, (2+Z10*5)-COUNTIF($L$28:$N$34, \"ER%\")*Z10, 1000),0)","v":12},null,null,null,"Phys DMG%",null,{"$f":"Calcs!K69","v":0},null,null,null,null,"DEF%"]
[null,null,"Skill Echo DMG Type",null,"Skill",null,null,null,null,null,null,null,null,null,null,null,null,"Cryo DMG%",null,0,null,null,null,"EM Cap",null,{"$f":"ROUND(IF($Z$6 = TRUE, (Z9+Z10*5)-COUNTIF($L$28:$N$34, \"EM\")*Z10, 1000),0)","v":12},null,null,null,"Anemo DMG%",null,{"$f":"Calcs!K70","v":0},null,null,null,null,"HP%"]
[null,null,"Burst",null,"Hydro",null,null,null,null,"Artifact Stat Info",null,null,null,null,null,null,null,"Hydro DMG%",null,0,null,null,null,null,null,null,null,null,null,"Geo DMG%",null,{"$f":"Calcs!K71","v":0},null,null,null,null,"CR%"]
[null,null,"Burst Echo",null,"Hydro",null,null,null,null,null,null,null,null,null,null,null,null,"Electro DMG%",null,0,null,null,null,null,null,null,null,null,null,"Pyro DMG%",null,{"$f":"Calcs!K72","v":0},null,null,null,null,"CDMG%"]
[null,null,"Burst Echo DMG Type",null,"Burst",null,null,null,null,"Flower Level",null,20,null,null,null,null,null,"Normal DMG%",null,0,null,null,null,null,null,null,null,null,null,"Cryo DMG%",null,{"$f":"Calcs!K73","v":0},null,null,null,null,"ER%"]
[null,null,null,null,null,null,null,null,null,"Flower Rarity",null,"5 star",null,null,null,null,null,"Charged DMG%",null,0,null,null,null,"Substat Distribution",null,null,null,null,null,"Hydro DMG%",null,{"$f":"Calcs!K74","v":0.46600000000000003}]
[null,null,null,null,null,null,null,null,null,"Feather Level",null,20,null,null,null,null,null,"Plunging DMG%",null,0,null,null,null,null,null,null,null,null,null,"Electro DMG%",null,{"$f":"Calcs!K75","v":0}]
[null,null,null,null,null,null,null,null,null,"Feather Rarity",null,"5 star",null,null,null,null,null,"Skill DMG%",null,0,null,null,null,"Subs to Distribute",null,{"$f":"SUM(Z27:Z36)","v":40},null,null,null,"Normal DMG%",null,{"$f":"Calcs!K76","v":0}]
[null,null,null,null,null,null,null,null,null,"Sands Level",null,20,null,null,null,null,null,"Burst DMG%",null,0,null,null,null,"Flat ATK",null,2,null,null,null,"Charged DMG%",null,{"$f":"Calcs!K77","v":0}]
[null,null,null,null,null,null,null,null,null,"Sands Stat",null,"ATK%",null,null,null,null,null,"Swirl%",null,0,null,null,null,"Flat DEF",null,2,null,null,null,"Plunging DMG%",null,{"$f":"Calcs!K78","v":0}]
[null,null,null,null,null,null,null,null,null,"Sands Rarity",null,"5 star",null,null,null,null,null,"Overload%",null,0,null,null,null,"Flat HP",null,2,null,null,null,"Skill DMG%",null,{"$f":"Calcs!K79","v":0}]
[null,null,null,null,null,null,null,null,null,"Goblet Level",null,20,null,null,null,null,null,"Crystallize%",null,0,null,null,null,"ATK%",null,3,null,null,null,"Burst DMG%",null,{"$f":"Calcs!K80","v":0.52212499999999995}]
[null,null,null,null,null,null,null,null,null,"Goblet Stat",null,"Hydro DMG%",null,null,null,null,null,"Electrocharged%",null,0,null,null,null,"DEF%",null,2,null,null,null,"Healing Bonus%",null,{"$f":"char2FinalHealingBonus","v":0}]
[null,null,null,null,null,null,null,null,null,"Goblet Rarity",null,"5 star",null,null,null,null,null,"Superconduct%",null,0,null,null,null,"HP%",null,2]
[null,null,null,null,null,null,null,null,null,"Circlet Level",null,20,null,null,null,null,null,"Shatter%",null,0,null,null,null,"CR%",null,8]
[null,null,null,null,null,null,null,null,null,"Circlet Stat",null,"CR%",null,null,null,null,null,"Melt%",null,0,null,null,null,"CDMG%",null,12]
[null,null,null,null,null,null,null,null,null,"Circlet Rarity",null,"5 Star",null,null,null,null,null,"Vaporize%",null,0,null,null,null,"ER%",null,5]
[null,null,null,null,null,null,null,null,null,null,null,null,null,null,null,null,null,"DEF Shred",null,0,null,null,null,"EM",null,2]
[null,null,null,null,null,null,null,null,null,null,null,null,null,null,null,null,null,"Shield Strength%",null,0]
[null,null,null,null,null,null,null,null,null,null,null,null,null,null,null,null,null,"Phys RES%",null,0]
[null,null,null,null,null,null,null,null,null,null,null,null,null,null,null,null,null,"Healing Bonus%",null,0]
[null,null,null,null,null,null,null,null,null,null,null,null,null,null,null,null,null,"Healing Received%",null,0]
[null,null,null,null,null,null,null,null,null,null,null,null,null,null,null,null,null,"Anemo RES%",null,0]
[null,null,null,null,null,null,null,null,null,null,null,null,null,null,null,null,null,"Geo RES%",null,0]
[null,null,null,null,null,null,null,null,null,null,null,null,null,null,null,null,null,"Pyro RES%",null,0]
[null,null,null,null,null,null,null,null,null,null,null,null,null,null,null,null,null,"Cryo RES%",null,0]
[null,null,null,null,null,null,null,null,null,null,null,null,null,null,null,null,null,"Hydro RES%",null,0]
[null,null,null,null,null,null,null,null,null,null,null,null,null,null,null,null,null,"Electro RES%",null,0]
[null,null,null,null,null,null,null,null,null,null,null,null,null,null,null,null,null,"Burst CR%",null,0]
[null,null,null,null,null,null,null,null,null,null,null,null,null,null,null,null,null,"Skill CR%",null,0]
[null,null,null,null,null,null,null,null,null,null,null,null,null,null,null,null,null,"Burst CDMG%",null,0]
[null,null,null,null,null,null,null,null,null,null,null,null,null,null,null,null,null,"Skill CDMG%",null,0]

{"sheet":"Char 3","index":3,"n_rows":50,"n_cols":42,"rows_kept":50,"cut":false,"hidden":false,"merged":[[35,23,35,24],[32,23,32,24],[33,23,33,24],[34,23,34,24],[13,23,13,24],[14,23,14,24],[15,23,15,24],[16,23,16,24],[28,23,28,24],[29,23,29,24],[30,23,30,24],[31,23,31,24],[23,23,24,25],[25,23,25,24],[26,23,26,24],[27,23,27,24],[17,23,17,24],[18,23,18,24],[19,23,19,24],[47,17,47,18],[48,17,48,18],[49,17,49,18],[41,17,41,18],[42,17,42,18],[43,17,43,18],[44,17,44,18],[45,17,45,18],[46,17,46,18],[35,17,35,18],[36,17,36,18],[37,17,37,18],[38,17,38,18],[39,17,39,18],[40,2,40,3],[40,4,40,5],[40,17,40,18],[33,9,33,10],[33,11,33,13],[33,17,33,18],[34,9,34,10],[34,11,34,13],[34,17,34,18],[31,9,31,10],[31,11,31,13],[31,17,31,18],[32,9,32,10],[32,11,32,13],[32,17,32,18],[29,9,29,10],[29,11,29,13],[29,17,29,18],[30,9,30,10],[30,11,30,13],[30,17,30,18],[26,9,26,10],[26,11,26,13],[26,17,26,18],[27,9,27,10],[27,11,27,13],[27,17,27,18],[28,9,28,10],[28,11,28,13],[28,17,28,18],[23,9,23,10],[23,11,23,13],[23,17,23,18],[24,9,24,10],[24,11,24,13],[24,17,24,18],[25,9,25,10],[25,11,25,13],[25,17,25,18],[22,2,22,3],[22,4,22,5],[22,9,22,10],[22,11,22,13],[22,17,22,18],[20,2,20,3],[20,4,20,5],[20,9,21,13],[20,17,20,18],[21,2,21,3],[21,4,21,5],[21,17,21,18],[19,2,19,3],[19,4,19,5],[19,17,19,18],[17,2,17,3],[17,4,17,5],[17,17,17,18],[18,2,18,3],[18,4,18,5],[18,9,18,10],[18,17,18,18],[16,2,16,3],[16,4,16,5],[16,9,16,10],[16,11,16,13],[16,17,16,18],[15,2,15,3],[15,4,15,5],[15,9,15,10],[15,11,15,13],[15,17,15,18],[14,2,14,3],[14,4,14,5],[14,9,14,10],[14,11,14,13],[14,17,14,18],[12,2,13,5],[12,17,12,18],[13,9,13,10],[13,11,13,13],[13,17,13,18],[10,17,10,18],[10,23,10,24],[11,9,12,13],[11,17,11,18],[11,23,11,24],[8,2,8,3],[8,4,8,5],[8,17,8,18],[8,23,8,24],[9,17,9,18],[9,23,9,24],[12,23,12,24],[5,17,5,18],[5,23,5,24],[7,2,7,3],[7,4,7,5],[7,9,7,10],[7,11,7,13],[7,17,7,18],[7,23,7,24],[6,2,6,3],[6,4,6,5],[6,9,6,10],[6,11,6,13],[6,17,6,18],[6,23,6,24],[16,31,16,32],[17,29,17,30],[17,31,17,32],[18,29,18,30],[18,31,18,32],[19,29,19,30],[19,31,19,32],[2,2,3,5],[2,9,3,13],[2,17,3,19],[2,23,3,25],[2,29,3,32],[4,2,4,3],[4,4,4,5],[4,9,4,10],[4,11,4,13],[4,17,4,18],[4,23,4,24],[4,29,4,30],[4,31,4,32],[5,2,5,3],[5,4,5,5],[5,9,5,10],[5,11,5,13],[30,29,30,30],[30,31,30,32],[29,29,29,30],[29,31,29,32],[20,29,20,30],[20,31,20,32],[21,29,21,30],[21,31,21,32],[22,29,22,30],[22,31,22,32],[23,29,23,30],[23,31,23,32],[24,29,24,30],[24,31,24,32],[8,36,9,41],[10,36,10,40],[25,29,25,30],[25,31,25,32],[26,29,26,30],[26,31,26,32],[27,29,27,30],[27,31,27,32],[28,29,28,30],[28,31,28,32],[8,29,9,32],[10,29,10,30],[10,31,10,32],[11,29,11,30],[11,31,11,32],[12,29,12,30],[12,31,12,32],[13,29,13,30],[13,31,13,32],[14,29,14,30],[14,31,14,32],[15,29,15,30],[15,31,15,32],[16,29,16,30]]}
[]
[]
[null,null,"Character 3 Info",null,null,null,null,null,null,"Weapon Info",null,null,null,null,null,null,null,"Buffs",null,null,null,null,null,"Optimization Settings",null,null,null,null,null,"Final Damage"]
[]
[null,null,"Character Name",null,"Zhongli",null,null,null,null,"Name",null,"Black Tassel",null,null,null,null,null,"Flat ATK",null,0,null,null,null,"Number of Subs",null,40,null,null,null,"Damage",null,{"$f":"'Rotation Assembler'!B314","v":22037.727138735681}]
[null,null,"Level",null,90,null,null,null,null,"Refinement",null,5,null,null,null,null,null,"Flat DEF",null,0,null,null,null,"Sub Caps?",null,true]
[null,null,"Normal Talent Lvl",null,9,null,null,null,null,"Stacks",null,0,null,null,null,null,null,"Flat HP",null,0,null,null,null,"Sub Values",null,"KQMC"]
[null,null,"Skill Talent Lvl",null,9,null,null,null,null,"Toggle",null,true,null,null,null,null,null,"EM",null,0,null,null,null,"ER Requirement",null,1]
[null,null,"Burst Talent Lvl",null,9,null,null,null,null,null,null,null,null,null,null,null,null,"ATK%",null,0,null,null,null,"Flat Subs Per Stat",null,2,null,null,null,"Character Final Stats",null,null,null,null,null,null,"Manual Substat Input"]
[null,null,null,null,null,null,null,null,null,null,null,null,null,null,null,null,null,"DEF%",null,0,null,null,null,"Sub Cap Multiplier",null,2]
[null,null,null,null,null,null,null,null,null,null,null,null,null,null,null,null,null,"HP%",null,0.18,null,null,null,"Flat ATK Cap",null,{"$f":"ROUND(IF($Z$6 = TRUE, Z9+4*Z10, 1000), 0)","v":10},null,null,null,"Final HP",null,{"$f":"char3FinalHP","v":54460.289000000004},null,null,null,null,"Use Personal Stats?"]
[null,null,null,null,null,null,null,null,null,"Artifact Set Info",null,null,null,null,null,null,null,"CR%",null,0,null,null,null,"Flat DEF Cap",null,{"$f":"ROUND(IF($Z$6 = TRUE, Z9+5*Z10, 1000),0)","v":12},null,null,null,"Final DEF",null,{"$f":"char3FinalDEF","v":868.87200000000007}]
[null,null,"Attack Element Type",null,null,null,null,null,null,null,null,null,null,null,null,null,null,"CDMG%",null,0,null,null,null,"Flat HP Cap",null,{"$f":"ROUND(IF($Z$6 = TRUE, Z9+4*Z10, 1000),0)","v":10},null,null,null,"Final ATK",null,{"$f":"char3FinalATK","v":1009.096},null,null,null,null,null,"Flower","Feather","Sands","Goblet","Circlet"]
[null,null,null,null,null,null,null,null,null,"Set 1 Name",null,"2-piece Tenacity of the Millelith",null,null,null,null,null,"ER%",null,0,null,null,null,"ATK% Cap",null,{"$f":"ROUND(IF($Z$6 = TRUE, (Z9+Z10*5)-COUNTIF($L$28:$N$34, \"ATK%\")*Z10, 1000),0)","v":12},null,null,null,"Final ER",null,{"$f":"char3FinalER","v":1.1102000000000001},null,null,null,null,"Flat ATK"]
[null,null,"Normal Attack",null,"Phys",null,null,null,null,"Set 2 Name",null,"4-piece Tenacity of the Millelith",null,null,null,null,null,"DMG%",null,0,null,null,null,"DEF% Cap",null,{"$f":"ROUND(IF($Z$6 = TRUE, (Z9+Z10*5)-COUNTIF($L$28:$N$34, \"DEF%\")*Z10, 1000),0)","v":12},null,null,null,"Final EM",null,{"$f":"Calcs!K113","v":39.64},null,null,null,null,"Flat DEF"]
[null,null,"Charged Attack",null,"Phys",null,null,null,null,"Stacks",null,0,null,null,null,null,null,"Phys DMG%",null,0,null,null,null,"HP% Cap",null,{"$f":"ROUND(IF($Z$6 = TRUE, (Z9+Z10*5)-COUNTIF($L$28:$N$34, \"HP%\")*Z10, 1000),0)","v":6},null,null,null,"Final CR",null,{"$f":"Calcs!K117","v":0.44719999999999999},null,null,null,null,"Flat HP"]
[null,null,"Plunge Attack",null,"Phys",null,null,null,null,"Toggle",null,false,null,null,null,null,null,"Anemo DMG%",null,0,null,null,null,"CR% Cap",null,{"$f":"ROUND(IF($Z$6 = TRUE, (Z9+Z10*5)-COUNTIF($L$28:$N$34, \"CR%\")*Z10, 1000),0)","v":12},null,null,null,"Final CDMG",null,{"$f":"Calcs!K118","v":1.2944},null,null,null,null,"EM"]
[null,null,"Skill",null,"Geo",null,null,null,null,null,null,null,null,null,null,null,null,"Geo DMG%",null,0,null,null,null,"CDMG% Cap",null,{"$f":"ROUND(IF($Z$6 = TRUE, (Z9+Z10*5)-COUNTIF($L$28:$N$34, \"CDMG%\")*Z10, 1000),0)","v":12},null,null,null,"DMG%",null,{"$f":"Calcs!K120","v":0.8},null,null,null,null,"ATK%"]
[null,null,"Skill Echo",null,"Geo",null,null,null,null,null,null,null,null,null,null,null,null,"Pyro DMG%",null,0,null,null,null,"ER% Cap",null,{"$f":"ROUND(IF($Z$6 = TRUE, (2+Z10*5)-COUNTIF($L$28:$N$34, \"ER%\")*Z10, 1000),0)","v":12},null,null,null,"Phys DMG%",null,{"$f":"Calcs!K121","v":0},null,null,null,null,"DEF%"]
[null,null,"Skill Echo DMG Type",null,"skill",null,null,null,null,null,null,null,null,null,null,null,null,"Cryo DMG%",null,0,null,null,null,"EM Cap",null,{"$f":"ROUND(IF($Z$6 = TRUE, (Z9+Z10*5)-COUNTIF($L$28:$N$34, \"EM\")*Z10, 1000),0)","v":12},null,null,null,"Anemo DMG%",null,{"$f":"Calcs!K122","v":0},null,null,null,null,"HP%"]
[null,null,"Burst",null,"Geo",null,null,null,null,"Artifact Stat Info",null,null,null,null,null,null,null,"Hydro DMG%",null,0,null,null,null,null,null,null,null,null,null,"Geo DMG%",null,{"$f":"Calcs!K123","v":0.28800000000000003},null,null,null,null,"CR%"]
[null,null,"Burst Echo",null,"Geo",null,null,null,null,null,null,null,null,null,null,null,null,"Electro DMG%",null,0,null,null,null,null,null,null,null,null,null,"Pyro DMG%",null,{"$f":"Calcs!K124","v":0},null,null,null,null,"CDMG%"]
[null,null,"Burst Echo DMG Type",null,"burst",null,null,null,null,"Flower Level",null,20,null,null,null,null,null,"Normal DMG%",null,0,null,null,null,null,null,null,null,null,null,"Cryo DMG%",null,{"$f":"Calcs!K125","v":0},null,null,null,null,"ER%"]
[null,null,null,null,null,null,null,null,null,"Flower Rarity",null,"5 star",null,null,null,null,null,"Charged DMG%",null,0,null,null,null,"Substat Distribution",null,null,null,null,null,"Hydro DMG%",null,{"$f":"Calcs!K126","v":0}]
[null,null,null,null,null,null,null,null,null,"Feather Level",null,20,null,null,null,null,null,"Plunging DMG%",null,0,null,null,null,null,null,null,null,null,null,"Electro DMG%",null,{"$f":"Calcs!K127","v":0}]
[null,null,null,null,null,null,null,null,null,"Feather Rarity",null,"5 star",null,null,null,null,null,"Skill DMG%",null,0,null,null,null,"Subs to Distribute",null,{"$f":"SUM(Z27:Z36)","v":40},null,null,null,"Normal DMG%",null,{"$f":"Calcs!K128","v":0}]
[null,null,null,null,null,null,null,null,null,"Sands Level",null,20,null,null,null,null,null,"Burst DMG%",null,0,null,null,null,"Flat ATK",null,2,null,null,null,"Charged DMG%",null,{"$f":"Calcs!K129","v":0}]
[null,null,null,null,null,null,null,null,null,"Sands Stat",null,"HP%",null,null,null,null,null,"Swirl%",null,0,null,null,null,"Flat DEF",null,2,null,null,null,"Plunging DMG%",null,{"$f":"Calcs!K130","v":0}]
[null,null,null,null,null,null,null,null,null,"Sands Rarity",null,"5 star",null,null,null,null,null,"Overload%",null,0,null,null,null,"Flat HP",null,2,null,null,null,"Skill DMG%",null,{"$f":"Calcs!K131","v":0}]
[null,null,null,null,null,null,null,null,null,"Goblet Level",null,20,null,null,null,null,null,"Crystallize%",null,0,null,null,null,"ATK%",null,2,null,null,null,"Burst DMG%",null,{"$f":"Calcs!K132","v":0}]
[null,null,null,null,null,null,null,null,null,"Goblet Stat",null,"HP%",null,null,null,null,null,"Electrocharged%",null,0,null,null,null,"DEF%",null,2,null,null,null,"Healing Bonus%",null,{"$f":"char3FinalHealingBonus","v":0}]
[null,null,null,null,null,null,null,null,null,"Goblet Rarity",null,"5 star",null,null,null,null,null,"Superconduct%",null,0,null,null,null,"HP%",null,2]
[null,null,null,null,null,null,null,null,null,"Circlet Level",null,20,null,null,null,null,null,"Shatter%",null,0,null,null,null,"CR%",null,12]
[null,null,null,null,null,null,null,null,null,"Circlet Stat",null,"HP%",null,null,null,null,null,"Melt%",null,0,null,null,null,"CDMG%",null,12]
[null,null,null,null,null,null,null,null,null,"Circlet Rarity",null,"5 Star",null,null,null,null,null,"Vaporize%",null,0,null,null,null,"ER%",null,2]
[null,null,null,null,null,null,null,null,null,null,null,null,null,null,null,null,null,"DEF Shred",null,0,null,null,null,"EM",null,2]
[null,null,null,null,null,null,null,null,null,null,null,null,null,null,null,null,null,"Shield Strength%",null,0]
[null,null,null,null,null,null,null,null,null,null,null,null,null,null,null,null,null,"Phys RES%",null,0]
[null,null,null,null,null,null,null,null,null,null,null,null,null,null,null,null,null,"Healing Bonus%",null,0]
[null,null,null,null,null,null,null,null,null,null,null,null,null,null,null,null,null,"Healing Received%",null,0]
[null,null,null,null,null,null,null,null,null,null,null,null,null,null,null,null,null,"Anemo RES%",null,0]
[null,null,null,null,null,null,null,null,null,null,null,null,null,null,null,null,null,"Geo RES%",null,0]
[null,null,null,null,null,null,null,null,null,null,null,null,null,null,null,null,null,"Pyro RES%",null,0]
[null,null,null,null,null,null,null,null,null,null,null,null,null,null,null,null,null,"Cryo RES%",null,0]
[null,null,null,null,null,null,null,null,null,null,null,null,null,null,null,null,null,"Hydro RES%",null,0]
[null,null,null,null,null,null,null,null,null,null,null,null,null,null,null,null,null,"Electro RES%",null,0]
[null,null,null,null,null,null,null,null,null,null,null,null,null,null,null,null,null,"Burst CR%",null,0]
[null,null,null,null,null,null,null,null,null,null,null,null,null,null,null,null,null,"Skill CR%",null,0]
[null,null,null,null,null,null,null,null,null,null,null,null,null,null,null,null,null,"Burst CDMG%",null,0]
[null,null,null,null,null,null,null,null,null,null,null,null,null,null,null,null,null,"Skill CDMG%",null,0]

{"sheet":"Char 4","index":4,"n_rows":50,"n_cols":42,"rows_kept":50,"cut":false,"hidden":false,"merged":[[32,23,32,24],[33,23,33,24],[34,23,34,24],[13,23,13,24],[14,23,14,24],[15,23,15,24],[16,23,16,24],[28,23,28,24],[29,23,29,24],[30,23,30,24],[31,23,31,24],[25,23,25,24],[23,23,24,25],[47,17,47,18],[48,17,48,18],[49,17,49,18],[41,17,41,18],[42,17,42,18],[43,17,43,18],[44,17,44,18],[45,17,45,18],[46,17,46,18],[35,17,35,18],[36,17,36,18],[37,17,37,18],[38,17,38,18],[39,17,39,18],[40,2,40,3],[40,4,40,5],[40,17,40,18],[33,9,33,10],[33,11,33,13],[33,17,33,18],[34,9,34,10],[34,11,34,13],[34,17,34,18],[28,9,28,10],[28,11,28,13],[28,17,28,18],[31,9,31,10],[31,11,31,13],[31,17,31,18],[32,9,32,10],[32,11,32,13],[32,17,32,18],[29,9,29,10],[29,11,29,13],[29,17,29,18],[30,9,30,10],[30,11,30,13],[30,17,30,18],[26,9,26,10],[26,11,26,13],[26,17,26,18],[26,23,26,24],[27,9,27,10],[27,11,27,13],[27,17,27,18],[27,23,27,24],[23,9,23,10],[23,11,23,13],[23,17,23,18],[24,9,24,10],[24,11,24,13],[24,17,24,18],[25,9,25,10],[25,11,25,13],[25,17,25,18],[22,2,22,3],[22,4,22,5],[22,9,22,10],[22,11,22,13],[22,17,22,18],[20,2,20,3],[20,4,20,5],[20,9,21,13],[20,17,20,18],[21,2,21,3],[21,4,21,5],[21,17,21,18],[19,2,19,3],[19,4,19,5],[19,17,19,18],[17,2,17,3],[17,4,17,5],[17,17,17,18],[17,23,17,24],[18,2,18,3],[18,4,18,5],[18,9,18,10],[18,17,18,18],[18,23,18,24],[16,2,16,3],[16,4,16,5],[16,9,16,10],[16,11,16,13],[16,17,16,18],[15,2,15,3],[15,4,15,5],[15,9,15,10],[15,11,15,13],[15,17,15,18],[14,2,14,3],[14,4,14,5],[14,9,14,10],[14,11,14,13],[14,17,14,18],[12,2,13,5],[12,17,12,18],[13,9,13,10],[13,11,13,13],[13,17,13,18],[10,17,10,18],[10,23,10,24],[11,9,12,13],[11,17,11,18],[11,23,11,24],[8,2,8,3],[8,4,8,5],[8,17,8,18],[8,23,8,24],[9,17,9,18],[9,23,9,24],[12,23,12,24],[5,11,5,13],[5,17,5,18],[5,23,5,24],[7,2,7,3],[7,4,7,5],[7,9,7,10],[7,11,7,13],[7,17,7,18],[7,23,7,24],[6,2,6,3],[6,4,6,5],[6,9,6,10],[6,11,6,13],[6,17,6,18],[6,23,6,24],[10,29,10,30],[11,29,11,30],[12,29,12,30],[13,29,13,30],[14,29,14,30],[15,29,15,30],[16,29,16,30],[17,29,17,30],[2,2,3,5],[2,9,3,13],[2,17,3,19],[2,23,3,25],[2,29,3,32],[4,2,4,3],[4,4,4,5],[4,9,4,10],[4,11,4,13],[4,17,4,18],[4,23,4,24],[4,29,4,30],[4,31,4,32],[5,2,5,3],[5,4,5,5],[5,9,5,10],[24,31,24,32],[25,31,25,32],[26,31,26,32],[27,31,27,32],[28,31,28,32],[29,31,29,32],[18,29,18,30],[19,29,19,30],[20,29,20,30],[21,29,21,30],[22,29,22,30],[23,29,23,30],[24,29,24,30],[25,29,25,30],[26,29,26,30],[35,23,35,24],[19,23,19,24],[8,36,9,41],[10,36,10,40],[30,29,30,30],[30,31,30,32],[27,29,27,30],[28,29,28,30],[29,29,29,30],[8,29,9,32],[10,31,10,32],[11,31,11,32],[12,31,12,32],[13,31,13,32],[14,31,14,32],[15,31,15,32],[16,31,16,32],[17,31,17,32],[18,31,18,32],[19,31,19,32],[20,31,20,32],[21,31,21,32],[22,31,22,32],[23,31,23,32]]}
[]
[]
[null,null,"Character 4 Info",null,null,null,null,null,null,"Weapon Info",null,null,null,null,null,null,null,"Buffs",null,null,null,null,null,"Optimization Settings",null,null,null,null,null,"Final Damage"]
[]
[null,null,"Character Name",null,"Bennett",null,null,null,null,"Name",null,"Prototype Rancour",null,null,null,null,null,"Flat ATK",null,0,null,null,null,"Number of Subs",null,40,null,null,null,"Damage",null,{"$f":"'Rotation Assembler'!B315","v":30593.236822526895}]
[null,null,"Level",null,90,null,null,null,null,"Refinement",null,1,null,null,null,null,null,"Flat DEF",null,0,null,null,null,"Sub Caps?",null,true]
[null,null,"Normal Talent Lvl",null,9,null,null,null,null,"Stacks",null,0,null,null,null,null,null,"Flat HP",null,0,null,null,null,"Sub Values",null,"KQMC",null,null,null,null,null,null,null,null,"a"]
[null,null,"Skill Talent Lvl",null,12,null,null,null,null,"Toggle",null,false,null,null,null,null,null,"EM",null,0,null,null,null,"ER Requirement",null,2.1800000000000002]
[null,null,"Burst Talent Lvl",null,12,null,null,null,null,null,null,null,null,null,null,null,null,"ATK%",null,0,null,null,null,"Flat Subs Per Stat",null,2,null,null,null,"Character Final Stats",null,null,null,null,null,null,"Manual Substat Input"]
[null,null,null,null,null,null,null,null,null,null,null,null,null,null,null,null,null,"DEF%",null,0,null,null,null,"Sub Cap Multiplier",null,2]
[null,null,null,null,null,null,null,null,null,null,null,null,null,null,null,null,null,"HP%",null,0,null,null,null,"Flat ATK Cap",null,{"$f":"ROUND(IF($Z$6 = TRUE, Z9+4*Z10, 1000), 0)","v":10},null,null,null,"Final HP",null,{"$f":"char4FinalHP","v":18914.662400000001},null,null,null,null,"Use Personal Stats?"]
[null,null,null,null,null,null,null,null,null,"Artifact Set Info",null,null,null,null,null,null,null,"CR%",null,0,null,null,null,"Flat DEF Cap",null,{"$f":"ROUND(IF($Z$6 = TRUE, Z9+5*Z10, 1000),0)","v":12},null,null,null,"Final DEF",null,{"$f":"char4FinalDEF","v":905.96400000000006}]
[null,null,"Attack Element Type",null,null,null,null,null,null,null,null,null,null,null,null,null,null,"CDMG%",null,0,null,null,null,"Flat HP Cap",null,{"$f":"ROUND(IF($Z$6 = TRUE, Z9+4*Z10, 1000),0)","v":10},null,null,null,"Final ATK",null,{"$f":"char4FinalATK","v":1175.0752},null,null,null,null,null,"Flower","Feather","Sands","Goblet","Circlet"]
[null,null,null,null,null,null,null,null,null,"Set 1 Name",null,"2-piece Noblesse Oblige",null,null,null,null,null,"ER%",null,0,null,null,null,"ATK% Cap",null,{"$f":"ROUND(IF($Z$6 = TRUE, (Z9+Z10*5)-COUNTIF($L$28:$N$34, \"ATK%\")*Z10, 1000),0)","v":12},null,null,null,"Final ER",null,{"$f":"char4FinalER","v":2.2258},null,null,null,null,"Flat ATK"]
[null,null,"Normal Attack",null,"Geo",null,null,null,null,"Set 2 Name",null,"4-piece Noblesse Oblige",null,null,null,null,null,"DMG%",null,0,null,null,null,"DEF% Cap",null,{"$f":"ROUND(IF($Z$6 = TRUE, (Z9+Z10*5)-COUNTIF($L$28:$N$34, \"DEF%\")*Z10, 1000),0)","v":12},null,null,null,"Final EM",null,{"$f":"Calcs!K165","v":39.64},null,null,null,null,"Flat DEF"]
[null,null,"Charged Attack",null,"Geo",null,null,null,null,"Stacks",null,0,null,null,null,null,null,"Phys DMG%",null,0,null,null,null,"HP% Cap",null,{"$f":"ROUND(IF($Z$6 = TRUE, (Z9+Z10*5)-COUNTIF($L$28:$N$34, \"HP%\")*Z10, 1000),0)","v":12},null,null,null,"Final CR",null,{"$f":"Calcs!K169","v":0.62579999999999991},null,null,null,null,"Flat HP"]
[null,null,"Plunge Attack",null,"Geo",null,null,null,null,"Toggle",null,false,null,null,null,null,null,"Anemo DMG%",null,0,null,null,null,"CR% Cap",null,{"$f":"ROUND(IF($Z$6 = TRUE, (Z9+Z10*5)-COUNTIF($L$28:$N$34, \"CR%\")*Z10, 1000),0)","v":10},null,null,null,"Final CDMG",null,{"$f":"Calcs!K170","v":1.1619999999999999},null,null,null,null,"EM"]
[null,null,"Skill",null,"Pyro",null,null,null,null,null,null,null,null,null,null,null,null,"Geo DMG%",null,0,null,null,null,"CDMG% Cap",null,{"$f":"ROUND(IF($Z$6 = TRUE, (Z9+Z10*5)-COUNTIF($L$28:$N$34, \"CDMG%\")*Z10, 1000),0)","v":12},null,null,null,"DMG%",null,{"$f":"Calcs!K172","v":0},null,null,null,null,"ATK%"]
[null,null,"Skill Echo",null,"Pyro",null,null,null,null,null,null,null,null,null,null,null,null,"Pyro DMG%",null,0,null,null,null,"ER% Cap",null,{"$f":"ROUND(IF($Z$6 = TRUE, (2+Z10*5)-COUNTIF($L$28:$N$34, \"ER%\")*Z10, 1000),0)","v":10},null,null,null,"Phys DMG%",null,{"$f":"Calcs!K173","v":0.34499999999999997},null,null,null,null,"DEF%"]
[null,null,"Skill Echo DMG Type",null,"Skill",null,null,null,null,null,null,null,null,null,null,null,null,"Cryo DMG%",null,0,null,null,null,"EM Cap",null,{"$f":"ROUND(IF($Z$6 = TRUE, (Z9+Z10*5)-COUNTIF($L$28:$N$34, \"EM\")*Z10, 1000),0)","v":12},null,null,null,"Anemo DMG%",null,{"$f":"Calcs!K174","v":0},null,null,null,null,"HP%"]
[null,null,"Burst",null,"Pyro",null,null,null,null,"Artifact Stat Info",null,null,null,null,null,null,null,"Hydro DMG%",null,0,null,null,null,null,null,null,null,null,null,"Geo DMG%",null,{"$f":"Calcs!K175","v":0},null,null,null,null,"CR%"]
[null,null,"Burst Echo",null,"Pyro",null,null,null,null,null,null,null,null,null,null,null,null,"Electro DMG%",null,0,null,null,null,null,null,null,null,null,null,"Pyro DMG%",null,{"$f":"Calcs!K176","v":0.46600000000000003},null,null,null,null,"CDMG%"]
[null,null,"Burst Echo DMG Type",null,"Burst",null,null,null,null,"Flower Level",null,20,null,null,null,null,null,"Normal DMG%",null,0,null,null,null,null,null,null,null,null,null,"Cryo DMG%",null,{"$f":"Calcs!K177","v":0},null,null,null,null,"ER%"]
[null,null,null,null,null,null,null,null,null,"Flower Rarity",null,"5 star",null,null,null,null,null,"Charged DMG%",null,0,null,null,null,"Substat Distribution",null,null,null,null,null,"Hydro DMG%",null,{"$f":"Calcs!K178","v":0}]
[null,null,null,null,null,null,null,null,null,"Feather Level",null,20,null,null,null,null,null,"Plunging DMG%",null,0,null,null,null,null,null,null,null,null,null,"Electro DMG%",null,{"$f":"Calcs!K179","v":0}]
[null,null,null,null,null,null,null,null,null,"Feather Rarity",null,"5 star",null,null,null,null,null,"Skill DMG%",null,0,null,null,null,"Subs to Distribute",null,{"$f":"SUM(Z27:Z36)","v":40},null,null,null,"Normal DMG%",null,{"$f":"Calcs!K180","v":0}]
[null,null,null,null,null,null,null,null,null,"Sands Level",null,20,null,null,null,null,null,"Burst DMG%",null,0,null,null,null,"Flat ATK",null,2,null,null,null,"Charged DMG%",null,{"$f":"Calcs!K181","v":0}]
[null,null,null,null,null,null,null,null,null,"Sands Stat",null,"ER%",null,null,null,null,null,"Swirl%",null,0,null,null,null,"Flat DEF",null,2,null,null,null,"Plunging DMG%",null,{"$f":"Calcs!K182","v":0}]
[null,null,null,null,null,null,null,null,null,"Sands Rarity",null,"5 star",null,null,null,null,null,"Overload%",null,0,null,null,null,"Flat HP",null,2,null,null,null,"Skill DMG%",null,{"$f":"Calcs!K183","v":0}]
[null,null,null,null,null,null,null,null,null,"Goblet Level",null,20,null,null,null,null,null,"Crystallize%",null,0,null,null,null,"ATK%",null,2,null,null,null,"Burst DMG%",null,{"$f":"Calcs!K184","v":0.2}]
[null,null,null,null,null,null,null,null,null,"Goblet Stat",null,"Pyro DMG%",null,null,null,null,null,"Electrocharged%",null,0,null,null,null,"DEF%",null,2,null,null,null,"Healing Bonus%",null,{"$f":"char4FinalHealingBonus","v":0}]
[null,null,null,null,null,null,null,null,null,"Goblet Rarity",null,"5 star",null,null,null,null,null,"Superconduct%",null,0,null,null,null,"HP%",null,2]
[null,null,null,null,null,null,null,null,null,"Circlet Level",null,20,null,null,null,null,null,"Shatter%",null,0,null,null,null,"CR%",null,8]
[null,null,null,null,null,null,null,null,null,"Circlet Stat",null,"CR%",null,null,null,null,null,"Melt%",null,0,null,null,null,"CDMG%",null,10]
[null,null,null,null,null,null,null,null,null,"Circlet Rarity",null,"5 Star",null,null,null,null,null,"Vaporize%",null,0,null,null,null,"ER%",null,8]
[null,null,null,null,null,null,null,null,null,null,null,null,null,null,null,null,null,"DEF Shred",null,0,null,null,null,"EM",null,2]
[null,null,null,null,null,null,null,null,null,null,null,null,null,null,null,null,null,"Shield Strength%",null,0]
[null,null,null,null,null,null,null,null,null,null,null,null,null,null,null,null,null,"Phys RES%",null,0]
[null,null,null,null,null,null,null,null,null,null,null,null,null,null,null,null,null,"Healing Bonus%",null,0]
[null,null,null,null,null,null,null,null,null,null,null,null,null,null,null,null,null,"Healing Received%",null,0]
[null,null,null,null,null,null,null,null,null,null,null,null,null,null,null,null,null,"Anemo RES%",null,0]
[null,null,null,null,null,null,null,null,null,null,null,null,null,null,null,null,null,"Geo RES%",null,0]
[null,null,null,null,null,null,null,null,null,null,null,null,null,null,null,null,null,"Pyro RES%",null,0]
[null,null,null,null,null,null,null,null,null,null,null,null,null,null,null,null,null,"Cryo RES%",null,0]
[null,null,null,null,null,null,null,null,null,null,null,null,null,null,null,null,null,"Hydro RES%",null,0]
[null,null,null,null,null,null,null,null,null,null,null,null,null,null,null,null,null,"Electro RES%",null,0]
[null,null,null,null,null,null,null,null,null,null,null,null,null,null,null,null,null,"Burst CR%",null,0]
[null,null,null,null,null,null,null,null,null,null,null,null,null,null,null,null,null,"Skill CR%",null,0]
[null,null,null,null,null,null,null,null,null,null,null,null,null,null,null,null,null,"Burst CDMG%",null,0]
[null,null,null,null,null,null,null,null,null,null,null,null,null,null,null,null,null,"Skill CDMG%",null,0]

{"sheet":"Lookups","index":5,"n_rows":87,"n_cols":28,"rows_kept":87,"cut":false,"hidden":true,"merged":[]}
["Characters:","Character Number","Element","Damage Types","Amping Reactions",null,"Character List","Element",null,"Char 1 Element",{"$f":"VLOOKUP(A2,$G$1:$H$54, 2, 0)&\" DMG%\"","v":"Pyro DMG%"},null,null,null,null,"Normal","Charged","Plunge","Skill","Skill Echo","Burst","Burst Echo",null,"DMG% Values","char1","char2","char3","char4"]
[{"$f":"'Char 1'!E5","v":"Diluc"},"char1",{"$f":"VLOOKUP(A2, $G$2:$H$55, 2, 0)","v":"Pyro"},"Normal","Vape",2,"Albedo","Geo",null,"Char 2 Element",{"$f":"VLOOKUP(A3,$G$1:$H$54, 2, 0)&\" DMG%\"","v":"Hydro DMG%"},null,null,null,"char1",{"$f":"char1NAElement","v":"Pyro"},{"$f":"char1CAElement","v":"Pyro"},{"$f":"char1PlungeElement","v":"Pyro"},{"$f":"char1SkillElement","v":"Pyro"},{"$f":"char1SkillEchoElement","v":"Pyro"},{"$f":"char1BurstElement","v":"Pyro"},{"$f":"char1BurstEchoElement","v":"Pyro"},null,"DMG",{"$f":"Calcs!K16","v":0.3},{"$f":"Calcs!K68","v":0},{"$f":"Calcs!K120","v":0.8},{"$f":"Calcs!K172","v":0}]
[{"$f":"'Char 2'!E5","v":"Xingqiu"},"char2",{"$f":"VLOOKUP(A3, $G$2:$H$55, 2, 0)","v":"Hydro"},"Charged","Melt",2,"Aloy","Cryo",null,"Char 3 Element",{"$f":"VLOOKUP(A4,$G$1:$H$54, 2, 0)&\" DMG%\"","v":"Geo DMG%"},null,null,null,"char2",{"$f":"char2NAElement","v":"Phys"},{"$f":"char2CAElement","v":"Phys"},{"$f":"char2PlungeElement","v":"Phys"},{"$f":"char2SkillElement","v":"Hydro"},{"$f":"char2SkillEchoElement","v":"Hydro"},{"$f":"char2BurstElement","v":"Hydro"},{"$f":"char2BurstEchoElement","v":"Hydro"},null,"Phys",{"$f":"Calcs!K17","v":0},{"$f":"Calcs!K69","v":0},{"$f":"Calcs!K121","v":0},{"$f":"Calcs!K173","v":0.34499999999999997}]
[{"$f":"char3Name","v":"Zhongli"},"char3",{"$f":"VLOOKUP(A4, $G$2:$H$55, 2, 0)","v":"Geo"},"Plunge","Reverse Vape",1.5,"Amber","Pyro",null,"Char 4 Element",{"$f":"VLOOKUP(A5,$G$1:$H$54, 2, 0)&\" DMG%\"","v":"Pyro DMG%"},null,null,null,"char3",{"$f":"char3NAElement","v":"Phys"},{"$f":"char3CAElement","v":"Phys"},{"$f":"char3PlungeElement","v":"Phys"},{"$f":"char3SkillElement","v":"Geo"},{"$f":"char3SkillEchoElement","v":"Geo"},{"$f":"char3BurstElement","v":"Geo"},{"$f":"char3BurstEchoElement","v":"Geo"},null,"Anemo",{"$f":"Calcs!K18","v":0},{"$f":"Calcs!K70","v":0},{"$f":"Calcs!K122","v":0},{"$f":"Calcs!K174","v":0}]
[{"$f":"char4Name","v":"Bennett"},"char4",{"$f":"VLOOKUP(A5, $G$2:$H$55, 2, 0)","v":"Pyro"},"Skill","Reverse Melt",1.5,"Barbara","Hydro",null,null,null,null,null,null,"char4",{"$f":"char4NAElement","v":"Geo"},{"$f":"char4CAElement","v":"Geo"},{"$f":"char4PlungeElement","v":"Geo"},{"$f":"char4SkillElement","v":"Pyro"},{"$f":"char4SkillEchoElement","v":"Pyro"},{"$f":"char4BurstElement","v":"Pyro"},{"$f":"char4BurstEchoElement","v":"Pyro"},null,"Geo",{"$f":"Calcs!K19","v":0},{"$f":"Calcs!K71","v":0},{"$f":"Calcs!K123","v":0.28800000000000003},{"$f":"Calcs!K175","v":0}]
[null,null,null,"Burst","None",1,"Beidou","Electro",null,"Weapon Proc Information",null,null,null,null,null,null,null,null,null,null,null,null,null,"Pyro",{"$f":"Calcs!K20","v":0.81600000000000006},{"$f":"Calcs!K72","v":0},{"$f":"Calcs!K124","v":0},{"$f":"Calcs!K176","v":0.46600000000000003}]
["Character Levels",null,null,null,null,null,"Bennett","Pyro","WeapProcs","char1","char2","char3","char4",null,"stats","ATK","DEF","HP",null,null,null,null,null,"Cryo",{"$f":"Calcs!K21","v":0},{"$f":"Calcs!K73","v":0},{"$f":"Calcs!K125","v":0},{"$f":"Calcs!K177","v":0}]
[1,null,null,null,null,null,"Chongyun","Cryo","Name 1",{"$f":"INDEX(char1Weapons, MATCH(\"Proc 1 Name\",weapons!$A$1:$A$65, 0), MATCH(char1WeaponName, weapons!$A$1:$DB$1, 0))","v":0},{"$f":"INDEX(char2Weapons, MATCH(\"Proc 1 Name\",weapons!$A$67:$A$131, 0), MATCH(char2WeaponName, weapons!$A$67:$DB$67, 0))","v":0},{"$f":"INDEX(char3Weapons, MATCH(\"Proc 1 Name\",weapons!$A$133:$A$197, 0), MATCH(char3WeaponName, weapons!$A$133:$DB$133, 0))","v":0},{"$f":"INDEX(char4Weapons, MATCH(\"Proc 1 Name\",weapons!$A$199:$A$263, 0), MATCH(char4WeaponName, weapons!$A$199:$DB$199, 0))","v":0},null,"char1",{"$f":"char1FinalATK","v":1272.904},{"$f":"char1FinalDEF","v":920.57600000000014},{"$f":"char1FinalHP","v":19556.5952},null,null,null,null,null,"Hydro",{"$f":"Calcs!K22","v":0},{"$f":"Calcs!K74","v":0.46600000000000003},{"$f":"Calcs!K126","v":0},{"$f":"Calcs!K178","v":0}]
[20,null,null,null,null,null,"Diluc","Pyro","Name 2",{"$f":"INDEX(char1Weapons, MATCH(\"Proc 2 Name\",weapons!$A$1:$A$65, 0), MATCH(char1WeaponName, weapons!$A$1:$DB$1, 0))","v":0},{"$f":"INDEX(char2Weapons, MATCH(\"Proc 2 Name\",weapons!$A$67:$A$131, 0), MATCH(char2WeaponName, weapons!$A$67:$DB$67, 0))","v":0},{"$f":"INDEX(char3Weapons, MATCH(\"Proc 2 Name\",weapons!$A$133:$A$197, 0), MATCH(char3WeaponName, weapons!$A$133:$DB$133, 0))","v":0},{"$f":"INDEX(char4Weapons, MATCH(\"Proc 2 Name\",weapons!$A$199:$A$263, 0), MATCH(char4WeaponName, weapons!$A$199:$DB$199, 0))","v":0},null,"char2",{"$f":"char2FinalATK","v":1560.8288},{"$f":"char2FinalDEF","v":891.35200000000009},{"$f":"char2FinalHP","v":16523.902399999999},null,null,null,null,null,"Electro",{"$f":"Calcs!K23","v":0},{"$f":"Calcs!K75","v":0},{"$f":"Calcs!K127","v":0},{"$f":"Calcs!K179","v":0}]
["20+",null,null,null,null,null,"Diona","Cryo","Name 3",{"$f":"INDEX(char1Weapons, MATCH(\"Proc 3 Name\",weapons!$A$1:$A$65, 0), MATCH(char1WeaponName, weapons!$A$1:$DB$1, 0))","v":0},{"$f":"INDEX(char2Weapons, MATCH(\"Proc 3 Name\",weapons!$A$67:$A$131, 0), MATCH(char2WeaponName, weapons!$A$67:$DB$67, 0))","v":0},{"$f":"INDEX(char3Weapons, MATCH(\"Proc 3 Name\",weapons!$A$133:$A$197, 0), MATCH(char3WeaponName, weapons!$A$133:$DB$133, 0))","v":0},{"$f":"INDEX(char4Weapons, MATCH(\"Proc 3 Name\",weapons!$A$199:$A$263, 0), MATCH(char4WeaponName, weapons!$A$199:$DB$199, 0))","v":0},null,"char3",{"$f":"char3FinalATK","v":1009.096},{"$f":"char3FinalDEF","v":868.87200000000007},{"$f":"char3FinalHP","v":54460.289000000004}]
[40,null,null,null,null,null,"Eula","Cryo",null,null,null,null,null,null,"char4",{"$f":"char4FinalATK","v":1175.0752},{"$f":"char4FinalDEF","v":905.96400000000006},{"$f":"char4FinalHP","v":18914.662400000001}]
["40+",null,null,null,null,null,"Fischl","Fischl"]
[50,null,null,null,null,null,"Ganyu","Cryo","char1","Damage Type","Talent%","Scaling Stat","Element",null,"DEF Mult Calculation","Level","Enemy Level",null,null,null,null,null,null,"Artifact Procs","Damage Type","Multiplier"]
["50+",null,null,null,null,null,"HuTao","Pyro",{"$f":"INDEX(char1Weapons, MATCH(\"Proc 1 Name\",weapons!$A$1:$A$65, 0), MATCH(char1WeaponName, weapons!$A$1:$DB$1, 0))","v":0},{"$f":"INDEX(INDEX(char1Weapons, 0, MATCH(char1WeaponName, INDEX(char1Weapons, 1, 0), 0)), MATCH(\"Proc 1 Damage Type\", INDEX(char1Weapons, 0, 1), 0), 1)","v":0},{"$f":"INDEX(INDEX(char1Weapons, 0, MATCH(char1WeaponName, INDEX(char1Weapons, 1, 0), 0)), MATCH(\"Proc 1 Talent%\", INDEX(char1Weapons, 0, 1), 0), 1)","v":0},{"$f":"INDEX(INDEX(char1Weapons, 0, MATCH(char1WeaponName, INDEX(char1Weapons, 1, 0), 0)), MATCH(\"Proc 1 Scaling Stat\", INDEX(char1Weapons, 0, 1), 0), 1)","v":0},{"$f":"INDEX(INDEX(char1Weapons, 0, MATCH(char1WeaponName, INDEX(char1Weapons, 1, 0), 0)), MATCH(\"Proc 1 Element\", INDEX(char1Weapons, 0, 1), 0), 1)","v":0},null,"char1",{"$f":"char1LevelNum","v":90},{"$f":"enemyLevel","v":100},null,null,null,null,null,null,"Echoes of an Offering","Normal",0.35099999999999998]
[60,null,null,null,null,null,"Jean","Anemo",{"$f":"INDEX(char1Weapons, MATCH(\"Proc 2 Name\",weapons!$A$1:$A$65, 0), MATCH(char1WeaponName, weapons!$A$1:$DB$1, 0))","v":0},{"$f":"INDEX(INDEX(char1Weapons, 0, MATCH(char1WeaponName, INDEX(char1Weapons, 1, 0), 0)), MATCH(\"Proc 2 Damage Type\", INDEX(char1Weapons, 0, 1), 0), 1)","v":0},{"$f":"INDEX(INDEX(char1Weapons, 0, MATCH(char1WeaponName, INDEX(char1Weapons, 1, 0), 0)), MATCH(\"Proc 2 Talent%\", INDEX(char1Weapons, 0, 1), 0), 1)","v":0},{"$f":"INDEX(INDEX(char1Weapons, 0, MATCH(char1WeaponName, INDEX(char1Weapons, 1, 0), 0)), MATCH(\"Proc 2 Scaling Stat\", INDEX(char1Weapons, 0, 1), 0), 1)","v":0},{"$f":"INDEX(INDEX(char1Weapons, 0, MATCH(char1WeaponName, INDEX(char1Weapons, 1, 0), 0)), MATCH(\"Proc 2 Element\", INDEX(char1Weapons, 0, 1), 0), 1)","v":0},null,"char2",{"$f":"char2LevelNum","v":90},{"$f":"enemyLevel","v":100}]
["60+",null,null,null,null,null,"Kazuha","Anemo",{"$f":"INDEX(char1Weapons, MATCH(\"Proc 3 Name\",weapons!$A$1:$A$65, 0), MATCH(char1WeaponName, weapons!$A$1:$DB$1, 0))","v":0},{"$f":"INDEX(INDEX(char1Weapons, 0, MATCH(char1WeaponName, INDEX(char1Weapons, 1, 0), 0)), MATCH(\"Proc 3 Damage Type\", INDEX(char1Weapons, 0, 1), 0), 1)","v":0},{"$f":"INDEX(INDEX(char1Weapons, 0, MATCH(char1WeaponName, INDEX(char1Weapons, 1, 0), 0)), MATCH(\"Proc 3 Talent%\", INDEX(char1Weapons, 0, 1), 0), 1)","v":0},{"$f":"INDEX(INDEX(char1Weapons, 0, MATCH(char1WeaponName, INDEX(char1Weapons, 1, 0), 0)), MATCH(\"Proc 3 Scaling Stat\", INDEX(char1Weapons, 0, 1), 0), 1)","v":0},{"$f":"INDEX(INDEX(char1Weapons, 0, MATCH(char1WeaponName, INDEX(char1Weapons, 1, 0), 0)), MATCH(\"Proc 3 Element\", INDEX(char1Weapons, 0, 1), 0), 1)","v":0},null,"char3",{"$f":"char3LevelNum","v":90},{"$f":"enemyLevel","v":100}]
[70,null,null,null,null,null,"Kaeya","Cryo","char2","Damage Type","Talent%","Scaling Stat","Element",null,"char4",{"$f":"char4LevelNum","v":90},{"$f":"enemyLevel","v":100}]
["70+",null,null,null,null,null,"Ayaka","Cryo",{"$f":"INDEX(char2Weapons, MATCH(\"Proc 1 Name\",weapons!$A$67:$A$131, 0), MATCH(char2WeaponName, weapons!$A$67:$DB$67, 0))","v":0},{"$f":"INDEX(INDEX(char2Weapons, 0, MATCH(char2WeaponName, INDEX(char2Weapons, 1, 0), 0)), MATCH(\"Proc 1 Damage Type\", INDEX(char2Weapons, 0, 1), 0), 1)","v":0},{"$f":"INDEX(INDEX(char2Weapons, 0, MATCH(char2WeaponName, INDEX(char2Weapons, 1, 0), 0)), MATCH(\"Proc 1 Talent%\", INDEX(char2Weapons, 0, 1), 0), 1)","v":0},{"$f":"INDEX(INDEX(char2Weapons, 0, MATCH(char2WeaponName, INDEX(char2Weapons, 1, 0), 0)), MATCH(\"Proc 1 Scaling Stat\", INDEX(char2Weapons, 0, 1), 0), 1)","v":0},{"$f":"INDEX(INDEX(char2Weapons, 0, MATCH(char2WeaponName, INDEX(char2Weapons, 1, 0), 0)), MATCH(\"Proc 1 Element\", INDEX(char2Weapons, 0, 1), 0), 1)","v":0}]
[80,null,null,null,null,null,"Keqing","Electro",{"$f":"INDEX(char2Weapons, MATCH(\"Proc 2 Name\",weapons!$A$67:$A$131, 0), MATCH(char2WeaponName, weapons!$A$67:$DB$67, 0))","v":0},{"$f":"INDEX(INDEX(char2Weapons, 0, MATCH(char2WeaponName, INDEX(char2Weapons, 1, 0), 0)), MATCH(\"Proc 2 Damage Type\", INDEX(char2Weapons, 0, 1), 0), 1)","v":0},{"$f":"INDEX(INDEX(char2Weapons, 0, MATCH(char2WeaponName, INDEX(char2Weapons, 1, 0), 0)), MATCH(\"Proc 2 Talent%\", INDEX(char2Weapons, 0, 1), 0), 1)","v":0},{"$f":"INDEX(INDEX(char2Weapons, 0, MATCH(char2WeaponName, INDEX(char2Weapons, 1, 0), 0)), MATCH(\"Proc 2 Scaling Stat\", INDEX(char2Weapons, 0, 1), 0), 1)","v":0},{"$f":"INDEX(INDEX(char2Weapons, 0, MATCH(char2WeaponName, INDEX(char2Weapons, 1, 0), 0)), MATCH(\"Proc 2 Element\", INDEX(char2Weapons, 0, 1), 0), 1)","v":0},null,"weapon proc start rows"]
["80+",null,null,null,null,null,"Klee","Pyro",{"$f":"INDEX(char2Weapons, MATCH(\"Proc 3 Name\",weapons!$A$67:$A$131, 0), MATCH(char2WeaponName, weapons!$A$67:$DB$67, 0))","v":0},{"$f":"INDEX(INDEX(char2Weapons, 0, MATCH(char2WeaponName, INDEX(char2Weapons, 1, 0), 0)), MATCH(\"Proc 3 Damage Type\", INDEX(char2Weapons, 0, 1), 0), 1)","v":0},{"$f":"INDEX(INDEX(char2Weapons, 0, MATCH(char2WeaponName, INDEX(char2Weapons, 1, 0), 0)), MATCH(\"Proc 3 Talent%\", INDEX(char2Weapons, 0, 1), 0), 1)","v":0},{"$f":"INDEX(INDEX(char2Weapons, 0, MATCH(char2WeaponName, INDEX(char2Weapons, 1, 0), 0)), MATCH(\"Proc 3 Scaling Stat\", INDEX(char2Weapons, 0, 1), 0), 1)","v":0},{"$f":"INDEX(INDEX(char2Weapons, 0, MATCH(char2WeaponName, INDEX(char2Weapons, 1, 0), 0)), MATCH(\"Proc 3 Element\", INDEX(char2Weapons, 0, 1), 0), 1)","v":0},null,"char1",1]
[90,null,null,null,null,null,"Sara","Electro","char3","Damage Type","Talent%","Scaling Stat","Element",null,"char2",5]
[null,null,null,null,null,null,"Lisa","Electro",{"$f":"INDEX(char3Weapons, MATCH(\"Proc 1 Name\",weapons!$A$133:$A$197, 0), MATCH(char3WeaponName, weapons!$A$133:$DB$133, 0))","v":0},{"$f":"INDEX(INDEX(char3Weapons, 0, MATCH(char3WeaponName, INDEX(char3Weapons, 1, 0), 0)), MATCH(\"Proc 1 Damage Type\", INDEX(char3Weapons, 0, 1), 0), 1)","v":0},{"$f":"INDEX(INDEX(char3Weapons, 0, MATCH(char3WeaponName, INDEX(char3Weapons, 1, 0), 0)), MATCH(\"Proc 1 Talent%\", INDEX(char3Weapons, 0, 1), 0), 1)","v":0},{"$f":"INDEX(INDEX(char3Weapons, 0, MATCH(char3WeaponName, INDEX(char3Weapons, 1, 0), 0)), MATCH(\"Proc 1 Scaling Stat\", INDEX(char3Weapons, 0, 1), 0), 1)","v":0},{"$f":"INDEX(INDEX(char3Weapons, 0, MATCH(char3WeaponName, INDEX(char3Weapons, 1, 0), 0)), MATCH(\"Proc 1 Element\", INDEX(char3Weapons, 0, 1), 0), 1)","v":0},null,"char3",9]
["Number of Chars of Diff Element (Yunjin)",null,null,null,null,null,"Mona","Hydro",{"$f":"INDEX(char3Weapons, MATCH(\"Proc 2 Name\",weapons!$A$133:$A$197, 0), MATCH(char3WeaponName, weapons!$A$133:$DB$133, 0))","v":0},{"$f":"INDEX(INDEX(char3Weapons, 0, MATCH(char3WeaponName, INDEX(char3Weapons, 1, 0), 0)), MATCH(\"Proc 2 Damage Type\", INDEX(char3Weapons, 0, 1), 0), 1)","v":0},{"$f":"INDEX(INDEX(char3Weapons, 0, MATCH(char3WeaponName, INDEX(char3Weapons, 1, 0), 0)), MATCH(\"Proc 2 Talent%\", INDEX(char3Weapons, 0, 1), 0), 1)","v":0},{"$f":"INDEX(INDEX(char3Weapons, 0, MATCH(char3WeaponName, INDEX(char3Weapons, 1, 0), 0)), MATCH(\"Proc 2 Scaling Stat\", INDEX(char3Weapons, 0, 1), 0), 1)","v":0},{"$f":"INDEX(INDEX(char3Weapons, 0, MATCH(char3WeaponName, INDEX(char3Weapons, 1, 0), 0)), MATCH(\"Proc 2 Element\", INDEX(char3Weapons, 0, 1), 0), 1)","v":0},null,"char4",13]
["Pyro",{"$f":"COUNTIF($C$2:$C$5, A24)","v":2},null,null,null,null,"Ningguang","Geo",{"$f":"INDEX(char3Weapons, MATCH(\"Proc 3 Name\",weapons!$A$133:$A$197, 0), MATCH(char3WeaponName, weapons!$A$133:$DB$133, 0))","v":0},{"$f":"INDEX(INDEX(char3Weapons, 0, MATCH(char3WeaponName, INDEX(char3Weapons, 1, 0), 0)), MATCH(\"Proc 3 Damage Type\", INDEX(char3Weapons, 0, 1), 0), 1)","v":0},{"$f":"INDEX(INDEX(char3Weapons, 0, MATCH(char3WeaponName, INDEX(char3Weapons, 1, 0), 0)), MATCH(\"Proc 3 Talent%\", INDEX(char3Weapons, 0, 1), 0), 1)","v":0},{"$f":"INDEX(INDEX(char3Weapons, 0, MATCH(char3WeaponName, INDEX(char3Weapons, 1, 0), 0)), MATCH(\"Proc 3 Scaling Stat\", INDEX(char3Weapons, 0, 1), 0), 1)","v":0},{"$f":"INDEX(INDEX(char3Weapons, 0, MATCH(char3WeaponName, INDEX(char3Weapons, 1, 0), 0)), MATCH(\"Proc 3 Element\", INDEX(char3Weapons, 0, 1), 0), 1)","v":0}]
["Cryo",{"$f":"COUNTIF($C$2:$C$5, A25)","v":0},null,null,null,null,"Noelle","Geo","char4","Damage Type","Talent%","Scaling Stat","Element"]
["Anemo",0,null,null,null,null,"Qiqi","Cryo",{"$f":"INDEX(char4Weapons, MATCH(\"Proc 1 Name\",weapons!$A$199:$A$263, 0), MATCH(char4WeaponName, weapons!$A$199:$DB$199, 0))","v":0},{"$f":"INDEX(INDEX(char4Weapons, 0, MATCH(char4WeaponName, INDEX(char4Weapons, 1, 0), 0)), MATCH(\"Proc 1 Damage Type\", INDEX(char4Weapons, 0, 1), 0), 1)","v":0},{"$f":"INDEX(INDEX(char4Weapons, 0, MATCH(char4WeaponName, INDEX(char4Weapons, 1, 0), 0)), MATCH(\"Proc 1 Talent%\", INDEX(char4Weapons, 0, 1), 0), 1)","v":0},{"$f":"INDEX(INDEX(char4Weapons, 0, MATCH(char4WeaponName, INDEX(char4Weapons, 1, 0), 0)), MATCH(\"Proc 1 Scaling Stat\", INDEX(char4Weapons, 0, 1), 0), 1)","v":0},{"$f":"INDEX(INDEX(char4Weapons, 0, MATCH(char4WeaponName, INDEX(char4Weapons, 1, 0), 0)), MATCH(\"Proc 1 Element\", INDEX(char4Weapons, 0, 1), 0), 1)","v":0}]
["Electro",0,null,null,null,null,"Raiden","Electro",{"$f":"INDEX(char4Weapons, MATCH(\"Proc 2 Name\",weapons!$A$199:$A$263, 0), MATCH(char4WeaponName, weapons!$A$199:$DB$199, 0))","v":0},{"$f":"INDEX(INDEX(char4Weapons, 0, MATCH(char4WeaponName, INDEX(char4Weapons, 1, 0), 0)), MATCH(\"Proc 2 Damage Type\", INDEX(char4Weapons, 0, 1), 0), 1)","v":0},{"$f":"INDEX(INDEX(char4Weapons, 0, MATCH(char4WeaponName, INDEX(char4Weapons, 1, 0), 0)), MATCH(\"Proc 2 Talent%\", INDEX(char4Weapons, 0, 1), 0), 1)","v":0},{"$f":"INDEX(INDEX(char4Weapons, 0, MATCH(char4WeaponName, INDEX(char4Weapons, 1, 0), 0)), MATCH(\"Proc 2 Scaling Stat\", INDEX(char4Weapons, 0, 1), 0), 1)","v":0},{"$f":"INDEX(INDEX(char4Weapons, 0, MATCH(char4WeaponName, INDEX(char4Weapons, 1, 0), 0)), MATCH(\"Proc 2 Element\", INDEX(char4Weapons, 0, 1), 0), 1)","v":0}]
["Dendro",0,null,null,null,null,"Razor","Electro",{"$f":"INDEX(char4Weapons, MATCH(\"Proc 3 Name\",weapons!$A$199:$A$263, 0), MATCH(char4WeaponName, weapons!$A$199:$DB$199, 0))","v":0},{"$f":"INDEX(INDEX(char4Weapons, 0, MATCH(char4WeaponName, INDEX(char4Weapons, 1, 0), 0)), MATCH(\"Proc 3 Damage Type\", INDEX(char4Weapons, 0, 1), 0), 1)","v":0},{"$f":"INDEX(INDEX(char4Weapons, 0, MATCH(char4WeaponName, INDEX(char4Weapons, 1, 0), 0)), MATCH(\"Proc 3 Talent%\", INDEX(char4Weapons, 0, 1), 0), 1)","v":0},{"$f":"INDEX(INDEX(char4Weapons, 0, MATCH(char4WeaponName, INDEX(char4Weapons, 1, 0), 0)), MATCH(\"Proc 3 Scaling Stat\", INDEX(char4Weapons, 0, 1), 0), 1)","v":0},{"$f":"INDEX(INDEX(char4Weapons, 0, MATCH(char4WeaponName, INDEX(char4Weapons, 1, 0), 0)), MATCH(\"Proc 3 Element\", INDEX(char4Weapons, 0, 1), 0), 1)","v":0}]
["Hydro",1,null,null,null,null,"Rosaria","Cryo",null,null,null,null,null,null,"Talent Levels","Normal","Charged","Plunge","Skill","Burst","Skill Echo","Burst Echo"]
["Geo",1,null,null,null,null,"Kokomi","Hydro","Echo Talent Damage Types","char1","char2","char3","char4",null,"char1",{"$f":"char1NATalentLevel","v":9},{"$f":"char1NATalentLevel","v":9},{"$f":"char1NATalentLevel","v":9},{"$f":"char1SkillTalentLevel","v":9},{"$f":"char1BurstTalentLevel","v":9},{"$f":"INDEX($O$29:$T$33, MATCH($O30, $O$29:$O$33, 0), MATCH($J$31, $O$29:$T$29, 0))","v":9},{"$f":"INDEX($O$29:$T$33, MATCH($O30, $O$29:$O$33, 0), MATCH($J$32, $O$29:$T$29, 0))","v":9}]
["Largest",{"$f":"COUNTIF(B24:B30, \">0\")","v":3},null,null,null,null,"Sayu","Anemo","Skill Echo",{"$f":"char1SkillEchoDMGType","v":"Skill"},{"$f":"char2SkillEchoDamageType","v":"Skill"},{"$f":"char3SkillEchoDamageType","v":"skill"},{"$f":"char4SkillEchoDamageType","v":"Skill"},null,"char2",{"$f":"char2NATalentLevel","v":9},{"$f":"char2NATalentLevel","v":9},{"$f":"char2NATalentLevel","v":9},{"$f":"char2SkillTalentLevel","v":12},{"$f":"char2BurstTalentLevel","v":12},{"$f":"INDEX($O$29:$T$33, MATCH($O31, $O$29:$O$33, 0), MATCH($K$31, $O$29:$T$29, 0))","v":12},{"$f":"INDEX($O$29:$T$33, MATCH($O31, $O$29:$O$33, 0), MATCH($K$32, $O$29:$T$29, 0))","v":12}]
[null,null,null,null,null,null,"Sucrose","Anemo","Burst Echo",{"$f":"char1BurstEchoDMGType","v":"Burst"},{"$f":"char2BurstEchoDMGType","v":"Burst"},{"$f":"char3BurstEchoDMGType","v":"burst"},{"$f":"char4BurstEchoDMGType","v":"Burst"},null,"char3",{"$f":"char3NATalentLevel","v":9},{"$f":"char3NATalentLevel","v":9},{"$f":"char3NATalentLevel","v":9},{"$f":"char3SkillTalentLevel","v":9},{"$f":"char3BurstTalentLevel","v":9},{"$f":"INDEX($O$29:$T$33, MATCH($O32, $O$29:$O$33, 0), MATCH($L$31, $O$29:$T$29, 0))","v":9},{"$f":"INDEX($O$29:$T$33, MATCH($O32, $O$29:$O$33, 0), MATCH($L$32, $O$29:$T$29, 0))","v":9}]
["Yunjin Boost Values",null,null,null,null,null,"Childe","Hydro",null,null,null,null,null,null,"char4",{"$f":"char4NATalentLevel","v":9},{"$f":"char4NATalentLevel","v":9},{"$f":"char4NATalentLevel","v":9},{"$f":"char4SkillTalentLevel","v":12},{"$f":"char4BurstTalentLevel","v":12},{"$f":"INDEX($O$29:$T$33, MATCH($O33, $O$29:$O$33, 0), MATCH($M$31, $O$29:$T$29, 0))","v":12},{"$f":"INDEX($O$29:$T$33, MATCH($O33, $O$29:$O$33, 0), MATCH($M$32, $O$29:$T$29, 0))","v":12}]
[1,2.5000000000000001E-2,null,null,null,null,"Thoma","Pyro"]
[2,0.05,null,null,null,null,"GMC","Geo",null,null,null,null,null,null,"Healing","Healing Bonus","Healing Received"]
[3,7.4999999999999997E-2,null,null,null,null,"AMC","Anemo",null,null,null,null,null,null,{"$f":"char1Name","v":"Diluc"},{"$f":"char1FinalHealingBonus","v":0},{"$f":"char1FinalHealingReceived","v":0}]
[4,0.115,null,null,null,null,"EMC","Electro","Echo Talents","char1","char2","char3","char4",null,{"$f":"char2Name","v":"Xingqiu"},{"$f":"char2FinalHealingBonus","v":0},{"$f":"char2FinalHealingReceived","v":0}]
[null,null,null,null,null,null,"Venti","Anemo","Skill Echo",{"$f":"INDEX($O$29:$T$33, MATCH(J$37, $O$29:$O$33, 0), MATCH(J31, $O$29:$T$29, 0))","v":9},12,9,12,null,{"$f":"char3Name","v":"Zhongli"},{"$f":"char3FinalHealingBonus","v":0},{"$f":"char3FinalHealingReceived","v":0}]
[null,null,null,null,null,null,"Xiangling","Pyro","Burst Echo",9,12,9,12,null,{"$f":"char4Name","v":"Bennett"},{"$f":"char4FinalHealingBonus","v":0},{"$f":"char4FinalHealingReceived","v":0}]
[null,null,null,null,null,null,"Xiao","Anemo"]
[null,null,null,null,null,null,"Xingqiu","Hydro"]
[null,null,null,null,null,null,"Xinyan","Pyro","Transformative Mults"]
[null,null,null,null,null,null,"Yanfei","Pyro","char1",{"$f":"char1TransformativeMult","v":725.3599999999999}]
[null,null,null,null,null,null,"Yoimiya","Pyro","char2",{"$f":"char2TransformativeMult","v":725.3599999999999}]
[null,null,null,null,null,null,"Zhongli","Geo","char3",{"$f":"char3TransformativeMult","v":725.3599999999999}]
[null,null,null,null,null,null,"Itto","Geo","char4",{"$f":"char4TransformativeMult","v":725.3599999999999}]
[null,null,null,null,null,null,"Shenhe","Cryo"]
[null,null,null,null,null,null,"Yae","Electro"]
[null,null,null,null,null,null,"Kuki","Electro"]
[null,null,null,null,null,null,"Yelan","Hydro"]
[null,null,null,null,null,null,"Heizou","Anemo"]
[null,null,null,null,null,null,"Ayato","Hydro"]
[null,null,null,null,null,null,"Yunjin","Geo"]
[null,null,null,null,null,null,"Gorou","Geo","Transformative Elements"]
[null,null,null,null,null,null,null,null,"Superconduct","Cryo"]
[null,null,null,null,null,null,null,null,"Electrocharged","Electro"]
[null,null,null,null,null,null,null,null,"Overload","Pyro"]
[null,null,null,null,null,null,null,null,"Shatter","Physical"]
[null,null,null,null,null,null,null,null,"Pyro Swirl","Pyro"]
[null,null,null,null,null,null,null,null,"Hydro Swirl","Hydro"]
[null,null,null,null,null,null,null,null,"Cryo Swirl","Cryo"]
[null,null,null,null,null,null,null,null,"Electro Swirl","Electro"]
[]
["Shenhe and Yunjin",1,2,3,4,5,6,7,8,9,10,11,12,13,14,15,"Scaling Stat","Character Exists?"]
["Shenhe Quills",0.45660000000000001,0.49080000000000001,0.52500000000000002,0.57069999999999999,0.60489999999999999,0.63919999999999999,0.68479999999999996,0.73050000000000004,0.7762,0.82179999999999997,0.86750000000000005,0.91310000000000002,0.97019999999999995,1.0273000000000001,1.0843,"ATK",{"$f":"IF(COUNTIF($A$2:$A$5, \"Shenhe\")>0, TRUE, FALSE)","v":false}]
["Yunjin Burst Bonus",0.3216,0.34570000000000001,0.36980000000000002,0.40200000000000002,0.42609999999999998,0.45019999999999999,0.4824,0.51459999999999995,0.54669999999999996,0.57889999999999997,0.61099999999999999,0.64319999999999999,0.68340000000000001,0.72360000000000002,0.76380000000000003,"DEF",{"$f":"IF(COUNTIF($A$2:$A$5, \"Yunjin\")>0, TRUE, FALSE)","v":false}]
[]
["Proc List","Character Num","Talent Level","Talent Value","Scaling Stat","Stat Value","Final Value","Base Stat",null,"Base Stats","ATK","DEF","HP"]
[{"$f":"IF(R65, \"Shenhe Quills\", \"\")","v":""},{"$f":"IFERROR(VLOOKUP(\"Shenhe\", $A$2:$B$5, 2, 0),\"\")","v":""},{"$f":"INDEX($O$29:$V$33, MATCH(B69, $O$29:$O$33, 0), 5)","v":{"$error":"#N/A"}},{"$f":"HLOOKUP(C69, $A$64:$R$66, 2, 0)","v":{"$error":"#N/A"}},"ATK",{"$f":"INDEX($O$7:$R$11, MATCH(B69, $O$7:$O$11, 0), MATCH(E69, $O$7:$R$7, 0))","v":{"$error":"#N/A"}},{"$f":"D69*F69","v":{"$error":"#N/A"}},{"$f":"VLOOKUP(B69, $J$68:$M$72, MATCH(E69, $J$68:$M$68, 0), 0)","v":{"$error":"#N/A"}},null,"char1",{"$f":"char1BaseATK+char1WeaponBaseATK","v":845},{"$f":"char1BaseDEF","v":784},{"$f":"char1BaseHP","v":12981}]
[{"$f":"IF(R66, \"Yunjin Burst Bonus\", \"\")","v":""},{"$f":"IFERROR(VLOOKUP(\"Yunjin\", $A$2:$B$5, 2, 0),\"\")","v":""},{"$f":"INDEX($O$29:$V$33, MATCH(B70, $O$29:$O$33, 0), 6)","v":{"$error":"#N/A"}},{"$f":"HLOOKUP(C70, $A$64:$R$66, 3, 0)+VLOOKUP($B$31, $A$34:$B$37, 2, 0)","v":{"$error":"#N/A"}},"DEF",{"$f":"INDEX($O$7:$R$11, MATCH(B70, $O$7:$O$11, 0), MATCH(E70, $O$7:$R$7, 0))","v":{"$error":"#N/A"}},{"$f":"D70*F70","v":{"$error":"#N/A"}},{"$f":"VLOOKUP(B70, $J$68:$M$72, MATCH(E70, $J$68:$M$68, 0), 0)","v":{"$error":"#N/A"}},null,"char2",{"$f":"char2BaseATK+char2WeaponBaseATK","v":656},{"$f":"char2BaseDEF","v":758},{"$f":"char2BaseHP","v":10222}]
[null,null,null,null,null,null,null,null,null,"char3",{"$f":"char3BaseATK+char3WeaponBaseATK","v":605},{"$f":"char3BaseDEF","v":738},{"$f":"char3BaseHP","v":14695}]
["Song of Pearls Workaround",null,null,"Healing Bonus Table",null,null,null,null,null,"char4",{"$f":"char4BaseATK+char4WeaponBaseATK","v":756},{"$f":"char4BaseDEF","v":771},{"$f":"char4BaseHP","v":12397}]
["Kokomi Char#",{"$f":"VLOOKUP(\"Kokomi\",$A$1:$B$5, 2, 0)","v":{"$error":"#N/A"}},null,"char1",{"$f":"char1FinalHealingBonus","v":0}]
["Bonus Value",{"$f":"VLOOKUP(B73, $D$73:$E$76, 2, 0)","v":{"$error":"#N/A"}},null,"char2",{"$f":"char2FinalHealingBonus","v":0},null,null,null,null,"Bonuses","ATK%","Flat ATK","DEF%","Flat DEF"]
["Final Val",{"$f":"15%*B74","v":{"$error":"#N/A"}},null,"char3",{"$f":"char3FinalHealingBonus","v":0},null,null,null,null,"char1",{"$f":"char1FinalATKPercent","v":9.9199999999999997E-2},{"$f":"char1FinalFlatATK","v":344.08},{"$f":"char1FinalDEFPercent","v":0.124},{"$f":"char1FinalFlatDEF","v":39.36}]
[null,null,null,"char4",{"$f":"char4FinalHealingBonus","v":0},null,null,null,null,"char2",{"$f":"char2FinalATKPercent","v":0.8548},{"$f":"char2FinalFlatATK","v":344.08},{"$f":"char2FinalDEFPercent","v":0.124},{"$f":"char2FinalFlatDEF","v":39.36}]
[null,null,null,null,null,null,null,null,null,"char3",{"$f":"char3FinalATKPercent","v":9.9199999999999997E-2},{"$f":"char3FinalFlatATK","v":344.08},{"$f":"char3FinalDEFPercent","v":0.124},{"$f":"char3FinalFlatDEF","v":39.36}]
[null,null,null,null,null,null,null,null,null,"char4",{"$f":"char4FinalATKPercent","v":9.9199999999999997E-2},{"$f":"char4FinalFlatATK","v":344.08},{"$f":"char4FinalDEFPercent","v":0.124},{"$f":"char4FinalFlatDEF","v":39.36}]
[]
["Yoimiya Skill Numbers"]
[1,2,3,4,5,6,7,8,9,10,11,12,13,14,15]
[1.3791,1.4017999999999999,1.4245000000000001,1.454,1.4766999999999999,1.4994000000000001,1.5288999999999999,1.5584,1.5879000000000001,1.6173999999999999,1.647,1.6765000000000001,1.706,1.7355,1.7649999999999999]
[]
["Yoimiya Skill Talent Level Lookup"]
["Yoimiya char number:",null,{"$f":"VLOOKUP(\"Yoimiya\", $A$2:$B$5, 2, 0)","v":{"$error":"#N/A"}}]
["Talent Level:",{"$f":"IFERROR(VLOOKUP(C85, $O$29:$U$33, 5, 0),0)","v":0}]
["Value",{"$f":"IFERROR(HLOOKUP(B86, $A$81:$O$82, 2, 0), 1)","v":1}]

{"sheet":"Rotation Assembler","index":6,"n_rows":315,"n_cols":58,"rows_kept":315,"cut":false,"hidden":false,"merged":[]}
["Character","Xingqiu","Xingqiu","Bennett","Bennett","Xingqiu","Xingqiu","Diluc","Diluc","Diluc","Diluc","Diluc","Diluc","Diluc","Diluc","Diluc","Diluc","Diluc","Diluc","Diluc","Diluc",null,"Bennett","Bennett","Zhongli","Zhongli","Zhongli","Diluc","Diluc","Xingqiu","Diluc"]
["Attack Name","Skill Hit 1 DMG (C4)","Skill Hit 1 DMG (C4)","Press DMG","Burst DMG","Sword Rain DMG","Sword Rain DMG","Burst Slashing DMG","Burst DoT","1-Hit DMG","Skill First Hit DMG","1-Hit DMG","2-Hit DMG","Skill Second Hit DMG","1-Hit DMG","2-Hit DMG","Skill Third Hit DMG","1-Hit DMG","2-Hit DMG","3-Hit DMG","4-Hit DMG",null,"1-Hit DMG","Press DMG","Hold DMG","Stone Stele DMG","Skill DMG Bonus","1-Hit DMG","2-Hit DMG","Sword Rain DMG","1-Hit DMG"]
["Damage Type",{"$f":"IFERROR(INDEX(INDEX(MVs!$B:$B, INDEX(MVs!$V$2:$Z$4, 2, MATCH(B$38, MVs!$V$2:$Z$2, 0))):INDEX(MVs!$U:$U, INDEX(mvLookupTable, 3, MATCH(B$38, MVs!$V$2:$Z$2, 0))), MATCH(B$2, INDEX(MVs!$B:$B, INDEX(MVs!$V$2:$Z$4, 2, MATCH(B$38, MVs!$V$2:$Z$2, 0))):INDEX(MVs!$B:$B, INDEX(MVs!$V$2:$Z$4, 3, MATCH(B$38, MVs!$V$2:$Z$2, 0))), 0), 17),\"\")","v":"Skill"},{"$f":"IFERROR(INDEX(INDEX(MVs!$B:$B, INDEX(MVs!$V$2:$Z$4, 2, MATCH(C$38, MVs!$V$2:$Z$2, 0))):INDEX(MVs!$U:$U, INDEX(mvLookupTable, 3, MATCH(C$38, MVs!$V$2:$Z$2, 0))), MATCH(C$2, INDEX(MVs!$B:$B, INDEX(MVs!$V$2:$Z$4, 2, MATCH(C$38, MVs!$V$2:$Z$2, 0))):INDEX(MVs!$B:$B, INDEX(MVs!$V$2:$Z$4, 3, MATCH(C$38, MVs!$V$2:$Z$2, 0))), 0), 17),\"\")","v":"Skill"},{"$f":"IFERROR(INDEX(INDEX(MVs!$B:$B, INDEX(MVs!$V$2:$Z$4, 2, MATCH(D$38, MVs!$V$2:$Z$2, 0))):INDEX(MVs!$U:$U, INDEX(mvLookupTable, 3, MATCH(D$38, MVs!$V$2:$Z$2, 0))), MATCH(D$2, INDEX(MVs!$B:$B, INDEX(MVs!$V$2:$Z$4, 2, MATCH(D$38, MVs!$V$2:$Z$2, 0))):INDEX(MVs!$B:$B, INDEX(MVs!$V$2:$Z$4, 3, MATCH(D$38, MVs!$V$2:$Z$2, 0))), 0), 17),\"\")","v":"Skill"},{"$f":"IFERROR(INDEX(INDEX(MVs!$B:$B, INDEX(MVs!$V$2:$Z$4, 2, MATCH(E$38, MVs!$V$2:$Z$2, 0))):INDEX(MVs!$U:$U, INDEX(mvLookupTable, 3, MATCH(E$38, MVs!$V$2:$Z$2, 0))), MATCH(E$2, INDEX(MVs!$B:$B, INDEX(MVs!$V$2:$Z$4, 2, MATCH(E$38, MVs!$V$2:$Z$2, 0))):INDEX(MVs!$B:$B, INDEX(MVs!$V$2:$Z$4, 3, MATCH(E$38, MVs!$V$2:$Z$2, 0))), 0), 17),\"\")","v":"Burst"},{"$f":"IFERROR(INDEX(INDEX(MVs!$B:$B, INDEX(MVs!$V$2:$Z$4, 2, MATCH(F$38, MVs!$V$2:$Z$2, 0))):INDEX(MVs!$U:$U, INDEX(mvLookupTable, 3, MATCH(F$38, MVs!$V$2:$Z$2, 0))), MATCH(F$2, INDEX(MVs!$B:$B, INDEX(MVs!$V$2:$Z$4, 2, MATCH(F$38, MVs!$V$2:$Z$2, 0))):INDEX(MVs!$B:$B, INDEX(MVs!$V$2:$Z$4, 3, MATCH(F$38, MVs!$V$2:$Z$2, 0))), 0), 17),\"\")","v":"Burst"},{"$f":"IFERROR(INDEX(INDEX(MVs!$B:$B, INDEX(MVs!$V$2:$Z$4, 2, MATCH(G$38, MVs!$V$2:$Z$2, 0))):INDEX(MVs!$U:$U, INDEX(mvLookupTable, 3, MATCH(G$38, MVs!$V$2:$Z$2, 0))), MATCH(G$2, INDEX(MVs!$B:$B, INDEX(MVs!$V$2:$Z$4, 2, MATCH(G$38, MVs!$V$2:$Z$2, 0))):INDEX(MVs!$B:$B, INDEX(MVs!$V$2:$Z$4, 3, MATCH(G$38, MVs!$V$2:$Z$2, 0))), 0), 17),\"\")","v":"Burst"},{"$f":"IFERROR(INDEX(INDEX(MVs!$B:$B, INDEX(MVs!$V$2:$Z$4, 2, MATCH(H$38, MVs!$V$2:$Z$2, 0))):INDEX(MVs!$U:$U, INDEX(mvLookupTable, 3, MATCH(H$38, MVs!$V$2:$Z$2, 0))), MATCH(H$2, INDEX(MVs!$B:$B, INDEX(MVs!$V$2:$Z$4, 2, MATCH(H$38, MVs!$V$2:$Z$2, 0))):INDEX(MVs!$B:$B, INDEX(MVs!$V$2:$Z$4, 3, MATCH(H$38, MVs!$V$2:$Z$2, 0))), 0), 17),\"\")","v":"Burst"},{"$f":"IFERROR(INDEX(INDEX(MVs!$B:$B, INDEX(MVs!$V$2:$Z$4, 2, MATCH(I$38, MVs!$V$2:$Z$2, 0))):INDEX(MVs!$U:$U, INDEX(mvLookupTable, 3, MATCH(I$38, MVs!$V$2:$Z$2, 0))), MATCH(I$2, INDEX(MVs!$B:$B, INDEX(MVs!$V$2:$Z$4, 2, MATCH(I$38, MVs!$V$2:$Z$2, 0))):INDEX(MVs!$B:$B, INDEX(MVs!$V$2:$Z$4, 3, MATCH(I$38, MVs!$V$2:$Z$2, 0))), 0), 17),\"\")","v":"Burst"},{"$f":"IFERROR(INDEX(INDEX(MVs!$B:$B, INDEX(MVs!$V$2:$Z$4, 2, MATCH(J$38, MVs!$V$2:$Z$2, 0))):INDEX(MVs!$U:$U, INDEX(mvLookupTable, 3, MATCH(J$38, MVs!$V$2:$Z$2, 0))), MATCH(J$2, INDEX(MVs!$B:$B, INDEX(MVs!$V$2:$Z$4, 2, MATCH(J$38, MVs!$V$2:$Z$2, 0))):INDEX(MVs!$B:$B, INDEX(MVs!$V$2:$Z$4, 3, MATCH(J$38, MVs!$V$2:$Z$2, 0))), 0), 17),\"\")","v":"Normal"},{"$f":"IFERROR(INDEX(INDEX(MVs!$B:$B, INDEX(MVs!$V$2:$Z$4, 2, MATCH(K$38, MVs!$V$2:$Z$2, 0))):INDEX(MVs!$U:$U, INDEX(mvLookupTable, 3, MATCH(K$38, MVs!$V$2:$Z$2, 0))), MATCH(K$2, INDEX(MVs!$B:$B, INDEX(MVs!$V$2:$Z$4, 2, MATCH(K$38, MVs!$V$2:$Z$2, 0))):INDEX(MVs!$B:$B, INDEX(MVs!$V$2:$Z$4, 3, MATCH(K$38, MVs!$V$2:$Z$2, 0))), 0), 17),\"\")","v":"Skill"},{"$f":"IFERROR(INDEX(INDEX(MVs!$B:$B, INDEX(MVs!$V$2:$Z$4, 2, MATCH(L$38, MVs!$V$2:$Z$2, 0))):INDEX(MVs!$U:$U, INDEX(mvLookupTable, 3, MATCH(L$38, MVs!$V$2:$Z$2, 0))), MATCH(L$2, INDEX(MVs!$B:$B, INDEX(MVs!$V$2:$Z$4, 2, MATCH(L$38, MVs!$V$2:$Z$2, 0))):INDEX(MVs!$B:$B, INDEX(MVs!$V$2:$Z$4, 3, MATCH(L$38, MVs!$V$2:$Z$2, 0))), 0), 17),\"\")","v":"Normal"},{"$f":"IFERROR(INDEX(INDEX(MVs!$B:$B, INDEX(MVs!$V$2:$Z$4, 2, MATCH(M$38, MVs!$V$2:$Z$2, 0))):INDEX(MVs!$U:$U, INDEX(mvLookupTable, 3, MATCH(M$38, MVs!$V$2:$Z$2, 0))), MATCH(M$2, INDEX(MVs!$B:$B, INDEX(MVs!$V$2:$Z$4, 2, MATCH(M$38, MVs!$V$2:$Z$2, 0))):INDEX(MVs!$B:$B, INDEX(MVs!$V$2:$Z$4, 3, MATCH(M$38, MVs!$V$2:$Z$2, 0))), 0), 17),\"\")","v":"Normal"},{"$f":"IFERROR(INDEX(INDEX(MVs!$B:$B, INDEX(MVs!$V$2:$Z$4, 2, MATCH(N$38, MVs!$V$2:$Z$2, 0))):INDEX(MVs!$U:$U, INDEX(mvLookupTable, 3, MATCH(N$38, MVs!$V$2:$Z$2, 0))), MATCH(N$2, INDEX(MVs!$B:$B, INDEX(MVs!$V$2:$Z$4, 2, MATCH(N$38, MVs!$V$2:$Z$2, 0))):INDEX(MVs!$B:$B, INDEX(MVs!$V$2:$Z$4, 3, MATCH(N$38, MVs!$V$2:$Z$2, 0))), 0), 17),\"\")","v":"Skill"},{"$f":"IFERROR(INDEX(INDEX(MVs!$B:$B, INDEX(MVs!$V$2:$Z$4, 2, MATCH(O$38, MVs!$V$2:$Z$2, 0))):INDEX(MVs!$U:$U, INDEX(mvLookupTable, 3, MATCH(O$38, MVs!$V$2:$Z$2, 0))), MATCH(O$2, INDEX(MVs!$B:$B, INDEX(MVs!$V$2:$Z$4, 2, MATCH(O$38, MVs!$V$2:$Z$2, 0))):INDEX(MVs!$B:$B, INDEX(MVs!$V$2:$Z$4, 3, MATCH(O$38, MVs!$V$2:$Z$2, 0))), 0), 17),\"\")","v":"Normal"},{"$f":"IFERROR(INDEX(INDEX(MVs!$B:$B, INDEX(MVs!$V$2:$Z$4, 2, MATCH(P$38, MVs!$V$2:$Z$2, 0))):INDEX(MVs!$U:$U, INDEX(mvLookupTable, 3, MATCH(P$38, MVs!$V$2:$Z$2, 0))), MATCH(P$2, INDEX(MVs!$B:$B, INDEX(MVs!$V$2:$Z$4, 2, MATCH(P$38, MVs!$V$2:$Z$2, 0))):INDEX(MVs!$B:$B, INDEX(MVs!$V$2:$Z$4, 3, MATCH(P$38, MVs!$V$2:$Z$2, 0))), 0), 17),\"\")","v":"Normal"},{"$f":"IFERROR(INDEX(INDEX(MVs!$B:$B, INDEX(MVs!$V$2:$Z$4, 2, MATCH(Q$38, MVs!$V$2:$Z$2, 0))):INDEX(MVs!$U:$U, INDEX(mvLookupTable, 3, MATCH(Q$38, MVs!$V$2:$Z$2, 0))), MATCH(Q$2, INDEX(MVs!$B:$B, INDEX(MVs!$V$2:$Z$4, 2, MATCH(Q$38, MVs!$V$2:$Z$2, 0))):INDEX(MVs!$B:$B, INDEX(MVs!$V$2:$Z$4, 3, MATCH(Q$38, MVs!$V$2:$Z$2, 0))), 0), 17),\"\")","v":"Skill"},{"$f":"IFERROR(INDEX(INDEX(MVs!$B:$B, INDEX(MVs!$V$2:$Z$4, 2, MATCH(R$38, MVs!$V$2:$Z$2, 0))):INDEX(MVs!$U:$U, INDEX(mvLookupTable, 3, MATCH(R$38, MVs!$V$2:$Z$2, 0))), MATCH(R$2, INDEX(MVs!$B:$B, INDEX(MVs!$V$2:$Z$4, 2, MATCH(R$38, MVs!$V$2:$Z$2, 0))):INDEX(MVs!$B:$B, INDEX(MVs!$V$2:$Z$4, 3, MATCH(R$38, MVs!$V$2:$Z$2, 0))), 0), 17),\"\")","v":"Normal"},{"$f":"IFERROR(INDEX(INDEX(MVs!$B:$B, INDEX(MVs!$V$2:$Z$4, 2, MATCH(S$38, MVs!$V$2:$Z$2, 0))):INDEX(MVs!$U:$U, INDEX(mvLookupTable, 3, MATCH(S$38, MVs!$V$2:$Z$2, 0))), MATCH(S$2, INDEX(MVs!$B:$B, INDEX(MVs!$V$2:$Z$4, 2, MATCH(S$38, MVs!$V$2:$Z$2, 0))):INDEX(MVs!$B:$B, INDEX(MVs!$V$2:$Z$4, 3, MATCH(S$38, MVs!$V$2:$Z$2, 0))), 0), 17),\"\")","v":"Normal"},{"$f":"IFERROR(INDEX(INDEX(MVs!$B:$B, INDEX(MVs!$V$2:$Z$4, 2, MATCH(T$38, MVs!$V$2:$Z$2, 0))):INDEX(MVs!$U:$U, INDEX(mvLookupTable, 3, MATCH(T$38, MVs!$V$2:$Z$2, 0))), MATCH(T$2, INDEX(MVs!$B:$B, INDEX(MVs!$V$2:$Z$4, 2, MATCH(T$38, MVs!$V$2:$Z$2, 0))):INDEX(MVs!$B:$B, INDEX(MVs!$V$2:$Z$4, 3, MATCH(T$38, MVs!$V$2:$Z$2, 0))), 0), 17),\"\")","v":"Normal"},{"$f":"IFERROR(INDEX(INDEX(MVs!$B:$B, INDEX(MVs!$V$2:$Z$4, 2, MATCH(U$38, MVs!$V$2:$Z$2, 0))):INDEX(MVs!$U:$U, INDEX(mvLookupTable, 3, MATCH(U$38, MVs!$V$2:$Z$2, 0))), MATCH(U$2, INDEX(MVs!$B:$B, INDEX(MVs!$V$2:$Z$4, 2, MATCH(U$38, MVs!$V$2:$Z$2, 0))):INDEX(MVs!$B:$B, INDEX(MVs!$V$2:$Z$4, 3, MATCH(U$38, MVs!$V$2:$Z$2, 0))), 0), 17),\"\")","v":"Normal"},null,{"$f":"IFERROR(INDEX(INDEX(MVs!$B:$B, INDEX(MVs!$V$2:$Z$4, 2, MATCH(W$38, MVs!$V$2:$Z$2, 0))):INDEX(MVs!$U:$U, INDEX(mvLookupTable, 3, MATCH(W$38, MVs!$V$2:$Z$2, 0))), MATCH(W$2, INDEX(MVs!$B:$B, INDEX(MVs!$V$2:$Z$4, 2, MATCH(W$38, MVs!$V$2:$Z$2, 0))):INDEX(MVs!$B:$B, INDEX(MVs!$V$2:$Z$4, 3, MATCH(W$38, MVs!$V$2:$Z$2, 0))), 0), 17),\"\")","v":"Normal"},{"$f":"IFERROR(INDEX(INDEX(MVs!$B:$B, INDEX(MVs!$V$2:$Z$4, 2, MATCH(X$38, MVs!$V$2:$Z$2, 0))):INDEX(MVs!$U:$U, INDEX(mvLookupTable, 3, MATCH(X$38, MVs!$V$2:$Z$2, 0))), MATCH(X$2, INDEX(MVs!$B:$B, INDEX(MVs!$V$2:$Z$4, 2, MATCH(X$38, MVs!$V$2:$Z$2, 0))):INDEX(MVs!$B:$B, INDEX(MVs!$V$2:$Z$4, 3, MATCH(X$38, MVs!$V$2:$Z$2, 0))), 0), 17),\"\")","v":"Skill"},{"$f":"IFERROR(INDEX(INDEX(MVs!$B:$B, INDEX(MVs!$V$2:$Z$4, 2, MATCH(Y$38, MVs!$V$2:$Z$2, 0))):INDEX(MVs!$U:$U, INDEX(mvLookupTable, 3, MATCH(Y$38, MVs!$V$2:$Z$2, 0))), MATCH(Y$2, INDEX(MVs!$B:$B, INDEX(MVs!$V$2:$Z$4, 2, MATCH(Y$38, MVs!$V$2:$Z$2, 0))):INDEX(MVs!$B:$B, INDEX(MVs!$V$2:$Z$4, 3, MATCH(Y$38, MVs!$V$2:$Z$2, 0))), 0), 17),\"\")","v":"Skill"},{"$f":"IFERROR(INDEX(INDEX(MVs!$B:$B, INDEX(MVs!$V$2:$Z$4, 2, MATCH(Z$38, MVs!$V$2:$Z$2, 0))):INDEX(MVs!$U:$U, INDEX(mvLookupTable, 3, MATCH(Z$38, MVs!$V$2:$Z$2, 0))), MATCH(Z$2, INDEX(MVs!$B:$B, INDEX(MVs!$V$2:$Z$4, 2, MATCH(Z$38, MVs!$V$2:$Z$2, 0))):INDEX(MVs!$B:$B, INDEX(MVs!$V$2:$Z$4, 3, MATCH(Z$38, MVs!$V$2:$Z$2, 0))), 0), 17),\"\")","v":"Skill"},{"$f":"IFERROR(INDEX(INDEX(MVs!$B:$B, INDEX(MVs!$V$2:$Z$4, 2, MATCH(AA$38, MVs!$V$2:$Z$2, 0))):INDEX(MVs!$U:$U, INDEX(mvLookupTable, 3, MATCH(AA$38, MVs!$V$2:$Z$2, 0))), MATCH(AA$2, INDEX(MVs!$B:$B, INDEX(MVs!$V$2:$Z$4, 2, MATCH(AA$38, MVs!$V$2:$Z$2, 0))):INDEX(MVs!$B:$B, INDEX(MVs!$V$2:$Z$4, 3, MATCH(AA$38, MVs!$V$2:$Z$2, 0))), 0), 17),\"\")","v":"Skill"},{"$f":"IFERROR(INDEX(INDEX(MVs!$B:$B, INDEX(MVs!$V$2:$Z$4, 2, MATCH(AB$38, MVs!$V$2:$Z$2, 0))):INDEX(MVs!$U:$U, INDEX(mvLookupTable, 3, MATCH(AB$38, MVs!$V$2:$Z$2, 0))), MATCH(AB$2, INDEX(MVs!$B:$B, INDEX(MVs!$V$2:$Z$4, 2, MATCH(AB$38, MVs!$V$2:$Z$2, 0))):INDEX(MVs!$B:$B, INDEX(MVs!$V$2:$Z$4, 3, MATCH(AB$38, MVs!$V$2:$Z$2, 0))), 0), 17),\"\")","v":"Normal"},{"$f":"IFERROR(INDEX(INDEX(MVs!$B:$B, INDEX(MVs!$V$2:$Z$4, 2, MATCH(AC$38, MVs!$V$2:$Z$2, 0))):INDEX(MVs!$U:$U, INDEX(mvLookupTable, 3, MATCH(AC$38, MVs!$V$2:$Z$2, 0))), MATCH(AC$2, INDEX(MVs!$B:$B, INDEX(MVs!$V$2:$Z$4, 2, MATCH(AC$38, MVs!$V$2:$Z$2, 0))):INDEX(MVs!$B:$B, INDEX(MVs!$V$2:$Z$4, 3, MATCH(AC$38, MVs!$V$2:$Z$2, 0))), 0), 17),\"\")","v":"Normal"},{"$f":"IFERROR(INDEX(INDEX(MVs!$B:$B, INDEX(MVs!$V$2:$Z$4, 2, MATCH(AD$38, MVs!$V$2:$Z$2, 0))):INDEX(MVs!$U:$U, INDEX(mvLookupTable, 3, MATCH(AD$38, MVs!$V$2:$Z$2, 0))), MATCH(AD$2, INDEX(MVs!$B:$B, INDEX(MVs!$V$2:$Z$4, 2, MATCH(AD$38, MVs!$V$2:$Z$2, 0))):INDEX(MVs!$B:$B, INDEX(MVs!$V$2:$Z$4, 3, MATCH(AD$38, MVs!$V$2:$Z$2, 0))), 0), 17),\"\")","v":"Burst"},{"$f":"IFERROR(INDEX(INDEX(MVs!$B:$B, INDEX(MVs!$V$2:$Z$4, 2, MATCH(AE$38, MVs!$V$2:$Z$2, 0))):INDEX(MVs!$U:$U, INDEX(mvLookupTable, 3, MATCH(AE$38, MVs!$V$2:$Z$2, 0))), MATCH(AE$2, INDEX(MVs!$B:$B, INDEX(MVs!$V$2:$Z$4, 2, MATCH(AE$38, MVs!$V$2:$Z$2, 0))):INDEX(MVs!$B:$B, INDEX(MVs!$V$2:$Z$4, 3, MATCH(AE$38, MVs!$V$2:$Z$2, 0))), 0), 17),\"\")","v":"Normal"},{"$f":"IFERROR(INDEX(INDEX(MVs!$B:$B, INDEX(MVs!$V$2:$Z$4, 2, MATCH(AF$38, MVs!$V$2:$Z$2, 0))):INDEX(MVs!$U:$U, INDEX(mvLookupTable, 3, MATCH(AF$38, MVs!$V$2:$Z$2, 0))), MATCH(AF$2, INDEX(MVs!$B:$B, INDEX(MVs!$V$2:$Z$4, 2, MATCH(AF$38, MVs!$V$2:$Z$2, 0))):INDEX(MVs!$B:$B, INDEX(MVs!$V$2:$Z$4, 3, MATCH(AF$38, MVs!$V$2:$Z$2, 0))), 0), 17),\"\")","v":""},{"$f":"IFERROR(INDEX(INDEX(MVs!$B:$B, INDEX(MVs!$V$2:$Z$4, 2, MATCH(AG$38, MVs!$V$2:$Z$2, 0))):INDEX(MVs!$U:$U, INDEX(mvLookupTable, 3, MATCH(AG$38, MVs!$V$2:$Z$2, 0))), MATCH(AG$2, INDEX(MVs!$B:$B, INDEX(MVs!$V$2:$Z$4, 2, MATCH(AG$38, MVs!$V$2:$Z$2, 0))):INDEX(MVs!$B:$B, INDEX(MVs!$V$2:$Z$4, 3, MATCH(AG$38, MVs!$V$2:$Z$2, 0))), 0), 17),\"\")","v":""},{"$f":"IFERROR(INDEX(INDEX(MVs!$B:$B, INDEX(MVs!$V$2:$Z$4, 2, MATCH(AH$38, MVs!$V$2:$Z$2, 0))):INDEX(MVs!$U:$U, INDEX(mvLookupTable, 3, MATCH(AH$38, MVs!$V$2:$Z$2, 0))), MATCH(AH$2, INDEX(MVs!$B:$B, INDEX(MVs!$V$2:$Z$4, 2, MATCH(AH$38, MVs!$V$2:$Z$2, 0))):INDEX(MVs!$B:$B, INDEX(MVs!$V$2:$Z$4, 3, MATCH(AH$38, MVs!$V$2:$Z$2, 0))), 0), 17),\"\")","v":""},{"$f":"IFERROR(INDEX(INDEX(MVs!$B:$B, INDEX(MVs!$V$2:$Z$4, 2, MATCH(AI$38, MVs!$V$2:$Z$2, 0))):INDEX(MVs!$U:$U, INDEX(mvLookupTable, 3, MATCH(AI$38, MVs!$V$2:$Z$2, 0))), MATCH(AI$2, INDEX(MVs!$B:$B, INDEX(MVs!$V$2:$Z$4, 2, MATCH(AI$38, MVs!$V$2:$Z$2, 0))):INDEX(MVs!$B:$B, INDEX(MVs!$V$2:$Z$4, 3, MATCH(AI$38, MVs!$V$2:$Z$2, 0))), 0), 17),\"\")","v":""},{"$f":"IFERROR(INDEX(INDEX(MVs!$B:$B, INDEX(MVs!$V$2:$Z$4, 2, MATCH(AJ$38, MVs!$V$2:$Z$2, 0))):INDEX(MVs!$U:$U, INDEX(mvLookupTable, 3, MATCH(AJ$38, MVs!$V$2:$Z$2, 0))), MATCH(AJ$2, INDEX(MVs!$B:$B, INDEX(MVs!$V$2:$Z$4, 2, MATCH(AJ$38, MVs!$V$2:$Z$2, 0))):INDEX(MVs!$B:$B, INDEX(MVs!$V$2:$Z$4, 3, MATCH(AJ$38, MVs!$V$2:$Z$2, 0))), 0), 17),\"\")","v":""},{"$f":"IFERROR(INDEX(INDEX(MVs!$B:$B, INDEX(MVs!$V$2:$Z$4, 2, MATCH(AK$38, MVs!$V$2:$Z$2, 0))):INDEX(MVs!$U:$U, INDEX(mvLookupTable, 3, MATCH(AK$38, MVs!$V$2:$Z$2, 0))), MATCH(AK$2, INDEX(MVs!$B:$B, INDEX(MVs!$V$2:$Z$4, 2, MATCH(AK$38, MVs!$V$2:$Z$2, 0))):INDEX(MVs!$B:$B, INDEX(MVs!$V$2:$Z$4, 3, MATCH(AK$38, MVs!$V$2:$Z$2, 0))), 0), 17),\"\")","v":""},{"$f":"IFERROR(INDEX(INDEX(MVs!$B:$B, INDEX(MVs!$V$2:$Z$4, 2, MATCH(AL$38, MVs!$V$2:$Z$2, 0))):INDEX(MVs!$U:$U, INDEX(mvLookupTable, 3, MATCH(AL$38, MVs!$V$2:$Z$2, 0))), MATCH(AL$2, INDEX(MVs!$B:$B, INDEX(MVs!$V$2:$Z$4, 2, MATCH(AL$38, MVs!$V$2:$Z$2, 0))):INDEX(MVs!$B:$B, INDEX(MVs!$V$2:$Z$4, 3, MATCH(AL$38, MVs!$V$2:$Z$2, 0))), 0), 17),\"\")","v":""},{"$f":"IFERROR(INDEX(INDEX(MVs!$B:$B, INDEX(MVs!$V$2:$Z$4, 2, MATCH(AM$38, MVs!$V$2:$Z$2, 0))):INDEX(MVs!$U:$U, INDEX(mvLookupTable, 3, MATCH(AM$38, MVs!$V$2:$Z$2, 0))), MATCH(AM$2, INDEX(MVs!$B:$B, INDEX(MVs!$V$2:$Z$4, 2, MATCH(AM$38, MVs!$V$2:$Z$2, 0))):INDEX(MVs!$B:$B, INDEX(MVs!$V$2:$Z$4, 3, MATCH(AM$38, MVs!$V$2:$Z$2, 0))), 0), 17),\"\")","v":""},{"$f":"IFERROR(INDEX(INDEX(MVs!$B:$B, INDEX(MVs!$V$2:$Z$4, 2, MATCH(AN$38, MVs!$V$2:$Z$2, 0))):INDEX(MVs!$U:$U, INDEX(mvLookupTable, 3, MATCH(AN$38, MVs!$V$2:$Z$2, 0))), MATCH(AN$2, INDEX(MVs!$B:$B, INDEX(MVs!$V$2:$Z$4, 2, MATCH(AN$38, MVs!$V$2:$Z$2, 0))):INDEX(MVs!$B:$B, INDEX(MVs!$V$2:$Z$4, 3, MATCH(AN$38, MVs!$V$2:$Z$2, 0))), 0), 17),\"\")","v":""},{"$f":"IFERROR(INDEX(INDEX(MVs!$B:$B, INDEX(MVs!$V$2:$Z$4, 2, MATCH(AO$38, MVs!$V$2:$Z$2, 0))):INDEX(MVs!$U:$U, INDEX(mvLookupTable, 3, MATCH(AO$38, MVs!$V$2:$Z$2, 0))), MATCH(AO$2, INDEX(MVs!$B:$B, INDEX(MVs!$V$2:$Z$4, 2, MATCH(AO$38, MVs!$V$2:$Z$2, 0))):INDEX(MVs!$B:$B, INDEX(MVs!$V$2:$Z$4, 3, MATCH(AO$38, MVs!$V$2:$Z$2, 0))), 0), 17),\"\")","v":""},{"$f":"IFERROR(INDEX(INDEX(MVs!$B:$B, INDEX(MVs!$V$2:$Z$4, 2, MATCH(AP$38, MVs!$V$2:$Z$2, 0))):INDEX(MVs!$U:$U, INDEX(mvLookupTable, 3, MATCH(AP$38, MVs!$V$2:$Z$2, 0))), MATCH(AP$2, INDEX(MVs!$B:$B, INDEX(MVs!$V$2:$Z$4, 2, MATCH(AP$38, MVs!$V$2:$Z$2, 0))):INDEX(MVs!$B:$B, INDEX(MVs!$V$2:$Z$4, 3, MATCH(AP$38, MVs!$V$2:$Z$2, 0))), 0), 17),\"\")","v":""},{"$f":"IFERROR(INDEX(INDEX(MVs!$B:$B, INDEX(MVs!$V$2:$Z$4, 2, MATCH(AQ$38, MVs!$V$2:$Z$2, 0))):INDEX(MVs!$U:$U, INDEX(mvLookupTable, 3, MATCH(AQ$38, MVs!$V$2:$Z$2, 0))), MATCH(AQ$2, INDEX(MVs!$B:$B, INDEX(MVs!$V$2:$Z$4, 2, MATCH(AQ$38, MVs!$V$2:$Z$2, 0))):INDEX(MVs!$B:$B, INDEX(MVs!$V$2:$Z$4, 3, MATCH(AQ$38, MVs!$V$2:$Z$2, 0))), 0), 17),\"\")","v":""},{"$f":"IFERROR(INDEX(INDEX(MVs!$B:$B, INDEX(MVs!$V$2:$Z$4, 2, MATCH(AR$38, MVs!$V$2:$Z$2, 0))):INDEX(MVs!$U:$U, INDEX(mvLookupTable, 3, MATCH(AR$38, MVs!$V$2:$Z$2, 0))), MATCH(AR$2, INDEX(MVs!$B:$B, INDEX(MVs!$V$2:$Z$4, 2, MATCH(AR$38, MVs!$V$2:$Z$2, 0))):INDEX(MVs!$B:$B, INDEX(MVs!$V$2:$Z$4, 3, MATCH(AR$38, MVs!$V$2:$Z$2, 0))), 0), 17),\"\")","v":""},{"$f":"IFERROR(INDEX(INDEX(MVs!$B:$B, INDEX(MVs!$V$2:$Z$4, 2, MATCH(AS$38, MVs!$V$2:$Z$2, 0))):INDEX(MVs!$U:$U, INDEX(mvLookupTable, 3, MATCH(AS$38, MVs!$V$2:$Z$2, 0))), MATCH(AS$2, INDEX(MVs!$B:$B, INDEX(MVs!$V$2:$Z$4, 2, MATCH(AS$38, MVs!$V$2:$Z$2, 0))):INDEX(MVs!$B:$B, INDEX(MVs!$V$2:$Z$4, 3, MATCH(AS$38, MVs!$V$2:$Z$2, 0))), 0), 17),\"\")","v":""},{"$f":"IFERROR(INDEX(INDEX(MVs!$B:$B, INDEX(MVs!$V$2:$Z$4, 2, MATCH(AT$38, MVs!$V$2:$Z$2, 0))):INDEX(MVs!$U:$U, INDEX(mvLookupTable, 3, MATCH(AT$38, MVs!$V$2:$Z$2, 0))), MATCH(AT$2, INDEX(MVs!$B:$B, INDEX(MVs!$V$2:$Z$4, 2, MATCH(AT$38, MVs!$V$2:$Z$2, 0))):INDEX(MVs!$B:$B, INDEX(MVs!$V$2:$Z$4, 3, MATCH(AT$38, MVs!$V$2:$Z$2, 0))), 0), 17),\"\")","v":""},{"$f":"IFERROR(INDEX(INDEX(MVs!$B:$B, INDEX(MVs!$V$2:$Z$4, 2, MATCH(AU$38, MVs!$V$2:$Z$2, 0))):INDEX(MVs!$U:$U, INDEX(mvLookupTable, 3, MATCH(AU$38, MVs!$V$2:$Z$2, 0))), MATCH(AU$2, INDEX(MVs!$B:$B, INDEX(MVs!$V$2:$Z$4, 2, MATCH(AU$38, MVs!$V$2:$Z$2, 0))):INDEX(MVs!$B:$B, INDEX(MVs!$V$2:$Z$4, 3, MATCH(AU$38, MVs!$V$2:$Z$2, 0))), 0), 17),\"\")","v":""},{"$f":"IFERROR(INDEX(INDEX(MVs!$B:$B, INDEX(MVs!$V$2:$Z$4, 2, MATCH(AV$38, MVs!$V$2:$Z$2, 0))):INDEX(MVs!$U:$U, INDEX(mvLookupTable, 3, MATCH(AV$38, MVs!$V$2:$Z$2, 0))), MATCH(AV$2, INDEX(MVs!$B:$B, INDEX(MVs!$V$2:$Z$4, 2, MATCH(AV$38, MVs!$V$2:$Z$2, 0))):INDEX(MVs!$B:$B, INDEX(MVs!$V$2:$Z$4, 3, MATCH(AV$38, MVs!$V$2:$Z$2, 0))), 0), 17),\"\")","v":""},{"$f":"IFERROR(INDEX(INDEX(MVs!$B:$B, INDEX(MVs!$V$2:$Z$4, 2, MATCH(AW$38, MVs!$V$2:$Z$2, 0))):INDEX(MVs!$U:$U, INDEX(mvLookupTable, 3, MATCH(AW$38, MVs!$V$2:$Z$2, 0))), MATCH(AW$2, INDEX(MVs!$B:$B, INDEX(MVs!$V$2:$Z$4, 2, MATCH(AW$38, MVs!$V$2:$Z$2, 0))):INDEX(MVs!$B:$B, INDEX(MVs!$V$2:$Z$4, 3, MATCH(AW$38, MVs!$V$2:$Z$2, 0))), 0), 17),\"\")","v":""},{"$f":"IFERROR(INDEX(INDEX(MVs!$B:$B, INDEX(MVs!$V$2:$Z$4, 2, MATCH(AX$38, MVs!$V$2:$Z$2, 0))):INDEX(MVs!$U:$U, INDEX(mvLookupTable, 3, MATCH(AX$38, MVs!$V$2:$Z$2, 0))), MATCH(AX$2, INDEX(MVs!$B:$B, INDEX(MVs!$V$2:$Z$4, 2, MATCH(AX$38, MVs!$V$2:$Z$2, 0))):INDEX(MVs!$B:$B, INDEX(MVs!$V$2:$Z$4, 3, MATCH(AX$38, MVs!$V$2:$Z$2, 0))), 0), 17),\"\")","v":""},{"$f":"IFERROR(INDEX(INDEX(MVs!$B:$B, INDEX(MVs!$V$2:$Z$4, 2, MATCH(AY$38, MVs!$V$2:$Z$2, 0))):INDEX(MVs!$U:$U, INDEX(mvLookupTable, 3, MATCH(AY$38, MVs!$V$2:$Z$2, 0))), MATCH(AY$2, INDEX(MVs!$B:$B, INDEX(MVs!$V$2:$Z$4, 2, MATCH(AY$38, MVs!$V$2:$Z$2, 0))):INDEX(MVs!$B:$B, INDEX(MVs!$V$2:$Z$4, 3, MATCH(AY$38, MVs!$V$2:$Z$2, 0))), 0), 17),\"\")","v":""},{"$f":"IFERROR(INDEX(INDEX(MVs!$B:$B, INDEX(MVs!$V$2:$Z$4, 2, MATCH(AZ$38, MVs!$V$2:$Z$2, 0))):INDEX(MVs!$U:$U, INDEX(mvLookupTable, 3, MATCH(AZ$38, MVs!$V$2:$Z$2, 0))), MATCH(AZ$2, INDEX(MVs!$B:$B, INDEX(MVs!$V$2:$Z$4, 2, MATCH(AZ$38, MVs!$V$2:$Z$2, 0))):INDEX(MVs!$B:$B, INDEX(MVs!$V$2:$Z$4, 3, MATCH(AZ$38, MVs!$V$2:$Z$2, 0))), 0), 17),\"\")","v":""},{"$f":"IFERROR(INDEX(INDEX(MVs!$B:$B, INDEX(MVs!$V$2:$Z$4, 2, MATCH(BA$38, MVs!$V$2:$Z$2, 0))):INDEX(MVs!$U:$U, INDEX(mvLookupTable, 3, MATCH(BA$38, MVs!$V$2:$Z$2, 0))), MATCH(BA$2, INDEX(MVs!$B:$B, INDEX(MVs!$V$2:$Z$4, 2, MATCH(BA$38, MVs!$V$2:$Z$2, 0))):INDEX(MVs!$B:$B, INDEX(MVs!$V$2:$Z$4, 3, MATCH(BA$38, MVs!$V$2:$Z$2, 0))), 0), 17),\"\")","v":""},{"$f":"IFERROR(INDEX(INDEX(MVs!$B:$B, INDEX(MVs!$V$2:$Z$4, 2, MATCH(BB$38, MVs!$V$2:$Z$2, 0))):INDEX(MVs!$U:$U, INDEX(mvLookupTable, 3, MATCH(BB$38, MVs!$V$2:$Z$2, 0))), MATCH(BB$2, INDEX(MVs!$B:$B, INDEX(MVs!$V$2:$Z$4, 2, MATCH(BB$38, MVs!$V$2:$Z$2, 0))):INDEX(MVs!$B:$B, INDEX(MVs!$V$2:$Z$4, 3, MATCH(BB$38, MVs!$V$2:$Z$2, 0))), 0), 17),\"\")","v":""},{"$f":"IFERROR(INDEX(INDEX(MVs!$B:$B, INDEX(MVs!$V$2:$Z$4, 2, MATCH(BC$38, MVs!$V$2:$Z$2, 0))):INDEX(MVs!$U:$U, INDEX(mvLookupTable, 3, MATCH(BC$38, MVs!$V$2:$Z$2, 0))), MATCH(BC$2, INDEX(MVs!$B:$B, INDEX(MVs!$V$2:$Z$4, 2, MATCH(BC$38, MVs!$V$2:$Z$2, 0))):INDEX(MVs!$B:$B, INDEX(MVs!$V$2:$Z$4, 3, MATCH(BC$38, MVs!$V$2:$Z$2, 0))), 0), 17),\"\")","v":""},{"$f":"IFERROR(INDEX(INDEX(MVs!$B:$B, INDEX(MVs!$V$2:$Z$4, 2, MATCH(BD$38, MVs!$V$2:$Z$2, 0))):INDEX(MVs!$U:$U, INDEX(mvLookupTable, 3, MATCH(BD$38, MVs!$V$2:$Z$2, 0))), MATCH(BD$2, INDEX(MVs!$B:$B, INDEX(MVs!$V$2:$Z$4, 2, MATCH(BD$38, MVs!$V$2:$Z$2, 0))):INDEX(MVs!$B:$B, INDEX(MVs!$V$2:$Z$4, 3, MATCH(BD$38, MVs!$V$2:$Z$2, 0))), 0), 17),\"\")","v":""},{"$f":"IFERROR(INDEX(INDEX(MVs!$B:$B, INDEX(MVs!$V$2:$Z$4, 2, MATCH(BE$38, MVs!$V$2:$Z$2, 0))):INDEX(MVs!$U:$U, INDEX(mvLookupTable, 3, MATCH(BE$38, MVs!$V$2:$Z$2, 0))), MATCH(BE$2, INDEX(MVs!$B:$B, INDEX(MVs!$V$2:$Z$4, 2, MATCH(BE$38, MVs!$V$2:$Z$2, 0))):INDEX(MVs!$B:$B, INDEX(MVs!$V$2:$Z$4, 3, MATCH(BE$38, MVs!$V$2:$Z$2, 0))), 0), 17),\"\")","v":""},{"$f":"IFERROR(INDEX(INDEX(MVs!$B:$B, INDEX(MVs!$V$2:$Z$4, 2, MATCH(BF$38, MVs!$V$2:$Z$2, 0))):INDEX(MVs!$U:$U, INDEX(mvLookupTable, 3, MATCH(BF$38, MVs!$V$2:$Z$2, 0))), MATCH(BF$2, INDEX(MVs!$B:$B, INDEX(MVs!$V$2:$Z$4, 2, MATCH(BF$38, MVs!$V$2:$Z$2, 0))):INDEX(MVs!$B:$B, INDEX(MVs!$V$2:$Z$4, 3, MATCH(BF$38, MVs!$V$2:$Z$2, 0))), 0), 17),\"\")","v":""}]
["Scaling Talent",{"$f":"IFERROR(INDEX(INDEX(MVs!$B:$B, INDEX(MVs!$V$2:$Z$4, 2, MATCH(B$38, MVs!$V$2:$Z$2, 0))):INDEX(MVs!$U:$U, INDEX(mvLookupTable, 3, MATCH(B$38, MVs!$V$2:$Z$2, 0))), MATCH(B$2, INDEX(MVs!$B:$B, INDEX(MVs!$V$2:$Z$4, 2, MATCH(B$38, MVs!$V$2:$Z$2, 0))):INDEX(MVs!$B:$B, INDEX(MVs!$V$2:$Z$4, 3, MATCH(B$38, MVs!$V$2:$Z$2, 0))), 0), 18),\"\")","v":"Skill"},{"$f":"IFERROR(INDEX(INDEX(MVs!$B:$B, INDEX(MVs!$V$2:$Z$4, 2, MATCH(C$38, MVs!$V$2:$Z$2, 0))):INDEX(MVs!$U:$U, INDEX(mvLookupTable, 3, MATCH(C$38, MVs!$V$2:$Z$2, 0))), MATCH(C$2, INDEX(MVs!$B:$B, INDEX(MVs!$V$2:$Z$4, 2, MATCH(C$38, MVs!$V$2:$Z$2, 0))):INDEX(MVs!$B:$B, INDEX(MVs!$V$2:$Z$4, 3, MATCH(C$38, MVs!$V$2:$Z$2, 0))), 0), 18),\"\")","v":"Skill"},{"$f":"IFERROR(INDEX(INDEX(MVs!$B:$B, INDEX(MVs!$V$2:$Z$4, 2, MATCH(D$38, MVs!$V$2:$Z$2, 0))):INDEX(MVs!$U:$U, INDEX(mvLookupTable, 3, MATCH(D$38, MVs!$V$2:$Z$2, 0))), MATCH(D$2, INDEX(MVs!$B:$B, INDEX(MVs!$V$2:$Z$4, 2, MATCH(D$38, MVs!$V$2:$Z$2, 0))):INDEX(MVs!$B:$B, INDEX(MVs!$V$2:$Z$4, 3, MATCH(D$38, MVs!$V$2:$Z$2, 0))), 0), 18),\"\")","v":"Skill"},{"$f":"IFERROR(INDEX(INDEX(MVs!$B:$B, INDEX(MVs!$V$2:$Z$4, 2, MATCH(E$38, MVs!$V$2:$Z$2, 0))):INDEX(MVs!$U:$U, INDEX(mvLookupTable, 3, MATCH(E$38, MVs!$V$2:$Z$2, 0))), MATCH(E$2, INDEX(MVs!$B:$B, INDEX(MVs!$V$2:$Z$4, 2, MATCH(E$38, MVs!$V$2:$Z$2, 0))):INDEX(MVs!$B:$B, INDEX(MVs!$V$2:$Z$4, 3, MATCH(E$38, MVs!$V$2:$Z$2, 0))), 0), 18),\"\")","v":"Burst"},{"$f":"IFERROR(INDEX(INDEX(MVs!$B:$B, INDEX(MVs!$V$2:$Z$4, 2, MATCH(F$38, MVs!$V$2:$Z$2, 0))):INDEX(MVs!$U:$U, INDEX(mvLookupTable, 3, MATCH(F$38, MVs!$V$2:$Z$2, 0))), MATCH(F$2, INDEX(MVs!$B:$B, INDEX(MVs!$V$2:$Z$4, 2, MATCH(F$38, MVs!$V$2:$Z$2, 0))):INDEX(MVs!$B:$B, INDEX(MVs!$V$2:$Z$4, 3, MATCH(F$38, MVs!$V$2:$Z$2, 0))), 0), 18),\"\")","v":"Burst"},{"$f":"IFERROR(INDEX(INDEX(MVs!$B:$B, INDEX(MVs!$V$2:$Z$4, 2, MATCH(G$38, MVs!$V$2:$Z$2, 0))):INDEX(MVs!$U:$U, INDEX(mvLookupTable, 3, MATCH(G$38, MVs!$V$2:$Z$2, 0))), MATCH(G$2, INDEX(MVs!$B:$B, INDEX(MVs!$V$2:$Z$4, 2, MATCH(G$38, MVs!$V$2:$Z$2, 0))):INDEX(MVs!$B:$B, INDEX(MVs!$V$2:$Z$4, 3, MATCH(G$38, MVs!$V$2:$Z$2, 0))), 0), 18),\"\")","v":"Burst"},{"$f":"IFERROR(INDEX(INDEX(MVs!$B:$B, INDEX(MVs!$V$2:$Z$4, 2, MATCH(H$38, MVs!$V$2:$Z$2, 0))):INDEX(MVs!$U:$U, INDEX(mvLookupTable, 3, MATCH(H$38, MVs!$V$2:$Z$2, 0))), MATCH(H$2, INDEX(MVs!$B:$B, INDEX(MVs!$V$2:$Z$4, 2, MATCH(H$38, MVs!$V$2:$Z$2, 0))):INDEX(MVs!$B:$B, INDEX(MVs!$V$2:$Z$4, 3, MATCH(H$38, MVs!$V$2:$Z$2, 0))), 0), 18),\"\")","v":"Burst"},{"$f":"IFERROR(INDEX(INDEX(MVs!$B:$B, INDEX(MVs!$V$2:$Z$4, 2, MATCH(I$38, MVs!$V$2:$Z$2, 0))):INDEX(MVs!$U:$U, INDEX(mvLookupTable, 3, MATCH(I$38, MVs!$V$2:$Z$2, 0))), MATCH(I$2, INDEX(MVs!$B:$B, INDEX(MVs!$V$2:$Z$4, 2, MATCH(I$38, MVs!$V$2:$Z$2, 0))):INDEX(MVs!$B:$B, INDEX(MVs!$V$2:$Z$4, 3, MATCH(I$38, MVs!$V$2:$Z$2, 0))), 0), 18),\"\")","v":"Burst"},{"$f":"IFERROR(INDEX(INDEX(MVs!$B:$B, INDEX(MVs!$V$2:$Z$4, 2, MATCH(J$38, MVs!$V$2:$Z$2, 0))):INDEX(MVs!$U:$U, INDEX(mvLookupTable, 3, MATCH(J$38, MVs!$V$2:$Z$2, 0))), MATCH(J$2, INDEX(MVs!$B:$B, INDEX(MVs!$V$2:$Z$4, 2, MATCH(J$38, MVs!$V$2:$Z$2, 0))):INDEX(MVs!$B:$B, INDEX(MVs!$V$2:$Z$4, 3, MATCH(J$38, MVs!$V$2:$Z$2, 0))), 0), 18),\"\")","v":"Normal"},{"$f":"IFERROR(INDEX(INDEX(MVs!$B:$B, INDEX(MVs!$V$2:$Z$4, 2, MATCH(K$38, MVs!$V$2:$Z$2, 0))):INDEX(MVs!$U:$U, INDEX(mvLookupTable, 3, MATCH(K$38, MVs!$V$2:$Z$2, 0))), MATCH(K$2, INDEX(MVs!$B:$B, INDEX(MVs!$V$2:$Z$4, 2, MATCH(K$38, MVs!$V$2:$Z$2, 0))):INDEX(MVs!$B:$B, INDEX(MVs!$V$2:$Z$4, 3, MATCH(K$38, MVs!$V$2:$Z$2, 0))), 0), 18),\"\")","v":"Skill"},{"$f":"IFERROR(INDEX(INDEX(MVs!$B:$B, INDEX(MVs!$V$2:$Z$4, 2, MATCH(L$38, MVs!$V$2:$Z$2, 0))):INDEX(MVs!$U:$U, INDEX(mvLookupTable, 3, MATCH(L$38, MVs!$V$2:$Z$2, 0))), MATCH(L$2, INDEX(MVs!$B:$B, INDEX(MVs!$V$2:$Z$4, 2, MATCH(L$38, MVs!$V$2:$Z$2, 0))):INDEX(MVs!$B:$B, INDEX(MVs!$V$2:$Z$4, 3, MATCH(L$38, MVs!$V$2:$Z$2, 0))), 0), 18),\"\")","v":"Normal"},{"$f":"IFERROR(INDEX(INDEX(MVs!$B:$B, INDEX(MVs!$V$2:$Z$4, 2, MATCH(M$38, MVs!$V$2:$Z$2, 0))):INDEX(MVs!$U:$U, INDEX(mvLookupTable, 3, MATCH(M$38, MVs!$V$2:$Z$2, 0))), MATCH(M$2, INDEX(MVs!$B:$B, INDEX(MVs!$V$2:$Z$4, 2, MATCH(M$38, MVs!$V$2:$Z$2, 0))):INDEX(MVs!$B:$B, INDEX(MVs!$V$2:$Z$4, 3, MATCH(M$38, MVs!$V$2:$Z$2, 0))), 0), 18),\"\")","v":"Normal"},{"$f":"IFERROR(INDEX(INDEX(MVs!$B:$B, INDEX(MVs!$V$2:$Z$4, 2, MATCH(N$38, MVs!$V$2:$Z$2, 0))):INDEX(MVs!$U:$U, INDEX(mvLookupTable, 3, MATCH(N$38, MVs!$V$2:$Z$2, 0))), MATCH(N$2, INDEX(MVs!$B:$B, INDEX(MVs!$V$2:$Z$4, 2, MATCH(N$38, MVs!$V$2:$Z$2, 0))):INDEX(MVs!$B:$B, INDEX(MVs!$V$2:$Z$4, 3, MATCH(N$38, MVs!$V$2:$Z$2, 0))), 0), 18),\"\")","v":"Skill"},{"$f":"IFERROR(INDEX(INDEX(MVs!$B:$B, INDEX(MVs!$V$2:$Z$4, 2, MATCH(O$38, MVs!$V$2:$Z$2, 0))):INDEX(MVs!$U:$U, INDEX(mvLookupTable, 3, MATCH(O$38, MVs!$V$2:$Z$2, 0))), MATCH(O$2, INDEX(MVs!$B:$B, INDEX(MVs!$V$2:$Z$4, 2, MATCH(O$38, MVs!$V$2:$Z$2, 0))):INDEX(MVs!$B:$B, INDEX(MVs!$V$2:$Z$4, 3, MATCH(O$38, MVs!$V$2:$Z$2, 0))), 0), 18),\"\")","v":"Normal"},{"$f":"IFERROR(INDEX(INDEX(MVs!$B:$B, INDEX(MVs!$V$2:$Z$4, 2, MATCH(P$38, MVs!$V$2:$Z$2, 0))):INDEX(MVs!$U:$U, INDEX(mvLookupTable, 3, MATCH(P$38, MVs!$V$2:$Z$2, 0))), MATCH(P$2, INDEX(MVs!$B:$B, INDEX(MVs!$V$2:$Z$4, 2, MATCH(P$38, MVs!$V$2:$Z$2, 0))):INDEX(MVs!$B:$B, INDEX(MVs!$V$2:$Z$4, 3, MATCH(P$38, MVs!$V$2:$Z$2, 0))), 0), 18),\"\")","v":"Normal"},{"$f":"IFERROR(INDEX(INDEX(MVs!$B:$B, INDEX(MVs!$V$2:$Z$4, 2, MATCH(Q$38, MVs!$V$2:$Z$2, 0))):INDEX(MVs!$U:$U, INDEX(mvLookupTable, 3, MATCH(Q$38, MVs!$V$2:$Z$2, 0))), MATCH(Q$2, INDEX(MVs!$B:$B, INDEX(MVs!$V$2:$Z$4, 2, MATCH(Q$38, MVs!$V$2:$Z$2, 0))):INDEX(MVs!$B:$B, INDEX(MVs!$V$2:$Z$4, 3, MATCH(Q$38, MVs!$V$2:$Z$2, 0))), 0), 18),\"\")","v":"Skill"},{"$f":"IFERROR(INDEX(INDEX(MVs!$B:$B, INDEX(MVs!$V$2:$Z$4, 2, MATCH(R$38, MVs!$V$2:$Z$2, 0))):INDEX(MVs!$U:$U, INDEX(mvLookupTable, 3, MATCH(R$38, MVs!$V$2:$Z$2, 0))), MATCH(R$2, INDEX(MVs!$B:$B, INDEX(MVs!$V$2:$Z$4, 2, MATCH(R$38, MVs!$V$2:$Z$2, 0))):INDEX(MVs!$B:$B, INDEX(MVs!$V$2:$Z$4, 3, MATCH(R$38, MVs!$V$2:$Z$2, 0))), 0), 18),\"\")","v":"Normal"},{"$f":"IFERROR(INDEX(INDEX(MVs!$B:$B, INDEX(MVs!$V$2:$Z$4, 2, MATCH(S$38, MVs!$V$2:$Z$2, 0))):INDEX(MVs!$U:$U, INDEX(mvLookupTable, 3, MATCH(S$38, MVs!$V$2:$Z$2, 0))), MATCH(S$2, INDEX(MVs!$B:$B, INDEX(MVs!$V$2:$Z$4, 2, MATCH(S$38, MVs!$V$2:$Z$2, 0))):INDEX(MVs!$B:$B, INDEX(MVs!$V$2:$Z$4, 3, MATCH(S$38, MVs!$V$2:$Z$2, 0))), 0), 18),\"\")","v":"Normal"},{"$f":"IFERROR(INDEX(INDEX(MVs!$B:$B, INDEX(MVs!$V$2:$Z$4, 2, MATCH(T$38, MVs!$V$2:$Z$2, 0))):INDEX(MVs!$U:$U, INDEX(mvLookupTable, 3, MATCH(T$38, MVs!$V$2:$Z$2, 0))), MATCH(T$2, INDEX(MVs!$B:$B, INDEX(MVs!$V$2:$Z$4, 2, MATCH(T$38, MVs!$V$2:$Z$2, 0))):INDEX(MVs!$B:$B, INDEX(MVs!$V$2:$Z$4, 3, MATCH(T$38, MVs!$V$2:$Z$2, 0))), 0), 18),\"\")","v":"Normal"},{"$f":"IFERROR(INDEX(INDEX(MVs!$B:$B, INDEX(MVs!$V$2:$Z$4, 2, MATCH(U$38, MVs!$V$2:$Z$2, 0))):INDEX(MVs!$U:$U, INDEX(mvLookupTable, 3, MATCH(U$38, MVs!$V$2:$Z$2, 0))), MATCH(U$2, INDEX(MVs!$B:$B, INDEX(MVs!$V$2:$Z$4, 2, MATCH(U$38, MVs!$V$2:$Z$2, 0))):INDEX(MVs!$B:$B, INDEX(MVs!$V$2:$Z$4, 3, MATCH(U$38, MVs!$V$2:$Z$2, 0))), 0), 18),\"\")","v":"Normal"},null,{"$f":"IFERROR(INDEX(INDEX(MVs!$B:$B, INDEX(MVs!$V$2:$Z$4, 2, MATCH(W$38, MVs!$V$2:$Z$2, 0))):INDEX(MVs!$U:$U, INDEX(mvLookupTable, 3, MATCH(W$38, MVs!$V$2:$Z$2, 0))), MATCH(W$2, INDEX(MVs!$B:$B, INDEX(MVs!$V$2:$Z$4, 2, MATCH(W$38, MVs!$V$2:$Z$2, 0))):INDEX(MVs!$B:$B, INDEX(MVs!$V$2:$Z$4, 3, MATCH(W$38, MVs!$V$2:$Z$2, 0))), 0), 18),\"\")","v":"Normal"},{"$f":"IFERROR(INDEX(INDEX(MVs!$B:$B, INDEX(MVs!$V$2:$Z$4, 2, MATCH(X$38, MVs!$V$2:$Z$2, 0))):INDEX(MVs!$U:$U, INDEX(mvLookupTable, 3, MATCH(X$38, MVs!$V$2:$Z$2, 0))), MATCH(X$2, INDEX(MVs!$B:$B, INDEX(MVs!$V$2:$Z$4, 2, MATCH(X$38, MVs!$V$2:$Z$2, 0))):INDEX(MVs!$B:$B, INDEX(MVs!$V$2:$Z$4, 3, MATCH(X$38, MVs!$V$2:$Z$2, 0))), 0), 18),\"\")","v":"Skill"},{"$f":"IFERROR(INDEX(INDEX(MVs!$B:$B, INDEX(MVs!$V$2:$Z$4, 2, MATCH(Y$38, MVs!$V$2:$Z$2, 0))):INDEX(MVs!$U:$U, INDEX(mvLookupTable, 3, MATCH(Y$38, MVs!$V$2:$Z$2, 0))), MATCH(Y$2, INDEX(MVs!$B:$B, INDEX(MVs!$V$2:$Z$4, 2, MATCH(Y$38, MVs!$V$2:$Z$2, 0))):INDEX(MVs!$B:$B, INDEX(MVs!$V$2:$Z$4, 3, MATCH(Y$38, MVs!$V$2:$Z$2, 0))), 0), 18),\"\")","v":"Skill"},{"$f":"IFERROR(INDEX(INDEX(MVs!$B:$B, INDEX(MVs!$V$2:$Z$4, 2, MATCH(Z$38, MVs!$V$2:$Z$2, 0))):INDEX(MVs!$U:$U, INDEX(mvLookupTable, 3, MATCH(Z$38, MVs!$V$2:$Z$2, 0))), MATCH(Z$2, INDEX(MVs!$B:$B, INDEX(MVs!$V$2:$Z$4, 2, MATCH(Z$38, MVs!$V$2:$Z$2, 0))):INDEX(MVs!$B:$B, INDEX(MVs!$V$2:$Z$4, 3, MATCH(Z$38, MVs!$V$2:$Z$2, 0))), 0), 18),\"\")","v":"Skill"},{"$f":"IFERROR(INDEX(INDEX(MVs!$B:$B, INDEX(MVs!$V$2:$Z$4, 2, MATCH(AA$38, MVs!$V$2:$Z$2, 0))):INDEX(MVs!$U:$U, INDEX(mvLookupTable, 3, MATCH(AA$38, MVs!$V$2:$Z$2, 0))), MATCH(AA$2, INDEX(MVs!$B:$B, INDEX(MVs!$V$2:$Z$4, 2, MATCH(AA$38, MVs!$V$2:$Z$2, 0))):INDEX(MVs!$B:$B, INDEX(MVs!$V$2:$Z$4, 3, MATCH(AA$38, MVs!$V$2:$Z$2, 0))), 0), 18),\"\")","v":"Skill"},{"$f":"IFERROR(INDEX(INDEX(MVs!$B:$B, INDEX(MVs!$V$2:$Z$4, 2, MATCH(AB$38, MVs!$V$2:$Z$2, 0))):INDEX(MVs!$U:$U, INDEX(mvLookupTable, 3, MATCH(AB$38, MVs!$V$2:$Z$2, 0))), MATCH(AB$2, INDEX(MVs!$B:$B, INDEX(MVs!$V$2:$Z$4, 2, MATCH(AB$38, MVs!$V$2:$Z$2, 0))):INDEX(MVs!$B:$B, INDEX(MVs!$V$2:$Z$4, 3, MATCH(AB$38, MVs!$V$2:$Z$2, 0))), 0), 18),\"\")","v":"Normal"},{"$f":"IFERROR(INDEX(INDEX(MVs!$B:$B, INDEX(MVs!$V$2:$Z$4, 2, MATCH(AC$38, MVs!$V$2:$Z$2, 0))):INDEX(MVs!$U:$U, INDEX(mvLookupTable, 3, MATCH(AC$38, MVs!$V$2:$Z$2, 0))), MATCH(AC$2, INDEX(MVs!$B:$B, INDEX(MVs!$V$2:$Z$4, 2, MATCH(AC$38, MVs!$V$2:$Z$2, 0))):INDEX(MVs!$B:$B, INDEX(MVs!$V$2:$Z$4, 3, MATCH(AC$38, MVs!$V$2:$Z$2, 0))), 0), 18),\"\")","v":"Normal"},{"$f":"IFERROR(INDEX(INDEX(MVs!$B:$B, INDEX(MVs!$V$2:$Z$4, 2, MATCH(AD$38, MVs!$V$2:$Z$2, 0))):INDEX(MVs!$U:$U, INDEX(mvLookupTable, 3, MATCH(AD$38, MVs!$V$2:$Z$2, 0))), MATCH(AD$2, INDEX(MVs!$B:$B, INDEX(MVs!$V$2:$Z$4, 2, MATCH(AD$38, MVs!$V$2:$Z$2, 0))):INDEX(MVs!$B:$B, INDEX(MVs!$V$2:$Z$4, 3, MATCH(AD$38, MVs!$V$2:$Z$2, 0))), 0), 18),\"\")","v":"Burst"},{"$f":"IFERROR(INDEX(INDEX(MVs!$B:$B, INDEX(MVs!$V$2:$Z$4, 2, MATCH(AE$38, MVs!$V$2:$Z$2, 0))):INDEX(MVs!$U:$U, INDEX(mvLookupTable, 3, MATCH(AE$38, MVs!$V$2:$Z$2, 0))), MATCH(AE$2, INDEX(MVs!$B:$B, INDEX(MVs!$V$2:$Z$4, 2, MATCH(AE$38, MVs!$V$2:$Z$2, 0))):INDEX(MVs!$B:$B, INDEX(MVs!$V$2:$Z$4, 3, MATCH(AE$38, MVs!$V$2:$Z$2, 0))), 0), 18),\"\")","v":"Normal"},{"$f":"IFERROR(INDEX(INDEX(MVs!$B:$B, INDEX(MVs!$V$2:$Z$4, 2, MATCH(AF$38, MVs!$V$2:$Z$2, 0))):INDEX(MVs!$U:$U, INDEX(mvLookupTable, 3, MATCH(AF$38, MVs!$V$2:$Z$2, 0))), MATCH(AF$2, INDEX(MVs!$B:$B, INDEX(MVs!$V$2:$Z$4, 2, MATCH(AF$38, MVs!$V$2:$Z$2, 0))):INDEX(MVs!$B:$B, INDEX(MVs!$V$2:$Z$4, 3, MATCH(AF$38, MVs!$V$2:$Z$2, 0))), 0), 18),\"\")","v":""},{"$f":"IFERROR(INDEX(INDEX(MVs!$B:$B, INDEX(MVs!$V$2:$Z$4, 2, MATCH(AG$38, MVs!$V$2:$Z$2, 0))):INDEX(MVs!$U:$U, INDEX(mvLookupTable, 3, MATCH(AG$38, MVs!$V$2:$Z$2, 0))), MATCH(AG$2, INDEX(MVs!$B:$B, INDEX(MVs!$V$2:$Z$4, 2, MATCH(AG$38, MVs!$V$2:$Z$2, 0))):INDEX(MVs!$B:$B, INDEX(MVs!$V$2:$Z$4, 3, MATCH(AG$38, MVs!$V$2:$Z$2, 0))), 0), 18),\"\")","v":""},{"$f":"IFERROR(INDEX(INDEX(MVs!$B:$B, INDEX(MVs!$V$2:$Z$4, 2, MATCH(AH$38, MVs!$V$2:$Z$2, 0))):INDEX(MVs!$U:$U, INDEX(mvLookupTable, 3, MATCH(AH$38, MVs!$V$2:$Z$2, 0))), MATCH(AH$2, INDEX(MVs!$B:$B, INDEX(MVs!$V$2:$Z$4, 2, MATCH(AH$38, MVs!$V$2:$Z$2, 0))):INDEX(MVs!$B:$B, INDEX(MVs!$V$2:$Z$4, 3, MATCH(AH$38, MVs!$V$2:$Z$2, 0))), 0), 18),\"\")","v":""},{"$f":"IFERROR(INDEX(INDEX(MVs!$B:$B, INDEX(MVs!$V$2:$Z$4, 2, MATCH(AI$38, MVs!$V$2:$Z$2, 0))):INDEX(MVs!$U:$U, INDEX(mvLookupTable, 3, MATCH(AI$38, MVs!$V$2:$Z$2, 0))), MATCH(AI$2, INDEX(MVs!$B:$B, INDEX(MVs!$V$2:$Z$4, 2, MATCH(AI$38, MVs!$V$2:$Z$2, 0))):INDEX(MVs!$B:$B, INDEX(MVs!$V$2:$Z$4, 3, MATCH(AI$38, MVs!$V$2:$Z$2, 0))), 0), 18),\"\")","v":""},{"$f":"IFERROR(INDEX(INDEX(MVs!$B:$B, INDEX(MVs!$V$2:$Z$4, 2, MATCH(AJ$38, MVs!$V$2:$Z$2, 0))):INDEX(MVs!$U:$U, INDEX(mvLookupTable, 3, MATCH(AJ$38, MVs!$V$2:$Z$2, 0))), MATCH(AJ$2, INDEX(MVs!$B:$B, INDEX(MVs!$V$2:$Z$4, 2, MATCH(AJ$38, MVs!$V$2:$Z$2, 0))):INDEX(MVs!$B:$B, INDEX(MVs!$V$2:$Z$4, 3, MATCH(AJ$38, MVs!$V$2:$Z$2, 0))), 0), 18),\"\")","v":""},{"$f":"IFERROR(INDEX(INDEX(MVs!$B:$B, INDEX(MVs!$V$2:$Z$4, 2, MATCH(AK$38, MVs!$V$2:$Z$2, 0))):INDEX(MVs!$U:$U, INDEX(mvLookupTable, 3, MATCH(AK$38, MVs!$V$2:$Z$2, 0))), MATCH(AK$2, INDEX(MVs!$B:$B, INDEX(MVs!$V$2:$Z$4, 2, MATCH(AK$38, MVs!$V$2:$Z$2, 0))):INDEX(MVs!$B:$B, INDEX(MVs!$V$2:$Z$4, 3, MATCH(AK$38, MVs!$V$2:$Z$2, 0))), 0), 18),\"\")","v":""},{"$f":"IFERROR(INDEX(INDEX(MVs!$B:$B, INDEX(MVs!$V$2:$Z$4, 2, MATCH(AL$38, MVs!$V$2:$Z$2, 0))):INDEX(MVs!$U:$U, INDEX(mvLookupTable, 3, MATCH(AL$38, MVs!$V$2:$Z$2, 0))), MATCH(AL$2, INDEX(MVs!$B:$B, INDEX(MVs!$V$2:$Z$4, 2, MATCH(AL$38, MVs!$V$2:$Z$2, 0))):INDEX(MVs!$B:$B, INDEX(MVs!$V$2:$Z$4, 3, MATCH(AL$38, MVs!$V$2:$Z$2, 0))), 0), 18),\"\")","v":""},{"$f":"IFERROR(INDEX(INDEX(MVs!$B:$B, INDEX(MVs!$V$2:$Z$4, 2, MATCH(AM$38, MVs!$V$2:$Z$2, 0))):INDEX(MVs!$U:$U, INDEX(mvLookupTable, 3, MATCH(AM$38, MVs!$V$2:$Z$2, 0))), MATCH(AM$2, INDEX(MVs!$B:$B, INDEX(MVs!$V$2:$Z$4, 2, MATCH(AM$38, MVs!$V$2:$Z$2, 0))):INDEX(MVs!$B:$B, INDEX(MVs!$V$2:$Z$4, 3, MATCH(AM$38, MVs!$V$2:$Z$2, 0))), 0), 18),\"\")","v":""},{"$f":"IFERROR(INDEX(INDEX(MVs!$B:$B, INDEX(MVs!$V$2:$Z$4, 2, MATCH(AN$38, MVs!$V$2:$Z$2, 0))):INDEX(MVs!$U:$U, INDEX(mvLookupTable, 3, MATCH(AN$38, MVs!$V$2:$Z$2, 0))), MATCH(AN$2, INDEX(MVs!$B:$B, INDEX(MVs!$V$2:$Z$4, 2, MATCH(AN$38, MVs!$V$2:$Z$2, 0))):INDEX(MVs!$B:$B, INDEX(MVs!$V$2:$Z$4, 3, MATCH(AN$38, MVs!$V$2:$Z$2, 0))), 0), 18),\"\")","v":""},{"$f":"IFERROR(INDEX(INDEX(MVs!$B:$B, INDEX(MVs!$V$2:$Z$4, 2, MATCH(AO$38, MVs!$V$2:$Z$2, 0))):INDEX(MVs!$U:$U, INDEX(mvLookupTable, 3, MATCH(AO$38, MVs!$V$2:$Z$2, 0))), MATCH(AO$2, INDEX(MVs!$B:$B, INDEX(MVs!$V$2:$Z$4, 2, MATCH(AO$38, MVs!$V$2:$Z$2, 0))):INDEX(MVs!$B:$B, INDEX(MVs!$V$2:$Z$4, 3, MATCH(AO$38, MVs!$V$2:$Z$2, 0))), 0), 18),\"\")","v":""},{"$f":"IFERROR(INDEX(INDEX(MVs!$B:$B, INDEX(MVs!$V$2:$Z$4, 2, MATCH(AP$38, MVs!$V$2:$Z$2, 0))):INDEX(MVs!$U:$U, INDEX(mvLookupTable, 3, MATCH(AP$38, MVs!$V$2:$Z$2, 0))), MATCH(AP$2, INDEX(MVs!$B:$B, INDEX(MVs!$V$2:$Z$4, 2, MATCH(AP$38, MVs!$V$2:$Z$2, 0))):INDEX(MVs!$B:$B, INDEX(MVs!$V$2:$Z$4, 3, MATCH(AP$38, MVs!$V$2:$Z$2, 0))), 0), 18),\"\")","v":""},{"$f":"IFERROR(INDEX(INDEX(MVs!$B:$B, INDEX(MVs!$V$2:$Z$4, 2, MATCH(AQ$38, MVs!$V$2:$Z$2, 0))):INDEX(MVs!$U:$U, INDEX(mvLookupTable, 3, MATCH(AQ$38, MVs!$V$2:$Z$2, 0))), MATCH(AQ$2, INDEX(MVs!$B:$B, INDEX(MVs!$V$2:$Z$4, 2, MATCH(AQ$38, MVs!$V$2:$Z$2, 0))):INDEX(MVs!$B:$B, INDEX(MVs!$V$2:$Z$4, 3, MATCH(AQ$38, MVs!$V$2:$Z$2, 0))), 0), 18),\"\")","v":""},{"$f":"IFERROR(INDEX(INDEX(MVs!$B:$B, INDEX(MVs!$V$2:$Z$4, 2, MATCH(AR$38, MVs!$V$2:$Z$2, 0))):INDEX(MVs!$U:$U, INDEX(mvLookupTable, 3, MATCH(AR$38, MVs!$V$2:$Z$2, 0))), MATCH(AR$2, INDEX(MVs!$B:$B, INDEX(MVs!$V$2:$Z$4, 2, MATCH(AR$38, MVs!$V$2:$Z$2, 0))):INDEX(MVs!$B:$B, INDEX(MVs!$V$2:$Z$4, 3, MATCH(AR$38, MVs!$V$2:$Z$2, 0))), 0), 18),\"\")","v":""},{"$f":"IFERROR(INDEX(INDEX(MVs!$B:$B, INDEX(MVs!$V$2:$Z$4, 2, MATCH(AS$38, MVs!$V$2:$Z$2, 0))):INDEX(MVs!$U:$U, INDEX(mvLookupTable, 3, MATCH(AS$38, MVs!$V$2:$Z$2, 0))), MATCH(AS$2, INDEX(MVs!$B:$B, INDEX(MVs!$V$2:$Z$4, 2, MATCH(AS$38, MVs!$V$2:$Z$2, 0))):INDEX(MVs!$B:$B, INDEX(MVs!$V$2:$Z$4, 3, MATCH(AS$38, MVs!$V$2:$Z$2, 0))), 0), 18),\"\")","v":""},{"$f":"IFERROR(INDEX(INDEX(MVs!$B:$B, INDEX(MVs!$V$2:$Z$4, 2, MATCH(AT$38, MVs!$V$2:$Z$2, 0))):INDEX(MVs!$U:$U, INDEX(mvLookupTable, 3, MATCH(AT$38, MVs!$V$2:$Z$2, 0))), MATCH(AT$2, INDEX(MVs!$B:$B, INDEX(MVs!$V$2:$Z$4, 2, MATCH(AT$38, MVs!$V$2:$Z$2, 0))):INDEX(MVs!$B:$B, INDEX(MVs!$V$2:$Z$4, 3, MATCH(AT$38, MVs!$V$2:$Z$2, 0))), 0), 18),\"\")","v":""},{"$f":"IFERROR(INDEX(INDEX(MVs!$B:$B, INDEX(MVs!$V$2:$Z$4, 2, MATCH(AU$38, MVs!$V$2:$Z$2, 0))):INDEX(MVs!$U:$U, INDEX(mvLookupTable, 3, MATCH(AU$38, MVs!$V$2:$Z$2, 0))), MATCH(AU$2, INDEX(MVs!$B:$B, INDEX(MVs!$V$2:$Z$4, 2, MATCH(AU$38, MVs!$V$2:$Z$2, 0))):INDEX(MVs!$B:$B, INDEX(MVs!$V$2:$Z$4, 3, MATCH(AU$38, MVs!$V$2:$Z$2, 0))), 0), 18),\"\")","v":""},{"$f":"IFERROR(INDEX(INDEX(MVs!$B:$B, INDEX(MVs!$V$2:$Z$4, 2, MATCH(AV$38, MVs!$V$2:$Z$2, 0))):INDEX(MVs!$U:$U, INDEX(mvLookupTable, 3, MATCH(AV$38, MVs!$V$2:$Z$2, 0))), MATCH(AV$2, INDEX(MVs!$B:$B, INDEX(MVs!$V$2:$Z$4, 2, MATCH(AV$38, MVs!$V$2:$Z$2, 0))):INDEX(MVs!$B:$B, INDEX(MVs!$V$2:$Z$4, 3, MATCH(AV$38, MVs!$V$2:$Z$2, 0))), 0), 18),\"\")","v":""},{"$f":"IFERROR(INDEX(INDEX(MVs!$B:$B, INDEX(MVs!$V$2:$Z$4, 2, MATCH(AW$38, MVs!$V$2:$Z$2, 0))):INDEX(MVs!$U:$U, INDEX(mvLookupTable, 3, MATCH(AW$38, MVs!$V$2:$Z$2, 0))), MATCH(AW$2, INDEX(MVs!$B:$B, INDEX(MVs!$V$2:$Z$4, 2, MATCH(AW$38, MVs!$V$2:$Z$2, 0))):INDEX(MVs!$B:$B, INDEX(MVs!$V$2:$Z$4, 3, MATCH(AW$38, MVs!$V$2:$Z$2, 0))), 0), 18),\"\")","v":""},{"$f":"IFERROR(INDEX(INDEX(MVs!$B:$B, INDEX(MVs!$V$2:$Z$4, 2, MATCH(AX$38, MVs!$V$2:$Z$2, 0))):INDEX(MVs!$U:$U, INDEX(mvLookupTable, 3, MATCH(AX$38, MVs!$V$2:$Z$2, 0))), MATCH(AX$2, INDEX(MVs!$B:$B, INDEX(MVs!$V$2:$Z$4, 2, MATCH(AX$38, MVs!$V$2:$Z$2, 0))):INDEX(MVs!$B:$B, INDEX(MVs!$V$2:$Z$4, 3, MATCH(AX$38, MVs!$V$2:$Z$2, 0))), 0), 18),\"\")","v":""},{"$f":"IFERROR(INDEX(INDEX(MVs!$B:$B, INDEX(MVs!$V$2:$Z$4, 2, MATCH(AY$38, MVs!$V$2:$Z$2, 0))):INDEX(MVs!$U:$U, INDEX(mvLookupTable, 3, MATCH(AY$38, MVs!$V$2:$Z$2, 0))), MATCH(AY$2, INDEX(MVs!$B:$B, INDEX(MVs!$V$2:$Z$4, 2, MATCH(AY$38, MVs!$V$2:$Z$2, 0))):INDEX(MVs!$B:$B, INDEX(MVs!$V$2:$Z$4, 3, MATCH(AY$38, MVs!$V$2:$Z$2, 0))), 0), 18),\"\")","v":""},{"$f":"IFERROR(INDEX(INDEX(MVs!$B:$B, INDEX(MVs!$V$2:$Z$4, 2, MATCH(AZ$38, MVs!$V$2:$Z$2, 0))):INDEX(MVs!$U:$U, INDEX(mvLookupTable, 3, MATCH(AZ$38, MVs!$V$2:$Z$2, 0))), MATCH(AZ$2, INDEX(MVs!$B:$B, INDEX(MVs!$V$2:$Z$4, 2, MATCH(AZ$38, MVs!$V$2:$Z$2, 0))):INDEX(MVs!$B:$B, INDEX(MVs!$V$2:$Z$4, 3, MATCH(AZ$38, MVs!$V$2:$Z$2, 0))), 0), 18),\"\")","v":""},{"$f":"IFERROR(INDEX(INDEX(MVs!$B:$B, INDEX(MVs!$V$2:$Z$4, 2, MATCH(BA$38, MVs!$V$2:$Z$2, 0))):INDEX(MVs!$U:$U, INDEX(mvLookupTable, 3, MATCH(BA$38, MVs!$V$2:$Z$2, 0))), MATCH(BA$2, INDEX(MVs!$B:$B, INDEX(MVs!$V$2:$Z$4, 2, MATCH(BA$38, MVs!$V$2:$Z$2, 0))):INDEX(MVs!$B:$B, INDEX(MVs!$V$2:$Z$4, 3, MATCH(BA$38, MVs!$V$2:$Z$2, 0))), 0), 18),\"\")","v":""},{"$f":"IFERROR(INDEX(INDEX(MVs!$B:$B, INDEX(MVs!$V$2:$Z$4, 2, MATCH(BB$38, MVs!$V$2:$Z$2, 0))):INDEX(MVs!$U:$U, INDEX(mvLookupTable, 3, MATCH(BB$38, MVs!$V$2:$Z$2, 0))), MATCH(BB$2, INDEX(MVs!$B:$B, INDEX(MVs!$V$2:$Z$4, 2, MATCH(BB$38, MVs!$V$2:$Z$2, 0))):INDEX(MVs!$B:$B, INDEX(MVs!$V$2:$Z$4, 3, MATCH(BB$38, MVs!$V$2:$Z$2, 0))), 0), 18),\"\")","v":""},{"$f":"IFERROR(INDEX(INDEX(MVs!$B:$B, INDEX(MVs!$V$2:$Z$4, 2, MATCH(BC$38, MVs!$V$2:$Z$2, 0))):INDEX(MVs!$U:$U, INDEX(mvLookupTable, 3, MATCH(BC$38, MVs!$V$2:$Z$2, 0))), MATCH(BC$2, INDEX(MVs!$B:$B, INDEX(MVs!$V$2:$Z$4, 2, MATCH(BC$38, MVs!$V$2:$Z$2, 0))):INDEX(MVs!$B:$B, INDEX(MVs!$V$2:$Z$4, 3, MATCH(BC$38, MVs!$V$2:$Z$2, 0))), 0), 18),\"\")","v":""},{"$f":"IFERROR(INDEX(INDEX(MVs!$B:$B, INDEX(MVs!$V$2:$Z$4, 2, MATCH(BD$38, MVs!$V$2:$Z$2, 0))):INDEX(MVs!$U:$U, INDEX(mvLookupTable, 3, MATCH(BD$38, MVs!$V$2:$Z$2, 0))), MATCH(BD$2, INDEX(MVs!$B:$B, INDEX(MVs!$V$2:$Z$4, 2, MATCH(BD$38, MVs!$V$2:$Z$2, 0))):INDEX(MVs!$B:$B, INDEX(MVs!$V$2:$Z$4, 3, MATCH(BD$38, MVs!$V$2:$Z$2, 0))), 0), 18),\"\")","v":""},{"$f":"IFERROR(INDEX(INDEX(MVs!$B:$B, INDEX(MVs!$V$2:$Z$4, 2, MATCH(BE$38, MVs!$V$2:$Z$2, 0))):INDEX(MVs!$U:$U, INDEX(mvLookupTable, 3, MATCH(BE$38, MVs!$V$2:$Z$2, 0))), MATCH(BE$2, INDEX(MVs!$B:$B, INDEX(MVs!$V$2:$Z$4, 2, MATCH(BE$38, MVs!$V$2:$Z$2, 0))):INDEX(MVs!$B:$B, INDEX(MVs!$V$2:$Z$4, 3, MATCH(BE$38, MVs!$V$2:$Z$2, 0))), 0), 18),\"\")","v":""},{"$f":"IFERROR(INDEX(INDEX(MVs!$B:$B, INDEX(MVs!$V$2:$Z$4, 2, MATCH(BF$38, MVs!$V$2:$Z$2, 0))):INDEX(MVs!$U:$U, INDEX(mvLookupTable, 3, MATCH(BF$38, MVs!$V$2:$Z$2, 0))), MATCH(BF$2, INDEX(MVs!$B:$B, INDEX(MVs!$V$2:$Z$4, 2, MATCH(BF$38, MVs!$V$2:$Z$2, 0))):INDEX(MVs!$B:$B, INDEX(MVs!$V$2:$Z$4, 3, MATCH(BF$38, MVs!$V$2:$Z$2, 0))), 0), 18),\"\")","v":""}]
["Scaling Stat",{"$f":"IFERROR(INDEX(INDEX(MVs!$B:$B, INDEX(MVs!$V$2:$Z$4, 2, MATCH(B$38, MVs!$V$2:$Z$2, 0))):INDEX(MVs!$U:$U, INDEX(mvLookupTable, 3, MATCH(B$38, MVs!$V$2:$Z$2, 0))), MATCH(B$2, INDEX(MVs!$B:$B, INDEX(MVs!$V$2:$Z$4, 2, MATCH(B$38, MVs!$V$2:$Z$2, 0))):INDEX(MVs!$B:$B, INDEX(MVs!$V$2:$Z$4, 3, MATCH(B$38, MVs!$V$2:$Z$2, 0))), 0), 19),\"\")","v":"ATK"},{"$f":"IFERROR(INDEX(INDEX(MVs!$B:$B, INDEX(MVs!$V$2:$Z$4, 2, MATCH(C$38, MVs!$V$2:$Z$2, 0))):INDEX(MVs!$U:$U, INDEX(mvLookupTable, 3, MATCH(C$38, MVs!$V$2:$Z$2, 0))), MATCH(C$2, INDEX(MVs!$B:$B, INDEX(MVs!$V$2:$Z$4, 2, MATCH(C$38, MVs!$V$2:$Z$2, 0))):INDEX(MVs!$B:$B, INDEX(MVs!$V$2:$Z$4, 3, MATCH(C$38, MVs!$V$2:$Z$2, 0))), 0), 19),\"\")","v":"ATK"},{"$f":"IFERROR(INDEX(INDEX(MVs!$B:$B, INDEX(MVs!$V$2:$Z$4, 2, MATCH(D$38, MVs!$V$2:$Z$2, 0))):INDEX(MVs!$U:$U, INDEX(mvLookupTable, 3, MATCH(D$38, MVs!$V$2:$Z$2, 0))), MATCH(D$2, INDEX(MVs!$B:$B, INDEX(MVs!$V$2:$Z$4, 2, MATCH(D$38, MVs!$V$2:$Z$2, 0))):INDEX(MVs!$B:$B, INDEX(MVs!$V$2:$Z$4, 3, MATCH(D$38, MVs!$V$2:$Z$2, 0))), 0), 19),\"\")","v":"ATK"},{"$f":"IFERROR(INDEX(INDEX(MVs!$B:$B, INDEX(MVs!$V$2:$Z$4, 2, MATCH(E$38, MVs!$V$2:$Z$2, 0))):INDEX(MVs!$U:$U, INDEX(mvLookupTable, 3, MATCH(E$38, MVs!$V$2:$Z$2, 0))), MATCH(E$2, INDEX(MVs!$B:$B, INDEX(MVs!$V$2:$Z$4, 2, MATCH(E$38, MVs!$V$2:$Z$2, 0))):INDEX(MVs!$B:$B, INDEX(MVs!$V$2:$Z$4, 3, MATCH(E$38, MVs!$V$2:$Z$2, 0))), 0), 19),\"\")","v":"ATK"},{"$f":"IFERROR(INDEX(INDEX(MVs!$B:$B, INDEX(MVs!$V$2:$Z$4, 2, MATCH(F$38, MVs!$V$2:$Z$2, 0))):INDEX(MVs!$U:$U, INDEX(mvLookupTable, 3, MATCH(F$38, MVs!$V$2:$Z$2, 0))), MATCH(F$2, INDEX(MVs!$B:$B, INDEX(MVs!$V$2:$Z$4, 2, MATCH(F$38, MVs!$V$2:$Z$2, 0))):INDEX(MVs!$B:$B, INDEX(MVs!$V$2:$Z$4, 3, MATCH(F$38, MVs!$V$2:$Z$2, 0))), 0), 19),\"\")","v":"ATK"},{"$f":"IFERROR(INDEX(INDEX(MVs!$B:$B, INDEX(MVs!$V$2:$Z$4, 2, MATCH(G$38, MVs!$V$2:$Z$2, 0))):INDEX(MVs!$U:$U, INDEX(mvLookupTable, 3, MATCH(G$38, MVs!$V$2:$Z$2, 0))), MATCH(G$2, INDEX(MVs!$B:$B, INDEX(MVs!$V$2:$Z$4, 2, MATCH(G$38, MVs!$V$2:$Z$2, 0))):INDEX(MVs!$B:$B, INDEX(MVs!$V$2:$Z$4, 3, MATCH(G$38, MVs!$V$2:$Z$2, 0))), 0), 19),\"\")","v":"ATK"},{"$f":"IFERROR(INDEX(INDEX(MVs!$B:$B, INDEX(MVs!$V$2:$Z$4, 2, MATCH(H$38, MVs!$V$2:$Z$2, 0))):INDEX(MVs!$U:$U, INDEX(mvLookupTable, 3, MATCH(H$38, MVs!$V$2:$Z$2, 0))), MATCH(H$2, INDEX(MVs!$B:$B, INDEX(MVs!$V$2:$Z$4, 2, MATCH(H$38, MVs!$V$2:$Z$2, 0))):INDEX(MVs!$B:$B, INDEX(MVs!$V$2:$Z$4, 3, MATCH(H$38, MVs!$V$2:$Z$2, 0))), 0), 19),\"\")","v":"ATK"},{"$f":"IFERROR(INDEX(INDEX(MVs!$B:$B, INDEX(MVs!$V$2:$Z$4, 2, MATCH(I$38, MVs!$V$2:$Z$2, 0))):INDEX(MVs!$U:$U, INDEX(mvLookupTable, 3, MATCH(I$38, MVs!$V$2:$Z$2, 0))), MATCH(I$2, INDEX(MVs!$B:$B, INDEX(MVs!$V$2:$Z$4, 2, MATCH(I$38, MVs!$V$2:$Z$2, 0))):INDEX(MVs!$B:$B, INDEX(MVs!$V$2:$Z$4, 3, MATCH(I$38, MVs!$V$2:$Z$2, 0))), 0), 19),\"\")","v":"ATK"},{"$f":"IFERROR(INDEX(INDEX(MVs!$B:$B, INDEX(MVs!$V$2:$Z$4, 2, MATCH(J$38, MVs!$V$2:$Z$2, 0))):INDEX(MVs!$U:$U, INDEX(mvLookupTable, 3, MATCH(J$38, MVs!$V$2:$Z$2, 0))), MATCH(J$2, INDEX(MVs!$B:$B, INDEX(MVs!$V$2:$Z$4, 2, MATCH(J$38, MVs!$V$2:$Z$2, 0))):INDEX(MVs!$B:$B, INDEX(MVs!$V$2:$Z$4, 3, MATCH(J$38, MVs!$V$2:$Z$2, 0))), 0), 19),\"\")","v":"ATK"},{"$f":"IFERROR(INDEX(INDEX(MVs!$B:$B, INDEX(MVs!$V$2:$Z$4, 2, MATCH(K$38, MVs!$V$2:$Z$2, 0))):INDEX(MVs!$U:$U, INDEX(mvLookupTable, 3, MATCH(K$38, MVs!$V$2:$Z$2, 0))), MATCH(K$2, INDEX(MVs!$B:$B, INDEX(MVs!$V$2:$Z$4, 2, MATCH(K$38, MVs!$V$2:$Z$2, 0))):INDEX(MVs!$B:$B, INDEX(MVs!$V$2:$Z$4, 3, MATCH(K$38, MVs!$V$2:$Z$2, 0))), 0), 19),\"\")","v":"ATK"},{"$f":"IFERROR(INDEX(INDEX(MVs!$B:$B, INDEX(MVs!$V$2:$Z$4, 2, MATCH(L$38, MVs!$V$2:$Z$2, 0))):INDEX(MVs!$U:$U, INDEX(mvLookupTable, 3, MATCH(L$38, MVs!$V$2:$Z$2, 0))), MATCH(L$2, INDEX(MVs!$B:$B, INDEX(MVs!$V$2:$Z$4, 2, MATCH(L$38, MVs!$V$2:$Z$2, 0))):INDEX(MVs!$B:$B, INDEX(MVs!$V$2:$Z$4, 3, MATCH(L$38, MVs!$V$2:$Z$2, 0))), 0), 19),\"\")","v":"ATK"},{"$f":"IFERROR(INDEX(INDEX(MVs!$B:$B, INDEX(MVs!$V$2:$Z$4, 2, MATCH(M$38, MVs!$V$2:$Z$2, 0))):INDEX(MVs!$U:$U, INDEX(mvLookupTable, 3, MATCH(M$38, MVs!$V$2:$Z$2, 0))), MATCH(M$2, INDEX(MVs!$B:$B, INDEX(MVs!$V$2:$Z$4, 2, MATCH(M$38, MVs!$V$2:$Z$2, 0))):INDEX(MVs!$B:$B, INDEX(MVs!$V$2:$Z$4, 3, MATCH(M$38, MVs!$V$2:$Z$2, 0))), 0), 19),\"\")","v":"ATK"},{"$f":"IFERROR(INDEX(INDEX(MVs!$B:$B, INDEX(MVs!$V$2:$Z$4, 2, MATCH(N$38, MVs!$V$2:$Z$2, 0))):INDEX(MVs!$U:$U, INDEX(mvLookupTable, 3, MATCH(N$38, MVs!$V$2:$Z$2, 0))), MATCH(N$2, INDEX(MVs!$B:$B, INDEX(MVs!$V$2:$Z$4, 2, MATCH(N$38, MVs!$V$2:$Z$2, 0))):INDEX(MVs!$B:$B, INDEX(MVs!$V$2:$Z$4, 3, MATCH(N$38, MVs!$V$2:$Z$2, 0))), 0), 19),\"\")","v":"ATK"},{"$f":"IFERROR(INDEX(INDEX(MVs!$B:$B, INDEX(MVs!$V$2:$Z$4, 2, MATCH(O$38, MVs!$V$2:$Z$2, 0))):INDEX(MVs!$U:$U, INDEX(mvLookupTable, 3, MATCH(O$38, MVs!$V$2:$Z$2, 0))), MATCH(O$2, INDEX(MVs!$B:$B, INDEX(MVs!$V$2:$Z$4, 2, MATCH(O$38, MVs!$V$2:$Z$2, 0))):INDEX(MVs!$B:$B, INDEX(MVs!$V$2:$Z$4, 3, MATCH(O$38, MVs!$V$2:$Z$2, 0))), 0), 19),\"\")","v":"ATK"},{"$f":"IFERROR(INDEX(INDEX(MVs!$B:$B, INDEX(MVs!$V$2:$Z$4, 2, MATCH(P$38, MVs!$V$2:$Z$2, 0))):INDEX(MVs!$U:$U, INDEX(mvLookupTable, 3, MATCH(P$38, MVs!$V$2:$Z$2, 0))), MATCH(P$2, INDEX(MVs!$B:$B, INDEX(MVs!$V$2:$Z$4, 2, MATCH(P$38, MVs!$V$2:$Z$2, 0))):INDEX(MVs!$B:$B, INDEX(MVs!$V$2:$Z$4, 3, MATCH(P$38, MVs!$V$2:$Z$2, 0))), 0), 19),\"\")","v":"ATK"},{"$f":"IFERROR(INDEX(INDEX(MVs!$B:$B, INDEX(MVs!$V$2:$Z$4, 2, MATCH(Q$38, MVs!$V$2:$Z$2, 0))):INDEX(MVs!$U:$U, INDEX(mvLookupTable, 3, MATCH(Q$38, MVs!$V$2:$Z$2, 0))), MATCH(Q$2, INDEX(MVs!$B:$B, INDEX(MVs!$V$2:$Z$4, 2, MATCH(Q$38, MVs!$V$2:$Z$2, 0))):INDEX(MVs!$B:$B, INDEX(MVs!$V$2:$Z$4, 3, MATCH(Q$38, MVs!$V$2:$Z$2, 0))), 0), 19),\"\")","v":"ATK"},{"$f":"IFERROR(INDEX(INDEX(MVs!$B:$B, INDEX(MVs!$V$2:$Z$4, 2, MATCH(R$38, MVs!$V$2:$Z$2, 0))):INDEX(MVs!$U:$U, INDEX(mvLookupTable, 3, MATCH(R$38, MVs!$V$2:$Z$2, 0))), MATCH(R$2, INDEX(MVs!$B:$B, INDEX(MVs!$V$2:$Z$4, 2, MATCH(R$38, MVs!$V$2:$Z$2, 0))):INDEX(MVs!$B:$B, INDEX(MVs!$V$2:$Z$4, 3, MATCH(R$38, MVs!$V$2:$Z$2, 0))), 0), 19),\"\")","v":"ATK"},{"$f":"IFERROR(INDEX(INDEX(MVs!$B:$B, INDEX(MVs!$V$2:$Z$4, 2, MATCH(S$38, MVs!$V$2:$Z$2, 0))):INDEX(MVs!$U:$U, INDEX(mvLookupTable, 3, MATCH(S$38, MVs!$V$2:$Z$2, 0))), MATCH(S$2, INDEX(MVs!$B:$B, INDEX(MVs!$V$2:$Z$4, 2, MATCH(S$38, MVs!$V$2:$Z$2, 0))):INDEX(MVs!$B:$B, INDEX(MVs!$V$2:$Z$4, 3, MATCH(S$38, MVs!$V$2:$Z$2, 0))), 0), 19),\"\")","v":"ATK"},{"$f":"IFERROR(INDEX(INDEX(MVs!$B:$B, INDEX(MVs!$V$2:$Z$4, 2, MATCH(T$38, MVs!$V$2:$Z$2, 0))):INDEX(MVs!$U:$U, INDEX(mvLookupTable, 3, MATCH(T$38, MVs!$V$2:$Z$2, 0))), MATCH(T$2, INDEX(MVs!$B:$B, INDEX(MVs!$V$2:$Z$4, 2, MATCH(T$38, MVs!$V$2:$Z$2, 0))):INDEX(MVs!$B:$B, INDEX(MVs!$V$2:$Z$4, 3, MATCH(T$38, MVs!$V$2:$Z$2, 0))), 0), 19),\"\")","v":"ATK"},{"$f":"IFERROR(INDEX(INDEX(MVs!$B:$B, INDEX(MVs!$V$2:$Z$4, 2, MATCH(U$38, MVs!$V$2:$Z$2, 0))):INDEX(MVs!$U:$U, INDEX(mvLookupTable, 3, MATCH(U$38, MVs!$V$2:$Z$2, 0))), MATCH(U$2, INDEX(MVs!$B:$B, INDEX(MVs!$V$2:$Z$4, 2, MATCH(U$38, MVs!$V$2:$Z$2, 0))):INDEX(MVs!$B:$B, INDEX(MVs!$V$2:$Z$4, 3, MATCH(U$38, MVs!$V$2:$Z$2, 0))), 0), 19),\"\")","v":"ATK"},null,{"$f":"IFERROR(INDEX(INDEX(MVs!$B:$B, INDEX(MVs!$V$2:$Z$4, 2, MATCH(W$38, MVs!$V$2:$Z$2, 0))):INDEX(MVs!$U:$U, INDEX(mvLookupTable, 3, MATCH(W$38, MVs!$V$2:$Z$2, 0))), MATCH(W$2, INDEX(MVs!$B:$B, INDEX(MVs!$V$2:$Z$4, 2, MATCH(W$38, MVs!$V$2:$Z$2, 0))):INDEX(MVs!$B:$B, INDEX(MVs!$V$2:$Z$4, 3, MATCH(W$38, MVs!$V$2:$Z$2, 0))), 0), 19),\"\")","v":"ATK"},{"$f":"IFERROR(INDEX(INDEX(MVs!$B:$B, INDEX(MVs!$V$2:$Z$4, 2, MATCH(X$38, MVs!$V$2:$Z$2, 0))):INDEX(MVs!$U:$U, INDEX(mvLookupTable, 3, MATCH(X$38, MVs!$V$2:$Z$2, 0))), MATCH(X$2, INDEX(MVs!$B:$B, INDEX(MVs!$V$2:$Z$4, 2, MATCH(X$38, MVs!$V$2:$Z$2, 0))):INDEX(MVs!$B:$B, INDEX(MVs!$V$2:$Z$4, 3, MATCH(X$38, MVs!$V$2:$Z$2, 0))), 0), 19),\"\")","v":"ATK"},{"$f":"IFERROR(INDEX(INDEX(MVs!$B:$B, INDEX(MVs!$V$2:$Z$4, 2, MATCH(Y$38, MVs!$V$2:$Z$2, 0))):INDEX(MVs!$U:$U, INDEX(mvLookupTable, 3, MATCH(Y$38, MVs!$V$2:$Z$2, 0))), MATCH(Y$2, INDEX(MVs!$B:$B, INDEX(MVs!$V$2:$Z$4, 2, MATCH(Y$38, MVs!$V$2:$Z$2, 0))):INDEX(MVs!$B:$B, INDEX(MVs!$V$2:$Z$4, 3, MATCH(Y$38, MVs!$V$2:$Z$2, 0))), 0), 19),\"\")","v":"ATK"},{"$f":"IFERROR(INDEX(INDEX(MVs!$B:$B, INDEX(MVs!$V$2:$Z$4, 2, MATCH(Z$38, MVs!$V$2:$Z$2, 0))):INDEX(MVs!$U:$U, INDEX(mvLookupTable, 3, MATCH(Z$38, MVs!$V$2:$Z$2, 0))), MATCH(Z$2, INDEX(MVs!$B:$B, INDEX(MVs!$V$2:$Z$4, 2, MATCH(Z$38, MVs!$V$2:$Z$2, 0))):INDEX(MVs!$B:$B, INDEX(MVs!$V$2:$Z$4, 3, MATCH(Z$38, MVs!$V$2:$Z$2, 0))), 0), 19),\"\")","v":"ATK"},{"$f":"IFERROR(INDEX(INDEX(MVs!$B:$B, INDEX(MVs!$V$2:$Z$4, 2, MATCH(AA$38, MVs!$V$2:$Z$2, 0))):INDEX(MVs!$U:$U, INDEX(mvLookupTable, 3, MATCH(AA$38, MVs!$V$2:$Z$2, 0))), MATCH(AA$2, INDEX(MVs!$B:$B, INDEX(MVs!$V$2:$Z$4, 2, MATCH(AA$38, MVs!$V$2:$Z$2, 0))):INDEX(MVs!$B:$B, INDEX(MVs!$V$2:$Z$4, 3, MATCH(AA$38, MVs!$V$2:$Z$2, 0))), 0), 19),\"\")","v":"HP"},{"$f":"IFERROR(INDEX(INDEX(MVs!$B:$B, INDEX(MVs!$V$2:$Z$4, 2, MATCH(AB$38, MVs!$V$2:$Z$2, 0))):INDEX(MVs!$U:$U, INDEX(mvLookupTable, 3, MATCH(AB$38, MVs!$V$2:$Z$2, 0))), MATCH(AB$2, INDEX(MVs!$B:$B, INDEX(MVs!$V$2:$Z$4, 2, MATCH(AB$38, MVs!$V$2:$Z$2, 0))):INDEX(MVs!$B:$B, INDEX(MVs!$V$2:$Z$4, 3, MATCH(AB$38, MVs!$V$2:$Z$2, 0))), 0), 19),\"\")","v":"ATK"},{"$f":"IFERROR(INDEX(INDEX(MVs!$B:$B, INDEX(MVs!$V$2:$Z$4, 2, MATCH(AC$38, MVs!$V$2:$Z$2, 0))):INDEX(MVs!$U:$U, INDEX(mvLookupTable, 3, MATCH(AC$38, MVs!$V$2:$Z$2, 0))), MATCH(AC$2, INDEX(MVs!$B:$B, INDEX(MVs!$V$2:$Z$4, 2, MATCH(AC$38, MVs!$V$2:$Z$2, 0))):INDEX(MVs!$B:$B, INDEX(MVs!$V$2:$Z$4, 3, MATCH(AC$38, MVs!$V$2:$Z$2, 0))), 0), 19),\"\")","v":"ATK"},{"$f":"IFERROR(INDEX(INDEX(MVs!$B:$B, INDEX(MVs!$V$2:$Z$4, 2, MATCH(AD$38, MVs!$V$2:$Z$2, 0))):INDEX(MVs!$U:$U, INDEX(mvLookupTable, 3, MATCH(AD$38, MVs!$V$2:$Z$2, 0))), MATCH(AD$2, INDEX(MVs!$B:$B, INDEX(MVs!$V$2:$Z$4, 2, MATCH(AD$38, MVs!$V$2:$Z$2, 0))):INDEX(MVs!$B:$B, INDEX(MVs!$V$2:$Z$4, 3, MATCH(AD$38, MVs!$V$2:$Z$2, 0))), 0), 19),\"\")","v":"ATK"},{"$f":"IFERROR(INDEX(INDEX(MVs!$B:$B, INDEX(MVs!$V$2:$Z$4, 2, MATCH(AE$38, MVs!$V$2:$Z$2, 0))):INDEX(MVs!$U:$U, INDEX(mvLookupTable, 3, MATCH(AE$38, MVs!$V$2:$Z$2, 0))), MATCH(AE$2, INDEX(MVs!$B:$B, INDEX(MVs!$V$2:$Z$4, 2, MATCH(AE$38, MVs!$V$2:$Z$2, 0))):INDEX(MVs!$B:$B, INDEX(MVs!$V$2:$Z$4, 3, MATCH(AE$38, MVs!$V$2:$Z$2, 0))), 0), 19),\"\")","v":"ATK"},{"$f":"IFERROR(INDEX(INDEX(MVs!$B:$B, INDEX(MVs!$V$2:$Z$4, 2, MATCH(AF$38, MVs!$V$2:$Z$2, 0))):INDEX(MVs!$U:$U, INDEX(mvLookupTable, 3, MATCH(AF$38, MVs!$V$2:$Z$2, 0))), MATCH(AF$2, INDEX(MVs!$B:$B, INDEX(MVs!$V$2:$Z$4, 2, MATCH(AF$38, MVs!$V$2:$Z$2, 0))):INDEX(MVs!$B:$B, INDEX(MVs!$V$2:$Z$4, 3, MATCH(AF$38, MVs!$V$2:$Z$2, 0))), 0), 19),\"\")","v":""},{"$f":"IFERROR(INDEX(INDEX(MVs!$B:$B, INDEX(MVs!$V$2:$Z$4, 2, MATCH(AG$38, MVs!$V$2:$Z$2, 0))):INDEX(MVs!$U:$U, INDEX(mvLookupTable, 3, MATCH(AG$38, MVs!$V$2:$Z$2, 0))), MATCH(AG$2, INDEX(MVs!$B:$B, INDEX(MVs!$V$2:$Z$4, 2, MATCH(AG$38, MVs!$V$2:$Z$2, 0))):INDEX(MVs!$B:$B, INDEX(MVs!$V$2:$Z$4, 3, MATCH(AG$38, MVs!$V$2:$Z$2, 0))), 0), 19),\"\")","v":""},{"$f":"IFERROR(INDEX(INDEX(MVs!$B:$B, INDEX(MVs!$V$2:$Z$4, 2, MATCH(AH$38, MVs!$V$2:$Z$2, 0))):INDEX(MVs!$U:$U, INDEX(mvLookupTable, 3, MATCH(AH$38, MVs!$V$2:$Z$2, 0))), MATCH(AH$2, INDEX(MVs!$B:$B, INDEX(MVs!$V$2:$Z$4, 2, MATCH(AH$38, MVs!$V$2:$Z$2, 0))):INDEX(MVs!$B:$B, INDEX(MVs!$V$2:$Z$4, 3, MATCH(AH$38, MVs!$V$2:$Z$2, 0))), 0), 19),\"\")","v":""},{"$f":"IFERROR(INDEX(INDEX(MVs!$B:$B, INDEX(MVs!$V$2:$Z$4, 2, MATCH(AI$38, MVs!$V$2:$Z$2, 0))):INDEX(MVs!$U:$U, INDEX(mvLookupTable, 3, MATCH(AI$38, MVs!$V$2:$Z$2, 0))), MATCH(AI$2, INDEX(MVs!$B:$B, INDEX(MVs!$V$2:$Z$4, 2, MATCH(AI$38, MVs!$V$2:$Z$2, 0))):INDEX(MVs!$B:$B, INDEX(MVs!$V$2:$Z$4, 3, MATCH(AI$38, MVs!$V$2:$Z$2, 0))), 0), 19),\"\")","v":""},{"$f":"IFERROR(INDEX(INDEX(MVs!$B:$B, INDEX(MVs!$V$2:$Z$4, 2, MATCH(AJ$38, MVs!$V$2:$Z$2, 0))):INDEX(MVs!$U:$U, INDEX(mvLookupTable, 3, MATCH(AJ$38, MVs!$V$2:$Z$2, 0))), MATCH(AJ$2, INDEX(MVs!$B:$B, INDEX(MVs!$V$2:$Z$4, 2, MATCH(AJ$38, MVs!$V$2:$Z$2, 0))):INDEX(MVs!$B:$B, INDEX(MVs!$V$2:$Z$4, 3, MATCH(AJ$38, MVs!$V$2:$Z$2, 0))), 0), 19),\"\")","v":""},{"$f":"IFERROR(INDEX(INDEX(MVs!$B:$B, INDEX(MVs!$V$2:$Z$4, 2, MATCH(AK$38, MVs!$V$2:$Z$2, 0))):INDEX(MVs!$U:$U, INDEX(mvLookupTable, 3, MATCH(AK$38, MVs!$V$2:$Z$2, 0))), MATCH(AK$2, INDEX(MVs!$B:$B, INDEX(MVs!$V$2:$Z$4, 2, MATCH(AK$38, MVs!$V$2:$Z$2, 0))):INDEX(MVs!$B:$B, INDEX(MVs!$V$2:$Z$4, 3, MATCH(AK$38, MVs!$V$2:$Z$2, 0))), 0), 19),\"\")","v":""},{"$f":"IFERROR(INDEX(INDEX(MVs!$B:$B, INDEX(MVs!$V$2:$Z$4, 2, MATCH(AL$38, MVs!$V$2:$Z$2, 0))):INDEX(MVs!$U:$U, INDEX(mvLookupTable, 3, MATCH(AL$38, MVs!$V$2:$Z$2, 0))), MATCH(AL$2, INDEX(MVs!$B:$B, INDEX(MVs!$V$2:$Z$4, 2, MATCH(AL$38, MVs!$V$2:$Z$2, 0))):INDEX(MVs!$B:$B, INDEX(MVs!$V$2:$Z$4, 3, MATCH(AL$38, MVs!$V$2:$Z$2, 0))), 0), 19),\"\")","v":""},{"$f":"IFERROR(INDEX(INDEX(MVs!$B:$B, INDEX(MVs!$V$2:$Z$4, 2, MATCH(AM$38, MVs!$V$2:$Z$2, 0))):INDEX(MVs!$U:$U, INDEX(mvLookupTable, 3, MATCH(AM$38, MVs!$V$2:$Z$2, 0))), MATCH(AM$2, INDEX(MVs!$B:$B, INDEX(MVs!$V$2:$Z$4, 2, MATCH(AM$38, MVs!$V$2:$Z$2, 0))):INDEX(MVs!$B:$B, INDEX(MVs!$V$2:$Z$4, 3, MATCH(AM$38, MVs!$V$2:$Z$2, 0))), 0), 19),\"\")","v":""},{"$f":"IFERROR(INDEX(INDEX(MVs!$B:$B, INDEX(MVs!$V$2:$Z$4, 2, MATCH(AN$38, MVs!$V$2:$Z$2, 0))):INDEX(MVs!$U:$U, INDEX(mvLookupTable, 3, MATCH(AN$38, MVs!$V$2:$Z$2, 0))), MATCH(AN$2, INDEX(MVs!$B:$B, INDEX(MVs!$V$2:$Z$4, 2, MATCH(AN$38, MVs!$V$2:$Z$2, 0))):INDEX(MVs!$B:$B, INDEX(MVs!$V$2:$Z$4, 3, MATCH(AN$38, MVs!$V$2:$Z$2, 0))), 0), 19),\"\")","v":""},{"$f":"IFERROR(INDEX(INDEX(MVs!$B:$B, INDEX(MVs!$V$2:$Z$4, 2, MATCH(AO$38, MVs!$V$2:$Z$2, 0))):INDEX(MVs!$U:$U, INDEX(mvLookupTable, 3, MATCH(AO$38, MVs!$V$2:$Z$2, 0))), MATCH(AO$2, INDEX(MVs!$B:$B, INDEX(MVs!$V$2:$Z$4, 2, MATCH(AO$38, MVs!$V$2:$Z$2, 0))):INDEX(MVs!$B:$B, INDEX(MVs!$V$2:$Z$4, 3, MATCH(AO$38, MVs!$V$2:$Z$2, 0))), 0), 19),\"\")","v":""},{"$f":"IFERROR(INDEX(INDEX(MVs!$B:$B, INDEX(MVs!$V$2:$Z$4, 2, MATCH(AP$38, MVs!$V$2:$Z$2, 0))):INDEX(MVs!$U:$U, INDEX(mvLookupTable, 3, MATCH(AP$38, MVs!$V$2:$Z$2, 0))), MATCH(AP$2, INDEX(MVs!$B:$B, INDEX(MVs!$V$2:$Z$4, 2, MATCH(AP$38, MVs!$V$2:$Z$2, 0))):INDEX(MVs!$B:$B, INDEX(MVs!$V$2:$Z$4, 3, MATCH(AP$38, MVs!$V$2:$Z$2, 0))), 0), 19),\"\")","v":""},{"$f":"IFERROR(INDEX(INDEX(MVs!$B:$B, INDEX(MVs!$V$2:$Z$4, 2, MATCH(AQ$38, MVs!$V$2:$Z$2, 0))):INDEX(MVs!$U:$U, INDEX(mvLookupTable, 3, MATCH(AQ$38, MVs!$V$2:$Z$2, 0))), MATCH(AQ$2, INDEX(MVs!$B:$B, INDEX(MVs!$V$2:$Z$4, 2, MATCH(AQ$38, MVs!$V$2:$Z$2, 0))):INDEX(MVs!$B:$B, INDEX(MVs!$V$2:$Z$4, 3, MATCH(AQ$38, MVs!$V$2:$Z$2, 0))), 0), 19),\"\")","v":""},{"$f":"IFERROR(INDEX(INDEX(MVs!$B:$B, INDEX(MVs!$V$2:$Z$4, 2, MATCH(AR$38, MVs!$V$2:$Z$2, 0))):INDEX(MVs!$U:$U, INDEX(mvLookupTable, 3, MATCH(AR$38, MVs!$V$2:$Z$2, 0))), MATCH(AR$2, INDEX(MVs!$B:$B, INDEX(MVs!$V$2:$Z$4, 2, MATCH(AR$38, MVs!$V$2:$Z$2, 0))):INDEX(MVs!$B:$B, INDEX(MVs!$V$2:$Z$4, 3, MATCH(AR$38, MVs!$V$2:$Z$2, 0))), 0), 19),\"\")","v":""},{"$f":"IFERROR(INDEX(INDEX(MVs!$B:$B, INDEX(MVs!$V$2:$Z$4, 2, MATCH(AS$38, MVs!$V$2:$Z$2, 0))):INDEX(MVs!$U:$U, INDEX(mvLookupTable, 3, MATCH(AS$38, MVs!$V$2:$Z$2, 0))), MATCH(AS$2, INDEX(MVs!$B:$B, INDEX(MVs!$V$2:$Z$4, 2, MATCH(AS$38, MVs!$V$2:$Z$2, 0))):INDEX(MVs!$B:$B, INDEX(MVs!$V$2:$Z$4, 3, MATCH(AS$38, MVs!$V$2:$Z$2, 0))), 0), 19),\"\")","v":""},{"$f":"IFERROR(INDEX(INDEX(MVs!$B:$B, INDEX(MVs!$V$2:$Z$4, 2, MATCH(AT$38, MVs!$V$2:$Z$2, 0))):INDEX(MVs!$U:$U, INDEX(mvLookupTable, 3, MATCH(AT$38, MVs!$V$2:$Z$2, 0))), MATCH(AT$2, INDEX(MVs!$B:$B, INDEX(MVs!$V$2:$Z$4, 2, MATCH(AT$38, MVs!$V$2:$Z$2, 0))):INDEX(MVs!$B:$B, INDEX(MVs!$V$2:$Z$4, 3, MATCH(AT$38, MVs!$V$2:$Z$2, 0))), 0), 19),\"\")","v":""},{"$f":"IFERROR(INDEX(INDEX(MVs!$B:$B, INDEX(MVs!$V$2:$Z$4, 2, MATCH(AU$38, MVs!$V$2:$Z$2, 0))):INDEX(MVs!$U:$U, INDEX(mvLookupTable, 3, MATCH(AU$38, MVs!$V$2:$Z$2, 0))), MATCH(AU$2, INDEX(MVs!$B:$B, INDEX(MVs!$V$2:$Z$4, 2, MATCH(AU$38, MVs!$V$2:$Z$2, 0))):INDEX(MVs!$B:$B, INDEX(MVs!$V$2:$Z$4, 3, MATCH(AU$38, MVs!$V$2:$Z$2, 0))), 0), 19),\"\")","v":""},{"$f":"IFERROR(INDEX(INDEX(MVs!$B:$B, INDEX(MVs!$V$2:$Z$4, 2, MATCH(AV$38, MVs!$V$2:$Z$2, 0))):INDEX(MVs!$U:$U, INDEX(mvLookupTable, 3, MATCH(AV$38, MVs!$V$2:$Z$2, 0))), MATCH(AV$2, INDEX(MVs!$B:$B, INDEX(MVs!$V$2:$Z$4, 2, MATCH(AV$38, MVs!$V$2:$Z$2, 0))):INDEX(MVs!$B:$B, INDEX(MVs!$V$2:$Z$4, 3, MATCH(AV$38, MVs!$V$2:$Z$2, 0))), 0), 19),\"\")","v":""},{"$f":"IFERROR(INDEX(INDEX(MVs!$B:$B, INDEX(MVs!$V$2:$Z$4, 2, MATCH(AW$38, MVs!$V$2:$Z$2, 0))):INDEX(MVs!$U:$U, INDEX(mvLookupTable, 3, MATCH(AW$38, MVs!$V$2:$Z$2, 0))), MATCH(AW$2, INDEX(MVs!$B:$B, INDEX(MVs!$V$2:$Z$4, 2, MATCH(AW$38, MVs!$V$2:$Z$2, 0))):INDEX(MVs!$B:$B, INDEX(MVs!$V$2:$Z$4, 3, MATCH(AW$38, MVs!$V$2:$Z$2, 0))), 0), 19),\"\")","v":""},{"$f":"IFERROR(INDEX(INDEX(MVs!$B:$B, INDEX(MVs!$V$2:$Z$4, 2, MATCH(AX$38, MVs!$V$2:$Z$2, 0))):INDEX(MVs!$U:$U, INDEX(mvLookupTable, 3, MATCH(AX$38, MVs!$V$2:$Z$2, 0))), MATCH(AX$2, INDEX(MVs!$B:$B, INDEX(MVs!$V$2:$Z$4, 2, MATCH(AX$38, MVs!$V$2:$Z$2, 0))):INDEX(MVs!$B:$B, INDEX(MVs!$V$2:$Z$4, 3, MATCH(AX$38, MVs!$V$2:$Z$2, 0))), 0), 19),\"\")","v":""},{"$f":"IFERROR(INDEX(INDEX(MVs!$B:$B, INDEX(MVs!$V$2:$Z$4, 2, MATCH(AY$38, MVs!$V$2:$Z$2, 0))):INDEX(MVs!$U:$U, INDEX(mvLookupTable, 3, MATCH(AY$38, MVs!$V$2:$Z$2, 0))), MATCH(AY$2, INDEX(MVs!$B:$B, INDEX(MVs!$V$2:$Z$4, 2, MATCH(AY$38, MVs!$V$2:$Z$2, 0))):INDEX(MVs!$B:$B, INDEX(MVs!$V$2:$Z$4, 3, MATCH(AY$38, MVs!$V$2:$Z$2, 0))), 0), 19),\"\")","v":""},{"$f":"IFERROR(INDEX(INDEX(MVs!$B:$B, INDEX(MVs!$V$2:$Z$4, 2, MATCH(AZ$38, MVs!$V$2:$Z$2, 0))):INDEX(MVs!$U:$U, INDEX(mvLookupTable, 3, MATCH(AZ$38, MVs!$V$2:$Z$2, 0))), MATCH(AZ$2, INDEX(MVs!$B:$B, INDEX(MVs!$V$2:$Z$4, 2, MATCH(AZ$38, MVs!$V$2:$Z$2, 0))):INDEX(MVs!$B:$B, INDEX(MVs!$V$2:$Z$4, 3, MATCH(AZ$38, MVs!$V$2:$Z$2, 0))), 0), 19),\"\")","v":""},{"$f":"IFERROR(INDEX(INDEX(MVs!$B:$B, INDEX(MVs!$V$2:$Z$4, 2, MATCH(BA$38, MVs!$V$2:$Z$2, 0))):INDEX(MVs!$U:$U, INDEX(mvLookupTable, 3, MATCH(BA$38, MVs!$V$2:$Z$2, 0))), MATCH(BA$2, INDEX(MVs!$B:$B, INDEX(MVs!$V$2:$Z$4, 2, MATCH(BA$38, MVs!$V$2:$Z$2, 0))):INDEX(MVs!$B:$B, INDEX(MVs!$V$2:$Z$4, 3, MATCH(BA$38, MVs!$V$2:$Z$2, 0))), 0), 19),\"\")","v":""},{"$f":"IFERROR(INDEX(INDEX(MVs!$B:$B, INDEX(MVs!$V$2:$Z$4, 2, MATCH(BB$38, MVs!$V$2:$Z$2, 0))):INDEX(MVs!$U:$U, INDEX(mvLookupTable, 3, MATCH(BB$38, MVs!$V$2:$Z$2, 0))), MATCH(BB$2, INDEX(MVs!$B:$B, INDEX(MVs!$V$2:$Z$4, 2, MATCH(BB$38, MVs!$V$2:$Z$2, 0))):INDEX(MVs!$B:$B, INDEX(MVs!$V$2:$Z$4, 3, MATCH(BB$38, MVs!$V$2:$Z$2, 0))), 0), 19),\"\")","v":""},{"$f":"IFERROR(INDEX(INDEX(MVs!$B:$B, INDEX(MVs!$V$2:$Z$4, 2, MATCH(BC$38, MVs!$V$2:$Z$2, 0))):INDEX(MVs!$U:$U, INDEX(mvLookupTable, 3, MATCH(BC$38, MVs!$V$2:$Z$2, 0))), MATCH(BC$2, INDEX(MVs!$B:$B, INDEX(MVs!$V$2:$Z$4, 2, MATCH(BC$38, MVs!$V$2:$Z$2, 0))):INDEX(MVs!$B:$B, INDEX(MVs!$V$2:$Z$4, 3, MATCH(BC$38, MVs!$V$2:$Z$2, 0))), 0), 19),\"\")","v":""},{"$f":"IFERROR(INDEX(INDEX(MVs!$B:$B, INDEX(MVs!$V$2:$Z$4, 2, MATCH(BD$38, MVs!$V$2:$Z$2, 0))):INDEX(MVs!$U:$U, INDEX(mvLookupTable, 3, MATCH(BD$38, MVs!$V$2:$Z$2, 0))), MATCH(BD$2, INDEX(MVs!$B:$B, INDEX(MVs!$V$2:$Z$4, 2, MATCH(BD$38, MVs!$V$2:$Z$2, 0))):INDEX(MVs!$B:$B, INDEX(MVs!$V$2:$Z$4, 3, MATCH(BD$38, MVs!$V$2:$Z$2, 0))), 0), 19),\"\")","v":""},{"$f":"IFERROR(INDEX(INDEX(MVs!$B:$B, INDEX(MVs!$V$2:$Z$4, 2, MATCH(BE$38, MVs!$V$2:$Z$2, 0))):INDEX(MVs!$U:$U, INDEX(mvLookupTable, 3, MATCH(BE$38, MVs!$V$2:$Z$2, 0))), MATCH(BE$2, INDEX(MVs!$B:$B, INDEX(MVs!$V$2:$Z$4, 2, MATCH(BE$38, MVs!$V$2:$Z$2, 0))):INDEX(MVs!$B:$B, INDEX(MVs!$V$2:$Z$4, 3, MATCH(BE$38, MVs!$V$2:$Z$2, 0))), 0), 19),\"\")","v":""},{"$f":"IFERROR(INDEX(INDEX(MVs!$B:$B, INDEX(MVs!$V$2:$Z$4, 2, MATCH(BF$38, MVs!$V$2:$Z$2, 0))):INDEX(MVs!$U:$U, INDEX(mvLookupTable, 3, MATCH(BF$38, MVs!$V$2:$Z$2, 0))), MATCH(BF$2, INDEX(MVs!$B:$B, INDEX(MVs!$V$2:$Z$4, 2, MATCH(BF$38, MVs!$V$2:$Z$2, 0))):INDEX(MVs!$B:$B, INDEX(MVs!$V$2:$Z$4, 3, MATCH(BF$38, MVs!$V$2:$Z$2, 0))), 0), 19),\"\")","v":""}]
["Amping Reaction","Vape","None","None","None","None","None","Reverse Vape","None","Reverse Vape","Reverse Vape","None","None","Reverse Vape","Reverse Vape","None","Reverse Vape","Reverse Vape","None","None","Reverse Vape",null,"Reverse Vape","None","None","None","None","None","None","None","None","None","None","None","None","None","None","None","None","None","None","None","None","None","None","None","None","None","None","None","None","None","None","None","None","None","None","None"]
["Talent Level",{"$f":"IFERROR(INDEX(Lookups!$O$29:$V$33, MATCH('Rotation Assembler'!B$38, Lookups!$O$29:$O$33, 0), MATCH('Rotation Assembler'!B4, Lookups!$O$29:$V$29, 0)),0)","v":12},{"$f":"IFERROR(INDEX(Lookups!$O$29:$V$33, MATCH('Rotation Assembler'!C$38, Lookups!$O$29:$O$33, 0), MATCH('Rotation Assembler'!C4, Lookups!$O$29:$V$29, 0)),0)","v":12},{"$f":"IFERROR(INDEX(Lookups!$O$29:$V$33, MATCH('Rotation Assembler'!D$38, Lookups!$O$29:$O$33, 0), MATCH('Rotation Assembler'!D4, Lookups!$O$29:$V$29, 0)),0)","v":12},{"$f":"IFERROR(INDEX(Lookups!$O$29:$V$33, MATCH('Rotation Assembler'!E$38, Lookups!$O$29:$O$33, 0), MATCH('Rotation Assembler'!E4, Lookups!$O$29:$V$29, 0)),0)","v":12},{"$f":"IFERROR(INDEX(Lookups!$O$29:$V$33, MATCH('Rotation Assembler'!F$38, Lookups!$O$29:$O$33, 0), MATCH('Rotation Assembler'!F4, Lookups!$O$29:$V$29, 0)),0)","v":12},{"$f":"IFERROR(INDEX(Lookups!$O$29:$V$33, MATCH('Rotation Assembler'!G$38, Lookups!$O$29:$O$33, 0), MATCH('Rotation Assembler'!G4, Lookups!$O$29:$V$29, 0)),0)","v":12},{"$f":"IFERROR(INDEX(Lookups!$O$29:$V$33, MATCH('Rotation Assembler'!H$38, Lookups!$O$29:$O$33, 0), MATCH('Rotation Assembler'!H4, Lookups!$O$29:$V$29, 0)),0)","v":9},{"$f":"IFERROR(INDEX(Lookups!$O$29:$V$33, MATCH('Rotation Assembler'!I$38, Lookups!$O$29:$O$33, 0), MATCH('Rotation Assembler'!I4, Lookups!$O$29:$V$29, 0)),0)","v":9},{"$f":"IFERROR(INDEX(Lookups!$O$29:$V$33, MATCH('Rotation Assembler'!J$38, Lookups!$O$29:$O$33, 0), MATCH('Rotation Assembler'!J4, Lookups!$O$29:$V$29, 0)),0)","v":9},{"$f":"IFERROR(INDEX(Lookups!$O$29:$V$33, MATCH('Rotation Assembler'!K$38, Lookups!$O$29:$O$33, 0), MATCH('Rotation Assembler'!K4, Lookups!$O$29:$V$29, 0)),0)","v":9},{"$f":"IFERROR(INDEX(Lookups!$O$29:$V$33, MATCH('Rotation Assembler'!L$38, Lookups!$O$29:$O$33, 0), MATCH('Rotation Assembler'!L4, Lookups!$O$29:$V$29, 0)),0)","v":9},{"$f":"IFERROR(INDEX(Lookups!$O$29:$V$33, MATCH('Rotation Assembler'!M$38, Lookups!$O$29:$O$33, 0), MATCH('Rotation Assembler'!M4, Lookups!$O$29:$V$29, 0)),0)","v":9},{"$f":"IFERROR(INDEX(Lookups!$O$29:$V$33, MATCH('Rotation Assembler'!N$38, Lookups!$O$29:$O$33, 0), MATCH('Rotation Assembler'!N4, Lookups!$O$29:$V$29, 0)),0)","v":9},{"$f":"IFERROR(INDEX(Lookups!$O$29:$V$33, MATCH('Rotation Assembler'!O$38, Lookups!$O$29:$O$33, 0), MATCH('Rotation Assembler'!O4, Lookups!$O$29:$V$29, 0)),0)","v":9},{"$f":"IFERROR(INDEX(Lookups!$O$29:$V$33, MATCH('Rotation Assembler'!P$38, Lookups!$O$29:$O$33, 0), MATCH('Rotation Assembler'!P4, Lookups!$O$29:$V$29, 0)),0)","v":9},{"$f":"IFERROR(INDEX(Lookups!$O$29:$V$33, MATCH('Rotation Assembler'!Q$38, Lookups!$O$29:$O$33, 0), MATCH('Rotation Assembler'!Q4, Lookups!$O$29:$V$29, 0)),0)","v":9},{"$f":"IFERROR(INDEX(Lookups!$O$29:$V$33, MATCH('Rotation Assembler'!R$38, Lookups!$O$29:$O$33, 0), MATCH('Rotation Assembler'!R4, Lookups!$O$29:$V$29, 0)),0)","v":9},{"$f":"IFERROR(INDEX(Lookups!$O$29:$V$33, MATCH('Rotation Assembler'!S$38, Lookups!$O$29:$O$33, 0), MATCH('Rotation Assembler'!S4, Lookups!$O$29:$V$29, 0)),0)","v":9},{"$f":"IFERROR(INDEX(Lookups!$O$29:$V$33, MATCH('Rotation Assembler'!T$38, Lookups!$O$29:$O$33, 0), MATCH('Rotation Assembler'!T4, Lookups!$O$29:$V$29, 0)),0)","v":9},{"$f":"IFERROR(INDEX(Lookups!$O$29:$V$33, MATCH('Rotation Assembler'!U$38, Lookups!$O$29:$O$33, 0), MATCH('Rotation Assembler'!U4, Lookups!$O$29:$V$29, 0)),0)","v":9},null,{"$f":"IFERROR(INDEX(Lookups!$O$29:$V$33, MATCH('Rotation Assembler'!W$38, Lookups!$O$29:$O$33, 0), MATCH('Rotation Assembler'!W4, Lookups!$O$29:$V$29, 0)),0)","v":9},{"$f":"IFERROR(INDEX(Lookups!$O$29:$V$33, MATCH('Rotation Assembler'!X$38, Lookups!$O$29:$O$33, 0), MATCH('Rotation Assembler'!X4, Lookups!$O$29:$V$29, 0)),0)","v":12},{"$f":"IFERROR(INDEX(Lookups!$O$29:$V$33, MATCH('Rotation Assembler'!Y$38, Lookups!$O$29:$O$33, 0), MATCH('Rotation Assembler'!Y4, Lookups!$O$29:$V$29, 0)),0)","v":9},{"$f":"IFERROR(INDEX(Lookups!$O$29:$V$33, MATCH('Rotation Assembler'!Z$38, Lookups!$O$29:$O$33, 0), MATCH('Rotation Assembler'!Z4, Lookups!$O$29:$V$29, 0)),0)","v":9},{"$f":"IFERROR(INDEX(Lookups!$O$29:$V$33, MATCH('Rotation Assembler'!AA$38, Lookups!$O$29:$O$33, 0), MATCH('Rotation Assembler'!AA4, Lookups!$O$29:$V$29, 0)),0)","v":9},{"$f":"IFERROR(INDEX(Lookups!$O$29:$V$33, MATCH('Rotation Assembler'!AB$38, Lookups!$O$29:$O$33, 0), MATCH('Rotation Assembler'!AB4, Lookups!$O$29:$V$29, 0)),0)","v":9},{"$f":"IFERROR(INDEX(Lookups!$O$29:$V$33, MATCH('Rotation Assembler'!AC$38, Lookups!$O$29:$O$33, 0), MATCH('Rotation Assembler'!AC4, Lookups!$O$29:$V$29, 0)),0)","v":9},{"$f":"IFERROR(INDEX(Lookups!$O$29:$V$33, MATCH('Rotation Assembler'!AD$38, Lookups!$O$29:$O$33, 0), MATCH('Rotation Assembler'!AD4, Lookups!$O$29:$V$29, 0)),0)","v":12},{"$f":"IFERROR(INDEX(Lookups!$O$29:$V$33, MATCH('Rotation Assembler'!AE$38, Lookups!$O$29:$O$33, 0), MATCH('Rotation Assembler'!AE4, Lookups!$O$29:$V$29, 0)),0)","v":9},{"$f":"IFERROR(INDEX(Lookups!$O$29:$V$33, MATCH('Rotation Assembler'!AF$38, Lookups!$O$29:$O$33, 0), MATCH('Rotation Assembler'!AF4, Lookups!$O$29:$V$29, 0)),0)","v":0},{"$f":"IFERROR(INDEX(Lookups!$O$29:$V$33, MATCH('Rotation Assembler'!AG$38, Lookups!$O$29:$O$33, 0), MATCH('Rotation Assembler'!AG4, Lookups!$O$29:$V$29, 0)),0)","v":0},{"$f":"IFERROR(INDEX(Lookups!$O$29:$V$33, MATCH('Rotation Assembler'!AH$38, Lookups!$O$29:$O$33, 0), MATCH('Rotation Assembler'!AH4, Lookups!$O$29:$V$29, 0)),0)","v":0},{"$f":"IFERROR(INDEX(Lookups!$O$29:$V$33, MATCH('Rotation Assembler'!AI$38, Lookups!$O$29:$O$33, 0), MATCH('Rotation Assembler'!AI4, Lookups!$O$29:$V$29, 0)),0)","v":0},{"$f":"IFERROR(INDEX(Lookups!$O$29:$V$33, MATCH('Rotation Assembler'!AJ$38, Lookups!$O$29:$O$33, 0), MATCH('Rotation Assembler'!AJ4, Lookups!$O$29:$V$29, 0)),0)","v":0},{"$f":"IFERROR(INDEX(Lookups!$O$29:$V$33, MATCH('Rotation Assembler'!AK$38, Lookups!$O$29:$O$33, 0), MATCH('Rotation Assembler'!AK4, Lookups!$O$29:$V$29, 0)),0)","v":0},{"$f":"IFERROR(INDEX(Lookups!$O$29:$V$33, MATCH('Rotation Assembler'!AL$38, Lookups!$O$29:$O$33, 0), MATCH('Rotation Assembler'!AL4, Lookups!$O$29:$V$29, 0)),0)","v":0},{"$f":"IFERROR(INDEX(Lookups!$O$29:$V$33, MATCH('Rotation Assembler'!AM$38, Lookups!$O$29:$O$33, 0), MATCH('Rotation Assembler'!AM4, Lookups!$O$29:$V$29, 0)),0)","v":0},{"$f":"IFERROR(INDEX(Lookups!$O$29:$V$33, MATCH('Rotation Assembler'!AN$38, Lookups!$O$29:$O$33, 0), MATCH('Rotation Assembler'!AN4, Lookups!$O$29:$V$29, 0)),0)","v":0},{"$f":"IFERROR(INDEX(Lookups!$O$29:$V$33, MATCH('Rotation Assembler'!AO$38, Lookups!$O$29:$O$33, 0), MATCH('Rotation Assembler'!AO4, Lookups!$O$29:$V$29, 0)),0)","v":0},{"$f":"IFERROR(INDEX(Lookups!$O$29:$V$33, MATCH('Rotation Assembler'!AP$38, Lookups!$O$29:$O$33, 0), MATCH('Rotation Assembler'!AP4, Lookups!$O$29:$V$29, 0)),0)","v":0},{"$f":"IFERROR(INDEX(Lookups!$O$29:$V$33, MATCH('Rotation Assembler'!AQ$38, Lookups!$O$29:$O$33, 0), MATCH('Rotation Assembler'!AQ4, Lookups!$O$29:$V$29, 0)),0)","v":0},{"$f":"IFERROR(INDEX(Lookups!$O$29:$V$33, MATCH('Rotation Assembler'!AR$38, Lookups!$O$29:$O$33, 0), MATCH('Rotation Assembler'!AR4, Lookups!$O$29:$V$29, 0)),0)","v":0},{"$f":"IFERROR(INDEX(Lookups!$O$29:$V$33, MATCH('Rotation Assembler'!AS$38, Lookups!$O$29:$O$33, 0), MATCH('Rotation Assembler'!AS4, Lookups!$O$29:$V$29, 0)),0)","v":0},{"$f":"IFERROR(INDEX(Lookups!$O$29:$V$33, MATCH('Rotation Assembler'!AT$38, Lookups!$O$29:$O$33, 0), MATCH('Rotation Assembler'!AT4, Lookups!$O$29:$V$29, 0)),0)","v":0},{"$f":"IFERROR(INDEX(Lookups!$O$29:$V$33, MATCH('Rotation Assembler'!AU$38, Lookups!$O$29:$O$33, 0), MATCH('Rotation Assembler'!AU4, Lookups!$O$29:$V$29, 0)),0)","v":0},{"$f":"IFERROR(INDEX(Lookups!$O$29:$V$33, MATCH('Rotation Assembler'!AV$38, Lookups!$O$29:$O$33, 0), MATCH('Rotation Assembler'!AV4, Lookups!$O$29:$V$29, 0)),0)","v":0},{"$f":"IFERROR(INDEX(Lookups!$O$29:$V$33, MATCH('Rotation Assembler'!AW$38, Lookups!$O$29:$O$33, 0), MATCH('Rotation Assembler'!AW4, Lookups!$O$29:$V$29, 0)),0)","v":0},{"$f":"IFERROR(INDEX(Lookups!$O$29:$V$33, MATCH('Rotation Assembler'!AX$38, Lookups!$O$29:$O$33, 0), MATCH('Rotation Assembler'!AX4, Lookups!$O$29:$V$29, 0)),0)","v":0},{"$f":"IFERROR(INDEX(Lookups!$O$29:$V$33, MATCH('Rotation Assembler'!AY$38, Lookups!$O$29:$O$33, 0), MATCH('Rotation Assembler'!AY4, Lookups!$O$29:$V$29, 0)),0)","v":0},{"$f":"IFERROR(INDEX(Lookups!$O$29:$V$33, MATCH('Rotation Assembler'!AZ$38, Lookups!$O$29:$O$33, 0), MATCH('Rotation Assembler'!AZ4, Lookups!$O$29:$V$29, 0)),0)","v":0},{"$f":"IFERROR(INDEX(Lookups!$O$29:$V$33, MATCH('Rotation Assembler'!BA$38, Lookups!$O$29:$O$33, 0), MATCH('Rotation Assembler'!BA4, Lookups!$O$29:$V$29, 0)),0)","v":0},{"$f":"IFERROR(INDEX(Lookups!$O$29:$V$33, MATCH('Rotation Assembler'!BB$38, Lookups!$O$29:$O$33, 0), MATCH('Rotation Assembler'!BB4, Lookups!$O$29:$V$29, 0)),0)","v":0},{"$f":"IFERROR(INDEX(Lookups!$O$29:$V$33, MATCH('Rotation Assembler'!BC$38, Lookups!$O$29:$O$33, 0), MATCH('Rotation Assembler'!BC4, Lookups!$O$29:$V$29, 0)),0)","v":0},{"$f":"IFERROR(INDEX(Lookups!$O$29:$V$33, MATCH('Rotation Assembler'!BD$38, Lookups!$O$29:$O$33, 0), MATCH('Rotation Assembler'!BD4, Lookups!$O$29:$V$29, 0)),0)","v":0},{"$f":"IFERROR(INDEX(Lookups!$O$29:$V$33, MATCH('Rotation Assembler'!BE$38, Lookups!$O$29:$O$33, 0), MATCH('Rotation Assembler'!BE4, Lookups!$O$29:$V$29, 0)),0)","v":0},{"$f":"IFERROR(INDEX(Lookups!$O$29:$V$33, MATCH('Rotation Assembler'!BF$38, Lookups!$O$29:$O$33, 0), MATCH('Rotation Assembler'!BF4, Lookups!$O$29:$V$29, 0)),0)","v":0}]
["Healing Stat Scaler"]
["Is Healing Move?",{"$f":"IF(ISBLANK(INDEX(INDEX(MVs!$B:$B, INDEX(MVs!$V$2:$Z$4, 2, MATCH(B$38, MVs!$V$2:$Z$2, 0))):INDEX(MVs!$U:$U, INDEX(mvLookupTable, 3, MATCH(B$38, MVs!$V$2:$Z$2, 0))), MATCH(B$2, INDEX(MVs!$B:$B, INDEX(MVs!$V$2:$Z$4, 2, MATCH(B$38, MVs!$V$2:$Z$2, 0))):INDEX(MVs!$B:$B, INDEX(MVs!$V$2:$Z$4, 3, MATCH(B$38, MVs!$V$2:$Z$2, 0))), 0),20)), IF(AND(B13 = \"Healing\", B2 = \"Weapon Proc\"), TRUE, FALSE), TRUE)","v":false},{"$f":"IF(ISBLANK(INDEX(INDEX(MVs!$B:$B, INDEX(MVs!$V$2:$Z$4, 2, MATCH(C$38, MVs!$V$2:$Z$2, 0))):INDEX(MVs!$U:$U, INDEX(mvLookupTable, 3, MATCH(C$38, MVs!$V$2:$Z$2, 0))), MATCH(C$2, INDEX(MVs!$B:$B, INDEX(MVs!$V$2:$Z$4, 2, MATCH(C$38, MVs!$V$2:$Z$2, 0))):INDEX(MVs!$B:$B, INDEX(MVs!$V$2:$Z$4, 3, MATCH(C$38, MVs!$V$2:$Z$2, 0))), 0),20)), IF(AND(C13 = \"Healing\", C2 = \"Weapon Proc\"), TRUE, FALSE), TRUE)","v":false},{"$f":"IF(ISBLANK(INDEX(INDEX(MVs!$B:$B, INDEX(MVs!$V$2:$Z$4, 2, MATCH(D$38, MVs!$V$2:$Z$2, 0))):INDEX(MVs!$U:$U, INDEX(mvLookupTable, 3, MATCH(D$38, MVs!$V$2:$Z$2, 0))), MATCH(D$2, INDEX(MVs!$B:$B, INDEX(MVs!$V$2:$Z$4, 2, MATCH(D$38, MVs!$V$2:$Z$2, 0))):INDEX(MVs!$B:$B, INDEX(MVs!$V$2:$Z$4, 3, MATCH(D$38, MVs!$V$2:$Z$2, 0))), 0),20)), IF(AND(D13 = \"Healing\", D2 = \"Weapon Proc\"), TRUE, FALSE), TRUE)","v":false},{"$f":"IF(ISBLANK(INDEX(INDEX(MVs!$B:$B, INDEX(MVs!$V$2:$Z$4, 2, MATCH(E$38, MVs!$V$2:$Z$2, 0))):INDEX(MVs!$U:$U, INDEX(mvLookupTable, 3, MATCH(E$38, MVs!$V$2:$Z$2, 0))), MATCH(E$2, INDEX(MVs!$B:$B, INDEX(MVs!$V$2:$Z$4, 2, MATCH(E$38, MVs!$V$2:$Z$2, 0))):INDEX(MVs!$B:$B, INDEX(MVs!$V$2:$Z$4, 3, MATCH(E$38, MVs!$V$2:$Z$2, 0))), 0),20)), IF(AND(E13 = \"Healing\", E2 = \"Weapon Proc\"), TRUE, FALSE), TRUE)","v":false},{"$f":"IF(ISBLANK(INDEX(INDEX(MVs!$B:$B, INDEX(MVs!$V$2:$Z$4, 2, MATCH(F$38, MVs!$V$2:$Z$2, 0))):INDEX(MVs!$U:$U, INDEX(mvLookupTable, 3, MATCH(F$38, MVs!$V$2:$Z$2, 0))), MATCH(F$2, INDEX(MVs!$B:$B, INDEX(MVs!$V$2:$Z$4, 2, MATCH(F$38, MVs!$V$2:$Z$2, 0))):INDEX(MVs!$B:$B, INDEX(MVs!$V$2:$Z$4, 3, MATCH(F$38, MVs!$V$2:$Z$2, 0))), 0),20)), IF(AND(F13 = \"Healing\", F2 = \"Weapon Proc\"), TRUE, FALSE), TRUE)","v":false},{"$f":"IF(ISBLANK(INDEX(INDEX(MVs!$B:$B, INDEX(MVs!$V$2:$Z$4, 2, MATCH(G$38, MVs!$V$2:$Z$2, 0))):INDEX(MVs!$U:$U, INDEX(mvLookupTable, 3, MATCH(G$38, MVs!$V$2:$Z$2, 0))), MATCH(G$2, INDEX(MVs!$B:$B, INDEX(MVs!$V$2:$Z$4, 2, MATCH(G$38, MVs!$V$2:$Z$2, 0))):INDEX(MVs!$B:$B, INDEX(MVs!$V$2:$Z$4, 3, MATCH(G$38, MVs!$V$2:$Z$2, 0))), 0),20)), IF(AND(G13 = \"Healing\", G2 = \"Weapon Proc\"), TRUE, FALSE), TRUE)","v":false},{"$f":"IF(ISBLANK(INDEX(INDEX(MVs!$B:$B, INDEX(MVs!$V$2:$Z$4, 2, MATCH(H$38, MVs!$V$2:$Z$2, 0))):INDEX(MVs!$U:$U, INDEX(mvLookupTable, 3, MATCH(H$38, MVs!$V$2:$Z$2, 0))), MATCH(H$2, INDEX(MVs!$B:$B, INDEX(MVs!$V$2:$Z$4, 2, MATCH(H$38, MVs!$V$2:$Z$2, 0))):INDEX(MVs!$B:$B, INDEX(MVs!$V$2:$Z$4, 3, MATCH(H$38, MVs!$V$2:$Z$2, 0))), 0),20)), IF(AND(H13 = \"Healing\", H2 = \"Weapon Proc\"), TRUE, FALSE), TRUE)","v":false},{"$f":"IF(ISBLANK(INDEX(INDEX(MVs!$B:$B, INDEX(MVs!$V$2:$Z$4, 2, MATCH(I$38, MVs!$V$2:$Z$2, 0))):INDEX(MVs!$U:$U, INDEX(mvLookupTable, 3, MATCH(I$38, MVs!$V$2:$Z$2, 0))), MATCH(I$2, INDEX(MVs!$B:$B, INDEX(MVs!$V$2:$Z$4, 2, MATCH(I$38, MVs!$V$2:$Z$2, 0))):INDEX(MVs!$B:$B, INDEX(MVs!$V$2:$Z$4, 3, MATCH(I$38, MVs!$V$2:$Z$2, 0))), 0),20)), IF(AND(I13 = \"Healing\", I2 = \"Weapon Proc\"), TRUE, FALSE), TRUE)","v":false},{"$f":"IF(ISBLANK(INDEX(INDEX(MVs!$B:$B, INDEX(MVs!$V$2:$Z$4, 2, MATCH(J$38, MVs!$V$2:$Z$2, 0))):INDEX(MVs!$U:$U, INDEX(mvLookupTable, 3, MATCH(J$38, MVs!$V$2:$Z$2, 0))), MATCH(J$2, INDEX(MVs!$B:$B, INDEX(MVs!$V$2:$Z$4, 2, MATCH(J$38, MVs!$V$2:$Z$2, 0))):INDEX(MVs!$B:$B, INDEX(MVs!$V$2:$Z$4, 3, MATCH(J$38, MVs!$V$2:$Z$2, 0))), 0),20)), IF(AND(J13 = \"Healing\", J2 = \"Weapon Proc\"), TRUE, FALSE), TRUE)","v":false},{"$f":"IF(ISBLANK(INDEX(INDEX(MVs!$B:$B, INDEX(MVs!$V$2:$Z$4, 2, MATCH(K$38, MVs!$V$2:$Z$2, 0))):INDEX(MVs!$U:$U, INDEX(mvLookupTable, 3, MATCH(K$38, MVs!$V$2:$Z$2, 0))), MATCH(K$2, INDEX(MVs!$B:$B, INDEX(MVs!$V$2:$Z$4, 2, MATCH(K$38, MVs!$V$2:$Z$2, 0))):INDEX(MVs!$B:$B, INDEX(MVs!$V$2:$Z$4, 3, MATCH(K$38, MVs!$V$2:$Z$2, 0))), 0),20)), IF(AND(K13 = \"Healing\", K2 = \"Weapon Proc\"), TRUE, FALSE), TRUE)","v":false},{"$f":"IF(ISBLANK(INDEX(INDEX(MVs!$B:$B, INDEX(MVs!$V$2:$Z$4, 2, MATCH(L$38, MVs!$V$2:$Z$2, 0))):INDEX(MVs!$U:$U, INDEX(mvLookupTable, 3, MATCH(L$38, MVs!$V$2:$Z$2, 0))), MATCH(L$2, INDEX(MVs!$B:$B, INDEX(MVs!$V$2:$Z$4, 2, MATCH(L$38, MVs!$V$2:$Z$2, 0))):INDEX(MVs!$B:$B, INDEX(MVs!$V$2:$Z$4, 3, MATCH(L$38, MVs!$V$2:$Z$2, 0))), 0),20)), IF(AND(L13 = \"Healing\", L2 = \"Weapon Proc\"), TRUE, FALSE), TRUE)","v":false},{"$f":"IF(ISBLANK(INDEX(INDEX(MVs!$B:$B, INDEX(MVs!$V$2:$Z$4, 2, MATCH(M$38, MVs!$V$2:$Z$2, 0))):INDEX(MVs!$U:$U, INDEX(mvLookupTable, 3, MATCH(M$38, MVs!$V$2:$Z$2, 0))), MATCH(M$2, INDEX(MVs!$B:$B, INDEX(MVs!$V$2:$Z$4, 2, MATCH(M$38, MVs!$V$2:$Z$2, 0))):INDEX(MVs!$B:$B, INDEX(MVs!$V$2:$Z$4, 3, MATCH(M$38, MVs!$V$2:$Z$2, 0))), 0),20)), IF(AND(M13 = \"Healing\", M2 = \"Weapon Proc\"), TRUE, FALSE), TRUE)","v":false},{"$f":"IF(ISBLANK(INDEX(INDEX(MVs!$B:$B, INDEX(MVs!$V$2:$Z$4, 2, MATCH(N$38, MVs!$V$2:$Z$2, 0))):INDEX(MVs!$U:$U, INDEX(mvLookupTable, 3, MATCH(N$38, MVs!$V$2:$Z$2, 0))), MATCH(N$2, INDEX(MVs!$B:$B, INDEX(MVs!$V$2:$Z$4, 2, MATCH(N$38, MVs!$V$2:$Z$2, 0))):INDEX(MVs!$B:$B, INDEX(MVs!$V$2:$Z$4, 3, MATCH(N$38, MVs!$V$2:$Z$2, 0))), 0),20)), IF(AND(N13 = \"Healing\", N2 = \"Weapon Proc\"), TRUE, FALSE), TRUE)","v":false},{"$f":"IF(ISBLANK(INDEX(INDEX(MVs!$B:$B, INDEX(MVs!$V$2:$Z$4, 2, MATCH(O$38, MVs!$V$2:$Z$2, 0))):INDEX(MVs!$U:$U, INDEX(mvLookupTable, 3, MATCH(O$38, MVs!$V$2:$Z$2, 0))), MATCH(O$2, INDEX(MVs!$B:$B, INDEX(MVs!$V$2:$Z$4, 2, MATCH(O$38, MVs!$V$2:$Z$2, 0))):INDEX(MVs!$B:$B, INDEX(MVs!$V$2:$Z$4, 3, MATCH(O$38, MVs!$V$2:$Z$2, 0))), 0),20)), IF(AND(O13 = \"Healing\", O2 = \"Weapon Proc\"), TRUE, FALSE), TRUE)","v":false},{"$f":"IF(ISBLANK(INDEX(INDEX(MVs!$B:$B, INDEX(MVs!$V$2:$Z$4, 2, MATCH(P$38, MVs!$V$2:$Z$2, 0))):INDEX(MVs!$U:$U, INDEX(mvLookupTable, 3, MATCH(P$38, MVs!$V$2:$Z$2, 0))), MATCH(P$2, INDEX(MVs!$B:$B, INDEX(MVs!$V$2:$Z$4, 2, MATCH(P$38, MVs!$V$2:$Z$2, 0))):INDEX(MVs!$B:$B, INDEX(MVs!$V$2:$Z$4, 3, MATCH(P$38, MVs!$V$2:$Z$2, 0))), 0),20)), IF(AND(P13 = \"Healing\", P2 = \"Weapon Proc\"), TRUE, FALSE), TRUE)","v":false},{"$f":"IF(ISBLANK(INDEX(INDEX(MVs!$B:$B, INDEX(MVs!$V$2:$Z$4, 2, MATCH(Q$38, MVs!$V$2:$Z$2, 0))):INDEX(MVs!$U:$U, INDEX(mvLookupTable, 3, MATCH(Q$38, MVs!$V$2:$Z$2, 0))), MATCH(Q$2, INDEX(MVs!$B:$B, INDEX(MVs!$V$2:$Z$4, 2, MATCH(Q$38, MVs!$V$2:$Z$2, 0))):INDEX(MVs!$B:$B, INDEX(MVs!$V$2:$Z$4, 3, MATCH(Q$38, MVs!$V$2:$Z$2, 0))), 0),20)), IF(AND(Q13 = \"Healing\", Q2 = \"Weapon Proc\"), TRUE, FALSE), TRUE)","v":false},{"$f":"IF(ISBLANK(INDEX(INDEX(MVs!$B:$B, INDEX(MVs!$V$2:$Z$4, 2, MATCH(R$38, MVs!$V$2:$Z$2, 0))):INDEX(MVs!$U:$U, INDEX(mvLookupTable, 3, MATCH(R$38, MVs!$V$2:$Z$2, 0))), MATCH(R$2, INDEX(MVs!$B:$B, INDEX(MVs!$V$2:$Z$4, 2, MATCH(R$38, MVs!$V$2:$Z$2, 0))):INDEX(MVs!$B:$B, INDEX(MVs!$V$2:$Z$4, 3, MATCH(R$38, MVs!$V$2:$Z$2, 0))), 0),20)), IF(AND(R13 = \"Healing\", R2 = \"Weapon Proc\"), TRUE, FALSE), TRUE)","v":false},{"$f":"IF(ISBLANK(INDEX(INDEX(MVs!$B:$B, INDEX(MVs!$V$2:$Z$4, 2, MATCH(S$38, MVs!$V$2:$Z$2, 0))):INDEX(MVs!$U:$U, INDEX(mvLookupTable, 3, MATCH(S$38, MVs!$V$2:$Z$2, 0))), MATCH(S$2, INDEX(MVs!$B:$B, INDEX(MVs!$V$2:$Z$4, 2, MATCH(S$38, MVs!$V$2:$Z$2, 0))):INDEX(MVs!$B:$B, INDEX(MVs!$V$2:$Z$4, 3, MATCH(S$38, MVs!$V$2:$Z$2, 0))), 0),20)), IF(AND(S13 = \"Healing\", S2 = \"Weapon Proc\"), TRUE, FALSE), TRUE)","v":false},{"$f":"IF(ISBLANK(INDEX(INDEX(MVs!$B:$B, INDEX(MVs!$V$2:$Z$4, 2, MATCH(T$38, MVs!$V$2:$Z$2, 0))):INDEX(MVs!$U:$U, INDEX(mvLookupTable, 3, MATCH(T$38, MVs!$V$2:$Z$2, 0))), MATCH(T$2, INDEX(MVs!$B:$B, INDEX(MVs!$V$2:$Z$4, 2, MATCH(T$38, MVs!$V$2:$Z$2, 0))):INDEX(MVs!$B:$B, INDEX(MVs!$V$2:$Z$4, 3, MATCH(T$38, MVs!$V$2:$Z$2, 0))), 0),20)), IF(AND(T13 = \"Healing\", T2 = \"Weapon Proc\"), TRUE, FALSE), TRUE)","v":false},{"$f":"IF(ISBLANK(INDEX(INDEX(MVs!$B:$B, INDEX(MVs!$V$2:$Z$4, 2, MATCH(U$38, MVs!$V$2:$Z$2, 0))):INDEX(MVs!$U:$U, INDEX(mvLookupTable, 3, MATCH(U$38, MVs!$V$2:$Z$2, 0))), MATCH(U$2, INDEX(MVs!$B:$B, INDEX(MVs!$V$2:$Z$4, 2, MATCH(U$38, MVs!$V$2:$Z$2, 0))):INDEX(MVs!$B:$B, INDEX(MVs!$V$2:$Z$4, 3, MATCH(U$38, MVs!$V$2:$Z$2, 0))), 0),20)), IF(AND(U13 = \"Healing\", U2 = \"Weapon Proc\"), TRUE, FALSE), TRUE)","v":false},null,{"$f":"IF(ISBLANK(INDEX(INDEX(MVs!$B:$B, INDEX(MVs!$V$2:$Z$4, 2, MATCH(W$38, MVs!$V$2:$Z$2, 0))):INDEX(MVs!$U:$U, INDEX(mvLookupTable, 3, MATCH(W$38, MVs!$V$2:$Z$2, 0))), MATCH(W$2, INDEX(MVs!$B:$B, INDEX(MVs!$V$2:$Z$4, 2, MATCH(W$38, MVs!$V$2:$Z$2, 0))):INDEX(MVs!$B:$B, INDEX(MVs!$V$2:$Z$4, 3, MATCH(W$38, MVs!$V$2:$Z$2, 0))), 0),20)), IF(AND(W13 = \"Healing\", W2 = \"Weapon Proc\"), TRUE, FALSE), TRUE)","v":false},{"$f":"IF(ISBLANK(INDEX(INDEX(MVs!$B:$B, INDEX(MVs!$V$2:$Z$4, 2, MATCH(X$38, MVs!$V$2:$Z$2, 0))):INDEX(MVs!$U:$U, INDEX(mvLookupTable, 3, MATCH(X$38, MVs!$V$2:$Z$2, 0))), MATCH(X$2, INDEX(MVs!$B:$B, INDEX(MVs!$V$2:$Z$4, 2, MATCH(X$38, MVs!$V$2:$Z$2, 0))):INDEX(MVs!$B:$B, INDEX(MVs!$V$2:$Z$4, 3, MATCH(X$38, MVs!$V$2:$Z$2, 0))), 0),20)), IF(AND(X13 = \"Healing\", X2 = \"Weapon Proc\"), TRUE, FALSE), TRUE)","v":false},{"$f":"IF(ISBLANK(INDEX(INDEX(MVs!$B:$B, INDEX(MVs!$V$2:$Z$4, 2, MATCH(Y$38, MVs!$V$2:$Z$2, 0))):INDEX(MVs!$U:$U, INDEX(mvLookupTable, 3, MATCH(Y$38, MVs!$V$2:$Z$2, 0))), MATCH(Y$2, INDEX(MVs!$B:$B, INDEX(MVs!$V$2:$Z$4, 2, MATCH(Y$38, MVs!$V$2:$Z$2, 0))):INDEX(MVs!$B:$B, INDEX(MVs!$V$2:$Z$4, 3, MATCH(Y$38, MVs!$V$2:$Z$2, 0))), 0),20)), IF(AND(Y13 = \"Healing\", Y2 = \"Weapon Proc\"), TRUE, FALSE), TRUE)","v":false},{"$f":"IF(ISBLANK(INDEX(INDEX(MVs!$B:$B, INDEX(MVs!$V$2:$Z$4, 2, MATCH(Z$38, MVs!$V$2:$Z$2, 0))):INDEX(MVs!$U:$U, INDEX(mvLookupTable, 3, MATCH(Z$38, MVs!$V$2:$Z$2, 0))), MATCH(Z$2, INDEX(MVs!$B:$B, INDEX(MVs!$V$2:$Z$4, 2, MATCH(Z$38, MVs!$V$2:$Z$2, 0))):INDEX(MVs!$B:$B, INDEX(MVs!$V$2:$Z$4, 3, MATCH(Z$38, MVs!$V$2:$Z$2, 0))), 0),20)), IF(AND(Z13 = \"Healing\", Z2 = \"Weapon Proc\"), TRUE, FALSE), TRUE)","v":false},{"$f":"IF(ISBLANK(INDEX(INDEX(MVs!$B:$B, INDEX(MVs!$V$2:$Z$4, 2, MATCH(AA$38, MVs!$V$2:$Z$2, 0))):INDEX(MVs!$U:$U, INDEX(mvLookupTable, 3, MATCH(AA$38, MVs!$V$2:$Z$2, 0))), MATCH(AA$2, INDEX(MVs!$B:$B, INDEX(MVs!$V$2:$Z$4, 2, MATCH(AA$38, MVs!$V$2:$Z$2, 0))):INDEX(MVs!$B:$B, INDEX(MVs!$V$2:$Z$4, 3, MATCH(AA$38, MVs!$V$2:$Z$2, 0))), 0),20)), IF(AND(AA13 = \"Healing\", AA2 = \"Weapon Proc\"), TRUE, FALSE), TRUE)","v":false},{"$f":"IF(ISBLANK(INDEX(INDEX(MVs!$B:$B, INDEX(MVs!$V$2:$Z$4, 2, MATCH(AB$38, MVs!$V$2:$Z$2, 0))):INDEX(MVs!$U:$U, INDEX(mvLookupTable, 3, MATCH(AB$38, MVs!$V$2:$Z$2, 0))), MATCH(AB$2, INDEX(MVs!$B:$B, INDEX(MVs!$V$2:$Z$4, 2, MATCH(AB$38, MVs!$V$2:$Z$2, 0))):INDEX(MVs!$B:$B, INDEX(MVs!$V$2:$Z$4, 3, MATCH(AB$38, MVs!$V$2:$Z$2, 0))), 0),20)), IF(AND(AB13 = \"Healing\", AB2 = \"Weapon Proc\"), TRUE, FALSE), TRUE)","v":false},{"$f":"IF(ISBLANK(INDEX(INDEX(MVs!$B:$B, INDEX(MVs!$V$2:$Z$4, 2, MATCH(AC$38, MVs!$V$2:$Z$2, 0))):INDEX(MVs!$U:$U, INDEX(mvLookupTable, 3, MATCH(AC$38, MVs!$V$2:$Z$2, 0))), MATCH(AC$2, INDEX(MVs!$B:$B, INDEX(MVs!$V$2:$Z$4, 2, MATCH(AC$38, MVs!$V$2:$Z$2, 0))):INDEX(MVs!$B:$B, INDEX(MVs!$V$2:$Z$4, 3, MATCH(AC$38, MVs!$V$2:$Z$2, 0))), 0),20)), IF(AND(AC13 = \"Healing\", AC2 = \"Weapon Proc\"), TRUE, FALSE), TRUE)","v":false},{"$f":"IF(ISBLANK(INDEX(INDEX(MVs!$B:$B, INDEX(MVs!$V$2:$Z$4, 2, MATCH(AD$38, MVs!$V$2:$Z$2, 0))):INDEX(MVs!$U:$U, INDEX(mvLookupTable, 3, MATCH(AD$38, MVs!$V$2:$Z$2, 0))), MATCH(AD$2, INDEX(MVs!$B:$B, INDEX(MVs!$V$2:$Z$4, 2, MATCH(AD$38, MVs!$V$2:$Z$2, 0))):INDEX(MVs!$B:$B, INDEX(MVs!$V$2:$Z$4, 3, MATCH(AD$38, MVs!$V$2:$Z$2, 0))), 0),20)), IF(AND(AD13 = \"Healing\", AD2 = \"Weapon Proc\"), TRUE, FALSE), TRUE)","v":false},{"$f":"IF(ISBLANK(INDEX(INDEX(MVs!$B:$B, INDEX(MVs!$V$2:$Z$4, 2, MATCH(AE$38, MVs!$V$2:$Z$2, 0))):INDEX(MVs!$U:$U, INDEX(mvLookupTable, 3, MATCH(AE$38, MVs!$V$2:$Z$2, 0))), MATCH(AE$2, INDEX(MVs!$B:$B, INDEX(MVs!$V$2:$Z$4, 2, MATCH(AE$38, MVs!$V$2:$Z$2, 0))):INDEX(MVs!$B:$B, INDEX(MVs!$V$2:$Z$4, 3, MATCH(AE$38, MVs!$V$2:$Z$2, 0))), 0),20)), IF(AND(AE13 = \"Healing\", AE2 = \"Weapon Proc\"), TRUE, FALSE), TRUE)","v":false},{"$f":"IF(ISBLANK(INDEX(INDEX(MVs!$B:$B, INDEX(MVs!$V$2:$Z$4, 2, MATCH(AF$38, MVs!$V$2:$Z$2, 0))):INDEX(MVs!$U:$U, INDEX(mvLookupTable, 3, MATCH(AF$38, MVs!$V$2:$Z$2, 0))), MATCH(AF$2, INDEX(MVs!$B:$B, INDEX(MVs!$V$2:$Z$4, 2, MATCH(AF$38, MVs!$V$2:$Z$2, 0))):INDEX(MVs!$B:$B, INDEX(MVs!$V$2:$Z$4, 3, MATCH(AF$38, MVs!$V$2:$Z$2, 0))), 0),20)), IF(AND(AF13 = \"Healing\", AF2 = \"Weapon Proc\"), TRUE, FALSE), TRUE)","v":true},{"$f":"IF(ISBLANK(INDEX(INDEX(MVs!$B:$B, INDEX(MVs!$V$2:$Z$4, 2, MATCH(AG$38, MVs!$V$2:$Z$2, 0))):INDEX(MVs!$U:$U, INDEX(mvLookupTable, 3, MATCH(AG$38, MVs!$V$2:$Z$2, 0))), MATCH(AG$2, INDEX(MVs!$B:$B, INDEX(MVs!$V$2:$Z$4, 2, MATCH(AG$38, MVs!$V$2:$Z$2, 0))):INDEX(MVs!$B:$B, INDEX(MVs!$V$2:$Z$4, 3, MATCH(AG$38, MVs!$V$2:$Z$2, 0))), 0),20)), IF(AND(AG13 = \"Healing\", AG2 = \"Weapon Proc\"), TRUE, FALSE), TRUE)","v":true},{"$f":"IF(ISBLANK(INDEX(INDEX(MVs!$B:$B, INDEX(MVs!$V$2:$Z$4, 2, MATCH(AH$38, MVs!$V$2:$Z$2, 0))):INDEX(MVs!$U:$U, INDEX(mvLookupTable, 3, MATCH(AH$38, MVs!$V$2:$Z$2, 0))), MATCH(AH$2, INDEX(MVs!$B:$B, INDEX(MVs!$V$2:$Z$4, 2, MATCH(AH$38, MVs!$V$2:$Z$2, 0))):INDEX(MVs!$B:$B, INDEX(MVs!$V$2:$Z$4, 3, MATCH(AH$38, MVs!$V$2:$Z$2, 0))), 0),20)), IF(AND(AH13 = \"Healing\", AH2 = \"Weapon Proc\"), TRUE, FALSE), TRUE)","v":true},{"$f":"IF(ISBLANK(INDEX(INDEX(MVs!$B:$B, INDEX(MVs!$V$2:$Z$4, 2, MATCH(AI$38, MVs!$V$2:$Z$2, 0))):INDEX(MVs!$U:$U, INDEX(mvLookupTable, 3, MATCH(AI$38, MVs!$V$2:$Z$2, 0))), MATCH(AI$2, INDEX(MVs!$B:$B, INDEX(MVs!$V$2:$Z$4, 2, MATCH(AI$38, MVs!$V$2:$Z$2, 0))):INDEX(MVs!$B:$B, INDEX(MVs!$V$2:$Z$4, 3, MATCH(AI$38, MVs!$V$2:$Z$2, 0))), 0),20)), IF(AND(AI13 = \"Healing\", AI2 = \"Weapon Proc\"), TRUE, FALSE), TRUE)","v":true},{"$f":"IF(ISBLANK(INDEX(INDEX(MVs!$B:$B, INDEX(MVs!$V$2:$Z$4, 2, MATCH(AJ$38, MVs!$V$2:$Z$2, 0))):INDEX(MVs!$U:$U, INDEX(mvLookupTable, 3, MATCH(AJ$38, MVs!$V$2:$Z$2, 0))), MATCH(AJ$2, INDEX(MVs!$B:$B, INDEX(MVs!$V$2:$Z$4, 2, MATCH(AJ$38, MVs!$V$2:$Z$2, 0))):INDEX(MVs!$B:$B, INDEX(MVs!$V$2:$Z$4, 3, MATCH(AJ$38, MVs!$V$2:$Z$2, 0))), 0),20)), IF(AND(AJ13 = \"Healing\", AJ2 = \"Weapon Proc\"), TRUE, FALSE), TRUE)","v":true},{"$f":"IF(ISBLANK(INDEX(INDEX(MVs!$B:$B, INDEX(MVs!$V$2:$Z$4, 2, MATCH(AK$38, MVs!$V$2:$Z$2, 0))):INDEX(MVs!$U:$U, INDEX(mvLookupTable, 3, MATCH(AK$38, MVs!$V$2:$Z$2, 0))), MATCH(AK$2, INDEX(MVs!$B:$B, INDEX(MVs!$V$2:$Z$4, 2, MATCH(AK$38, MVs!$V$2:$Z$2, 0))):INDEX(MVs!$B:$B, INDEX(MVs!$V$2:$Z$4, 3, MATCH(AK$38, MVs!$V$2:$Z$2, 0))), 0),20)), IF(AND(AK13 = \"Healing\", AK2 = \"Weapon Proc\"), TRUE, FALSE), TRUE)","v":true},{"$f":"IF(ISBLANK(INDEX(INDEX(MVs!$B:$B, INDEX(MVs!$V$2:$Z$4, 2, MATCH(AL$38, MVs!$V$2:$Z$2, 0))):INDEX(MVs!$U:$U, INDEX(mvLookupTable, 3, MATCH(AL$38, MVs!$V$2:$Z$2, 0))), MATCH(AL$2, INDEX(MVs!$B:$B, INDEX(MVs!$V$2:$Z$4, 2, MATCH(AL$38, MVs!$V$2:$Z$2, 0))):INDEX(MVs!$B:$B, INDEX(MVs!$V$2:$Z$4, 3, MATCH(AL$38, MVs!$V$2:$Z$2, 0))), 0),20)), IF(AND(AL13 = \"Healing\", AL2 = \"Weapon Proc\"), TRUE, FALSE), TRUE)","v":true},{"$f":"IF(ISBLANK(INDEX(INDEX(MVs!$B:$B, INDEX(MVs!$V$2:$Z$4, 2, MATCH(AM$38, MVs!$V$2:$Z$2, 0))):INDEX(MVs!$U:$U, INDEX(mvLookupTable, 3, MATCH(AM$38, MVs!$V$2:$Z$2, 0))), MATCH(AM$2, INDEX(MVs!$B:$B, INDEX(MVs!$V$2:$Z$4, 2, MATCH(AM$38, MVs!$V$2:$Z$2, 0))):INDEX(MVs!$B:$B, INDEX(MVs!$V$2:$Z$4, 3, MATCH(AM$38, MVs!$V$2:$Z$2, 0))), 0),20)), IF(AND(AM13 = \"Healing\", AM2 = \"Weapon Proc\"), TRUE, FALSE), TRUE)","v":true},{"$f":"IF(ISBLANK(INDEX(INDEX(MVs!$B:$B, INDEX(MVs!$V$2:$Z$4, 2, MATCH(AN$38, MVs!$V$2:$Z$2, 0))):INDEX(MVs!$U:$U, INDEX(mvLookupTable, 3, MATCH(AN$38, MVs!$V$2:$Z$2, 0))), MATCH(AN$2, INDEX(MVs!$B:$B, INDEX(MVs!$V$2:$Z$4, 2, MATCH(AN$38, MVs!$V$2:$Z$2, 0))):INDEX(MVs!$B:$B, INDEX(MVs!$V$2:$Z$4, 3, MATCH(AN$38, MVs!$V$2:$Z$2, 0))), 0),20)), IF(AND(AN13 = \"Healing\", AN2 = \"Weapon Proc\"), TRUE, FALSE), TRUE)","v":true},{"$f":"IF(ISBLANK(INDEX(INDEX(MVs!$B:$B, INDEX(MVs!$V$2:$Z$4, 2, MATCH(AO$38, MVs!$V$2:$Z$2, 0))):INDEX(MVs!$U:$U, INDEX(mvLookupTable, 3, MATCH(AO$38, MVs!$V$2:$Z$2, 0))), MATCH(AO$2, INDEX(MVs!$B:$B, INDEX(MVs!$V$2:$Z$4, 2, MATCH(AO$38, MVs!$V$2:$Z$2, 0))):INDEX(MVs!$B:$B, INDEX(MVs!$V$2:$Z$4, 3, MATCH(AO$38, MVs!$V$2:$Z$2, 0))), 0),20)), IF(AND(AO13 = \"Healing\", AO2 = \"Weapon Proc\"), TRUE, FALSE), TRUE)","v":true},{"$f":"IF(ISBLANK(INDEX(INDEX(MVs!$B:$B, INDEX(MVs!$V$2:$Z$4, 2, MATCH(AP$38, MVs!$V$2:$Z$2, 0))):INDEX(MVs!$U:$U, INDEX(mvLookupTable, 3, MATCH(AP$38, MVs!$V$2:$Z$2, 0))), MATCH(AP$2, INDEX(MVs!$B:$B, INDEX(MVs!$V$2:$Z$4, 2, MATCH(AP$38, MVs!$V$2:$Z$2, 0))):INDEX(MVs!$B:$B, INDEX(MVs!$V$2:$Z$4, 3, MATCH(AP$38, MVs!$V$2:$Z$2, 0))), 0),20)), IF(AND(AP13 = \"Healing\", AP2 = \"Weapon Proc\"), TRUE, FALSE), TRUE)","v":true},{"$f":"IF(ISBLANK(INDEX(INDEX(MVs!$B:$B, INDEX(MVs!$V$2:$Z$4, 2, MATCH(AQ$38, MVs!$V$2:$Z$2, 0))):INDEX(MVs!$U:$U, INDEX(mvLookupTable, 3, MATCH(AQ$38, MVs!$V$2:$Z$2, 0))), MATCH(AQ$2, INDEX(MVs!$B:$B, INDEX(MVs!$V$2:$Z$4, 2, MATCH(AQ$38, MVs!$V$2:$Z$2, 0))):INDEX(MVs!$B:$B, INDEX(MVs!$V$2:$Z$4, 3, MATCH(AQ$38, MVs!$V$2:$Z$2, 0))), 0),20)), IF(AND(AQ13 = \"Healing\", AQ2 = \"Weapon Proc\"), TRUE, FALSE), TRUE)","v":true},{"$f":"IF(ISBLANK(INDEX(INDEX(MVs!$B:$B, INDEX(MVs!$V$2:$Z$4, 2, MATCH(AR$38, MVs!$V$2:$Z$2, 0))):INDEX(MVs!$U:$U, INDEX(mvLookupTable, 3, MATCH(AR$38, MVs!$V$2:$Z$2, 0))), MATCH(AR$2, INDEX(MVs!$B:$B, INDEX(MVs!$V$2:$Z$4, 2, MATCH(AR$38, MVs!$V$2:$Z$2, 0))):INDEX(MVs!$B:$B, INDEX(MVs!$V$2:$Z$4, 3, MATCH(AR$38, MVs!$V$2:$Z$2, 0))), 0),20)), IF(AND(AR13 = \"Healing\", AR2 = \"Weapon Proc\"), TRUE, FALSE), TRUE)","v":true},{"$f":"IF(ISBLANK(INDEX(INDEX(MVs!$B:$B, INDEX(MVs!$V$2:$Z$4, 2, MATCH(AS$38, MVs!$V$2:$Z$2, 0))):INDEX(MVs!$U:$U, INDEX(mvLookupTable, 3, MATCH(AS$38, MVs!$V$2:$Z$2, 0))), MATCH(AS$2, INDEX(MVs!$B:$B, INDEX(MVs!$V$2:$Z$4, 2, MATCH(AS$38, MVs!$V$2:$Z$2, 0))):INDEX(MVs!$B:$B, INDEX(MVs!$V$2:$Z$4, 3, MATCH(AS$38, MVs!$V$2:$Z$2, 0))), 0),20)), IF(AND(AS13 = \"Healing\", AS2 = \"Weapon Proc\"), TRUE, FALSE), TRUE)","v":true},{"$f":"IF(ISBLANK(INDEX(INDEX(MVs!$B:$B, INDEX(MVs!$V$2:$Z$4, 2, MATCH(AT$38, MVs!$V$2:$Z$2, 0))):INDEX(MVs!$U:$U, INDEX(mvLookupTable, 3, MATCH(AT$38, MVs!$V$2:$Z$2, 0))), MATCH(AT$2, INDEX(MVs!$B:$B, INDEX(MVs!$V$2:$Z$4, 2, MATCH(AT$38, MVs!$V$2:$Z$2, 0))):INDEX(MVs!$B:$B, INDEX(MVs!$V$2:$Z$4, 3, MATCH(AT$38, MVs!$V$2:$Z$2, 0))), 0),20)), IF(AND(AT13 = \"Healing\", AT2 = \"Weapon Proc\"), TRUE, FALSE), TRUE)","v":true},{"$f":"IF(ISBLANK(INDEX(INDEX(MVs!$B:$B, INDEX(MVs!$V$2:$Z$4, 2, MATCH(AU$38, MVs!$V$2:$Z$2, 0))):INDEX(MVs!$U:$U, INDEX(mvLookupTable, 3, MATCH(AU$38, MVs!$V$2:$Z$2, 0))), MATCH(AU$2, INDEX(MVs!$B:$B, INDEX(MVs!$V$2:$Z$4, 2, MATCH(AU$38, MVs!$V$2:$Z$2, 0))):INDEX(MVs!$B:$B, INDEX(MVs!$V$2:$Z$4, 3, MATCH(AU$38, MVs!$V$2:$Z$2, 0))), 0),20)), IF(AND(AU13 = \"Healing\", AU2 = \"Weapon Proc\"), TRUE, FALSE), TRUE)","v":true},{"$f":"IF(ISBLANK(INDEX(INDEX(MVs!$B:$B, INDEX(MVs!$V$2:$Z$4, 2, MATCH(AV$38, MVs!$V$2:$Z$2, 0))):INDEX(MVs!$U:$U, INDEX(mvLookupTable, 3, MATCH(AV$38, MVs!$V$2:$Z$2, 0))), MATCH(AV$2, INDEX(MVs!$B:$B, INDEX(MVs!$V$2:$Z$4, 2, MATCH(AV$38, MVs!$V$2:$Z$2, 0))):INDEX(MVs!$B:$B, INDEX(MVs!$V$2:$Z$4, 3, MATCH(AV$38, MVs!$V$2:$Z$2, 0))), 0),20)), IF(AND(AV13 = \"Healing\", AV2 = \"Weapon Proc\"), TRUE, FALSE), TRUE)","v":true},{"$f":"IF(ISBLANK(INDEX(INDEX(MVs!$B:$B, INDEX(MVs!$V$2:$Z$4, 2, MATCH(AW$38, MVs!$V$2:$Z$2, 0))):INDEX(MVs!$U:$U, INDEX(mvLookupTable, 3, MATCH(AW$38, MVs!$V$2:$Z$2, 0))), MATCH(AW$2, INDEX(MVs!$B:$B, INDEX(MVs!$V$2:$Z$4, 2, MATCH(AW$38, MVs!$V$2:$Z$2, 0))):INDEX(MVs!$B:$B, INDEX(MVs!$V$2:$Z$4, 3, MATCH(AW$38, MVs!$V$2:$Z$2, 0))), 0),20)), IF(AND(AW13 = \"Healing\", AW2 = \"Weapon Proc\"), TRUE, FALSE), TRUE)","v":true},{"$f":"IF(ISBLANK(INDEX(INDEX(MVs!$B:$B, INDEX(MVs!$V$2:$Z$4, 2, MATCH(AX$38, MVs!$V$2:$Z$2, 0))):INDEX(MVs!$U:$U, INDEX(mvLookupTable, 3, MATCH(AX$38, MVs!$V$2:$Z$2, 0))), MATCH(AX$2, INDEX(MVs!$B:$B, INDEX(MVs!$V$2:$Z$4, 2, MATCH(AX$38, MVs!$V$2:$Z$2, 0))):INDEX(MVs!$B:$B, INDEX(MVs!$V$2:$Z$4, 3, MATCH(AX$38, MVs!$V$2:$Z$2, 0))), 0),20)), IF(AND(AX13 = \"Healing\", AX2 = \"Weapon Proc\"), TRUE, FALSE), TRUE)","v":true},{"$f":"IF(ISBLANK(INDEX(INDEX(MVs!$B:$B, INDEX(MVs!$V$2:$Z$4, 2, MATCH(AY$38, MVs!$V$2:$Z$2, 0))):INDEX(MVs!$U:$U, INDEX(mvLookupTable, 3, MATCH(AY$38, MVs!$V$2:$Z$2, 0))), MATCH(AY$2, INDEX(MVs!$B:$B, INDEX(MVs!$V$2:$Z$4, 2, MATCH(AY$38, MVs!$V$2:$Z$2, 0))):INDEX(MVs!$B:$B, INDEX(MVs!$V$2:$Z$4, 3, MATCH(AY$38, MVs!$V$2:$Z$2, 0))), 0),20)), IF(AND(AY13 = \"Healing\", AY2 = \"Weapon Proc\"), TRUE, FALSE), TRUE)","v":true},{"$f":"IF(ISBLANK(INDEX(INDEX(MVs!$B:$B, INDEX(MVs!$V$2:$Z$4, 2, MATCH(AZ$38, MVs!$V$2:$Z$2, 0))):INDEX(MVs!$U:$U, INDEX(mvLookupTable, 3, MATCH(AZ$38, MVs!$V$2:$Z$2, 0))), MATCH(AZ$2, INDEX(MVs!$B:$B, INDEX(MVs!$V$2:$Z$4, 2, MATCH(AZ$38, MVs!$V$2:$Z$2, 0))):INDEX(MVs!$B:$B, INDEX(MVs!$V$2:$Z$4, 3, MATCH(AZ$38, MVs!$V$2:$Z$2, 0))), 0),20)), IF(AND(AZ13 = \"Healing\", AZ2 = \"Weapon Proc\"), TRUE, FALSE), TRUE)","v":true},{"$f":"IF(ISBLANK(INDEX(INDEX(MVs!$B:$B, INDEX(MVs!$V$2:$Z$4, 2, MATCH(BA$38, MVs!$V$2:$Z$2, 0))):INDEX(MVs!$U:$U, INDEX(mvLookupTable, 3, MATCH(BA$38, MVs!$V$2:$Z$2, 0))), MATCH(BA$2, INDEX(MVs!$B:$B, INDEX(MVs!$V$2:$Z$4, 2, MATCH(BA$38, MVs!$V$2:$Z$2, 0))):INDEX(MVs!$B:$B, INDEX(MVs!$V$2:$Z$4, 3, MATCH(BA$38, MVs!$V$2:$Z$2, 0))), 0),20)), IF(AND(BA13 = \"Healing\", BA2 = \"Weapon Proc\"), TRUE, FALSE), TRUE)","v":true},{"$f":"IF(ISBLANK(INDEX(INDEX(MVs!$B:$B, INDEX(MVs!$V$2:$Z$4, 2, MATCH(BB$38, MVs!$V$2:$Z$2, 0))):INDEX(MVs!$U:$U, INDEX(mvLookupTable, 3, MATCH(BB$38, MVs!$V$2:$Z$2, 0))), MATCH(BB$2, INDEX(MVs!$B:$B, INDEX(MVs!$V$2:$Z$4, 2, MATCH(BB$38, MVs!$V$2:$Z$2, 0))):INDEX(MVs!$B:$B, INDEX(MVs!$V$2:$Z$4, 3, MATCH(BB$38, MVs!$V$2:$Z$2, 0))), 0),20)), IF(AND(BB13 = \"Healing\", BB2 = \"Weapon Proc\"), TRUE, FALSE), TRUE)","v":true},{"$f":"IF(ISBLANK(INDEX(INDEX(MVs!$B:$B, INDEX(MVs!$V$2:$Z$4, 2, MATCH(BC$38, MVs!$V$2:$Z$2, 0))):INDEX(MVs!$U:$U, INDEX(mvLookupTable, 3, MATCH(BC$38, MVs!$V$2:$Z$2, 0))), MATCH(BC$2, INDEX(MVs!$B:$B, INDEX(MVs!$V$2:$Z$4, 2, MATCH(BC$38, MVs!$V$2:$Z$2, 0))):INDEX(MVs!$B:$B, INDEX(MVs!$V$2:$Z$4, 3, MATCH(BC$38, MVs!$V$2:$Z$2, 0))), 0),20)), IF(AND(BC13 = \"Healing\", BC2 = \"Weapon Proc\"), TRUE, FALSE), TRUE)","v":true},{"$f":"IF(ISBLANK(INDEX(INDEX(MVs!$B:$B, INDEX(MVs!$V$2:$Z$4, 2, MATCH(BD$38, MVs!$V$2:$Z$2, 0))):INDEX(MVs!$U:$U, INDEX(mvLookupTable, 3, MATCH(BD$38, MVs!$V$2:$Z$2, 0))), MATCH(BD$2, INDEX(MVs!$B:$B, INDEX(MVs!$V$2:$Z$4, 2, MATCH(BD$38, MVs!$V$2:$Z$2, 0))):INDEX(MVs!$B:$B, INDEX(MVs!$V$2:$Z$4, 3, MATCH(BD$38, MVs!$V$2:$Z$2, 0))), 0),20)), IF(AND(BD13 = \"Healing\", BD2 = \"Weapon Proc\"), TRUE, FALSE), TRUE)","v":true},{"$f":"IF(ISBLANK(INDEX(INDEX(MVs!$B:$B, INDEX(MVs!$V$2:$Z$4, 2, MATCH(BE$38, MVs!$V$2:$Z$2, 0))):INDEX(MVs!$U:$U, INDEX(mvLookupTable, 3, MATCH(BE$38, MVs!$V$2:$Z$2, 0))), MATCH(BE$2, INDEX(MVs!$B:$B, INDEX(MVs!$V$2:$Z$4, 2, MATCH(BE$38, MVs!$V$2:$Z$2, 0))):INDEX(MVs!$B:$B, INDEX(MVs!$V$2:$Z$4, 3, MATCH(BE$38, MVs!$V$2:$Z$2, 0))), 0),20)), IF(AND(BE13 = \"Healing\", BE2 = \"Weapon Proc\"), TRUE, FALSE), TRUE)","v":true},{"$f":"IF(ISBLANK(INDEX(INDEX(MVs!$B:$B, INDEX(MVs!$V$2:$Z$4, 2, MATCH(BF$38, MVs!$V$2:$Z$2, 0))):INDEX(MVs!$U:$U, INDEX(mvLookupTable, 3, MATCH(BF$38, MVs!$V$2:$Z$2, 0))), MATCH(BF$2, INDEX(MVs!$B:$B, INDEX(MVs!$V$2:$Z$4, 2, MATCH(BF$38, MVs!$V$2:$Z$2, 0))):INDEX(MVs!$B:$B, INDEX(MVs!$V$2:$Z$4, 3, MATCH(BF$38, MVs!$V$2:$Z$2, 0))), 0),20)), IF(AND(BF13 = \"Healing\", BF2 = \"Weapon Proc\"), TRUE, FALSE), TRUE)","v":true}]
["Healing Stat",{"$f":"IF(B9 = FALSE, \"\", INDEX(INDEX(MVs!$B:$B, INDEX(MVs!$V$2:$Z$4, 2, MATCH(B$38, MVs!$V$2:$Z$2, 0))):INDEX(MVs!$U:$U, INDEX(mvLookupTable, 3, MATCH(B$38, MVs!$V$2:$Z$2, 0))), MATCH(B$2, INDEX(MVs!$B:$B, INDEX(MVs!$V$2:$Z$4, 2, MATCH(B$38, MVs!$V$2:$Z$2, 0))):INDEX(MVs!$B:$B, INDEX(MVs!$V$2:$Z$4, 3, MATCH(B$38, MVs!$V$2:$Z$2, 0))), 0),20))","v":""},{"$f":"IF(C9 = FALSE, \"\", INDEX(INDEX(MVs!$B:$B, INDEX(MVs!$V$2:$Z$4, 2, MATCH(C$38, MVs!$V$2:$Z$2, 0))):INDEX(MVs!$U:$U, INDEX(mvLookupTable, 3, MATCH(C$38, MVs!$V$2:$Z$2, 0))), MATCH(C$2, INDEX(MVs!$B:$B, INDEX(MVs!$V$2:$Z$4, 2, MATCH(C$38, MVs!$V$2:$Z$2, 0))):INDEX(MVs!$B:$B, INDEX(MVs!$V$2:$Z$4, 3, MATCH(C$38, MVs!$V$2:$Z$2, 0))), 0),20))","v":""},{"$f":"IF(D9 = FALSE, \"\", INDEX(INDEX(MVs!$B:$B, INDEX(MVs!$V$2:$Z$4, 2, MATCH(D$38, MVs!$V$2:$Z$2, 0))):INDEX(MVs!$U:$U, INDEX(mvLookupTable, 3, MATCH(D$38, MVs!$V$2:$Z$2, 0))), MATCH(D$2, INDEX(MVs!$B:$B, INDEX(MVs!$V$2:$Z$4, 2, MATCH(D$38, MVs!$V$2:$Z$2, 0))):INDEX(MVs!$B:$B, INDEX(MVs!$V$2:$Z$4, 3, MATCH(D$38, MVs!$V$2:$Z$2, 0))), 0),20))","v":""},{"$f":"IF(E9 = FALSE, \"\", INDEX(INDEX(MVs!$B:$B, INDEX(MVs!$V$2:$Z$4, 2, MATCH(E$38, MVs!$V$2:$Z$2, 0))):INDEX(MVs!$U:$U, INDEX(mvLookupTable, 3, MATCH(E$38, MVs!$V$2:$Z$2, 0))), MATCH(E$2, INDEX(MVs!$B:$B, INDEX(MVs!$V$2:$Z$4, 2, MATCH(E$38, MVs!$V$2:$Z$2, 0))):INDEX(MVs!$B:$B, INDEX(MVs!$V$2:$Z$4, 3, MATCH(E$38, MVs!$V$2:$Z$2, 0))), 0),20))","v":""},{"$f":"IF(F9 = FALSE, \"\", INDEX(INDEX(MVs!$B:$B, INDEX(MVs!$V$2:$Z$4, 2, MATCH(F$38, MVs!$V$2:$Z$2, 0))):INDEX(MVs!$U:$U, INDEX(mvLookupTable, 3, MATCH(F$38, MVs!$V$2:$Z$2, 0))), MATCH(F$2, INDEX(MVs!$B:$B, INDEX(MVs!$V$2:$Z$4, 2, MATCH(F$38, MVs!$V$2:$Z$2, 0))):INDEX(MVs!$B:$B, INDEX(MVs!$V$2:$Z$4, 3, MATCH(F$38, MVs!$V$2:$Z$2, 0))), 0),20))","v":""},{"$f":"IF(G9 = FALSE, \"\", INDEX(INDEX(MVs!$B:$B, INDEX(MVs!$V$2:$Z$4, 2, MATCH(G$38, MVs!$V$2:$Z$2, 0))):INDEX(MVs!$U:$U, INDEX(mvLookupTable, 3, MATCH(G$38, MVs!$V$2:$Z$2, 0))), MATCH(G$2, INDEX(MVs!$B:$B, INDEX(MVs!$V$2:$Z$4, 2, MATCH(G$38, MVs!$V$2:$Z$2, 0))):INDEX(MVs!$B:$B, INDEX(MVs!$V$2:$Z$4, 3, MATCH(G$38, MVs!$V$2:$Z$2, 0))), 0),20))","v":""},{"$f":"IF(H9 = FALSE, \"\", INDEX(INDEX(MVs!$B:$B, INDEX(MVs!$V$2:$Z$4, 2, MATCH(H$38, MVs!$V$2:$Z$2, 0))):INDEX(MVs!$U:$U, INDEX(mvLookupTable, 3, MATCH(H$38, MVs!$V$2:$Z$2, 0))), MATCH(H$2, INDEX(MVs!$B:$B, INDEX(MVs!$V$2:$Z$4, 2, MATCH(H$38, MVs!$V$2:$Z$2, 0))):INDEX(MVs!$B:$B, INDEX(MVs!$V$2:$Z$4, 3, MATCH(H$38, MVs!$V$2:$Z$2, 0))), 0),20))","v":""},{"$f":"IF(I9 = FALSE, \"\", INDEX(INDEX(MVs!$B:$B, INDEX(MVs!$V$2:$Z$4, 2, MATCH(I$38, MVs!$V$2:$Z$2, 0))):INDEX(MVs!$U:$U, INDEX(mvLookupTable, 3, MATCH(I$38, MVs!$V$2:$Z$2, 0))), MATCH(I$2, INDEX(MVs!$B:$B, INDEX(MVs!$V$2:$Z$4, 2, MATCH(I$38, MVs!$V$2:$Z$2, 0))):INDEX(MVs!$B:$B, INDEX(MVs!$V$2:$Z$4, 3, MATCH(I$38, MVs!$V$2:$Z$2, 0))), 0),20))","v":""},{"$f":"IF(J9 = FALSE, \"\", INDEX(INDEX(MVs!$B:$B, INDEX(MVs!$V$2:$Z$4, 2, MATCH(J$38, MVs!$V$2:$Z$2, 0))):INDEX(MVs!$U:$U, INDEX(mvLookupTable, 3, MATCH(J$38, MVs!$V$2:$Z$2, 0))), MATCH(J$2, INDEX(MVs!$B:$B, INDEX(MVs!$V$2:$Z$4, 2, MATCH(J$38, MVs!$V$2:$Z$2, 0))):INDEX(MVs!$B:$B, INDEX(MVs!$V$2:$Z$4, 3, MATCH(J$38, MVs!$V$2:$Z$2, 0))), 0),20))","v":""},{"$f":"IF(K9 = FALSE, \"\", INDEX(INDEX(MVs!$B:$B, INDEX(MVs!$V$2:$Z$4, 2, MATCH(K$38, MVs!$V$2:$Z$2, 0))):INDEX(MVs!$U:$U, INDEX(mvLookupTable, 3, MATCH(K$38, MVs!$V$2:$Z$2, 0))), MATCH(K$2, INDEX(MVs!$B:$B, INDEX(MVs!$V$2:$Z$4, 2, MATCH(K$38, MVs!$V$2:$Z$2, 0))):INDEX(MVs!$B:$B, INDEX(MVs!$V$2:$Z$4, 3, MATCH(K$38, MVs!$V$2:$Z$2, 0))), 0),20))","v":""},{"$f":"IF(L9 = FALSE, \"\", INDEX(INDEX(MVs!$B:$B, INDEX(MVs!$V$2:$Z$4, 2, MATCH(L$38, MVs!$V$2:$Z$2, 0))):INDEX(MVs!$U:$U, INDEX(mvLookupTable, 3, MATCH(L$38, MVs!$V$2:$Z$2, 0))), MATCH(L$2, INDEX(MVs!$B:$B, INDEX(MVs!$V$2:$Z$4, 2, MATCH(L$38, MVs!$V$2:$Z$2, 0))):INDEX(MVs!$B:$B, INDEX(MVs!$V$2:$Z$4, 3, MATCH(L$38, MVs!$V$2:$Z$2, 0))), 0),20))","v":""},{"$f":"IF(M9 = FALSE, \"\", INDEX(INDEX(MVs!$B:$B, INDEX(MVs!$V$2:$Z$4, 2, MATCH(M$38, MVs!$V$2:$Z$2, 0))):INDEX(MVs!$U:$U, INDEX(mvLookupTable, 3, MATCH(M$38, MVs!$V$2:$Z$2, 0))), MATCH(M$2, INDEX(MVs!$B:$B, INDEX(MVs!$V$2:$Z$4, 2, MATCH(M$38, MVs!$V$2:$Z$2, 0))):INDEX(MVs!$B:$B, INDEX(MVs!$V$2:$Z$4, 3, MATCH(M$38, MVs!$V$2:$Z$2, 0))), 0),20))","v":""},{"$f":"IF(N9 = FALSE, \"\", INDEX(INDEX(MVs!$B:$B, INDEX(MVs!$V$2:$Z$4, 2, MATCH(N$38, MVs!$V$2:$Z$2, 0))):INDEX(MVs!$U:$U, INDEX(mvLookupTable, 3, MATCH(N$38, MVs!$V$2:$Z$2, 0))), MATCH(N$2, INDEX(MVs!$B:$B, INDEX(MVs!$V$2:$Z$4, 2, MATCH(N$38, MVs!$V$2:$Z$2, 0))):INDEX(MVs!$B:$B, INDEX(MVs!$V$2:$Z$4, 3, MATCH(N$38, MVs!$V$2:$Z$2, 0))), 0),20))","v":""},{"$f":"IF(O9 = FALSE, \"\", INDEX(INDEX(MVs!$B:$B, INDEX(MVs!$V$2:$Z$4, 2, MATCH(O$38, MVs!$V$2:$Z$2, 0))):INDEX(MVs!$U:$U, INDEX(mvLookupTable, 3, MATCH(O$38, MVs!$V$2:$Z$2, 0))), MATCH(O$2, INDEX(MVs!$B:$B, INDEX(MVs!$V$2:$Z$4, 2, MATCH(O$38, MVs!$V$2:$Z$2, 0))):INDEX(MVs!$B:$B, INDEX(MVs!$V$2:$Z$4, 3, MATCH(O$38, MVs!$V$2:$Z$2, 0))), 0),20))","v":""},{"$f":"IF(P9 = FALSE, \"\", INDEX(INDEX(MVs!$B:$B, INDEX(MVs!$V$2:$Z$4, 2, MATCH(P$38, MVs!$V$2:$Z$2, 0))):INDEX(MVs!$U:$U, INDEX(mvLookupTable, 3, MATCH(P$38, MVs!$V$2:$Z$2, 0))), MATCH(P$2, INDEX(MVs!$B:$B, INDEX(MVs!$V$2:$Z$4, 2, MATCH(P$38, MVs!$V$2:$Z$2, 0))):INDEX(MVs!$B:$B, INDEX(MVs!$V$2:$Z$4, 3, MATCH(P$38, MVs!$V$2:$Z$2, 0))), 0),20))","v":""},{"$f":"IF(Q9 = FALSE, \"\", INDEX(INDEX(MVs!$B:$B, INDEX(MVs!$V$2:$Z$4, 2, MATCH(Q$38, MVs!$V$2:$Z$2, 0))):INDEX(MVs!$U:$U, INDEX(mvLookupTable, 3, MATCH(Q$38, MVs!$V$2:$Z$2, 0))), MATCH(Q$2, INDEX(MVs!$B:$B, INDEX(MVs!$V$2:$Z$4, 2, MATCH(Q$38, MVs!$V$2:$Z$2, 0))):INDEX(MVs!$B:$B, INDEX(MVs!$V$2:$Z$4, 3, MATCH(Q$38, MVs!$V$2:$Z$2, 0))), 0),20))","v":""},{"$f":"IF(R9 = FALSE, \"\", INDEX(INDEX(MVs!$B:$B, INDEX(MVs!$V$2:$Z$4, 2, MATCH(R$38, MVs!$V$2:$Z$2, 0))):INDEX(MVs!$U:$U, INDEX(mvLookupTable, 3, MATCH(R$38, MVs!$V$2:$Z$2, 0))), MATCH(R$2, INDEX(MVs!$B:$B, INDEX(MVs!$V$2:$Z$4, 2, MATCH(R$38, MVs!$V$2:$Z$2, 0))):INDEX(MVs!$B:$B, INDEX(MVs!$V$2:$Z$4, 3, MATCH(R$38, MVs!$V$2:$Z$2, 0))), 0),20))","v":""},{"$f":"IF(S9 = FALSE, \"\", INDEX(INDEX(MVs!$B:$B, INDEX(MVs!$V$2:$Z$4, 2, MATCH(S$38, MVs!$V$2:$Z$2, 0))):INDEX(MVs!$U:$U, INDEX(mvLookupTable, 3, MATCH(S$38, MVs!$V$2:$Z$2, 0))), MATCH(S$2, INDEX(MVs!$B:$B, INDEX(MVs!$V$2:$Z$4, 2, MATCH(S$38, MVs!$V$2:$Z$2, 0))):INDEX(MVs!$B:$B, INDEX(MVs!$V$2:$Z$4, 3, MATCH(S$38, MVs!$V$2:$Z$2, 0))), 0),20))","v":""},{"$f":"IF(T9 = FALSE, \"\", INDEX(INDEX(MVs!$B:$B, INDEX(MVs!$V$2:$Z$4, 2, MATCH(T$38, MVs!$V$2:$Z$2, 0))):INDEX(MVs!$U:$U, INDEX(mvLookupTable, 3, MATCH(T$38, MVs!$V$2:$Z$2, 0))), MATCH(T$2, INDEX(MVs!$B:$B, INDEX(MVs!$V$2:$Z$4, 2, MATCH(T$38, MVs!$V$2:$Z$2, 0))):INDEX(MVs!$B:$B, INDEX(MVs!$V$2:$Z$4, 3, MATCH(T$38, MVs!$V$2:$Z$2, 0))), 0),20))","v":""},{"$f":"IF(U9 = FALSE, \"\", INDEX(INDEX(MVs!$B:$B, INDEX(MVs!$V$2:$Z$4, 2, MATCH(U$38, MVs!$V$2:$Z$2, 0))):INDEX(MVs!$U:$U, INDEX(mvLookupTable, 3, MATCH(U$38, MVs!$V$2:$Z$2, 0))), MATCH(U$2, INDEX(MVs!$B:$B, INDEX(MVs!$V$2:$Z$4, 2, MATCH(U$38, MVs!$V$2:$Z$2, 0))):INDEX(MVs!$B:$B, INDEX(MVs!$V$2:$Z$4, 3, MATCH(U$38, MVs!$V$2:$Z$2, 0))), 0),20))","v":""},null,{"$f":"IF(W9 = FALSE, \"\", INDEX(INDEX(MVs!$B:$B, INDEX(MVs!$V$2:$Z$4, 2, MATCH(W$38, MVs!$V$2:$Z$2, 0))):INDEX(MVs!$U:$U, INDEX(mvLookupTable, 3, MATCH(W$38, MVs!$V$2:$Z$2, 0))), MATCH(W$2, INDEX(MVs!$B:$B, INDEX(MVs!$V$2:$Z$4, 2, MATCH(W$38, MVs!$V$2:$Z$2, 0))):INDEX(MVs!$B:$B, INDEX(MVs!$V$2:$Z$4, 3, MATCH(W$38, MVs!$V$2:$Z$2, 0))), 0),20))","v":""},{"$f":"IF(X9 = FALSE, \"\", INDEX(INDEX(MVs!$B:$B, INDEX(MVs!$V$2:$Z$4, 2, MATCH(X$38, MVs!$V$2:$Z$2, 0))):INDEX(MVs!$U:$U, INDEX(mvLookupTable, 3, MATCH(X$38, MVs!$V$2:$Z$2, 0))), MATCH(X$2, INDEX(MVs!$B:$B, INDEX(MVs!$V$2:$Z$4, 2, MATCH(X$38, MVs!$V$2:$Z$2, 0))):INDEX(MVs!$B:$B, INDEX(MVs!$V$2:$Z$4, 3, MATCH(X$38, MVs!$V$2:$Z$2, 0))), 0),20))","v":""},{"$f":"IF(Y9 = FALSE, \"\", INDEX(INDEX(MVs!$B:$B, INDEX(MVs!$V$2:$Z$4, 2, MATCH(Y$38, MVs!$V$2:$Z$2, 0))):INDEX(MVs!$U:$U, INDEX(mvLookupTable, 3, MATCH(Y$38, MVs!$V$2:$Z$2, 0))), MATCH(Y$2, INDEX(MVs!$B:$B, INDEX(MVs!$V$2:$Z$4, 2, MATCH(Y$38, MVs!$V$2:$Z$2, 0))):INDEX(MVs!$B:$B, INDEX(MVs!$V$2:$Z$4, 3, MATCH(Y$38, MVs!$V$2:$Z$2, 0))), 0),20))","v":""},{"$f":"IF(Z9 = FALSE, \"\", INDEX(INDEX(MVs!$B:$B, INDEX(MVs!$V$2:$Z$4, 2, MATCH(Z$38, MVs!$V$2:$Z$2, 0))):INDEX(MVs!$U:$U, INDEX(mvLookupTable, 3, MATCH(Z$38, MVs!$V$2:$Z$2, 0))), MATCH(Z$2, INDEX(MVs!$B:$B, INDEX(MVs!$V$2:$Z$4, 2, MATCH(Z$38, MVs!$V$2:$Z$2, 0))):INDEX(MVs!$B:$B, INDEX(MVs!$V$2:$Z$4, 3, MATCH(Z$38, MVs!$V$2:$Z$2, 0))), 0),20))","v":""},{"$f":"IF(AA9 = FALSE, \"\", INDEX(INDEX(MVs!$B:$B, INDEX(MVs!$V$2:$Z$4, 2, MATCH(AA$38, MVs!$V$2:$Z$2, 0))):INDEX(MVs!$U:$U, INDEX(mvLookupTable, 3, MATCH(AA$38, MVs!$V$2:$Z$2, 0))), MATCH(AA$2, INDEX(MVs!$B:$B, INDEX(MVs!$V$2:$Z$4, 2, MATCH(AA$38, MVs!$V$2:$Z$2, 0))):INDEX(MVs!$B:$B, INDEX(MVs!$V$2:$Z$4, 3, MATCH(AA$38, MVs!$V$2:$Z$2, 0))), 0),20))","v":""},{"$f":"IF(AB9 = FALSE, \"\", INDEX(INDEX(MVs!$B:$B, INDEX(MVs!$V$2:$Z$4, 2, MATCH(AB$38, MVs!$V$2:$Z$2, 0))):INDEX(MVs!$U:$U, INDEX(mvLookupTable, 3, MATCH(AB$38, MVs!$V$2:$Z$2, 0))), MATCH(AB$2, INDEX(MVs!$B:$B, INDEX(MVs!$V$2:$Z$4, 2, MATCH(AB$38, MVs!$V$2:$Z$2, 0))):INDEX(MVs!$B:$B, INDEX(MVs!$V$2:$Z$4, 3, MATCH(AB$38, MVs!$V$2:$Z$2, 0))), 0),20))","v":""},{"$f":"IF(AC9 = FALSE, \"\", INDEX(INDEX(MVs!$B:$B, INDEX(MVs!$V$2:$Z$4, 2, MATCH(AC$38, MVs!$V$2:$Z$2, 0))):INDEX(MVs!$U:$U, INDEX(mvLookupTable, 3, MATCH(AC$38, MVs!$V$2:$Z$2, 0))), MATCH(AC$2, INDEX(MVs!$B:$B, INDEX(MVs!$V$2:$Z$4, 2, MATCH(AC$38, MVs!$V$2:$Z$2, 0))):INDEX(MVs!$B:$B, INDEX(MVs!$V$2:$Z$4, 3, MATCH(AC$38, MVs!$V$2:$Z$2, 0))), 0),20))","v":""},{"$f":"IF(AD9 = FALSE, \"\", INDEX(INDEX(MVs!$B:$B, INDEX(MVs!$V$2:$Z$4, 2, MATCH(AD$38, MVs!$V$2:$Z$2, 0))):INDEX(MVs!$U:$U, INDEX(mvLookupTable, 3, MATCH(AD$38, MVs!$V$2:$Z$2, 0))), MATCH(AD$2, INDEX(MVs!$B:$B, INDEX(MVs!$V$2:$Z$4, 2, MATCH(AD$38, MVs!$V$2:$Z$2, 0))):INDEX(MVs!$B:$B, INDEX(MVs!$V$2:$Z$4, 3, MATCH(AD$38, MVs!$V$2:$Z$2, 0))), 0),20))","v":""},{"$f":"IF(AE9 = FALSE, \"\", INDEX(INDEX(MVs!$B:$B, INDEX(MVs!$V$2:$Z$4, 2, MATCH(AE$38, MVs!$V$2:$Z$2, 0))):INDEX(MVs!$U:$U, INDEX(mvLookupTable, 3, MATCH(AE$38, MVs!$V$2:$Z$2, 0))), MATCH(AE$2, INDEX(MVs!$B:$B, INDEX(MVs!$V$2:$Z$4, 2, MATCH(AE$38, MVs!$V$2:$Z$2, 0))):INDEX(MVs!$B:$B, INDEX(MVs!$V$2:$Z$4, 3, MATCH(AE$38, MVs!$V$2:$Z$2, 0))), 0),20))","v":""},{"$f":"IF(AF9 = FALSE, \"\", INDEX(INDEX(MVs!$B:$B, INDEX(MVs!$V$2:$Z$4, 2, MATCH(AF$38, MVs!$V$2:$Z$2, 0))):INDEX(MVs!$U:$U, INDEX(mvLookupTable, 3, MATCH(AF$38, MVs!$V$2:$Z$2, 0))), MATCH(AF$2, INDEX(MVs!$B:$B, INDEX(MVs!$V$2:$Z$4, 2, MATCH(AF$38, MVs!$V$2:$Z$2, 0))):INDEX(MVs!$B:$B, INDEX(MVs!$V$2:$Z$4, 3, MATCH(AF$38, MVs!$V$2:$Z$2, 0))), 0),20))","v":{"$error":"#N/A"}},{"$f":"IF(AG9 = FALSE, \"\", INDEX(INDEX(MVs!$B:$B, INDEX(MVs!$V$2:$Z$4, 2, MATCH(AG$38, MVs!$V$2:$Z$2, 0))):INDEX(MVs!$U:$U, INDEX(mvLookupTable, 3, MATCH(AG$38, MVs!$V$2:$Z$2, 0))), MATCH(AG$2, INDEX(MVs!$B:$B, INDEX(MVs!$V$2:$Z$4, 2, MATCH(AG$38, MVs!$V$2:$Z$2, 0))):INDEX(MVs!$B:$B, INDEX(MVs!$V$2:$Z$4, 3, MATCH(AG$38, MVs!$V$2:$Z$2, 0))), 0),20))","v":{"$error":"#N/A"}},{"$f":"IF(AH9 = FALSE, \"\", INDEX(INDEX(MVs!$B:$B, INDEX(MVs!$V$2:$Z$4, 2, MATCH(AH$38, MVs!$V$2:$Z$2, 0))):INDEX(MVs!$U:$U, INDEX(mvLookupTable, 3, MATCH(AH$38, MVs!$V$2:$Z$2, 0))), MATCH(AH$2, INDEX(MVs!$B:$B, INDEX(MVs!$V$2:$Z$4, 2, MATCH(AH$38, MVs!$V$2:$Z$2, 0))):INDEX(MVs!$B:$B, INDEX(MVs!$V$2:$Z$4, 3, MATCH(AH$38, MVs!$V$2:$Z$2, 0))), 0),20))","v":{"$error":"#N/A"}},{"$f":"IF(AI9 = FALSE, \"\", INDEX(INDEX(MVs!$B:$B, INDEX(MVs!$V$2:$Z$4, 2, MATCH(AI$38, MVs!$V$2:$Z$2, 0))):INDEX(MVs!$U:$U, INDEX(mvLookupTable, 3, MATCH(AI$38, MVs!$V$2:$Z$2, 0))), MATCH(AI$2, INDEX(MVs!$B:$B, INDEX(MVs!$V$2:$Z$4, 2, MATCH(AI$38, MVs!$V$2:$Z$2, 0))):INDEX(MVs!$B:$B, INDEX(MVs!$V$2:$Z$4, 3, MATCH(AI$38, MVs!$V$2:$Z$2, 0))), 0),20))","v":{"$error":"#N/A"}},{"$f":"IF(AJ9 = FALSE, \"\", INDEX(INDEX(MVs!$B:$B, INDEX(MVs!$V$2:$Z$4, 2, MATCH(AJ$38, MVs!$V$2:$Z$2, 0))):INDEX(MVs!$U:$U, INDEX(mvLookupTable, 3, MATCH(AJ$38, MVs!$V$2:$Z$2, 0))), MATCH(AJ$2, INDEX(MVs!$B:$B, INDEX(MVs!$V$2:$Z$4, 2, MATCH(AJ$38, MVs!$V$2:$Z$2, 0))):INDEX(MVs!$B:$B, INDEX(MVs!$V$2:$Z$4, 3, MATCH(AJ$38, MVs!$V$2:$Z$2, 0))), 0),20))","v":{"$error":"#N/A"}},{"$f":"IF(AK9 = FALSE, \"\", INDEX(INDEX(MVs!$B:$B, INDEX(MVs!$V$2:$Z$4, 2, MATCH(AK$38, MVs!$V$2:$Z$2, 0))):INDEX(MVs!$U:$U, INDEX(mvLookupTable, 3, MATCH(AK$38, MVs!$V$2:$Z$2, 0))), MATCH(AK$2, INDEX(MVs!$B:$B, INDEX(MVs!$V$2:$Z$4, 2, MATCH(AK$38, MVs!$V$2:$Z$2, 0))):INDEX(MVs!$B:$B, INDEX(MVs!$V$2:$Z$4, 3, MATCH(AK$38, MVs!$V$2:$Z$2, 0))), 0),20))","v":{"$error":"#N/A"}},{"$f":"IF(AL9 = FALSE, \"\", INDEX(INDEX(MVs!$B:$B, INDEX(MVs!$V$2:$Z$4, 2, MATCH(AL$38, MVs!$V$2:$Z$2, 0))):INDEX(MVs!$U:$U, INDEX(mvLookupTable, 3, MATCH(AL$38, MVs!$V$2:$Z$2, 0))), MATCH(AL$2, INDEX(MVs!$B:$B, INDEX(MVs!$V$2:$Z$4, 2, MATCH(AL$38, MVs!$V$2:$Z$2, 0))):INDEX(MVs!$B:$B, INDEX(MVs!$V$2:$Z$4, 3, MATCH(AL$38, MVs!$V$2:$Z$2, 0))), 0),20))","v":{"$error":"#N/A"}},{"$f":"IF(AM9 = FALSE, \"\", INDEX(INDEX(MVs!$B:$B, INDEX(MVs!$V$2:$Z$4, 2, MATCH(AM$38, MVs!$V$2:$Z$2, 0))):INDEX(MVs!$U:$U, INDEX(mvLookupTable, 3, MATCH(AM$38, MVs!$V$2:$Z$2, 0))), MATCH(AM$2, INDEX(MVs!$B:$B, INDEX(MVs!$V$2:$Z$4, 2, MATCH(AM$38, MVs!$V$2:$Z$2, 0))):INDEX(MVs!$B:$B, INDEX(MVs!$V$2:$Z$4, 3, MATCH(AM$38, MVs!$V$2:$Z$2, 0))), 0),20))","v":{"$error":"#N/A"}},{"$f":"IF(AN9 = FALSE, \"\", INDEX(INDEX(MVs!$B:$B, INDEX(MVs!$V$2:$Z$4, 2, MATCH(AN$38, MVs!$V$2:$Z$2, 0))):INDEX(MVs!$U:$U, INDEX(mvLookupTable, 3, MATCH(AN$38, MVs!$V$2:$Z$2, 0))), MATCH(AN$2, INDEX(MVs!$B:$B, INDEX(MVs!$V$2:$Z$4, 2, MATCH(AN$38, MVs!$V$2:$Z$2, 0))):INDEX(MVs!$B:$B, INDEX(MVs!$V$2:$Z$4, 3, MATCH(AN$38, MVs!$V$2:$Z$2, 0))), 0),20))","v":{"$error":"#N/A"}},{"$f":"IF(AO9 = FALSE, \"\", INDEX(INDEX(MVs!$B:$B, INDEX(MVs!$V$2:$Z$4, 2, MATCH(AO$38, MVs!$V$2:$Z$2, 0))):INDEX(MVs!$U:$U, INDEX(mvLookupTable, 3, MATCH(AO$38, MVs!$V$2:$Z$2, 0))), MATCH(AO$2, INDEX(MVs!$B:$B, INDEX(MVs!$V$2:$Z$4, 2, MATCH(AO$38, MVs!$V$2:$Z$2, 0))):INDEX(MVs!$B:$B, INDEX(MVs!$V$2:$Z$4, 3, MATCH(AO$38, MVs!$V$2:$Z$2, 0))), 0),20))","v":{"$error":"#N/A"}},{"$f":"IF(AP9 = FALSE, \"\", INDEX(INDEX(MVs!$B:$B, INDEX(MVs!$V$2:$Z$4, 2, MATCH(AP$38, MVs!$V$2:$Z$2, 0))):INDEX(MVs!$U:$U, INDEX(mvLookupTable, 3, MATCH(AP$38, MVs!$V$2:$Z$2, 0))), MATCH(AP$2, INDEX(MVs!$B:$B, INDEX(MVs!$V$2:$Z$4, 2, MATCH(AP$38, MVs!$V$2:$Z$2, 0))):INDEX(MVs!$B:$B, INDEX(MVs!$V$2:$Z$4, 3, MATCH(AP$38, MVs!$V$2:$Z$2, 0))), 0),20))","v":{"$error":"#N/A"}},{"$f":"IF(AQ9 = FALSE, \"\", INDEX(INDEX(MVs!$B:$B, INDEX(MVs!$V$2:$Z$4, 2, MATCH(AQ$38, MVs!$V$2:$Z$2, 0))):INDEX(MVs!$U:$U, INDEX(mvLookupTable, 3, MATCH(AQ$38, MVs!$V$2:$Z$2, 0))), MATCH(AQ$2, INDEX(MVs!$B:$B, INDEX(MVs!$V$2:$Z$4, 2, MATCH(AQ$38, MVs!$V$2:$Z$2, 0))):INDEX(MVs!$B:$B, INDEX(MVs!$V$2:$Z$4, 3, MATCH(AQ$38, MVs!$V$2:$Z$2, 0))), 0),20))","v":{"$error":"#N/A"}},{"$f":"IF(AR9 = FALSE, \"\", INDEX(INDEX(MVs!$B:$B, INDEX(MVs!$V$2:$Z$4, 2, MATCH(AR$38, MVs!$V$2:$Z$2, 0))):INDEX(MVs!$U:$U, INDEX(mvLookupTable, 3, MATCH(AR$38, MVs!$V$2:$Z$2, 0))), MATCH(AR$2, INDEX(MVs!$B:$B, INDEX(MVs!$V$2:$Z$4, 2, MATCH(AR$38, MVs!$V$2:$Z$2, 0))):INDEX(MVs!$B:$B, INDEX(MVs!$V$2:$Z$4, 3, MATCH(AR$38, MVs!$V$2:$Z$2, 0))), 0),20))","v":{"$error":"#N/A"}},{"$f":"IF(AS9 = FALSE, \"\", INDEX(INDEX(MVs!$B:$B, INDEX(MVs!$V$2:$Z$4, 2, MATCH(AS$38, MVs!$V$2:$Z$2, 0))):INDEX(MVs!$U:$U, INDEX(mvLookupTable, 3, MATCH(AS$38, MVs!$V$2:$Z$2, 0))), MATCH(AS$2, INDEX(MVs!$B:$B, INDEX(MVs!$V$2:$Z$4, 2, MATCH(AS$38, MVs!$V$2:$Z$2, 0))):INDEX(MVs!$B:$B, INDEX(MVs!$V$2:$Z$4, 3, MATCH(AS$38, MVs!$V$2:$Z$2, 0))), 0),20))","v":{"$error":"#N/A"}},{"$f":"IF(AT9 = FALSE, \"\", INDEX(INDEX(MVs!$B:$B, INDEX(MVs!$V$2:$Z$4, 2, MATCH(AT$38, MVs!$V$2:$Z$2, 0))):INDEX(MVs!$U:$U, INDEX(mvLookupTable, 3, MATCH(AT$38, MVs!$V$2:$Z$2, 0))), MATCH(AT$2, INDEX(MVs!$B:$B, INDEX(MVs!$V$2:$Z$4, 2, MATCH(AT$38, MVs!$V$2:$Z$2, 0))):INDEX(MVs!$B:$B, INDEX(MVs!$V$2:$Z$4, 3, MATCH(AT$38, MVs!$V$2:$Z$2, 0))), 0),20))","v":{"$error":"#N/A"}},{"$f":"IF(AU9 = FALSE, \"\", INDEX(INDEX(MVs!$B:$B, INDEX(MVs!$V$2:$Z$4, 2, MATCH(AU$38, MVs!$V$2:$Z$2, 0))):INDEX(MVs!$U:$U, INDEX(mvLookupTable, 3, MATCH(AU$38, MVs!$V$2:$Z$2, 0))), MATCH(AU$2, INDEX(MVs!$B:$B, INDEX(MVs!$V$2:$Z$4, 2, MATCH(AU$38, MVs!$V$2:$Z$2, 0))):INDEX(MVs!$B:$B, INDEX(MVs!$V$2:$Z$4, 3, MATCH(AU$38, MVs!$V$2:$Z$2, 0))), 0),20))","v":{"$error":"#N/A"}},{"$f":"IF(AV9 = FALSE, \"\", INDEX(INDEX(MVs!$B:$B, INDEX(MVs!$V$2:$Z$4, 2, MATCH(AV$38, MVs!$V$2:$Z$2, 0))):INDEX(MVs!$U:$U, INDEX(mvLookupTable, 3, MATCH(AV$38, MVs!$V$2:$Z$2, 0))), MATCH(AV$2, INDEX(MVs!$B:$B, INDEX(MVs!$V$2:$Z$4, 2, MATCH(AV$38, MVs!$V$2:$Z$2, 0))):INDEX(MVs!$B:$B, INDEX(MVs!$V$2:$Z$4, 3, MATCH(AV$38, MVs!$V$2:$Z$2, 0))), 0),20))","v":{"$error":"#N/A"}},{"$f":"IF(AW9 = FALSE, \"\", INDEX(INDEX(MVs!$B:$B, INDEX(MVs!$V$2:$Z$4, 2, MATCH(AW$38, MVs!$V$2:$Z$2, 0))):INDEX(MVs!$U:$U, INDEX(mvLookupTable, 3, MATCH(AW$38, MVs!$V$2:$Z$2, 0))), MATCH(AW$2, INDEX(MVs!$B:$B, INDEX(MVs!$V$2:$Z$4, 2, MATCH(AW$38, MVs!$V$2:$Z$2, 0))):INDEX(MVs!$B:$B, INDEX(MVs!$V$2:$Z$4, 3, MATCH(AW$38, MVs!$V$2:$Z$2, 0))), 0),20))","v":{"$error":"#N/A"}},{"$f":"IF(AX9 = FALSE, \"\", INDEX(INDEX(MVs!$B:$B, INDEX(MVs!$V$2:$Z$4, 2, MATCH(AX$38, MVs!$V$2:$Z$2, 0))):INDEX(MVs!$U:$U, INDEX(mvLookupTable, 3, MATCH(AX$38, MVs!$V$2:$Z$2, 0))), MATCH(AX$2, INDEX(MVs!$B:$B, INDEX(MVs!$V$2:$Z$4, 2, MATCH(AX$38, MVs!$V$2:$Z$2, 0))):INDEX(MVs!$B:$B, INDEX(MVs!$V$2:$Z$4, 3, MATCH(AX$38, MVs!$V$2:$Z$2, 0))), 0),20))","v":{"$error":"#N/A"}},{"$f":"IF(AY9 = FALSE, \"\", INDEX(INDEX(MVs!$B:$B, INDEX(MVs!$V$2:$Z$4, 2, MATCH(AY$38, MVs!$V$2:$Z$2, 0))):INDEX(MVs!$U:$U, INDEX(mvLookupTable, 3, MATCH(AY$38, MVs!$V$2:$Z$2, 0))), MATCH(AY$2, INDEX(MVs!$B:$B, INDEX(MVs!$V$2:$Z$4, 2, MATCH(AY$38, MVs!$V$2:$Z$2, 0))):INDEX(MVs!$B:$B, INDEX(MVs!$V$2:$Z$4, 3, MATCH(AY$38, MVs!$V$2:$Z$2, 0))), 0),20))","v":{"$error":"#N/A"}},{"$f":"IF(AZ9 = FALSE, \"\", INDEX(INDEX(MVs!$B:$B, INDEX(MVs!$V$2:$Z$4, 2, MATCH(AZ$38, MVs!$V$2:$Z$2, 0))):INDEX(MVs!$U:$U, INDEX(mvLookupTable, 3, MATCH(AZ$38, MVs!$V$2:$Z$2, 0))), MATCH(AZ$2, INDEX(MVs!$B:$B, INDEX(MVs!$V$2:$Z$4, 2, MATCH(AZ$38, MVs!$V$2:$Z$2, 0))):INDEX(MVs!$B:$B, INDEX(MVs!$V$2:$Z$4, 3, MATCH(AZ$38, MVs!$V$2:$Z$2, 0))), 0),20))","v":{"$error":"#N/A"}},{"$f":"IF(BA9 = FALSE, \"\", INDEX(INDEX(MVs!$B:$B, INDEX(MVs!$V$2:$Z$4, 2, MATCH(BA$38, MVs!$V$2:$Z$2, 0))):INDEX(MVs!$U:$U, INDEX(mvLookupTable, 3, MATCH(BA$38, MVs!$V$2:$Z$2, 0))), MATCH(BA$2, INDEX(MVs!$B:$B, INDEX(MVs!$V$2:$Z$4, 2, MATCH(BA$38, MVs!$V$2:$Z$2, 0))):INDEX(MVs!$B:$B, INDEX(MVs!$V$2:$Z$4, 3, MATCH(BA$38, MVs!$V$2:$Z$2, 0))), 0),20))","v":{"$error":"#N/A"}},{"$f":"IF(BB9 = FALSE, \"\", INDEX(INDEX(MVs!$B:$B, INDEX(MVs!$V$2:$Z$4, 2, MATCH(BB$38, MVs!$V$2:$Z$2, 0))):INDEX(MVs!$U:$U, INDEX(mvLookupTable, 3, MATCH(BB$38, MVs!$V$2:$Z$2, 0))), MATCH(BB$2, INDEX(MVs!$B:$B, INDEX(MVs!$V$2:$Z$4, 2, MATCH(BB$38, MVs!$V$2:$Z$2, 0))):INDEX(MVs!$B:$B, INDEX(MVs!$V$2:$Z$4, 3, MATCH(BB$38, MVs!$V$2:$Z$2, 0))), 0),20))","v":{"$error":"#N/A"}},{"$f":"IF(BC9 = FALSE, \"\", INDEX(INDEX(MVs!$B:$B, INDEX(MVs!$V$2:$Z$4, 2, MATCH(BC$38, MVs!$V$2:$Z$2, 0))):INDEX(MVs!$U:$U, INDEX(mvLookupTable, 3, MATCH(BC$38, MVs!$V$2:$Z$2, 0))), MATCH(BC$2, INDEX(MVs!$B:$B, INDEX(MVs!$V$2:$Z$4, 2, MATCH(BC$38, MVs!$V$2:$Z$2, 0))):INDEX(MVs!$B:$B, INDEX(MVs!$V$2:$Z$4, 3, MATCH(BC$38, MVs!$V$2:$Z$2, 0))), 0),20))","v":{"$error":"#N/A"}},{"$f":"IF(BD9 = FALSE, \"\", INDEX(INDEX(MVs!$B:$B, INDEX(MVs!$V$2:$Z$4, 2, MATCH(BD$38, MVs!$V$2:$Z$2, 0))):INDEX(MVs!$U:$U, INDEX(mvLookupTable, 3, MATCH(BD$38, MVs!$V$2:$Z$2, 0))), MATCH(BD$2, INDEX(MVs!$B:$B, INDEX(MVs!$V$2:$Z$4, 2, MATCH(BD$38, MVs!$V$2:$Z$2, 0))):INDEX(MVs!$B:$B, INDEX(MVs!$V$2:$Z$4, 3, MATCH(BD$38, MVs!$V$2:$Z$2, 0))), 0),20))","v":{"$error":"#N/A"}},{"$f":"IF(BE9 = FALSE, \"\", INDEX(INDEX(MVs!$B:$B, INDEX(MVs!$V$2:$Z$4, 2, MATCH(BE$38, MVs!$V$2:$Z$2, 0))):INDEX(MVs!$U:$U, INDEX(mvLookupTable, 3, MATCH(BE$38, MVs!$V$2:$Z$2, 0))), MATCH(BE$2, INDEX(MVs!$B:$B, INDEX(MVs!$V$2:$Z$4, 2, MATCH(BE$38, MVs!$V$2:$Z$2, 0))):INDEX(MVs!$B:$B, INDEX(MVs!$V$2:$Z$4, 3, MATCH(BE$38, MVs!$V$2:$Z$2, 0))), 0),20))","v":{"$error":"#N/A"}},{"$f":"IF(BF9 = FALSE, \"\", INDEX(INDEX(MVs!$B:$B, INDEX(MVs!$V$2:$Z$4, 2, MATCH(BF$38, MVs!$V$2:$Z$2, 0))):INDEX(MVs!$U:$U, INDEX(mvLookupTable, 3, MATCH(BF$38, MVs!$V$2:$Z$2, 0))), MATCH(BF$2, INDEX(MVs!$B:$B, INDEX(MVs!$V$2:$Z$4, 2, MATCH(BF$38, MVs!$V$2:$Z$2, 0))):INDEX(MVs!$B:$B, INDEX(MVs!$V$2:$Z$4, 3, MATCH(BF$38, MVs!$V$2:$Z$2, 0))), 0),20))","v":{"$error":"#N/A"}}]
["Healing Menu"]
["Weapon Proc Selection"]
["Weapon Proc Damage Type",{"$f":"IF(B$38 = \"char1\", VLOOKUP(B$12, char1WeaponProcTable, 2, 0), IF(B$38 = \"char2\",  VLOOKUP(B$12, char2WeaponProcTable, 2, 0), IF(B$38=\"char3\", VLOOKUP(B$12, char3WeaponProcTable, 2, 0), IF(B$38 = \"char4\", VLOOKUP(B$12, char4WeaponProcTable, 2, 0)))))","v":0},0,0,0,0,0,0,0,0,0,0,0,0,0,0,0,0,0,0,0,null,0,0,0,0,0,0,0,0,0,false,false,{"$f":"IF(AH$38 = \"char1\", VLOOKUP(AH$12, char1WeaponProcTable, 2, 0), IF(AH$38 = \"char2\",  VLOOKUP(AH$12, char2WeaponProcTable, 2, 0), IF(AH$38=\"char3\", VLOOKUP(AH$12, char3WeaponProcTable, 2, 0), IF(AH$38 = \"char4\", VLOOKUP(AH$12, char4WeaponProcTable, 2, 0)))))","v":false},false,false,false,false,false,false,false,false,false,false,false,false,false,false,false,false,false,false,false,false,false,false,false,false]
["Weapon Proc Scaling Stat",{"$f":"IF(B$38 = \"char1\", VLOOKUP(B$12, char1WeaponProcTable, 4, 0), IF(B$38 = \"char2\",  VLOOKUP(B$12, char2WeaponProcTable, 4, 0), IF(B$38=\"char3\", VLOOKUP(B$12, char3WeaponProcTable, 4, 0), IF(B$38 = \"char4\", VLOOKUP(B$12, char4WeaponProcTable, 4, 0)))))","v":0},0,0,0,0,0,0,0,0,0,0,0,0,0,0,0,0,0,0,0,null,0,0,0,0,0,0,0,0,0,false,false,{"$f":"IF(AH$38 = \"char1\", VLOOKUP(AH$12, char1WeaponProcTable, 4, 0), IF(AH$38 = \"char2\",  VLOOKUP(AH$12, char2WeaponProcTable, 4, 0), IF(AH$38=\"char3\", VLOOKUP(AH$12, char3WeaponProcTable, 4, 0), IF(AH$38 = \"char4\", VLOOKUP(AH$12, char4WeaponProcTable, 4, 0)))))","v":false},false,false,false,false,false,false,false,false,false,false,false,false,false,false,false,false,false,false,false,false,false,false,false,false]
["Weapon Proc Element",{"$f":"IF(B$38 = \"char1\", VLOOKUP(B$12, char1WeaponProcTable, 5, 0), IF(B$38 = \"char2\",  VLOOKUP(B$12, char2WeaponProcTable, 5, 0), IF(B$38=\"char3\", VLOOKUP(B$12, char3WeaponProcTable, 5, 0), IF(B$38 = \"char4\", VLOOKUP(B$12, char4WeaponProcTable, 5, 0)))))","v":0},0,0,0,0,0,0,0,0,0,0,0,0,0,0,0,0,0,0,0,null,0,0,0,0,0,0,0,0,0,false,false,{"$f":"IF(AH$38 = \"char1\", VLOOKUP(AH$12, char1WeaponProcTable, 5, 0), IF(AH$38 = \"char2\",  VLOOKUP(AH$12, char2WeaponProcTable, 5, 0), IF(AH$38=\"char3\", VLOOKUP(AH$12, char3WeaponProcTable, 5, 0), IF(AH$38 = \"char4\", VLOOKUP(AH$12, char4WeaponProcTable, 5, 0)))))","v":false},false,false,false,false,false,false,false,false,false,false,false,false,false,false,false,false,false,false,false,false,false,false,false,false]
["Weapon Proc Talent%",{"$f":"IF(B$38 = \"char1\", VLOOKUP(B$12, char1WeaponProcTable, 3, 0), IF(B$38 = \"char2\",  VLOOKUP(B$12, char2WeaponProcTable, 3, 0), IF(B$38=\"char3\", VLOOKUP(B$12, char3WeaponProcTable, 3, 0), IF(B$38 = \"char4\", VLOOKUP(B$12, char4WeaponProcTable, 3, 0)))))","v":0},0,0,0,0,0,0,0,0,0,0,0,0,0,0,0,0,0,0,0,null,0,0,0,0,0,0,0,0,0,false,false,{"$f":"IF(AH$38 = \"char1\", VLOOKUP(AH$12, char1WeaponProcTable, 3, 0), IF(AH$38 = \"char2\",  VLOOKUP(AH$12, char2WeaponProcTable, 3, 0), IF(AH$38=\"char3\", VLOOKUP(AH$12, char3WeaponProcTable, 3, 0), IF(AH$38 = \"char4\", VLOOKUP(AH$12, char4WeaponProcTable, 3, 0)))))","v":false},false,false,false,false,false,false,false,false,false,false,false,false,false,false,false,false,false,false,false,false,false,false,false,false]
["Weapon Proc Menu"]
["Proc Select"]
["Number of Procs"]
["ATK% Bonus",0,0,0,0,0,0,0,0,0,0,0,0,0,0,0,0,0,0,0,0,null,0,0,0,0,0,0,0,0,0,0,0,0,0,0,0,0,0,0,0,0,0,0,0,0,0,0,0,0,0,0,0,0,0,0,0,0]
["Flat ATK Bonus",0,0,0,0,0,0,0,0,0,0,0,0,0,0,0,0,0,0,0,0,null,0,0,0,0,0,0,0,0,0,0,0,0,0,0,0,0,0,0,0,0,0,0,0,0,0,0,0,0,0,0,0,0,0,0,0,0]
["DEF% Bonus",0,0,0,0,0,0,0,0,0,0,0,0,0,0,0,0,0,0,0,0,null,0,0,0,0,0,0,0,0,0,0,0,0,0,0,0,0,0,0,0,0,0,0,0,0,0,0,0,0,0,0,0,0,0,0,0,0]
["Flat DEF Bonus",0,0,0,0,0,0,0,0,0,0,0,0,0,0,0,0,0,0,0,0,null,0,0,0,0,0,0,0,0,0,0,0,0,0,0,0,0,0,0,0,0,0,0,0,0,0,0,0,0,0,0,0,0,0,0,0,0]
["Shenhe/Yunjin Menu"]
["Skill Active?","No","No","No","No","No","No","No","No","No","No","No","No","No","No","No","No","No","No","No","No",null,"No","No","No","No","No","No","No","No","No","No","No","No","No","No","No","No","No","No","No","No","No","No","No","No","No","No","No","No","No","No","No","No","No","No","No","No"]
["Yoimiya Menu"]
["Artifact Proc Select","Echoes of an Offering","Echoes of an Offering"]
["Damage Type",{"$f":"IFERROR(VLOOKUP(B27, Lookups!$X$13:$Z$14, 2),\"\")","v":"Normal"},{"$f":"IFERROR(VLOOKUP(C27, Lookups!$X$13:$Z$14, 2),\"\")","v":"Normal"},{"$f":"IFERROR(VLOOKUP(D27, Lookups!$X$13:$Z$14, 2),\"\")","v":""},{"$f":"IFERROR(VLOOKUP(E27, Lookups!$X$13:$Z$14, 2),\"\")","v":""},{"$f":"IFERROR(VLOOKUP(F27, Lookups!$X$13:$Z$14, 2),\"\")","v":""},{"$f":"IFERROR(VLOOKUP(G27, Lookups!$X$13:$Z$14, 2),\"\")","v":""},{"$f":"IFERROR(VLOOKUP(H27, Lookups!$X$13:$Z$14, 2),\"\")","v":""},{"$f":"IFERROR(VLOOKUP(I27, Lookups!$X$13:$Z$14, 2),\"\")","v":""},{"$f":"IFERROR(VLOOKUP(J27, Lookups!$X$13:$Z$14, 2),\"\")","v":""},{"$f":"IFERROR(VLOOKUP(K27, Lookups!$X$13:$Z$14, 2),\"\")","v":""},{"$f":"IFERROR(VLOOKUP(L27, Lookups!$X$13:$Z$14, 2),\"\")","v":""},{"$f":"IFERROR(VLOOKUP(M27, Lookups!$X$13:$Z$14, 2),\"\")","v":""},{"$f":"IFERROR(VLOOKUP(N27, Lookups!$X$13:$Z$14, 2),\"\")","v":""},{"$f":"IFERROR(VLOOKUP(O27, Lookups!$X$13:$Z$14, 2),\"\")","v":""},{"$f":"IFERROR(VLOOKUP(P27, Lookups!$X$13:$Z$14, 2),\"\")","v":""},{"$f":"IFERROR(VLOOKUP(Q27, Lookups!$X$13:$Z$14, 2),\"\")","v":""},{"$f":"IFERROR(VLOOKUP(R27, Lookups!$X$13:$Z$14, 2),\"\")","v":""},{"$f":"IFERROR(VLOOKUP(S27, Lookups!$X$13:$Z$14, 2),\"\")","v":""},{"$f":"IFERROR(VLOOKUP(T27, Lookups!$X$13:$Z$14, 2),\"\")","v":""},{"$f":"IFERROR(VLOOKUP(U27, Lookups!$X$13:$Z$14, 2),\"\")","v":""},null,{"$f":"IFERROR(VLOOKUP(W27, Lookups!$X$13:$Z$14, 2),\"\")","v":""},{"$f":"IFERROR(VLOOKUP(X27, Lookups!$X$13:$Z$14, 2),\"\")","v":""},{"$f":"IFERROR(VLOOKUP(Y27, Lookups!$X$13:$Z$14, 2),\"\")","v":""},{"$f":"IFERROR(VLOOKUP(Z27, Lookups!$X$13:$Z$14, 2),\"\")","v":""},{"$f":"IFERROR(VLOOKUP(AA27, Lookups!$X$13:$Z$14, 2),\"\")","v":""},{"$f":"IFERROR(VLOOKUP(AB27, Lookups!$X$13:$Z$14, 2),\"\")","v":""},{"$f":"IFERROR(VLOOKUP(AC27, Lookups!$X$13:$Z$14, 2),\"\")","v":""},{"$f":"IFERROR(VLOOKUP(AD27, Lookups!$X$13:$Z$14, 2),\"\")","v":""},{"$f":"IFERROR(VLOOKUP(AE27, Lookups!$X$13:$Z$14, 2),\"\")","v":""},{"$f":"IFERROR(VLOOKUP(AF27, Lookups!$X$13:$Z$14, 2),\"\")","v":""},{"$f":"IFERROR(VLOOKUP(AG27, Lookups!$X$13:$Z$14, 2),\"\")","v":""},{"$f":"IFERROR(VLOOKUP(AH27, Lookups!$X$13:$Z$14, 2),\"\")","v":""},{"$f":"IFERROR(VLOOKUP(AI27, Lookups!$X$13:$Z$14, 2),\"\")","v":""},{"$f":"IFERROR(VLOOKUP(AJ27, Lookups!$X$13:$Z$14, 2),\"\")","v":""},{"$f":"IFERROR(VLOOKUP(AK27, Lookups!$X$13:$Z$14, 2),\"\")","v":""},{"$f":"IFERROR(VLOOKUP(AL27, Lookups!$X$13:$Z$14, 2),\"\")","v":""},{"$f":"IFERROR(VLOOKUP(AM27, Lookups!$X$13:$Z$14, 2),\"\")","v":""},{"$f":"IFERROR(VLOOKUP(AN27, Lookups!$X$13:$Z$14, 2),\"\")","v":""},{"$f":"IFERROR(VLOOKUP(AO27, Lookups!$X$13:$Z$14, 2),\"\")","v":""},{"$f":"IFERROR(VLOOKUP(AP27, Lookups!$X$13:$Z$14, 2),\"\")","v":""},{"$f":"IFERROR(VLOOKUP(AQ27, Lookups!$X$13:$Z$14, 2),\"\")","v":""},{"$f":"IFERROR(VLOOKUP(AR27, Lookups!$X$13:$Z$14, 2),\"\")","v":""},{"$f":"IFERROR(VLOOKUP(AS27, Lookups!$X$13:$Z$14, 2),\"\")","v":""},{"$f":"IFERROR(VLOOKUP(AT27, Lookups!$X$13:$Z$14, 2),\"\")","v":""},{"$f":"IFERROR(VLOOKUP(AU27, Lookups!$X$13:$Z$14, 2),\"\")","v":""},{"$f":"IFERROR(VLOOKUP(AV27, Lookups!$X$13:$Z$14, 2),\"\")","v":""},{"$f":"IFERROR(VLOOKUP(AW27, Lookups!$X$13:$Z$14, 2),\"\")","v":""},{"$f":"IFERROR(VLOOKUP(AX27, Lookups!$X$13:$Z$14, 2),\"\")","v":""},{"$f":"IFERROR(VLOOKUP(AY27, Lookups!$X$13:$Z$14, 2),\"\")","v":""},{"$f":"IFERROR(VLOOKUP(AZ27, Lookups!$X$13:$Z$14, 2),\"\")","v":""},{"$f":"IFERROR(VLOOKUP(BA27, Lookups!$X$13:$Z$14, 2),\"\")","v":""},{"$f":"IFERROR(VLOOKUP(BB27, Lookups!$X$13:$Z$14, 2),\"\")","v":""},{"$f":"IFERROR(VLOOKUP(BC27, Lookups!$X$13:$Z$14, 2),\"\")","v":""},{"$f":"IFERROR(VLOOKUP(BD27, Lookups!$X$13:$Z$14, 2),\"\")","v":""},{"$f":"IFERROR(VLOOKUP(BE27, Lookups!$X$13:$Z$14, 2),\"\")","v":""},{"$f":"IFERROR(VLOOKUP(BF27, Lookups!$X$13:$Z$14, 2),\"\")","v":""}]
["Multiplier",{"$f":"IFERROR(VLOOKUP(B28, Lookups!$X$13:$Z$14, 3),\"\")","v":0.35099999999999998},{"$f":"IFERROR(VLOOKUP(C28, Lookups!$X$13:$Z$14, 3),\"\")","v":0.35099999999999998},{"$f":"IFERROR(VLOOKUP(D28, Lookups!$X$13:$Z$14, 3),\"\")","v":""},{"$f":"IFERROR(VLOOKUP(E28, Lookups!$X$13:$Z$14, 3),\"\")","v":""},{"$f":"IFERROR(VLOOKUP(F28, Lookups!$X$13:$Z$14, 3),\"\")","v":""},{"$f":"IFERROR(VLOOKUP(G28, Lookups!$X$13:$Z$14, 3),\"\")","v":""},{"$f":"IFERROR(VLOOKUP(H28, Lookups!$X$13:$Z$14, 3),\"\")","v":""},{"$f":"IFERROR(VLOOKUP(I28, Lookups!$X$13:$Z$14, 3),\"\")","v":""},{"$f":"IFERROR(VLOOKUP(J28, Lookups!$X$13:$Z$14, 3),\"\")","v":""},{"$f":"IFERROR(VLOOKUP(K28, Lookups!$X$13:$Z$14, 3),\"\")","v":""},{"$f":"IFERROR(VLOOKUP(L28, Lookups!$X$13:$Z$14, 3),\"\")","v":""},{"$f":"IFERROR(VLOOKUP(M28, Lookups!$X$13:$Z$14, 3),\"\")","v":""},{"$f":"IFERROR(VLOOKUP(N28, Lookups!$X$13:$Z$14, 3),\"\")","v":""},{"$f":"IFERROR(VLOOKUP(O28, Lookups!$X$13:$Z$14, 3),\"\")","v":""},{"$f":"IFERROR(VLOOKUP(P28, Lookups!$X$13:$Z$14, 3),\"\")","v":""},{"$f":"IFERROR(VLOOKUP(Q28, Lookups!$X$13:$Z$14, 3),\"\")","v":""},{"$f":"IFERROR(VLOOKUP(R28, Lookups!$X$13:$Z$14, 3),\"\")","v":""},{"$f":"IFERROR(VLOOKUP(S28, Lookups!$X$13:$Z$14, 3),\"\")","v":""},{"$f":"IFERROR(VLOOKUP(T28, Lookups!$X$13:$Z$14, 3),\"\")","v":""},{"$f":"IFERROR(VLOOKUP(U28, Lookups!$X$13:$Z$14, 3),\"\")","v":""},null,{"$f":"IFERROR(VLOOKUP(W28, Lookups!$X$13:$Z$14, 3),\"\")","v":""},{"$f":"IFERROR(VLOOKUP(X28, Lookups!$X$13:$Z$14, 3),\"\")","v":""},{"$f":"IFERROR(VLOOKUP(Y28, Lookups!$X$13:$Z$14, 3),\"\")","v":""},{"$f":"IFERROR(VLOOKUP(Z28, Lookups!$X$13:$Z$14, 3),\"\")","v":""},{"$f":"IFERROR(VLOOKUP(AA28, Lookups!$X$13:$Z$14, 3),\"\")","v":""},{"$f":"IFERROR(VLOOKUP(AB28, Lookups!$X$13:$Z$14, 3),\"\")","v":""},{"$f":"IFERROR(VLOOKUP(AC28, Lookups!$X$13:$Z$14, 3),\"\")","v":""},{"$f":"IFERROR(VLOOKUP(AD28, Lookups!$X$13:$Z$14, 3),\"\")","v":""},{"$f":"IFERROR(VLOOKUP(AE28, Lookups!$X$13:$Z$14, 3),\"\")","v":""},{"$f":"IFERROR(VLOOKUP(AF28, Lookups!$X$13:$Z$14, 3),\"\")","v":""},{"$f":"IFERROR(VLOOKUP(AG28, Lookups!$X$13:$Z$14, 3),\"\")","v":""},{"$f":"IFERROR(VLOOKUP(AH28, Lookups!$X$13:$Z$14, 3),\"\")","v":""},{"$f":"IFERROR(VLOOKUP(AI28, Lookups!$X$13:$Z$14, 3),\"\")","v":""},{"$f":"IFERROR(VLOOKUP(AJ28, Lookups!$X$13:$Z$14, 3),\"\")","v":""},{"$f":"IFERROR(VLOOKUP(AK28, Lookups!$X$13:$Z$14, 3),\"\")","v":""},{"$f":"IFERROR(VLOOKUP(AL28, Lookups!$X$13:$Z$14, 3),\"\")","v":""},{"$f":"IFERROR(VLOOKUP(AM28, Lookups!$X$13:$Z$14, 3),\"\")","v":""},{"$f":"IFERROR(VLOOKUP(AN28, Lookups!$X$13:$Z$14, 3),\"\")","v":""},{"$f":"IFERROR(VLOOKUP(AO28, Lookups!$X$13:$Z$14, 3),\"\")","v":""},{"$f":"IFERROR(VLOOKUP(AP28, Lookups!$X$13:$Z$14, 3),\"\")","v":""},{"$f":"IFERROR(VLOOKUP(AQ28, Lookups!$X$13:$Z$14, 3),\"\")","v":""},{"$f":"IFERROR(VLOOKUP(AR28, Lookups!$X$13:$Z$14, 3),\"\")","v":""},{"$f":"IFERROR(VLOOKUP(AS28, Lookups!$X$13:$Z$14, 3),\"\")","v":""},{"$f":"IFERROR(VLOOKUP(AT28, Lookups!$X$13:$Z$14, 3),\"\")","v":""},{"$f":"IFERROR(VLOOKUP(AU28, Lookups!$X$13:$Z$14, 3),\"\")","v":""},{"$f":"IFERROR(VLOOKUP(AV28, Lookups!$X$13:$Z$14, 3),\"\")","v":""},{"$f":"IFERROR(VLOOKUP(AW28, Lookups!$X$13:$Z$14, 3),\"\")","v":""},{"$f":"IFERROR(VLOOKUP(AX28, Lookups!$X$13:$Z$14, 3),\"\")","v":""},{"$f":"IFERROR(VLOOKUP(AY28, Lookups!$X$13:$Z$14, 3),\"\")","v":""},{"$f":"IFERROR(VLOOKUP(AZ28, Lookups!$X$13:$Z$14, 3),\"\")","v":""},{"$f":"IFERROR(VLOOKUP(BA28, Lookups!$X$13:$Z$14, 3),\"\")","v":""},{"$f":"IFERROR(VLOOKUP(BB28, Lookups!$X$13:$Z$14, 3),\"\")","v":""},{"$f":"IFERROR(VLOOKUP(BC28, Lookups!$X$13:$Z$14, 3),\"\")","v":""},{"$f":"IFERROR(VLOOKUP(BD28, Lookups!$X$13:$Z$14, 3),\"\")","v":""},{"$f":"IFERROR(VLOOKUP(BE28, Lookups!$X$13:$Z$14, 3),\"\")","v":""},{"$f":"IFERROR(VLOOKUP(BF28, Lookups!$X$13:$Z$14, 3),\"\")","v":""}]
["Artifact Proc Menu"]
["Occurances",1,1,1,1,2,23,1,3,1,1,1,1,1,1,1,1,1,1,1,1,null,1,1,1,10,10,1,1,15,1,1,1,1,1,1,1,1,1,1,1,1,1,1,1,1,1,1,1,1,1,1,1,1,1,1,1,1]
["Manual Damage Override"]
["Stacks (Raiden Only)"]
["Occurances"]
["Base"]
["Multiplier",{"$f":"INDEX(INDEX(MVs!$B:$B,INDEX(MVs!$V$2:$Z$4,2,MATCH(B$38,MVs!$V$2:$Z$2,0))):INDEX(MVs!$U:$U,INDEX(MVs!$V$2:$Z$4,3,MATCH(B$38,MVs!$V$2:$Z$2,0))),MATCH(B$2,INDEX(MVs!$B:$B,INDEX(MVs!$V$2:$Z$4,2,MATCH(B$38,MVs!$V$2:$Z$2,0))):INDEX(MVs!$B:$B,INDEX(MVs!$V$2:$Z$4,3,MATCH(B$38,MVs!$V$2:$Z$2,0))),0),IFERROR(MATCH(B$7, MVs!$B$1:$T$1, 0), 2))","v":5.04},{"$f":"INDEX(INDEX(MVs!$B:$B,INDEX(MVs!$V$2:$Z$4,2,MATCH(C$38,MVs!$V$2:$Z$2,0))):INDEX(MVs!$U:$U,INDEX(MVs!$V$2:$Z$4,3,MATCH(C$38,MVs!$V$2:$Z$2,0))),MATCH(C$2,INDEX(MVs!$B:$B,INDEX(MVs!$V$2:$Z$4,2,MATCH(C$38,MVs!$V$2:$Z$2,0))):INDEX(MVs!$B:$B,INDEX(MVs!$V$2:$Z$4,3,MATCH(C$38,MVs!$V$2:$Z$2,0))),0),IFERROR(MATCH(C$7, MVs!$B$1:$T$1, 0), 2))","v":5.04},{"$f":"INDEX(INDEX(MVs!$B:$B,INDEX(MVs!$V$2:$Z$4,2,MATCH(D$38,MVs!$V$2:$Z$2,0))):INDEX(MVs!$U:$U,INDEX(MVs!$V$2:$Z$4,3,MATCH(D$38,MVs!$V$2:$Z$2,0))),MATCH(D$2,INDEX(MVs!$B:$B,INDEX(MVs!$V$2:$Z$4,2,MATCH(D$38,MVs!$V$2:$Z$2,0))):INDEX(MVs!$B:$B,INDEX(MVs!$V$2:$Z$4,3,MATCH(D$38,MVs!$V$2:$Z$2,0))),0),IFERROR(MATCH(D$7, MVs!$B$1:$T$1, 0), 2))","v":2.7519999999999998},{"$f":"INDEX(INDEX(MVs!$B:$B,INDEX(MVs!$V$2:$Z$4,2,MATCH(E$38,MVs!$V$2:$Z$2,0))):INDEX(MVs!$U:$U,INDEX(MVs!$V$2:$Z$4,3,MATCH(E$38,MVs!$V$2:$Z$2,0))),MATCH(E$2,INDEX(MVs!$B:$B,INDEX(MVs!$V$2:$Z$4,2,MATCH(E$38,MVs!$V$2:$Z$2,0))):INDEX(MVs!$B:$B,INDEX(MVs!$V$2:$Z$4,3,MATCH(E$38,MVs!$V$2:$Z$2,0))),0),IFERROR(MATCH(E$7, MVs!$B$1:$T$1, 0), 2))","v":4.6559999999999997},{"$f":"INDEX(INDEX(MVs!$B:$B,INDEX(MVs!$V$2:$Z$4,2,MATCH(F$38,MVs!$V$2:$Z$2,0))):INDEX(MVs!$U:$U,INDEX(MVs!$V$2:$Z$4,3,MATCH(F$38,MVs!$V$2:$Z$2,0))),MATCH(F$2,INDEX(MVs!$B:$B,INDEX(MVs!$V$2:$Z$4,2,MATCH(F$38,MVs!$V$2:$Z$2,0))):INDEX(MVs!$B:$B,INDEX(MVs!$V$2:$Z$4,3,MATCH(F$38,MVs!$V$2:$Z$2,0))),0),IFERROR(MATCH(F$7, MVs!$B$1:$T$1, 0), 2))","v":1.0853999999999999},{"$f":"INDEX(INDEX(MVs!$B:$B,INDEX(MVs!$V$2:$Z$4,2,MATCH(G$38,MVs!$V$2:$Z$2,0))):INDEX(MVs!$U:$U,INDEX(MVs!$V$2:$Z$4,3,MATCH(G$38,MVs!$V$2:$Z$2,0))),MATCH(G$2,INDEX(MVs!$B:$B,INDEX(MVs!$V$2:$Z$4,2,MATCH(G$38,MVs!$V$2:$Z$2,0))):INDEX(MVs!$B:$B,INDEX(MVs!$V$2:$Z$4,3,MATCH(G$38,MVs!$V$2:$Z$2,0))),0),IFERROR(MATCH(G$7, MVs!$B$1:$T$1, 0), 2))","v":1.0853999999999999},{"$f":"INDEX(INDEX(MVs!$B:$B,INDEX(MVs!$V$2:$Z$4,2,MATCH(H$38,MVs!$V$2:$Z$2,0))):INDEX(MVs!$U:$U,INDEX(MVs!$V$2:$Z$4,3,MATCH(H$38,MVs!$V$2:$Z$2,0))),MATCH(H$2,INDEX(MVs!$B:$B,INDEX(MVs!$V$2:$Z$4,2,MATCH(H$38,MVs!$V$2:$Z$2,0))):INDEX(MVs!$B:$B,INDEX(MVs!$V$2:$Z$4,3,MATCH(H$38,MVs!$V$2:$Z$2,0))),0),IFERROR(MATCH(H$7, MVs!$B$1:$T$1, 0), 2))","v":3.468},{"$f":"INDEX(INDEX(MVs!$B:$B,INDEX(MVs!$V$2:$Z$4,2,MATCH(I$38,MVs!$V$2:$Z$2,0))):INDEX(MVs!$U:$U,INDEX(MVs!$V$2:$Z$4,3,MATCH(I$38,MVs!$V$2:$Z$2,0))),MATCH(I$2,INDEX(MVs!$B:$B,INDEX(MVs!$V$2:$Z$4,2,MATCH(I$38,MVs!$V$2:$Z$2,0))):INDEX(MVs!$B:$B,INDEX(MVs!$V$2:$Z$4,3,MATCH(I$38,MVs!$V$2:$Z$2,0))),0),IFERROR(MATCH(I$7, MVs!$B$1:$T$1, 0), 2))","v":1.02},{"$f":"INDEX(INDEX(MVs!$B:$B,INDEX(MVs!$V$2:$Z$4,2,MATCH(J$38,MVs!$V$2:$Z$2,0))):INDEX(MVs!$U:$U,INDEX(MVs!$V$2:$Z$4,3,MATCH(J$38,MVs!$V$2:$Z$2,0))),MATCH(J$2,INDEX(MVs!$B:$B,INDEX(MVs!$V$2:$Z$4,2,MATCH(J$38,MVs!$V$2:$Z$2,0))):INDEX(MVs!$B:$B,INDEX(MVs!$V$2:$Z$4,3,MATCH(J$38,MVs!$V$2:$Z$2,0))),0),IFERROR(MATCH(J$7, MVs!$B$1:$T$1, 0), 2))","v":1.6478999999999999},{"$f":"INDEX(INDEX(MVs!$B:$B,INDEX(MVs!$V$2:$Z$4,2,MATCH(K$38,MVs!$V$2:$Z$2,0))):INDEX(MVs!$U:$U,INDEX(MVs!$V$2:$Z$4,3,MATCH(K$38,MVs!$V$2:$Z$2,0))),MATCH(K$2,INDEX(MVs!$B:$B,INDEX(MVs!$V$2:$Z$4,2,MATCH(K$38,MVs!$V$2:$Z$2,0))):INDEX(MVs!$B:$B,INDEX(MVs!$V$2:$Z$4,3,MATCH(K$38,MVs!$V$2:$Z$2,0))),0),IFERROR(MATCH(K$7, MVs!$B$1:$T$1, 0), 2))","v":1.6048},{"$f":"INDEX(INDEX(MVs!$B:$B,INDEX(MVs!$V$2:$Z$4,2,MATCH(L$38,MVs!$V$2:$Z$2,0))):INDEX(MVs!$U:$U,INDEX(MVs!$V$2:$Z$4,3,MATCH(L$38,MVs!$V$2:$Z$2,0))),MATCH(L$2,INDEX(MVs!$B:$B,INDEX(MVs!$V$2:$Z$4,2,MATCH(L$38,MVs!$V$2:$Z$2,0))):INDEX(MVs!$B:$B,INDEX(MVs!$V$2:$Z$4,3,MATCH(L$38,MVs!$V$2:$Z$2,0))),0),IFERROR(MATCH(L$7, MVs!$B$1:$T$1, 0), 2))","v":1.6478999999999999},{"$f":"INDEX(INDEX(MVs!$B:$B,INDEX(MVs!$V$2:$Z$4,2,MATCH(M$38,MVs!$V$2:$Z$2,0))):INDEX(MVs!$U:$U,INDEX(MVs!$V$2:$Z$4,3,MATCH(M$38,MVs!$V$2:$Z$2,0))),MATCH(M$2,INDEX(MVs!$B:$B,INDEX(MVs!$V$2:$Z$4,2,MATCH(M$38,MVs!$V$2:$Z$2,0))):INDEX(MVs!$B:$B,INDEX(MVs!$V$2:$Z$4,3,MATCH(M$38,MVs!$V$2:$Z$2,0))),0),IFERROR(MATCH(M$7, MVs!$B$1:$T$1, 0), 2))","v":1.61},{"$f":"INDEX(INDEX(MVs!$B:$B,INDEX(MVs!$V$2:$Z$4,2,MATCH(N$38,MVs!$V$2:$Z$2,0))):INDEX(MVs!$U:$U,INDEX(MVs!$V$2:$Z$4,3,MATCH(N$38,MVs!$V$2:$Z$2,0))),MATCH(N$2,INDEX(MVs!$B:$B,INDEX(MVs!$V$2:$Z$4,2,MATCH(N$38,MVs!$V$2:$Z$2,0))):INDEX(MVs!$B:$B,INDEX(MVs!$V$2:$Z$4,3,MATCH(N$38,MVs!$V$2:$Z$2,0))),0),IFERROR(MATCH(N$7, MVs!$B$1:$T$1, 0), 2))","v":1.6592},{"$f":"INDEX(INDEX(MVs!$B:$B,INDEX(MVs!$V$2:$Z$4,2,MATCH(O$38,MVs!$V$2:$Z$2,0))):INDEX(MVs!$U:$U,INDEX(MVs!$V$2:$Z$4,3,MATCH(O$38,MVs!$V$2:$Z$2,0))),MATCH(O$2,INDEX(MVs!$B:$B,INDEX(MVs!$V$2:$Z$4,2,MATCH(O$38,MVs!$V$2:$Z$2,0))):INDEX(MVs!$B:$B,INDEX(MVs!$V$2:$Z$4,3,MATCH(O$38,MVs!$V$2:$Z$2,0))),0),IFERROR(MATCH(O$7, MVs!$B$1:$T$1, 0), 2))","v":1.6478999999999999},{"$f":"INDEX(INDEX(MVs!$B:$B,INDEX(MVs!$V$2:$Z$4,2,MATCH(P$38,MVs!$V$2:$Z$2,0))):INDEX(MVs!$U:$U,INDEX(MVs!$V$2:$Z$4,3,MATCH(P$38,MVs!$V$2:$Z$2,0))),MATCH(P$2,INDEX(MVs!$B:$B,INDEX(MVs!$V$2:$Z$4,2,MATCH(P$38,MVs!$V$2:$Z$2,0))):INDEX(MVs!$B:$B,INDEX(MVs!$V$2:$Z$4,3,MATCH(P$38,MVs!$V$2:$Z$2,0))),0),IFERROR(MATCH(P$7, MVs!$B$1:$T$1, 0), 2))","v":1.61},{"$f":"INDEX(INDEX(MVs!$B:$B,INDEX(MVs!$V$2:$Z$4,2,MATCH(Q$38,MVs!$V$2:$Z$2,0))):INDEX(MVs!$U:$U,INDEX(MVs!$V$2:$Z$4,3,MATCH(Q$38,MVs!$V$2:$Z$2,0))),MATCH(Q$2,INDEX(MVs!$B:$B,INDEX(MVs!$V$2:$Z$4,2,MATCH(Q$38,MVs!$V$2:$Z$2,0))):INDEX(MVs!$B:$B,INDEX(MVs!$V$2:$Z$4,3,MATCH(Q$38,MVs!$V$2:$Z$2,0))),0),IFERROR(MATCH(Q$7, MVs!$B$1:$T$1, 0), 2))","v":2.1896},{"$f":"INDEX(INDEX(MVs!$B:$B,INDEX(MVs!$V$2:$Z$4,2,MATCH(R$38,MVs!$V$2:$Z$2,0))):INDEX(MVs!$U:$U,INDEX(MVs!$V$2:$Z$4,3,MATCH(R$38,MVs!$V$2:$Z$2,0))),MATCH(R$2,INDEX(MVs!$B:$B,INDEX(MVs!$V$2:$Z$4,2,MATCH(R$38,MVs!$V$2:$Z$2,0))):INDEX(MVs!$B:$B,INDEX(MVs!$V$2:$Z$4,3,MATCH(R$38,MVs!$V$2:$Z$2,0))),0),IFERROR(MATCH(R$7, MVs!$B$1:$T$1, 0), 2))","v":1.6478999999999999},{"$f":"INDEX(INDEX(MVs!$B:$B,INDEX(MVs!$V$2:$Z$4,2,MATCH(S$38,MVs!$V$2:$Z$2,0))):INDEX(MVs!$U:$U,INDEX(MVs!$V$2:$Z$4,3,MATCH(S$38,MVs!$V$2:$Z$2,0))),MATCH(S$2,INDEX(MVs!$B:$B,INDEX(MVs!$V$2:$Z$4,2,MATCH(S$38,MVs!$V$2:$Z$2,0))):INDEX(MVs!$B:$B,INDEX(MVs!$V$2:$Z$4,3,MATCH(S$38,MVs!$V$2:$Z$2,0))),0),IFERROR(MATCH(S$7, MVs!$B$1:$T$1, 0), 2))","v":1.61},{"$f":"INDEX(INDEX(MVs!$B:$B,INDEX(MVs!$V$2:$Z$4,2,MATCH(T$38,MVs!$V$2:$Z$2,0))):INDEX(MVs!$U:$U,INDEX(MVs!$V$2:$Z$4,3,MATCH(T$38,MVs!$V$2:$Z$2,0))),MATCH(T$2,INDEX(MVs!$B:$B,INDEX(MVs!$V$2:$Z$4,2,MATCH(T$38,MVs!$V$2:$Z$2,0))):INDEX(MVs!$B:$B,INDEX(MVs!$V$2:$Z$4,3,MATCH(T$38,MVs!$V$2:$Z$2,0))),0),IFERROR(MATCH(T$7, MVs!$B$1:$T$1, 0), 2))","v":1.8153999999999999},{"$f":"INDEX(INDEX(MVs!$B:$B,INDEX(MVs!$V$2:$Z$4,2,MATCH(U$38,MVs!$V$2:$Z$2,0))):INDEX(MVs!$U:$U,INDEX(MVs!$V$2:$Z$4,3,MATCH(U$38,MVs!$V$2:$Z$2,0))),MATCH(U$2,INDEX(MVs!$B:$B,INDEX(MVs!$V$2:$Z$4,2,MATCH(U$38,MVs!$V$2:$Z$2,0))):INDEX(MVs!$B:$B,INDEX(MVs!$V$2:$Z$4,3,MATCH(U$38,MVs!$V$2:$Z$2,0))),0),IFERROR(MATCH(U$7, MVs!$B$1:$T$1, 0), 2))","v":2.4615999999999998},null,{"$f":"INDEX(INDEX(MVs!$B:$B,INDEX(MVs!$V$2:$Z$4,2,MATCH(W$38,MVs!$V$2:$Z$2,0))):INDEX(MVs!$U:$U,INDEX(MVs!$V$2:$Z$4,3,MATCH(W$38,MVs!$V$2:$Z$2,0))),MATCH(W$2,INDEX(MVs!$B:$B,INDEX(MVs!$V$2:$Z$4,2,MATCH(W$38,MVs!$V$2:$Z$2,0))):INDEX(MVs!$B:$B,INDEX(MVs!$V$2:$Z$4,3,MATCH(W$38,MVs!$V$2:$Z$2,0))),0),IFERROR(MATCH(W$7, MVs!$B$1:$T$1, 0), 2))","v":0.81840000000000002},{"$f":"INDEX(INDEX(MVs!$B:$B,INDEX(MVs!$V$2:$Z$4,2,MATCH(X$38,MVs!$V$2:$Z$2,0))):INDEX(MVs!$U:$U,INDEX(MVs!$V$2:$Z$4,3,MATCH(X$38,MVs!$V$2:$Z$2,0))),MATCH(X$2,INDEX(MVs!$B:$B,INDEX(MVs!$V$2:$Z$4,2,MATCH(X$38,MVs!$V$2:$Z$2,0))):INDEX(MVs!$B:$B,INDEX(MVs!$V$2:$Z$4,3,MATCH(X$38,MVs!$V$2:$Z$2,0))),0),IFERROR(MATCH(X$7, MVs!$B$1:$T$1, 0), 2))","v":2.7519999999999998},{"$f":"INDEX(INDEX(MVs!$B:$B,INDEX(MVs!$V$2:$Z$4,2,MATCH(Y$38,MVs!$V$2:$Z$2,0))):INDEX(MVs!$U:$U,INDEX(MVs!$V$2:$Z$4,3,MATCH(Y$38,MVs!$V$2:$Z$2,0))),MATCH(Y$2,INDEX(MVs!$B:$B,INDEX(MVs!$V$2:$Z$4,2,MATCH(Y$38,MVs!$V$2:$Z$2,0))):INDEX(MVs!$B:$B,INDEX(MVs!$V$2:$Z$4,3,MATCH(Y$38,MVs!$V$2:$Z$2,0))),0),IFERROR(MATCH(Y$7, MVs!$B$1:$T$1, 0), 2))","v":1.36},{"$f":"INDEX(INDEX(MVs!$B:$B,INDEX(MVs!$V$2:$Z$4,2,MATCH(Z$38,MVs!$V$2:$Z$2,0))):INDEX(MVs!$U:$U,INDEX(MVs!$V$2:$Z$4,3,MATCH(Z$38,MVs!$V$2:$Z$2,0))),MATCH(Z$2,INDEX(MVs!$B:$B,INDEX(MVs!$V$2:$Z$4,2,MATCH(Z$38,MVs!$V$2:$Z$2,0))):INDEX(MVs!$B:$B,INDEX(MVs!$V$2:$Z$4,3,MATCH(Z$38,MVs!$V$2:$Z$2,0))),0),IFERROR(MATCH(Z$7, MVs!$B$1:$T$1, 0), 2))","v":0.27200000000000002},{"$f":"INDEX(INDEX(MVs!$B:$B,INDEX(MVs!$V$2:$Z$4,2,MATCH(AA$38,MVs!$V$2:$Z$2,0))):INDEX(MVs!$U:$U,INDEX(MVs!$V$2:$Z$4,3,MATCH(AA$38,MVs!$V$2:$Z$2,0))),MATCH(AA$2,INDEX(MVs!$B:$B,INDEX(MVs!$V$2:$Z$4,2,MATCH(AA$38,MVs!$V$2:$Z$2,0))):INDEX(MVs!$B:$B,INDEX(MVs!$V$2:$Z$4,3,MATCH(AA$38,MVs!$V$2:$Z$2,0))),0),IFERROR(MATCH(AA$7, MVs!$B$1:$T$1, 0), 2))","v":1.9E-2},{"$f":"INDEX(INDEX(MVs!$B:$B,INDEX(MVs!$V$2:$Z$4,2,MATCH(AB$38,MVs!$V$2:$Z$2,0))):INDEX(MVs!$U:$U,INDEX(MVs!$V$2:$Z$4,3,MATCH(AB$38,MVs!$V$2:$Z$2,0))),MATCH(AB$2,INDEX(MVs!$B:$B,INDEX(MVs!$V$2:$Z$4,2,MATCH(AB$38,MVs!$V$2:$Z$2,0))):INDEX(MVs!$B:$B,INDEX(MVs!$V$2:$Z$4,3,MATCH(AB$38,MVs!$V$2:$Z$2,0))),0),IFERROR(MATCH(AB$7, MVs!$B$1:$T$1, 0), 2))","v":1.6478999999999999},{"$f":"INDEX(INDEX(MVs!$B:$B,INDEX(MVs!$V$2:$Z$4,2,MATCH(AC$38,MVs!$V$2:$Z$2,0))):INDEX(MVs!$U:$U,INDEX(MVs!$V$2:$Z$4,3,MATCH(AC$38,MVs!$V$2:$Z$2,0))),MATCH(AC$2,INDEX(MVs!$B:$B,INDEX(MVs!$V$2:$Z$4,2,MATCH(AC$38,MVs!$V$2:$Z$2,0))):INDEX(MVs!$B:$B,INDEX(MVs!$V$2:$Z$4,3,MATCH(AC$38,MVs!$V$2:$Z$2,0))),0),IFERROR(MATCH(AC$7, MVs!$B$1:$T$1, 0), 2))","v":1.61},{"$f":"INDEX(INDEX(MVs!$B:$B,INDEX(MVs!$V$2:$Z$4,2,MATCH(AD$38,MVs!$V$2:$Z$2,0))):INDEX(MVs!$U:$U,INDEX(MVs!$V$2:$Z$4,3,MATCH(AD$38,MVs!$V$2:$Z$2,0))),MATCH(AD$2,INDEX(MVs!$B:$B,INDEX(MVs!$V$2:$Z$4,2,MATCH(AD$38,MVs!$V$2:$Z$2,0))):INDEX(MVs!$B:$B,INDEX(MVs!$V$2:$Z$4,3,MATCH(AD$38,MVs!$V$2:$Z$2,0))),0),IFERROR(MATCH(AD$7, MVs!$B$1:$T$1, 0), 2))","v":1.0853999999999999},{"$f":"INDEX(INDEX(MVs!$B:$B,INDEX(MVs!$V$2:$Z$4,2,MATCH(AE$38,MVs!$V$2:$Z$2,0))):INDEX(MVs!$U:$U,INDEX(MVs!$V$2:$Z$4,3,MATCH(AE$38,MVs!$V$2:$Z$2,0))),MATCH(AE$2,INDEX(MVs!$B:$B,INDEX(MVs!$V$2:$Z$4,2,MATCH(AE$38,MVs!$V$2:$Z$2,0))):INDEX(MVs!$B:$B,INDEX(MVs!$V$2:$Z$4,3,MATCH(AE$38,MVs!$V$2:$Z$2,0))),0),IFERROR(MATCH(AE$7, MVs!$B$1:$T$1, 0), 2))","v":1.6478999999999999},{"$f":"INDEX(INDEX(MVs!$B:$B,INDEX(MVs!$V$2:$Z$4,2,MATCH(AF$38,MVs!$V$2:$Z$2,0))):INDEX(MVs!$U:$U,INDEX(MVs!$V$2:$Z$4,3,MATCH(AF$38,MVs!$V$2:$Z$2,0))),MATCH(AF$2,INDEX(MVs!$B:$B,INDEX(MVs!$V$2:$Z$4,2,MATCH(AF$38,MVs!$V$2:$Z$2,0))):INDEX(MVs!$B:$B,INDEX(MVs!$V$2:$Z$4,3,MATCH(AF$38,MVs!$V$2:$Z$2,0))),0),IFERROR(MATCH(AF$7, MVs!$B$1:$T$1, 0), 2))","v":{"$error":"#N/A"}},{"$f":"INDEX(INDEX(MVs!$B:$B,INDEX(MVs!$V$2:$Z$4,2,MATCH(AG$38,MVs!$V$2:$Z$2,0))):INDEX(MVs!$U:$U,INDEX(MVs!$V$2:$Z$4,3,MATCH(AG$38,MVs!$V$2:$Z$2,0))),MATCH(AG$2,INDEX(MVs!$B:$B,INDEX(MVs!$V$2:$Z$4,2,MATCH(AG$38,MVs!$V$2:$Z$2,0))):INDEX(MVs!$B:$B,INDEX(MVs!$V$2:$Z$4,3,MATCH(AG$38,MVs!$V$2:$Z$2,0))),0),IFERROR(MATCH(AG$7, MVs!$B$1:$T$1, 0), 2))","v":{"$error":"#N/A"}},{"$f":"INDEX(INDEX(MVs!$B:$B,INDEX(MVs!$V$2:$Z$4,2,MATCH(AH$38,MVs!$V$2:$Z$2,0))):INDEX(MVs!$U:$U,INDEX(MVs!$V$2:$Z$4,3,MATCH(AH$38,MVs!$V$2:$Z$2,0))),MATCH(AH$2,INDEX(MVs!$B:$B,INDEX(MVs!$V$2:$Z$4,2,MATCH(AH$38,MVs!$V$2:$Z$2,0))):INDEX(MVs!$B:$B,INDEX(MVs!$V$2:$Z$4,3,MATCH(AH$38,MVs!$V$2:$Z$2,0))),0),IFERROR(MATCH(AH$7, MVs!$B$1:$T$1, 0), 2))","v":{"$error":"#N/A"}},{"$f":"INDEX(INDEX(MVs!$B:$B,INDEX(MVs!$V$2:$Z$4,2,MATCH(AI$38,MVs!$V$2:$Z$2,0))):INDEX(MVs!$U:$U,INDEX(MVs!$V$2:$Z$4,3,MATCH(AI$38,MVs!$V$2:$Z$2,0))),MATCH(AI$2,INDEX(MVs!$B:$B,INDEX(MVs!$V$2:$Z$4,2,MATCH(AI$38,MVs!$V$2:$Z$2,0))):INDEX(MVs!$B:$B,INDEX(MVs!$V$2:$Z$4,3,MATCH(AI$38,MVs!$V$2:$Z$2,0))),0),IFERROR(MATCH(AI$7, MVs!$B$1:$T$1, 0), 2))","v":{"$error":"#N/A"}},{"$f":"INDEX(INDEX(MVs!$B:$B,INDEX(MVs!$V$2:$Z$4,2,MATCH(AJ$38,MVs!$V$2:$Z$2,0))):INDEX(MVs!$U:$U,INDEX(MVs!$V$2:$Z$4,3,MATCH(AJ$38,MVs!$V$2:$Z$2,0))),MATCH(AJ$2,INDEX(MVs!$B:$B,INDEX(MVs!$V$2:$Z$4,2,MATCH(AJ$38,MVs!$V$2:$Z$2,0))):INDEX(MVs!$B:$B,INDEX(MVs!$V$2:$Z$4,3,MATCH(AJ$38,MVs!$V$2:$Z$2,0))),0),IFERROR(MATCH(AJ$7, MVs!$B$1:$T$1, 0), 2))","v":{"$error":"#N/A"}},{"$f":"INDEX(INDEX(MVs!$B:$B,INDEX(MVs!$V$2:$Z$4,2,MATCH(AK$38,MVs!$V$2:$Z$2,0))):INDEX(MVs!$U:$U,INDEX(MVs!$V$2:$Z$4,3,MATCH(AK$38,MVs!$V$2:$Z$2,0))),MATCH(AK$2,INDEX(MVs!$B:$B,INDEX(MVs!$V$2:$Z$4,2,MATCH(AK$38,MVs!$V$2:$Z$2,0))):INDEX(MVs!$B:$B,INDEX(MVs!$V$2:$Z$4,3,MATCH(AK$38,MVs!$V$2:$Z$2,0))),0),IFERROR(MATCH(AK$7, MVs!$B$1:$T$1, 0), 2))","v":{"$error":"#N/A"}},{"$f":"INDEX(INDEX(MVs!$B:$B,INDEX(MVs!$V$2:$Z$4,2,MATCH(AL$38,MVs!$V$2:$Z$2,0))):INDEX(MVs!$U:$U,INDEX(MVs!$V$2:$Z$4,3,MATCH(AL$38,MVs!$V$2:$Z$2,0))),MATCH(AL$2,INDEX(MVs!$B:$B,INDEX(MVs!$V$2:$Z$4,2,MATCH(AL$38,MVs!$V$2:$Z$2,0))):INDEX(MVs!$B:$B,INDEX(MVs!$V$2:$Z$4,3,MATCH(AL$38,MVs!$V$2:$Z$2,0))),0),IFERROR(MATCH(AL$7, MVs!$B$1:$T$1, 0), 2))","v":{"$error":"#N/A"}},{"$f":"INDEX(INDEX(MVs!$B:$B,INDEX(MVs!$V$2:$Z$4,2,MATCH(AM$38,MVs!$V$2:$Z$2,0))):INDEX(MVs!$U:$U,INDEX(MVs!$V$2:$Z$4,3,MATCH(AM$38,MVs!$V$2:$Z$2,0))),MATCH(AM$2,INDEX(MVs!$B:$B,INDEX(MVs!$V$2:$Z$4,2,MATCH(AM$38,MVs!$V$2:$Z$2,0))):INDEX(MVs!$B:$B,INDEX(MVs!$V$2:$Z$4,3,MATCH(AM$38,MVs!$V$2:$Z$2,0))),0),IFERROR(MATCH(AM$7, MVs!$B$1:$T$1, 0), 2))","v":{"$error":"#N/A"}},{"$f":"INDEX(INDEX(MVs!$B:$B,INDEX(MVs!$V$2:$Z$4,2,MATCH(AN$38,MVs!$V$2:$Z$2,0))):INDEX(MVs!$U:$U,INDEX(MVs!$V$2:$Z$4,3,MATCH(AN$38,MVs!$V$2:$Z$2,0))),MATCH(AN$2,INDEX(MVs!$B:$B,INDEX(MVs!$V$2:$Z$4,2,MATCH(AN$38,MVs!$V$2:$Z$2,0))):INDEX(MVs!$B:$B,INDEX(MVs!$V$2:$Z$4,3,MATCH(AN$38,MVs!$V$2:$Z$2,0))),0),IFERROR(MATCH(AN$7, MVs!$B$1:$T$1, 0), 2))","v":{"$error":"#N/A"}},{"$f":"INDEX(INDEX(MVs!$B:$B,INDEX(MVs!$V$2:$Z$4,2,MATCH(AO$38,MVs!$V$2:$Z$2,0))):INDEX(MVs!$U:$U,INDEX(MVs!$V$2:$Z$4,3,MATCH(AO$38,MVs!$V$2:$Z$2,0))),MATCH(AO$2,INDEX(MVs!$B:$B,INDEX(MVs!$V$2:$Z$4,2,MATCH(AO$38,MVs!$V$2:$Z$2,0))):INDEX(MVs!$B:$B,INDEX(MVs!$V$2:$Z$4,3,MATCH(AO$38,MVs!$V$2:$Z$2,0))),0),IFERROR(MATCH(AO$7, MVs!$B$1:$T$1, 0), 2))","v":{"$error":"#N/A"}},{"$f":"INDEX(INDEX(MVs!$B:$B,INDEX(MVs!$V$2:$Z$4,2,MATCH(AP$38,MVs!$V$2:$Z$2,0))):INDEX(MVs!$U:$U,INDEX(MVs!$V$2:$Z$4,3,MATCH(AP$38,MVs!$V$2:$Z$2,0))),MATCH(AP$2,INDEX(MVs!$B:$B,INDEX(MVs!$V$2:$Z$4,2,MATCH(AP$38,MVs!$V$2:$Z$2,0))):INDEX(MVs!$B:$B,INDEX(MVs!$V$2:$Z$4,3,MATCH(AP$38,MVs!$V$2:$Z$2,0))),0),IFERROR(MATCH(AP$7, MVs!$B$1:$T$1, 0), 2))","v":{"$error":"#N/A"}},{"$f":"INDEX(INDEX(MVs!$B:$B,INDEX(MVs!$V$2:$Z$4,2,MATCH(AQ$38,MVs!$V$2:$Z$2,0))):INDEX(MVs!$U:$U,INDEX(MVs!$V$2:$Z$4,3,MATCH(AQ$38,MVs!$V$2:$Z$2,0))),MATCH(AQ$2,INDEX(MVs!$B:$B,INDEX(MVs!$V$2:$Z$4,2,MATCH(AQ$38,MVs!$V$2:$Z$2,0))):INDEX(MVs!$B:$B,INDEX(MVs!$V$2:$Z$4,3,MATCH(AQ$38,MVs!$V$2:$Z$2,0))),0),IFERROR(MATCH(AQ$7, MVs!$B$1:$T$1, 0), 2))","v":{"$error":"#N/A"}},{"$f":"INDEX(INDEX(MVs!$B:$B,INDEX(MVs!$V$2:$Z$4,2,MATCH(AR$38,MVs!$V$2:$Z$2,0))):INDEX(MVs!$U:$U,INDEX(MVs!$V$2:$Z$4,3,MATCH(AR$38,MVs!$V$2:$Z$2,0))),MATCH(AR$2,INDEX(MVs!$B:$B,INDEX(MVs!$V$2:$Z$4,2,MATCH(AR$38,MVs!$V$2:$Z$2,0))):INDEX(MVs!$B:$B,INDEX(MVs!$V$2:$Z$4,3,MATCH(AR$38,MVs!$V$2:$Z$2,0))),0),IFERROR(MATCH(AR$7, MVs!$B$1:$T$1, 0), 2))","v":{"$error":"#N/A"}},{"$f":"INDEX(INDEX(MVs!$B:$B,INDEX(MVs!$V$2:$Z$4,2,MATCH(AS$38,MVs!$V$2:$Z$2,0))):INDEX(MVs!$U:$U,INDEX(MVs!$V$2:$Z$4,3,MATCH(AS$38,MVs!$V$2:$Z$2,0))),MATCH(AS$2,INDEX(MVs!$B:$B,INDEX(MVs!$V$2:$Z$4,2,MATCH(AS$38,MVs!$V$2:$Z$2,0))):INDEX(MVs!$B:$B,INDEX(MVs!$V$2:$Z$4,3,MATCH(AS$38,MVs!$V$2:$Z$2,0))),0),IFERROR(MATCH(AS$7, MVs!$B$1:$T$1, 0), 2))","v":{"$error":"#N/A"}},{"$f":"INDEX(INDEX(MVs!$B:$B,INDEX(MVs!$V$2:$Z$4,2,MATCH(AT$38,MVs!$V$2:$Z$2,0))):INDEX(MVs!$U:$U,INDEX(MVs!$V$2:$Z$4,3,MATCH(AT$38,MVs!$V$2:$Z$2,0))),MATCH(AT$2,INDEX(MVs!$B:$B,INDEX(MVs!$V$2:$Z$4,2,MATCH(AT$38,MVs!$V$2:$Z$2,0))):INDEX(MVs!$B:$B,INDEX(MVs!$V$2:$Z$4,3,MATCH(AT$38,MVs!$V$2:$Z$2,0))),0),IFERROR(MATCH(AT$7, MVs!$B$1:$T$1, 0), 2))","v":{"$error":"#N/A"}},{"$f":"INDEX(INDEX(MVs!$B:$B,INDEX(MVs!$V$2:$Z$4,2,MATCH(AU$38,MVs!$V$2:$Z$2,0))):INDEX(MVs!$U:$U,INDEX(MVs!$V$2:$Z$4,3,MATCH(AU$38,MVs!$V$2:$Z$2,0))),MATCH(AU$2,INDEX(MVs!$B:$B,INDEX(MVs!$V$2:$Z$4,2,MATCH(AU$38,MVs!$V$2:$Z$2,0))):INDEX(MVs!$B:$B,INDEX(MVs!$V$2:$Z$4,3,MATCH(AU$38,MVs!$V$2:$Z$2,0))),0),IFERROR(MATCH(AU$7, MVs!$B$1:$T$1, 0), 2))","v":{"$error":"#N/A"}},{"$f":"INDEX(INDEX(MVs!$B:$B,INDEX(MVs!$V$2:$Z$4,2,MATCH(AV$38,MVs!$V$2:$Z$2,0))):INDEX(MVs!$U:$U,INDEX(MVs!$V$2:$Z$4,3,MATCH(AV$38,MVs!$V$2:$Z$2,0))),MATCH(AV$2,INDEX(MVs!$B:$B,INDEX(MVs!$V$2:$Z$4,2,MATCH(AV$38,MVs!$V$2:$Z$2,0))):INDEX(MVs!$B:$B,INDEX(MVs!$V$2:$Z$4,3,MATCH(AV$38,MVs!$V$2:$Z$2,0))),0),IFERROR(MATCH(AV$7, MVs!$B$1:$T$1, 0), 2))","v":{"$error":"#N/A"}},{"$f":"INDEX(INDEX(MVs!$B:$B,INDEX(MVs!$V$2:$Z$4,2,MATCH(AW$38,MVs!$V$2:$Z$2,0))):INDEX(MVs!$U:$U,INDEX(MVs!$V$2:$Z$4,3,MATCH(AW$38,MVs!$V$2:$Z$2,0))),MATCH(AW$2,INDEX(MVs!$B:$B,INDEX(MVs!$V$2:$Z$4,2,MATCH(AW$38,MVs!$V$2:$Z$2,0))):INDEX(MVs!$B:$B,INDEX(MVs!$V$2:$Z$4,3,MATCH(AW$38,MVs!$V$2:$Z$2,0))),0),IFERROR(MATCH(AW$7, MVs!$B$1:$T$1, 0), 2))","v":{"$error":"#N/A"}},{"$f":"INDEX(INDEX(MVs!$B:$B,INDEX(MVs!$V$2:$Z$4,2,MATCH(AX$38,MVs!$V$2:$Z$2,0))):INDEX(MVs!$U:$U,INDEX(MVs!$V$2:$Z$4,3,MATCH(AX$38,MVs!$V$2:$Z$2,0))),MATCH(AX$2,INDEX(MVs!$B:$B,INDEX(MVs!$V$2:$Z$4,2,MATCH(AX$38,MVs!$V$2:$Z$2,0))):INDEX(MVs!$B:$B,INDEX(MVs!$V$2:$Z$4,3,MATCH(AX$38,MVs!$V$2:$Z$2,0))),0),IFERROR(MATCH(AX$7, MVs!$B$1:$T$1, 0), 2))","v":{"$error":"#N/A"}},{"$f":"INDEX(INDEX(MVs!$B:$B,INDEX(MVs!$V$2:$Z$4,2,MATCH(AY$38,MVs!$V$2:$Z$2,0))):INDEX(MVs!$U:$U,INDEX(MVs!$V$2:$Z$4,3,MATCH(AY$38,MVs!$V$2:$Z$2,0))),MATCH(AY$2,INDEX(MVs!$B:$B,INDEX(MVs!$V$2:$Z$4,2,MATCH(AY$38,MVs!$V$2:$Z$2,0))):INDEX(MVs!$B:$B,INDEX(MVs!$V$2:$Z$4,3,MATCH(AY$38,MVs!$V$2:$Z$2,0))),0),IFERROR(MATCH(AY$7, MVs!$B$1:$T$1, 0), 2))","v":{"$error":"#N/A"}},{"$f":"INDEX(INDEX(MVs!$B:$B,INDEX(MVs!$V$2:$Z$4,2,MATCH(AZ$38,MVs!$V$2:$Z$2,0))):INDEX(MVs!$U:$U,INDEX(MVs!$V$2:$Z$4,3,MATCH(AZ$38,MVs!$V$2:$Z$2,0))),MATCH(AZ$2,INDEX(MVs!$B:$B,INDEX(MVs!$V$2:$Z$4,2,MATCH(AZ$38,MVs!$V$2:$Z$2,0))):INDEX(MVs!$B:$B,INDEX(MVs!$V$2:$Z$4,3,MATCH(AZ$38,MVs!$V$2:$Z$2,0))),0),IFERROR(MATCH(AZ$7, MVs!$B$1:$T$1, 0), 2))","v":{"$error":"#N/A"}},{"$f":"INDEX(INDEX(MVs!$B:$B,INDEX(MVs!$V$2:$Z$4,2,MATCH(BA$38,MVs!$V$2:$Z$2,0))):INDEX(MVs!$U:$U,INDEX(MVs!$V$2:$Z$4,3,MATCH(BA$38,MVs!$V$2:$Z$2,0))),MATCH(BA$2,INDEX(MVs!$B:$B,INDEX(MVs!$V$2:$Z$4,2,MATCH(BA$38,MVs!$V$2:$Z$2,0))):INDEX(MVs!$B:$B,INDEX(MVs!$V$2:$Z$4,3,MATCH(BA$38,MVs!$V$2:$Z$2,0))),0),IFERROR(MATCH(BA$7, MVs!$B$1:$T$1, 0), 2))","v":{"$error":"#N/A"}},{"$f":"INDEX(INDEX(MVs!$B:$B,INDEX(MVs!$V$2:$Z$4,2,MATCH(BB$38,MVs!$V$2:$Z$2,0))):INDEX(MVs!$U:$U,INDEX(MVs!$V$2:$Z$4,3,MATCH(BB$38,MVs!$V$2:$Z$2,0))),MATCH(BB$2,INDEX(MVs!$B:$B,INDEX(MVs!$V$2:$Z$4,2,MATCH(BB$38,MVs!$V$2:$Z$2,0))):INDEX(MVs!$B:$B,INDEX(MVs!$V$2:$Z$4,3,MATCH(BB$38,MVs!$V$2:$Z$2,0))),0),IFERROR(MATCH(BB$7, MVs!$B$1:$T$1, 0), 2))","v":{"$error":"#N/A"}},{"$f":"INDEX(INDEX(MVs!$B:$B,INDEX(MVs!$V$2:$Z$4,2,MATCH(BC$38,MVs!$V$2:$Z$2,0))):INDEX(MVs!$U:$U,INDEX(MVs!$V$2:$Z$4,3,MATCH(BC$38,MVs!$V$2:$Z$2,0))),MATCH(BC$2,INDEX(MVs!$B:$B,INDEX(MVs!$V$2:$Z$4,2,MATCH(BC$38,MVs!$V$2:$Z$2,0))):INDEX(MVs!$B:$B,INDEX(MVs!$V$2:$Z$4,3,MATCH(BC$38,MVs!$V$2:$Z$2,0))),0),IFERROR(MATCH(BC$7, MVs!$B$1:$T$1, 0), 2))","v":{"$error":"#N/A"}},{"$f":"INDEX(INDEX(MVs!$B:$B,INDEX(MVs!$V$2:$Z$4,2,MATCH(BD$38,MVs!$V$2:$Z$2,0))):INDEX(MVs!$U:$U,INDEX(MVs!$V$2:$Z$4,3,MATCH(BD$38,MVs!$V$2:$Z$2,0))),MATCH(BD$2,INDEX(MVs!$B:$B,INDEX(MVs!$V$2:$Z$4,2,MATCH(BD$38,MVs!$V$2:$Z$2,0))):INDEX(MVs!$B:$B,INDEX(MVs!$V$2:$Z$4,3,MATCH(BD$38,MVs!$V$2:$Z$2,0))),0),IFERROR(MATCH(BD$7, MVs!$B$1:$T$1, 0), 2))","v":{"$error":"#N/A"}},{"$f":"INDEX(INDEX(MVs!$B:$B,INDEX(MVs!$V$2:$Z$4,2,MATCH(BE$38,MVs!$V$2:$Z$2,0))):INDEX(MVs!$U:$U,INDEX(MVs!$V$2:$Z$4,3,MATCH(BE$38,MVs!$V$2:$Z$2,0))),MATCH(BE$2,INDEX(MVs!$B:$B,INDEX(MVs!$V$2:$Z$4,2,MATCH(BE$38,MVs!$V$2:$Z$2,0))):INDEX(MVs!$B:$B,INDEX(MVs!$V$2:$Z$4,3,MATCH(BE$38,MVs!$V$2:$Z$2,0))),0),IFERROR(MATCH(BE$7, MVs!$B$1:$T$1, 0), 2))","v":{"$error":"#N/A"}},{"$f":"INDEX(INDEX(MVs!$B:$B,INDEX(MVs!$V$2:$Z$4,2,MATCH(BF$38,MVs!$V$2:$Z$2,0))):INDEX(MVs!$U:$U,INDEX(MVs!$V$2:$Z$4,3,MATCH(BF$38,MVs!$V$2:$Z$2,0))),MATCH(BF$2,INDEX(MVs!$B:$B,INDEX(MVs!$V$2:$Z$4,2,MATCH(BF$38,MVs!$V$2:$Z$2,0))):INDEX(MVs!$B:$B,INDEX(MVs!$V$2:$Z$4,3,MATCH(BF$38,MVs!$V$2:$Z$2,0))),0),IFERROR(MATCH(BF$7, MVs!$B$1:$T$1, 0), 2))","v":{"$error":"#N/A"}}]
["Intermediate Stats"]
["Character Number",{"$f":"IFERROR(VLOOKUP(B1,Lookups!$A$2:$B$5, 2, 0),\"\")","v":"char2"},{"$f":"IFERROR(VLOOKUP(C1,Lookups!$A$2:$B$5, 2, 0),\"\")","v":"char2"},{"$f":"IFERROR(VLOOKUP(D1,Lookups!$A$2:$B$5, 2, 0),\"\")","v":"char4"},{"$f":"IFERROR(VLOOKUP(E1,Lookups!$A$2:$B$5, 2, 0),\"\")","v":"char4"},{"$f":"IFERROR(VLOOKUP(F1,Lookups!$A$2:$B$5, 2, 0),\"\")","v":"char2"},{"$f":"IFERROR(VLOOKUP(G1,Lookups!$A$2:$B$5, 2, 0),\"\")","v":"char2"},{"$f":"IFERROR(VLOOKUP(H1,Lookups!$A$2:$B$5, 2, 0),\"\")","v":"char1"},{"$f":"IFERROR(VLOOKUP(I1,Lookups!$A$2:$B$5, 2, 0),\"\")","v":"char1"},{"$f":"IFERROR(VLOOKUP(J1,Lookups!$A$2:$B$5, 2, 0),\"\")","v":"char1"},{"$f":"IFERROR(VLOOKUP(K1,Lookups!$A$2:$B$5, 2, 0),\"\")","v":"char1"},{"$f":"IFERROR(VLOOKUP(L1,Lookups!$A$2:$B$5, 2, 0),\"\")","v":"char1"},{"$f":"IFERROR(VLOOKUP(M1,Lookups!$A$2:$B$5, 2, 0),\"\")","v":"char1"},{"$f":"IFERROR(VLOOKUP(N1,Lookups!$A$2:$B$5, 2, 0),\"\")","v":"char1"},{"$f":"IFERROR(VLOOKUP(O1,Lookups!$A$2:$B$5, 2, 0),\"\")","v":"char1"},{"$f":"IFERROR(VLOOKUP(P1,Lookups!$A$2:$B$5, 2, 0),\"\")","v":"char1"},{"$f":"IFERROR(VLOOKUP(Q1,Lookups!$A$2:$B$5, 2, 0),\"\")","v":"char1"},{"$f":"IFERROR(VLOOKUP(R1,Lookups!$A$2:$B$5, 2, 0),\"\")","v":"char1"},{"$f":"IFERROR(VLOOKUP(S1,Lookups!$A$2:$B$5, 2, 0),\"\")","v":"char1"},{"$f":"IFERROR(VLOOKUP(T1,Lookups!$A$2:$B$5, 2, 0),\"\")","v":"char1"},{"$f":"IFERROR(VLOOKUP(U1,Lookups!$A$2:$B$5, 2, 0),\"\")","v":"char1"},null,{"$f":"IFERROR(VLOOKUP(W1,Lookups!$A$2:$B$5, 2, 0),\"\")","v":"char4"},{"$f":"IFERROR(VLOOKUP(X1,Lookups!$A$2:$B$5, 2, 0),\"\")","v":"char4"},{"$f":"IFERROR(VLOOKUP(Y1,Lookups!$A$2:$B$5, 2, 0),\"\")","v":"char3"},{"$f":"IFERROR(VLOOKUP(Z1,Lookups!$A$2:$B$5, 2, 0),\"\")","v":"char3"},{"$f":"IFERROR(VLOOKUP(AA1,Lookups!$A$2:$B$5, 2, 0),\"\")","v":"char3"},{"$f":"IFERROR(VLOOKUP(AB1,Lookups!$A$2:$B$5, 2, 0),\"\")","v":"char1"},{"$f":"IFERROR(VLOOKUP(AC1,Lookups!$A$2:$B$5, 2, 0),\"\")","v":"char1"},{"$f":"IFERROR(VLOOKUP(AD1,Lookups!$A$2:$B$5, 2, 0),\"\")","v":"char2"},{"$f":"IFERROR(VLOOKUP(AE1,Lookups!$A$2:$B$5, 2, 0),\"\")","v":"char1"},{"$f":"IFERROR(VLOOKUP(AF1,Lookups!$A$2:$B$5, 2, 0),\"\")","v":""},{"$f":"IFERROR(VLOOKUP(AG1,Lookups!$A$2:$B$5, 2, 0),\"\")","v":""},{"$f":"IFERROR(VLOOKUP(AH1,Lookups!$A$2:$B$5, 2, 0),\"\")","v":""},{"$f":"IFERROR(VLOOKUP(AI1,Lookups!$A$2:$B$5, 2, 0),\"\")","v":""},{"$f":"IFERROR(VLOOKUP(AJ1,Lookups!$A$2:$B$5, 2, 0),\"\")","v":""},{"$f":"IFERROR(VLOOKUP(AK1,Lookups!$A$2:$B$5, 2, 0),\"\")","v":""},{"$f":"IFERROR(VLOOKUP(AL1,Lookups!$A$2:$B$5, 2, 0),\"\")","v":""},{"$f":"IFERROR(VLOOKUP(AM1,Lookups!$A$2:$B$5, 2, 0),\"\")","v":""},{"$f":"IFERROR(VLOOKUP(AN1,Lookups!$A$2:$B$5, 2, 0),\"\")","v":""},{"$f":"IFERROR(VLOOKUP(AO1,Lookups!$A$2:$B$5, 2, 0),\"\")","v":""},{"$f":"IFERROR(VLOOKUP(AP1,Lookups!$A$2:$B$5, 2, 0),\"\")","v":""},{"$f":"IFERROR(VLOOKUP(AQ1,Lookups!$A$2:$B$5, 2, 0),\"\")","v":""},{"$f":"IFERROR(VLOOKUP(AR1,Lookups!$A$2:$B$5, 2, 0),\"\")","v":""},{"$f":"IFERROR(VLOOKUP(AS1,Lookups!$A$2:$B$5, 2, 0),\"\")","v":""},{"$f":"IFERROR(VLOOKUP(AT1,Lookups!$A$2:$B$5, 2, 0),\"\")","v":""},{"$f":"IFERROR(VLOOKUP(AU1,Lookups!$A$2:$B$5, 2, 0),\"\")","v":""},{"$f":"IFERROR(VLOOKUP(AV1,Lookups!$A$2:$B$5, 2, 0),\"\")","v":""},{"$f":"IFERROR(VLOOKUP(AW1,Lookups!$A$2:$B$5, 2, 0),\"\")","v":""},{"$f":"IFERROR(VLOOKUP(AX1,Lookups!$A$2:$B$5, 2, 0),\"\")","v":""},{"$f":"IFERROR(VLOOKUP(AY1,Lookups!$A$2:$B$5, 2, 0),\"\")","v":""},{"$f":"IFERROR(VLOOKUP(AZ1,Lookups!$A$2:$B$5, 2, 0),\"\")","v":""},{"$f":"IFERROR(VLOOKUP(BA1,Lookups!$A$2:$B$5, 2, 0),\"\")","v":""},{"$f":"IFERROR(VLOOKUP(BB1,Lookups!$A$2:$B$5, 2, 0),\"\")","v":""},{"$f":"IFERROR(VLOOKUP(BC1,Lookups!$A$2:$B$5, 2, 0),\"\")","v":""},{"$f":"IFERROR(VLOOKUP(BD1,Lookups!$A$2:$B$5, 2, 0),\"\")","v":""},{"$f":"IFERROR(VLOOKUP(BE1,Lookups!$A$2:$B$5, 2, 0),\"\")","v":""},{"$f":"IFERROR(VLOOKUP(BF1,Lookups!$A$2:$B$5, 2, 0),\"\")","v":""}]
["Flat ATK",{"$f":"INDEX(Calcs!$AC$5:$AG$51, MATCH('Rotation Assembler'!$A39, Calcs!$AC$5:$AC$51, 0), MATCH('Rotation Assembler'!B$38, Calcs!$AC$5:$AG$5, 0))","v":344.08},{"$f":"INDEX(Calcs!$AC$5:$AG$51, MATCH('Rotation Assembler'!$A39, Calcs!$AC$5:$AC$51, 0), MATCH('Rotation Assembler'!C$38, Calcs!$AC$5:$AG$5, 0))","v":344.08},{"$f":"INDEX(Calcs!$AC$5:$AG$51, MATCH('Rotation Assembler'!$A39, Calcs!$AC$5:$AC$51, 0), MATCH('Rotation Assembler'!D$38, Calcs!$AC$5:$AG$5, 0))","v":344.08},{"$f":"INDEX(Calcs!$AC$5:$AG$51, MATCH('Rotation Assembler'!$A39, Calcs!$AC$5:$AC$51, 0), MATCH('Rotation Assembler'!E$38, Calcs!$AC$5:$AG$5, 0))","v":344.08},{"$f":"INDEX(Calcs!$AC$5:$AG$51, MATCH('Rotation Assembler'!$A39, Calcs!$AC$5:$AC$51, 0), MATCH('Rotation Assembler'!F$38, Calcs!$AC$5:$AG$5, 0))","v":344.08},{"$f":"INDEX(Calcs!$AC$5:$AG$51, MATCH('Rotation Assembler'!$A39, Calcs!$AC$5:$AC$51, 0), MATCH('Rotation Assembler'!G$38, Calcs!$AC$5:$AG$5, 0))","v":344.08},{"$f":"INDEX(Calcs!$AC$5:$AG$51, MATCH('Rotation Assembler'!$A39, Calcs!$AC$5:$AC$51, 0), MATCH('Rotation Assembler'!H$38, Calcs!$AC$5:$AG$5, 0))","v":344.08},{"$f":"INDEX(Calcs!$AC$5:$AG$51, MATCH('Rotation Assembler'!$A39, Calcs!$AC$5:$AC$51, 0), MATCH('Rotation Assembler'!I$38, Calcs!$AC$5:$AG$5, 0))","v":344.08},{"$f":"INDEX(Calcs!$AC$5:$AG$51, MATCH('Rotation Assembler'!$A39, Calcs!$AC$5:$AC$51, 0), MATCH('Rotation Assembler'!J$38, Calcs!$AC$5:$AG$5, 0))","v":344.08},{"$f":"INDEX(Calcs!$AC$5:$AG$51, MATCH('Rotation Assembler'!$A39, Calcs!$AC$5:$AC$51, 0), MATCH('Rotation Assembler'!K$38, Calcs!$AC$5:$AG$5, 0))","v":344.08},{"$f":"INDEX(Calcs!$AC$5:$AG$51, MATCH('Rotation Assembler'!$A39, Calcs!$AC$5:$AC$51, 0), MATCH('Rotation Assembler'!L$38, Calcs!$AC$5:$AG$5, 0))","v":344.08},{"$f":"INDEX(Calcs!$AC$5:$AG$51, MATCH('Rotation Assembler'!$A39, Calcs!$AC$5:$AC$51, 0), MATCH('Rotation Assembler'!M$38, Calcs!$AC$5:$AG$5, 0))","v":344.08},{"$f":"INDEX(Calcs!$AC$5:$AG$51, MATCH('Rotation Assembler'!$A39, Calcs!$AC$5:$AC$51, 0), MATCH('Rotation Assembler'!N$38, Calcs!$AC$5:$AG$5, 0))","v":344.08},{"$f":"INDEX(Calcs!$AC$5:$AG$51, MATCH('Rotation Assembler'!$A39, Calcs!$AC$5:$AC$51, 0), MATCH('Rotation Assembler'!O$38, Calcs!$AC$5:$AG$5, 0))","v":344.08},{"$f":"INDEX(Calcs!$AC$5:$AG$51, MATCH('Rotation Assembler'!$A39, Calcs!$AC$5:$AC$51, 0), MATCH('Rotation Assembler'!P$38, Calcs!$AC$5:$AG$5, 0))","v":344.08},{"$f":"INDEX(Calcs!$AC$5:$AG$51, MATCH('Rotation Assembler'!$A39, Calcs!$AC$5:$AC$51, 0), MATCH('Rotation Assembler'!Q$38, Calcs!$AC$5:$AG$5, 0))","v":344.08},{"$f":"INDEX(Calcs!$AC$5:$AG$51, MATCH('Rotation Assembler'!$A39, Calcs!$AC$5:$AC$51, 0), MATCH('Rotation Assembler'!R$38, Calcs!$AC$5:$AG$5, 0))","v":344.08},{"$f":"INDEX(Calcs!$AC$5:$AG$51, MATCH('Rotation Assembler'!$A39, Calcs!$AC$5:$AC$51, 0), MATCH('Rotation Assembler'!S$38, Calcs!$AC$5:$AG$5, 0))","v":344.08},{"$f":"INDEX(Calcs!$AC$5:$AG$51, MATCH('Rotation Assembler'!$A39, Calcs!$AC$5:$AC$51, 0), MATCH('Rotation Assembler'!T$38, Calcs!$AC$5:$AG$5, 0))","v":344.08},{"$f":"INDEX(Calcs!$AC$5:$AG$51, MATCH('Rotation Assembler'!$A39, Calcs!$AC$5:$AC$51, 0), MATCH('Rotation Assembler'!U$38, Calcs!$AC$5:$AG$5, 0))","v":344.08},null,{"$f":"INDEX(Calcs!$AC$5:$AG$51, MATCH('Rotation Assembler'!$A39, Calcs!$AC$5:$AC$51, 0), MATCH('Rotation Assembler'!W$38, Calcs!$AC$5:$AG$5, 0))","v":344.08},{"$f":"INDEX(Calcs!$AC$5:$AG$51, MATCH('Rotation Assembler'!$A39, Calcs!$AC$5:$AC$51, 0), MATCH('Rotation Assembler'!X$38, Calcs!$AC$5:$AG$5, 0))","v":344.08},{"$f":"INDEX(Calcs!$AC$5:$AG$51, MATCH('Rotation Assembler'!$A39, Calcs!$AC$5:$AC$51, 0), MATCH('Rotation Assembler'!Y$38, Calcs!$AC$5:$AG$5, 0))","v":344.08},{"$f":"INDEX(Calcs!$AC$5:$AG$51, MATCH('Rotation Assembler'!$A39, Calcs!$AC$5:$AC$51, 0), MATCH('Rotation Assembler'!Z$38, Calcs!$AC$5:$AG$5, 0))","v":344.08},{"$f":"INDEX(Calcs!$AC$5:$AG$51, MATCH('Rotation Assembler'!$A39, Calcs!$AC$5:$AC$51, 0), MATCH('Rotation Assembler'!AA$38, Calcs!$AC$5:$AG$5, 0))","v":344.08},{"$f":"INDEX(Calcs!$AC$5:$AG$51, MATCH('Rotation Assembler'!$A39, Calcs!$AC$5:$AC$51, 0), MATCH('Rotation Assembler'!AB$38, Calcs!$AC$5:$AG$5, 0))","v":344.08},{"$f":"INDEX(Calcs!$AC$5:$AG$51, MATCH('Rotation Assembler'!$A39, Calcs!$AC$5:$AC$51, 0), MATCH('Rotation Assembler'!AC$38, Calcs!$AC$5:$AG$5, 0))","v":344.08},{"$f":"INDEX(Calcs!$AC$5:$AG$51, MATCH('Rotation Assembler'!$A39, Calcs!$AC$5:$AC$51, 0), MATCH('Rotation Assembler'!AD$38, Calcs!$AC$5:$AG$5, 0))","v":344.08},{"$f":"INDEX(Calcs!$AC$5:$AG$51, MATCH('Rotation Assembler'!$A39, Calcs!$AC$5:$AC$51, 0), MATCH('Rotation Assembler'!AE$38, Calcs!$AC$5:$AG$5, 0))","v":344.08},{"$f":"INDEX(Calcs!$AC$5:$AG$51, MATCH('Rotation Assembler'!$A39, Calcs!$AC$5:$AC$51, 0), MATCH('Rotation Assembler'!AF$38, Calcs!$AC$5:$AG$5, 0))","v":{"$error":"#N/A"}},{"$f":"INDEX(Calcs!$AC$5:$AG$51, MATCH('Rotation Assembler'!$A39, Calcs!$AC$5:$AC$51, 0), MATCH('Rotation Assembler'!AG$38, Calcs!$AC$5:$AG$5, 0))","v":{"$error":"#N/A"}},{"$f":"INDEX(Calcs!$AC$5:$AG$51, MATCH('Rotation Assembler'!$A39, Calcs!$AC$5:$AC$51, 0), MATCH('Rotation Assembler'!AH$38, Calcs!$AC$5:$AG$5, 0))","v":{"$error":"#N/A"}},{"$f":"INDEX(Calcs!$AC$5:$AG$51, MATCH('Rotation Assembler'!$A39, Calcs!$AC$5:$AC$51, 0), MATCH('Rotation Assembler'!AI$38, Calcs!$AC$5:$AG$5, 0))","v":{"$error":"#N/A"}},{"$f":"INDEX(Calcs!$AC$5:$AG$51, MATCH('Rotation Assembler'!$A39, Calcs!$AC$5:$AC$51, 0), MATCH('Rotation Assembler'!AJ$38, Calcs!$AC$5:$AG$5, 0))","v":{"$error":"#N/A"}},{"$f":"INDEX(Calcs!$AC$5:$AG$51, MATCH('Rotation Assembler'!$A39, Calcs!$AC$5:$AC$51, 0), MATCH('Rotation Assembler'!AK$38, Calcs!$AC$5:$AG$5, 0))","v":{"$error":"#N/A"}},{"$f":"INDEX(Calcs!$AC$5:$AG$51, MATCH('Rotation Assembler'!$A39, Calcs!$AC$5:$AC$51, 0), MATCH('Rotation Assembler'!AL$38, Calcs!$AC$5:$AG$5, 0))","v":{"$error":"#N/A"}},{"$f":"INDEX(Calcs!$AC$5:$AG$51, MATCH('Rotation Assembler'!$A39, Calcs!$AC$5:$AC$51, 0), MATCH('Rotation Assembler'!AM$38, Calcs!$AC$5:$AG$5, 0))","v":{"$error":"#N/A"}},{"$f":"INDEX(Calcs!$AC$5:$AG$51, MATCH('Rotation Assembler'!$A39, Calcs!$AC$5:$AC$51, 0), MATCH('Rotation Assembler'!AN$38, Calcs!$AC$5:$AG$5, 0))","v":{"$error":"#N/A"}},{"$f":"INDEX(Calcs!$AC$5:$AG$51, MATCH('Rotation Assembler'!$A39, Calcs!$AC$5:$AC$51, 0), MATCH('Rotation Assembler'!AO$38, Calcs!$AC$5:$AG$5, 0))","v":{"$error":"#N/A"}},{"$f":"INDEX(Calcs!$AC$5:$AG$51, MATCH('Rotation Assembler'!$A39, Calcs!$AC$5:$AC$51, 0), MATCH('Rotation Assembler'!AP$38, Calcs!$AC$5:$AG$5, 0))","v":{"$error":"#N/A"}},{"$f":"INDEX(Calcs!$AC$5:$AG$51, MATCH('Rotation Assembler'!$A39, Calcs!$AC$5:$AC$51, 0), MATCH('Rotation Assembler'!AQ$38, Calcs!$AC$5:$AG$5, 0))","v":{"$error":"#N/A"}},{"$f":"INDEX(Calcs!$AC$5:$AG$51, MATCH('Rotation Assembler'!$A39, Calcs!$AC$5:$AC$51, 0), MATCH('Rotation Assembler'!AR$38, Calcs!$AC$5:$AG$5, 0))","v":{"$error":"#N/A"}},{"$f":"INDEX(Calcs!$AC$5:$AG$51, MATCH('Rotation Assembler'!$A39, Calcs!$AC$5:$AC$51, 0), MATCH('Rotation Assembler'!AS$38, Calcs!$AC$5:$AG$5, 0))","v":{"$error":"#N/A"}},{"$f":"INDEX(Calcs!$AC$5:$AG$51, MATCH('Rotation Assembler'!$A39, Calcs!$AC$5:$AC$51, 0), MATCH('Rotation Assembler'!AT$38, Calcs!$AC$5:$AG$5, 0))","v":{"$error":"#N/A"}},{"$f":"INDEX(Calcs!$AC$5:$AG$51, MATCH('Rotation Assembler'!$A39, Calcs!$AC$5:$AC$51, 0), MATCH('Rotation Assembler'!AU$38, Calcs!$AC$5:$AG$5, 0))","v":{"$error":"#N/A"}},{"$f":"INDEX(Calcs!$AC$5:$AG$51, MATCH('Rotation Assembler'!$A39, Calcs!$AC$5:$AC$51, 0), MATCH('Rotation Assembler'!AV$38, Calcs!$AC$5:$AG$5, 0))","v":{"$error":"#N/A"}},{"$f":"INDEX(Calcs!$AC$5:$AG$51, MATCH('Rotation Assembler'!$A39, Calcs!$AC$5:$AC$51, 0), MATCH('Rotation Assembler'!AW$38, Calcs!$AC$5:$AG$5, 0))","v":{"$error":"#N/A"}},{"$f":"INDEX(Calcs!$AC$5:$AG$51, MATCH('Rotation Assembler'!$A39, Calcs!$AC$5:$AC$51, 0), MATCH('Rotation Assembler'!AX$38, Calcs!$AC$5:$AG$5, 0))","v":{"$error":"#N/A"}},{"$f":"INDEX(Calcs!$AC$5:$AG$51, MATCH('Rotation Assembler'!$A39, Calcs!$AC$5:$AC$51, 0), MATCH('Rotation Assembler'!AY$38, Calcs!$AC$5:$AG$5, 0))","v":{"$error":"#N/A"}},{"$f":"INDEX(Calcs!$AC$5:$AG$51, MATCH('Rotation Assembler'!$A39, Calcs!$AC$5:$AC$51, 0), MATCH('Rotation Assembler'!AZ$38, Calcs!$AC$5:$AG$5, 0))","v":{"$error":"#N/A"}},{"$f":"INDEX(Calcs!$AC$5:$AG$51, MATCH('Rotation Assembler'!$A39, Calcs!$AC$5:$AC$51, 0), MATCH('Rotation Assembler'!BA$38, Calcs!$AC$5:$AG$5, 0))","v":{"$error":"#N/A"}},{"$f":"INDEX(Calcs!$AC$5:$AG$51, MATCH('Rotation Assembler'!$A39, Calcs!$AC$5:$AC$51, 0), MATCH('Rotation Assembler'!BB$38, Calcs!$AC$5:$AG$5, 0))","v":{"$error":"#N/A"}},{"$f":"INDEX(Calcs!$AC$5:$AG$51, MATCH('Rotation Assembler'!$A39, Calcs!$AC$5:$AC$51, 0), MATCH('Rotation Assembler'!BC$38, Calcs!$AC$5:$AG$5, 0))","v":{"$error":"#N/A"}},{"$f":"INDEX(Calcs!$AC$5:$AG$51, MATCH('Rotation Assembler'!$A39, Calcs!$AC$5:$AC$51, 0), MATCH('Rotation Assembler'!BD$38, Calcs!$AC$5:$AG$5, 0))","v":{"$error":"#N/A"}},{"$f":"INDEX(Calcs!$AC$5:$AG$51, MATCH('Rotation Assembler'!$A39, Calcs!$AC$5:$AC$51, 0), MATCH('Rotation Assembler'!BE$38, Calcs!$AC$5:$AG$5, 0))","v":{"$error":"#N/A"}},{"$f":"INDEX(Calcs!$AC$5:$AG$51, MATCH('Rotation Assembler'!$A39, Calcs!$AC$5:$AC$51, 0), MATCH('Rotation Assembler'!BF$38, Calcs!$AC$5:$AG$5, 0))","v":{"$error":"#N/A"}}]
["Flat DEF",{"$f":"INDEX(Calcs!$AC$5:$AG$51, MATCH('Rotation Assembler'!$A40, Calcs!$AC$5:$AC$51, 0), MATCH('Rotation Assembler'!B$38, Calcs!$AC$5:$AG$5, 0))","v":39.36},{"$f":"INDEX(Calcs!$AC$5:$AG$51, MATCH('Rotation Assembler'!$A40, Calcs!$AC$5:$AC$51, 0), MATCH('Rotation Assembler'!C$38, Calcs!$AC$5:$AG$5, 0))","v":39.36},{"$f":"INDEX(Calcs!$AC$5:$AG$51, MATCH('Rotation Assembler'!$A40, Calcs!$AC$5:$AC$51, 0), MATCH('Rotation Assembler'!D$38, Calcs!$AC$5:$AG$5, 0))","v":39.36},{"$f":"INDEX(Calcs!$AC$5:$AG$51, MATCH('Rotation Assembler'!$A40, Calcs!$AC$5:$AC$51, 0), MATCH('Rotation Assembler'!E$38, Calcs!$AC$5:$AG$5, 0))","v":39.36},{"$f":"INDEX(Calcs!$AC$5:$AG$51, MATCH('Rotation Assembler'!$A40, Calcs!$AC$5:$AC$51, 0), MATCH('Rotation Assembler'!F$38, Calcs!$AC$5:$AG$5, 0))","v":39.36},{"$f":"INDEX(Calcs!$AC$5:$AG$51, MATCH('Rotation Assembler'!$A40, Calcs!$AC$5:$AC$51, 0), MATCH('Rotation Assembler'!G$38, Calcs!$AC$5:$AG$5, 0))","v":39.36},{"$f":"INDEX(Calcs!$AC$5:$AG$51, MATCH('Rotation Assembler'!$A40, Calcs!$AC$5:$AC$51, 0), MATCH('Rotation Assembler'!H$38, Calcs!$AC$5:$AG$5, 0))","v":39.36},{"$f":"INDEX(Calcs!$AC$5:$AG$51, MATCH('Rotation Assembler'!$A40, Calcs!$AC$5:$AC$51, 0), MATCH('Rotation Assembler'!I$38, Calcs!$AC$5:$AG$5, 0))","v":39.36},{"$f":"INDEX(Calcs!$AC$5:$AG$51, MATCH('Rotation Assembler'!$A40, Calcs!$AC$5:$AC$51, 0), MATCH('Rotation Assembler'!J$38, Calcs!$AC$5:$AG$5, 0))","v":39.36},{"$f":"INDEX(Calcs!$AC$5:$AG$51, MATCH('Rotation Assembler'!$A40, Calcs!$AC$5:$AC$51, 0), MATCH('Rotation Assembler'!K$38, Calcs!$AC$5:$AG$5, 0))","v":39.36},{"$f":"INDEX(Calcs!$AC$5:$AG$51, MATCH('Rotation Assembler'!$A40, Calcs!$AC$5:$AC$51, 0), MATCH('Rotation Assembler'!L$38, Calcs!$AC$5:$AG$5, 0))","v":39.36},{"$f":"INDEX(Calcs!$AC$5:$AG$51, MATCH('Rotation Assembler'!$A40, Calcs!$AC$5:$AC$51, 0), MATCH('Rotation Assembler'!M$38, Calcs!$AC$5:$AG$5, 0))","v":39.36},{"$f":"INDEX(Calcs!$AC$5:$AG$51, MATCH('Rotation Assembler'!$A40, Calcs!$AC$5:$AC$51, 0), MATCH('Rotation Assembler'!N$38, Calcs!$AC$5:$AG$5, 0))","v":39.36},{"$f":"INDEX(Calcs!$AC$5:$AG$51, MATCH('Rotation Assembler'!$A40, Calcs!$AC$5:$AC$51, 0), MATCH('Rotation Assembler'!O$38, Calcs!$AC$5:$AG$5, 0))","v":39.36},{"$f":"INDEX(Calcs!$AC$5:$AG$51, MATCH('Rotation Assembler'!$A40, Calcs!$AC$5:$AC$51, 0), MATCH('Rotation Assembler'!P$38, Calcs!$AC$5:$AG$5, 0))","v":39.36},{"$f":"INDEX(Calcs!$AC$5:$AG$51, MATCH('Rotation Assembler'!$A40, Calcs!$AC$5:$AC$51, 0), MATCH('Rotation Assembler'!Q$38, Calcs!$AC$5:$AG$5, 0))","v":39.36},{"$f":"INDEX(Calcs!$AC$5:$AG$51, MATCH('Rotation Assembler'!$A40, Calcs!$AC$5:$AC$51, 0), MATCH('Rotation Assembler'!R$38, Calcs!$AC$5:$AG$5, 0))","v":39.36},{"$f":"INDEX(Calcs!$AC$5:$AG$51, MATCH('Rotation Assembler'!$A40, Calcs!$AC$5:$AC$51, 0), MATCH('Rotation Assembler'!S$38, Calcs!$AC$5:$AG$5, 0))","v":39.36},{"$f":"INDEX(Calcs!$AC$5:$AG$51, MATCH('Rotation Assembler'!$A40, Calcs!$AC$5:$AC$51, 0), MATCH('Rotation Assembler'!T$38, Calcs!$AC$5:$AG$5, 0))","v":39.36},{"$f":"INDEX(Calcs!$AC$5:$AG$51, MATCH('Rotation Assembler'!$A40, Calcs!$AC$5:$AC$51, 0), MATCH('Rotation Assembler'!U$38, Calcs!$AC$5:$AG$5, 0))","v":39.36},null,{"$f":"INDEX(Calcs!$AC$5:$AG$51, MATCH('Rotation Assembler'!$A40, Calcs!$AC$5:$AC$51, 0), MATCH('Rotation Assembler'!W$38, Calcs!$AC$5:$AG$5, 0))","v":39.36},{"$f":"INDEX(Calcs!$AC$5:$AG$51, MATCH('Rotation Assembler'!$A40, Calcs!$AC$5:$AC$51, 0), MATCH('Rotation Assembler'!X$38, Calcs!$AC$5:$AG$5, 0))","v":39.36},{"$f":"INDEX(Calcs!$AC$5:$AG$51, MATCH('Rotation Assembler'!$A40, Calcs!$AC$5:$AC$51, 0), MATCH('Rotation Assembler'!Y$38, Calcs!$AC$5:$AG$5, 0))","v":39.36},{"$f":"INDEX(Calcs!$AC$5:$AG$51, MATCH('Rotation Assembler'!$A40, Calcs!$AC$5:$AC$51, 0), MATCH('Rotation Assembler'!Z$38, Calcs!$AC$5:$AG$5, 0))","v":39.36},{"$f":"INDEX(Calcs!$AC$5:$AG$51, MATCH('Rotation Assembler'!$A40, Calcs!$AC$5:$AC$51, 0), MATCH('Rotation Assembler'!AA$38, Calcs!$AC$5:$AG$5, 0))","v":39.36},{"$f":"INDEX(Calcs!$AC$5:$AG$51, MATCH('Rotation Assembler'!$A40, Calcs!$AC$5:$AC$51, 0), MATCH('Rotation Assembler'!AB$38, Calcs!$AC$5:$AG$5, 0))","v":39.36},{"$f":"INDEX(Calcs!$AC$5:$AG$51, MATCH('Rotation Assembler'!$A40, Calcs!$AC$5:$AC$51, 0), MATCH('Rotation Assembler'!AC$38, Calcs!$AC$5:$AG$5, 0))","v":39.36},{"$f":"INDEX(Calcs!$AC$5:$AG$51, MATCH('Rotation Assembler'!$A40, Calcs!$AC$5:$AC$51, 0), MATCH('Rotation Assembler'!AD$38, Calcs!$AC$5:$AG$5, 0))","v":39.36},{"$f":"INDEX(Calcs!$AC$5:$AG$51, MATCH('Rotation Assembler'!$A40, Calcs!$AC$5:$AC$51, 0), MATCH('Rotation Assembler'!AE$38, Calcs!$AC$5:$AG$5, 0))","v":39.36},{"$f":"INDEX(Calcs!$AC$5:$AG$51, MATCH('Rotation Assembler'!$A40, Calcs!$AC$5:$AC$51, 0), MATCH('Rotation Assembler'!AF$38, Calcs!$AC$5:$AG$5, 0))","v":{"$error":"#N/A"}},{"$f":"INDEX(Calcs!$AC$5:$AG$51, MATCH('Rotation Assembler'!$A40, Calcs!$AC$5:$AC$51, 0), MATCH('Rotation Assembler'!AG$38, Calcs!$AC$5:$AG$5, 0))","v":{"$error":"#N/A"}},{"$f":"INDEX(Calcs!$AC$5:$AG$51, MATCH('Rotation Assembler'!$A40, Calcs!$AC$5:$AC$51, 0), MATCH('Rotation Assembler'!AH$38, Calcs!$AC$5:$AG$5, 0))","v":{"$error":"#N/A"}},{"$f":"INDEX(Calcs!$AC$5:$AG$51, MATCH('Rotation Assembler'!$A40, Calcs!$AC$5:$AC$51, 0), MATCH('Rotation Assembler'!AI$38, Calcs!$AC$5:$AG$5, 0))","v":{"$error":"#N/A"}},{"$f":"INDEX(Calcs!$AC$5:$AG$51, MATCH('Rotation Assembler'!$A40, Calcs!$AC$5:$AC$51, 0), MATCH('Rotation Assembler'!AJ$38, Calcs!$AC$5:$AG$5, 0))","v":{"$error":"#N/A"}},{"$f":"INDEX(Calcs!$AC$5:$AG$51, MATCH('Rotation Assembler'!$A40, Calcs!$AC$5:$AC$51, 0), MATCH('Rotation Assembler'!AK$38, Calcs!$AC$5:$AG$5, 0))","v":{"$error":"#N/A"}},{"$f":"INDEX(Calcs!$AC$5:$AG$51, MATCH('Rotation Assembler'!$A40, Calcs!$AC$5:$AC$51, 0), MATCH('Rotation Assembler'!AL$38, Calcs!$AC$5:$AG$5, 0))","v":{"$error":"#N/A"}},{"$f":"INDEX(Calcs!$AC$5:$AG$51, MATCH('Rotation Assembler'!$A40, Calcs!$AC$5:$AC$51, 0), MATCH('Rotation Assembler'!AM$38, Calcs!$AC$5:$AG$5, 0))","v":{"$error":"#N/A"}},{"$f":"INDEX(Calcs!$AC$5:$AG$51, MATCH('Rotation Assembler'!$A40, Calcs!$AC$5:$AC$51, 0), MATCH('Rotation Assembler'!AN$38, Calcs!$AC$5:$AG$5, 0))","v":{"$error":"#N/A"}},{"$f":"INDEX(Calcs!$AC$5:$AG$51, MATCH('Rotation Assembler'!$A40, Calcs!$AC$5:$AC$51, 0), MATCH('Rotation Assembler'!AO$38, Calcs!$AC$5:$AG$5, 0))","v":{"$error":"#N/A"}},{"$f":"INDEX(Calcs!$AC$5:$AG$51, MATCH('Rotation Assembler'!$A40, Calcs!$AC$5:$AC$51, 0), MATCH('Rotation Assembler'!AP$38, Calcs!$AC$5:$AG$5, 0))","v":{"$error":"#N/A"}},{"$f":"INDEX(Calcs!$AC$5:$AG$51, MATCH('Rotation Assembler'!$A40, Calcs!$AC$5:$AC$51, 0), MATCH('Rotation Assembler'!AQ$38, Calcs!$AC$5:$AG$5, 0))","v":{"$error":"#N/A"}},{"$f":"INDEX(Calcs!$AC$5:$AG$51, MATCH('Rotation Assembler'!$A40, Calcs!$AC$5:$AC$51, 0), MATCH('Rotation Assembler'!AR$38, Calcs!$AC$5:$AG$5, 0))","v":{"$error":"#N/A"}},{"$f":"INDEX(Calcs!$AC$5:$AG$51, MATCH('Rotation Assembler'!$A40, Calcs!$AC$5:$AC$51, 0), MATCH('Rotation Assembler'!AS$38, Calcs!$AC$5:$AG$5, 0))","v":{"$error":"#N/A"}},{"$f":"INDEX(Calcs!$AC$5:$AG$51, MATCH('Rotation Assembler'!$A40, Calcs!$AC$5:$AC$51, 0), MATCH('Rotation Assembler'!AT$38, Calcs!$AC$5:$AG$5, 0))","v":{"$error":"#N/A"}},{"$f":"INDEX(Calcs!$AC$5:$AG$51, MATCH('Rotation Assembler'!$A40, Calcs!$AC$5:$AC$51, 0), MATCH('Rotation Assembler'!AU$38, Calcs!$AC$5:$AG$5, 0))","v":{"$error":"#N/A"}},{"$f":"INDEX(Calcs!$AC$5:$AG$51, MATCH('Rotation Assembler'!$A40, Calcs!$AC$5:$AC$51, 0), MATCH('Rotation Assembler'!AV$38, Calcs!$AC$5:$AG$5, 0))","v":{"$error":"#N/A"}},{"$f":"INDEX(Calcs!$AC$5:$AG$51, MATCH('Rotation Assembler'!$A40, Calcs!$AC$5:$AC$51, 0), MATCH('Rotation Assembler'!AW$38, Calcs!$AC$5:$AG$5, 0))","v":{"$error":"#N/A"}},{"$f":"INDEX(Calcs!$AC$5:$AG$51, MATCH('Rotation Assembler'!$A40, Calcs!$AC$5:$AC$51, 0), MATCH('Rotation Assembler'!AX$38, Calcs!$AC$5:$AG$5, 0))","v":{"$error":"#N/A"}},{"$f":"INDEX(Calcs!$AC$5:$AG$51, MATCH('Rotation Assembler'!$A40, Calcs!$AC$5:$AC$51, 0), MATCH('Rotation Assembler'!AY$38, Calcs!$AC$5:$AG$5, 0))","v":{"$error":"#N/A"}},{"$f":"INDEX(Calcs!$AC$5:$AG$51, MATCH('Rotation Assembler'!$A40, Calcs!$AC$5:$AC$51, 0), MATCH('Rotation Assembler'!AZ$38, Calcs!$AC$5:$AG$5, 0))","v":{"$error":"#N/A"}},{"$f":"INDEX(Calcs!$AC$5:$AG$51, MATCH('Rotation Assembler'!$A40, Calcs!$AC$5:$AC$51, 0), MATCH('Rotation Assembler'!BA$38, Calcs!$AC$5:$AG$5, 0))","v":{"$error":"#N/A"}},{"$f":"INDEX(Calcs!$AC$5:$AG$51, MATCH('Rotation Assembler'!$A40, Calcs!$AC$5:$AC$51, 0), MATCH('Rotation Assembler'!BB$38, Calcs!$AC$5:$AG$5, 0))","v":{"$error":"#N/A"}},{"$f":"INDEX(Calcs!$AC$5:$AG$51, MATCH('Rotation Assembler'!$A40, Calcs!$AC$5:$AC$51, 0), MATCH('Rotation Assembler'!BC$38, Calcs!$AC$5:$AG$5, 0))","v":{"$error":"#N/A"}},{"$f":"INDEX(Calcs!$AC$5:$AG$51, MATCH('Rotation Assembler'!$A40, Calcs!$AC$5:$AC$51, 0), MATCH('Rotation Assembler'!BD$38, Calcs!$AC$5:$AG$5, 0))","v":{"$error":"#N/A"}},{"$f":"INDEX(Calcs!$AC$5:$AG$51, MATCH('Rotation Assembler'!$A40, Calcs!$AC$5:$AC$51, 0), MATCH('Rotation Assembler'!BE$38, Calcs!$AC$5:$AG$5, 0))","v":{"$error":"#N/A"}},{"$f":"INDEX(Calcs!$AC$5:$AG$51, MATCH('Rotation Assembler'!$A40, Calcs!$AC$5:$AC$51, 0), MATCH('Rotation Assembler'!BF$38, Calcs!$AC$5:$AG$5, 0))","v":{"$error":"#N/A"}}]
["Flat HP",{"$f":"INDEX(Calcs!$AC$5:$AG$51, MATCH('Rotation Assembler'!$A41, Calcs!$AC$5:$AC$51, 0), MATCH('Rotation Assembler'!B$38, Calcs!$AC$5:$AG$5, 0))","v":5287.88},{"$f":"INDEX(Calcs!$AC$5:$AG$51, MATCH('Rotation Assembler'!$A41, Calcs!$AC$5:$AC$51, 0), MATCH('Rotation Assembler'!C$38, Calcs!$AC$5:$AG$5, 0))","v":5287.88},{"$f":"INDEX(Calcs!$AC$5:$AG$51, MATCH('Rotation Assembler'!$A41, Calcs!$AC$5:$AC$51, 0), MATCH('Rotation Assembler'!D$38, Calcs!$AC$5:$AG$5, 0))","v":5287.88},{"$f":"INDEX(Calcs!$AC$5:$AG$51, MATCH('Rotation Assembler'!$A41, Calcs!$AC$5:$AC$51, 0), MATCH('Rotation Assembler'!E$38, Calcs!$AC$5:$AG$5, 0))","v":5287.88},{"$f":"INDEX(Calcs!$AC$5:$AG$51, MATCH('Rotation Assembler'!$A41, Calcs!$AC$5:$AC$51, 0), MATCH('Rotation Assembler'!F$38, Calcs!$AC$5:$AG$5, 0))","v":5287.88},{"$f":"INDEX(Calcs!$AC$5:$AG$51, MATCH('Rotation Assembler'!$A41, Calcs!$AC$5:$AC$51, 0), MATCH('Rotation Assembler'!G$38, Calcs!$AC$5:$AG$5, 0))","v":5287.88},{"$f":"INDEX(Calcs!$AC$5:$AG$51, MATCH('Rotation Assembler'!$A41, Calcs!$AC$5:$AC$51, 0), MATCH('Rotation Assembler'!H$38, Calcs!$AC$5:$AG$5, 0))","v":5287.88},{"$f":"INDEX(Calcs!$AC$5:$AG$51, MATCH('Rotation Assembler'!$A41, Calcs!$AC$5:$AC$51, 0), MATCH('Rotation Assembler'!I$38, Calcs!$AC$5:$AG$5, 0))","v":5287.88},{"$f":"INDEX(Calcs!$AC$5:$AG$51, MATCH('Rotation Assembler'!$A41, Calcs!$AC$5:$AC$51, 0), MATCH('Rotation Assembler'!J$38, Calcs!$AC$5:$AG$5, 0))","v":5287.88},{"$f":"INDEX(Calcs!$AC$5:$AG$51, MATCH('Rotation Assembler'!$A41, Calcs!$AC$5:$AC$51, 0), MATCH('Rotation Assembler'!K$38, Calcs!$AC$5:$AG$5, 0))","v":5287.88},{"$f":"INDEX(Calcs!$AC$5:$AG$51, MATCH('Rotation Assembler'!$A41, Calcs!$AC$5:$AC$51, 0), MATCH('Rotation Assembler'!L$38, Calcs!$AC$5:$AG$5, 0))","v":5287.88},{"$f":"INDEX(Calcs!$AC$5:$AG$51, MATCH('Rotation Assembler'!$A41, Calcs!$AC$5:$AC$51, 0), MATCH('Rotation Assembler'!M$38, Calcs!$AC$5:$AG$5, 0))","v":5287.88},{"$f":"INDEX(Calcs!$AC$5:$AG$51, MATCH('Rotation Assembler'!$A41, Calcs!$AC$5:$AC$51, 0), MATCH('Rotation Assembler'!N$38, Calcs!$AC$5:$AG$5, 0))","v":5287.88},{"$f":"INDEX(Calcs!$AC$5:$AG$51, MATCH('Rotation Assembler'!$A41, Calcs!$AC$5:$AC$51, 0), MATCH('Rotation Assembler'!O$38, Calcs!$AC$5:$AG$5, 0))","v":5287.88},{"$f":"INDEX(Calcs!$AC$5:$AG$51, MATCH('Rotation Assembler'!$A41, Calcs!$AC$5:$AC$51, 0), MATCH('Rotation Assembler'!P$38, Calcs!$AC$5:$AG$5, 0))","v":5287.88},{"$f":"INDEX(Calcs!$AC$5:$AG$51, MATCH('Rotation Assembler'!$A41, Calcs!$AC$5:$AC$51, 0), MATCH('Rotation Assembler'!Q$38, Calcs!$AC$5:$AG$5, 0))","v":5287.88},{"$f":"INDEX(Calcs!$AC$5:$AG$51, MATCH('Rotation Assembler'!$A41, Calcs!$AC$5:$AC$51, 0), MATCH('Rotation Assembler'!R$38, Calcs!$AC$5:$AG$5, 0))","v":5287.88},{"$f":"INDEX(Calcs!$AC$5:$AG$51, MATCH('Rotation Assembler'!$A41, Calcs!$AC$5:$AC$51, 0), MATCH('Rotation Assembler'!S$38, Calcs!$AC$5:$AG$5, 0))","v":5287.88},{"$f":"INDEX(Calcs!$AC$5:$AG$51, MATCH('Rotation Assembler'!$A41, Calcs!$AC$5:$AC$51, 0), MATCH('Rotation Assembler'!T$38, Calcs!$AC$5:$AG$5, 0))","v":5287.88},{"$f":"INDEX(Calcs!$AC$5:$AG$51, MATCH('Rotation Assembler'!$A41, Calcs!$AC$5:$AC$51, 0), MATCH('Rotation Assembler'!U$38, Calcs!$AC$5:$AG$5, 0))","v":5287.88},null,{"$f":"INDEX(Calcs!$AC$5:$AG$51, MATCH('Rotation Assembler'!$A41, Calcs!$AC$5:$AC$51, 0), MATCH('Rotation Assembler'!W$38, Calcs!$AC$5:$AG$5, 0))","v":5287.88},{"$f":"INDEX(Calcs!$AC$5:$AG$51, MATCH('Rotation Assembler'!$A41, Calcs!$AC$5:$AC$51, 0), MATCH('Rotation Assembler'!X$38, Calcs!$AC$5:$AG$5, 0))","v":5287.88},{"$f":"INDEX(Calcs!$AC$5:$AG$51, MATCH('Rotation Assembler'!$A41, Calcs!$AC$5:$AC$51, 0), MATCH('Rotation Assembler'!Y$38, Calcs!$AC$5:$AG$5, 0))","v":5287.88},{"$f":"INDEX(Calcs!$AC$5:$AG$51, MATCH('Rotation Assembler'!$A41, Calcs!$AC$5:$AC$51, 0), MATCH('Rotation Assembler'!Z$38, Calcs!$AC$5:$AG$5, 0))","v":5287.88},{"$f":"INDEX(Calcs!$AC$5:$AG$51, MATCH('Rotation Assembler'!$A41, Calcs!$AC$5:$AC$51, 0), MATCH('Rotation Assembler'!AA$38, Calcs!$AC$5:$AG$5, 0))","v":5287.88},{"$f":"INDEX(Calcs!$AC$5:$AG$51, MATCH('Rotation Assembler'!$A41, Calcs!$AC$5:$AC$51, 0), MATCH('Rotation Assembler'!AB$38, Calcs!$AC$5:$AG$5, 0))","v":5287.88},{"$f":"INDEX(Calcs!$AC$5:$AG$51, MATCH('Rotation Assembler'!$A41, Calcs!$AC$5:$AC$51, 0), MATCH('Rotation Assembler'!AC$38, Calcs!$AC$5:$AG$5, 0))","v":5287.88},{"$f":"INDEX(Calcs!$AC$5:$AG$51, MATCH('Rotation Assembler'!$A41, Calcs!$AC$5:$AC$51, 0), MATCH('Rotation Assembler'!AD$38, Calcs!$AC$5:$AG$5, 0))","v":5287.88},{"$f":"INDEX(Calcs!$AC$5:$AG$51, MATCH('Rotation Assembler'!$A41, Calcs!$AC$5:$AC$51, 0), MATCH('Rotation Assembler'!AE$38, Calcs!$AC$5:$AG$5, 0))","v":5287.88},{"$f":"INDEX(Calcs!$AC$5:$AG$51, MATCH('Rotation Assembler'!$A41, Calcs!$AC$5:$AC$51, 0), MATCH('Rotation Assembler'!AF$38, Calcs!$AC$5:$AG$5, 0))","v":{"$error":"#N/A"}},{"$f":"INDEX(Calcs!$AC$5:$AG$51, MATCH('Rotation Assembler'!$A41, Calcs!$AC$5:$AC$51, 0), MATCH('Rotation Assembler'!AG$38, Calcs!$AC$5:$AG$5, 0))","v":{"$error":"#N/A"}},{"$f":"INDEX(Calcs!$AC$5:$AG$51, MATCH('Rotation Assembler'!$A41, Calcs!$AC$5:$AC$51, 0), MATCH('Rotation Assembler'!AH$38, Calcs!$AC$5:$AG$5, 0))","v":{"$error":"#N/A"}},{"$f":"INDEX(Calcs!$AC$5:$AG$51, MATCH('Rotation Assembler'!$A41, Calcs!$AC$5:$AC$51, 0), MATCH('Rotation Assembler'!AI$38, Calcs!$AC$5:$AG$5, 0))","v":{"$error":"#N/A"}},{"$f":"INDEX(Calcs!$AC$5:$AG$51, MATCH('Rotation Assembler'!$A41, Calcs!$AC$5:$AC$51, 0), MATCH('Rotation Assembler'!AJ$38, Calcs!$AC$5:$AG$5, 0))","v":{"$error":"#N/A"}},{"$f":"INDEX(Calcs!$AC$5:$AG$51, MATCH('Rotation Assembler'!$A41, Calcs!$AC$5:$AC$51, 0), MATCH('Rotation Assembler'!AK$38, Calcs!$AC$5:$AG$5, 0))","v":{"$error":"#N/A"}},{"$f":"INDEX(Calcs!$AC$5:$AG$51, MATCH('Rotation Assembler'!$A41, Calcs!$AC$5:$AC$51, 0), MATCH('Rotation Assembler'!AL$38, Calcs!$AC$5:$AG$5, 0))","v":{"$error":"#N/A"}},{"$f":"INDEX(Calcs!$AC$5:$AG$51, MATCH('Rotation Assembler'!$A41, Calcs!$AC$5:$AC$51, 0), MATCH('Rotation Assembler'!AM$38, Calcs!$AC$5:$AG$5, 0))","v":{"$error":"#N/A"}},{"$f":"INDEX(Calcs!$AC$5:$AG$51, MATCH('Rotation Assembler'!$A41, Calcs!$AC$5:$AC$51, 0), MATCH('Rotation Assembler'!AN$38, Calcs!$AC$5:$AG$5, 0))","v":{"$error":"#N/A"}},{"$f":"INDEX(Calcs!$AC$5:$AG$51, MATCH('Rotation Assembler'!$A41, Calcs!$AC$5:$AC$51, 0), MATCH('Rotation Assembler'!AO$38, Calcs!$AC$5:$AG$5, 0))","v":{"$error":"#N/A"}},{"$f":"INDEX(Calcs!$AC$5:$AG$51, MATCH('Rotation Assembler'!$A41, Calcs!$AC$5:$AC$51, 0), MATCH('Rotation Assembler'!AP$38, Calcs!$AC$5:$AG$5, 0))","v":{"$error":"#N/A"}},{"$f":"INDEX(Calcs!$AC$5:$AG$51, MATCH('Rotation Assembler'!$A41, Calcs!$AC$5:$AC$51, 0), MATCH('Rotation Assembler'!AQ$38, Calcs!$AC$5:$AG$5, 0))","v":{"$error":"#N/A"}},{"$f":"INDEX(Calcs!$AC$5:$AG$51, MATCH('Rotation Assembler'!$A41, Calcs!$AC$5:$AC$51, 0), MATCH('Rotation Assembler'!AR$38, Calcs!$AC$5:$AG$5, 0))","v":{"$error":"#N/A"}},{"$f":"INDEX(Calcs!$AC$5:$AG$51, MATCH('Rotation Assembler'!$A41, Calcs!$AC$5:$AC$51, 0), MATCH('Rotation Assembler'!AS$38, Calcs!$AC$5:$AG$5, 0))","v":{"$error":"#N/A"}},{"$f":"INDEX(Calcs!$AC$5:$AG$51, MATCH('Rotation Assembler'!$A41, Calcs!$AC$5:$AC$51, 0), MATCH('Rotation Assembler'!AT$38, Calcs!$AC$5:$AG$5, 0))","v":{"$error":"#N/A"}},{"$f":"INDEX(Calcs!$AC$5:$AG$51, MATCH('Rotation Assembler'!$A41, Calcs!$AC$5:$AC$51, 0), MATCH('Rotation Assembler'!AU$38, Calcs!$AC$5:$AG$5, 0))","v":{"$error":"#N/A"}},{"$f":"INDEX(Calcs!$AC$5:$AG$51, MATCH('Rotation Assembler'!$A41, Calcs!$AC$5:$AC$51, 0), MATCH('Rotation Assembler'!AV$38, Calcs!$AC$5:$AG$5, 0))","v":{"$error":"#N/A"}},{"$f":"INDEX(Calcs!$AC$5:$AG$51, MATCH('Rotation Assembler'!$A41, Calcs!$AC$5:$AC$51, 0), MATCH('Rotation Assembler'!AW$38, Calcs!$AC$5:$AG$5, 0))","v":{"$error":"#N/A"}},{"$f":"INDEX(Calcs!$AC$5:$AG$51, MATCH('Rotation Assembler'!$A41, Calcs!$AC$5:$AC$51, 0), MATCH('Rotation Assembler'!AX$38, Calcs!$AC$5:$AG$5, 0))","v":{"$error":"#N/A"}},{"$f":"INDEX(Calcs!$AC$5:$AG$51, MATCH('Rotation Assembler'!$A41, Calcs!$AC$5:$AC$51, 0), MATCH('Rotation Assembler'!AY$38, Calcs!$AC$5:$AG$5, 0))","v":{"$error":"#N/A"}},{"$f":"INDEX(Calcs!$AC$5:$AG$51, MATCH('Rotation Assembler'!$A41, Calcs!$AC$5:$AC$51, 0), MATCH('Rotation Assembler'!AZ$38, Calcs!$AC$5:$AG$5, 0))","v":{"$error":"#N/A"}},{"$f":"INDEX(Calcs!$AC$5:$AG$51, MATCH('Rotation Assembler'!$A41, Calcs!$AC$5:$AC$51, 0), MATCH('Rotation Assembler'!BA$38, Calcs!$AC$5:$AG$5, 0))","v":{"$error":"#N/A"}},{"$f":"INDEX(Calcs!$AC$5:$AG$51, MATCH('Rotation Assembler'!$A41, Calcs!$AC$5:$AC$51, 0), MATCH('Rotation Assembler'!BB$38, Calcs!$AC$5:$AG$5, 0))","v":{"$error":"#N/A"}},{"$f":"INDEX(Calcs!$AC$5:$AG$51, MATCH('Rotation Assembler'!$A41, Calcs!$AC$5:$AC$51, 0), MATCH('Rotation Assembler'!BC$38, Calcs!$AC$5:$AG$5, 0))","v":{"$error":"#N/A"}},{"$f":"INDEX(Calcs!$AC$5:$AG$51, MATCH('Rotation Assembler'!$A41, Calcs!$AC$5:$AC$51, 0), MATCH('Rotation Assembler'!BD$38, Calcs!$AC$5:$AG$5, 0))","v":{"$error":"#N/A"}},{"$f":"INDEX(Calcs!$AC$5:$AG$51, MATCH('Rotation Assembler'!$A41, Calcs!$AC$5:$AC$51, 0), MATCH('Rotation Assembler'!BE$38, Calcs!$AC$5:$AG$5, 0))","v":{"$error":"#N/A"}},{"$f":"INDEX(Calcs!$AC$5:$AG$51, MATCH('Rotation Assembler'!$A41, Calcs!$AC$5:$AC$51, 0), MATCH('Rotation Assembler'!BF$38, Calcs!$AC$5:$AG$5, 0))","v":{"$error":"#N/A"}}]
["EM",{"$f":"INDEX(Calcs!$AC$5:$AG$51, MATCH('Rotation Assembler'!$A42, Calcs!$AC$5:$AC$51, 0), MATCH('Rotation Assembler'!B$38, Calcs!$AC$5:$AG$5, 0))","v":39.64},{"$f":"INDEX(Calcs!$AC$5:$AG$51, MATCH('Rotation Assembler'!$A42, Calcs!$AC$5:$AC$51, 0), MATCH('Rotation Assembler'!C$38, Calcs!$AC$5:$AG$5, 0))","v":39.64},{"$f":"INDEX(Calcs!$AC$5:$AG$51, MATCH('Rotation Assembler'!$A42, Calcs!$AC$5:$AC$51, 0), MATCH('Rotation Assembler'!D$38, Calcs!$AC$5:$AG$5, 0))","v":39.64},{"$f":"INDEX(Calcs!$AC$5:$AG$51, MATCH('Rotation Assembler'!$A42, Calcs!$AC$5:$AC$51, 0), MATCH('Rotation Assembler'!E$38, Calcs!$AC$5:$AG$5, 0))","v":39.64},{"$f":"INDEX(Calcs!$AC$5:$AG$51, MATCH('Rotation Assembler'!$A42, Calcs!$AC$5:$AC$51, 0), MATCH('Rotation Assembler'!F$38, Calcs!$AC$5:$AG$5, 0))","v":39.64},{"$f":"INDEX(Calcs!$AC$5:$AG$51, MATCH('Rotation Assembler'!$A42, Calcs!$AC$5:$AC$51, 0), MATCH('Rotation Assembler'!G$38, Calcs!$AC$5:$AG$5, 0))","v":39.64},{"$f":"INDEX(Calcs!$AC$5:$AG$51, MATCH('Rotation Assembler'!$A42, Calcs!$AC$5:$AC$51, 0), MATCH('Rotation Assembler'!H$38, Calcs!$AC$5:$AG$5, 0))","v":226.64},{"$f":"INDEX(Calcs!$AC$5:$AG$51, MATCH('Rotation Assembler'!$A42, Calcs!$AC$5:$AC$51, 0), MATCH('Rotation Assembler'!I$38, Calcs!$AC$5:$AG$5, 0))","v":226.64},{"$f":"INDEX(Calcs!$AC$5:$AG$51, MATCH('Rotation Assembler'!$A42, Calcs!$AC$5:$AC$51, 0), MATCH('Rotation Assembler'!J$38, Calcs!$AC$5:$AG$5, 0))","v":226.64},{"$f":"INDEX(Calcs!$AC$5:$AG$51, MATCH('Rotation Assembler'!$A42, Calcs!$AC$5:$AC$51, 0), MATCH('Rotation Assembler'!K$38, Calcs!$AC$5:$AG$5, 0))","v":226.64},{"$f":"INDEX(Calcs!$AC$5:$AG$51, MATCH('Rotation Assembler'!$A42, Calcs!$AC$5:$AC$51, 0), MATCH('Rotation Assembler'!L$38, Calcs!$AC$5:$AG$5, 0))","v":226.64},{"$f":"INDEX(Calcs!$AC$5:$AG$51, MATCH('Rotation Assembler'!$A42, Calcs!$AC$5:$AC$51, 0), MATCH('Rotation Assembler'!M$38, Calcs!$AC$5:$AG$5, 0))","v":226.64},{"$f":"INDEX(Calcs!$AC$5:$AG$51, MATCH('Rotation Assembler'!$A42, Calcs!$AC$5:$AC$51, 0), MATCH('Rotation Assembler'!N$38, Calcs!$AC$5:$AG$5, 0))","v":226.64},{"$f":"INDEX(Calcs!$AC$5:$AG$51, MATCH('Rotation Assembler'!$A42, Calcs!$AC$5:$AC$51, 0), MATCH('Rotation Assembler'!O$38, Calcs!$AC$5:$AG$5, 0))","v":226.64},{"$f":"INDEX(Calcs!$AC$5:$AG$51, MATCH('Rotation Assembler'!$A42, Calcs!$AC$5:$AC$51, 0), MATCH('Rotation Assembler'!P$38, Calcs!$AC$5:$AG$5, 0))","v":226.64},{"$f":"INDEX(Calcs!$AC$5:$AG$51, MATCH('Rotation Assembler'!$A42, Calcs!$AC$5:$AC$51, 0), MATCH('Rotation Assembler'!Q$38, Calcs!$AC$5:$AG$5, 0))","v":226.64},{"$f":"INDEX(Calcs!$AC$5:$AG$51, MATCH('Rotation Assembler'!$A42, Calcs!$AC$5:$AC$51, 0), MATCH('Rotation Assembler'!R$38, Calcs!$AC$5:$AG$5, 0))","v":226.64},{"$f":"INDEX(Calcs!$AC$5:$AG$51, MATCH('Rotation Assembler'!$A42, Calcs!$AC$5:$AC$51, 0), MATCH('Rotation Assembler'!S$38, Calcs!$AC$5:$AG$5, 0))","v":226.64},{"$f":"INDEX(Calcs!$AC$5:$AG$51, MATCH('Rotation Assembler'!$A42, Calcs!$AC$5:$AC$51, 0), MATCH('Rotation Assembler'!T$38, Calcs!$AC$5:$AG$5, 0))","v":226.64},{"$f":"INDEX(Calcs!$AC$5:$AG$51, MATCH('Rotation Assembler'!$A42, Calcs!$AC$5:$AC$51, 0), MATCH('Rotation Assembler'!U$38, Calcs!$AC$5:$AG$5, 0))","v":226.64},null,{"$f":"INDEX(Calcs!$AC$5:$AG$51, MATCH('Rotation Assembler'!$A42, Calcs!$AC$5:$AC$51, 0), MATCH('Rotation Assembler'!W$38, Calcs!$AC$5:$AG$5, 0))","v":39.64},{"$f":"INDEX(Calcs!$AC$5:$AG$51, MATCH('Rotation Assembler'!$A42, Calcs!$AC$5:$AC$51, 0), MATCH('Rotation Assembler'!X$38, Calcs!$AC$5:$AG$5, 0))","v":39.64},{"$f":"INDEX(Calcs!$AC$5:$AG$51, MATCH('Rotation Assembler'!$A42, Calcs!$AC$5:$AC$51, 0), MATCH('Rotation Assembler'!Y$38, Calcs!$AC$5:$AG$5, 0))","v":39.64},{"$f":"INDEX(Calcs!$AC$5:$AG$51, MATCH('Rotation Assembler'!$A42, Calcs!$AC$5:$AC$51, 0), MATCH('Rotation Assembler'!Z$38, Calcs!$AC$5:$AG$5, 0))","v":39.64},{"$f":"INDEX(Calcs!$AC$5:$AG$51, MATCH('Rotation Assembler'!$A42, Calcs!$AC$5:$AC$51, 0), MATCH('Rotation Assembler'!AA$38, Calcs!$AC$5:$AG$5, 0))","v":39.64},{"$f":"INDEX(Calcs!$AC$5:$AG$51, MATCH('Rotation Assembler'!$A42, Calcs!$AC$5:$AC$51, 0), MATCH('Rotation Assembler'!AB$38, Calcs!$AC$5:$AG$5, 0))","v":226.64},{"$f":"INDEX(Calcs!$AC$5:$AG$51, MATCH('Rotation Assembler'!$A42, Calcs!$AC$5:$AC$51, 0), MATCH('Rotation Assembler'!AC$38, Calcs!$AC$5:$AG$5, 0))","v":226.64},{"$f":"INDEX(Calcs!$AC$5:$AG$51, MATCH('Rotation Assembler'!$A42, Calcs!$AC$5:$AC$51, 0), MATCH('Rotation Assembler'!AD$38, Calcs!$AC$5:$AG$5, 0))","v":39.64},{"$f":"INDEX(Calcs!$AC$5:$AG$51, MATCH('Rotation Assembler'!$A42, Calcs!$AC$5:$AC$51, 0), MATCH('Rotation Assembler'!AE$38, Calcs!$AC$5:$AG$5, 0))","v":226.64},{"$f":"INDEX(Calcs!$AC$5:$AG$51, MATCH('Rotation Assembler'!$A42, Calcs!$AC$5:$AC$51, 0), MATCH('Rotation Assembler'!AF$38, Calcs!$AC$5:$AG$5, 0))","v":{"$error":"#N/A"}},{"$f":"INDEX(Calcs!$AC$5:$AG$51, MATCH('Rotation Assembler'!$A42, Calcs!$AC$5:$AC$51, 0), MATCH('Rotation Assembler'!AG$38, Calcs!$AC$5:$AG$5, 0))","v":{"$error":"#N/A"}},{"$f":"INDEX(Calcs!$AC$5:$AG$51, MATCH('Rotation Assembler'!$A42, Calcs!$AC$5:$AC$51, 0), MATCH('Rotation Assembler'!AH$38, Calcs!$AC$5:$AG$5, 0))","v":{"$error":"#N/A"}},{"$f":"INDEX(Calcs!$AC$5:$AG$51, MATCH('Rotation Assembler'!$A42, Calcs!$AC$5:$AC$51, 0), MATCH('Rotation Assembler'!AI$38, Calcs!$AC$5:$AG$5, 0))","v":{"$error":"#N/A"}},{"$f":"INDEX(Calcs!$AC$5:$AG$51, MATCH('Rotation Assembler'!$A42, Calcs!$AC$5:$AC$51, 0), MATCH('Rotation Assembler'!AJ$38, Calcs!$AC$5:$AG$5, 0))","v":{"$error":"#N/A"}},{"$f":"INDEX(Calcs!$AC$5:$AG$51, MATCH('Rotation Assembler'!$A42, Calcs!$AC$5:$AC$51, 0), MATCH('Rotation Assembler'!AK$38, Calcs!$AC$5:$AG$5, 0))","v":{"$error":"#N/A"}},{"$f":"INDEX(Calcs!$AC$5:$AG$51, MATCH('Rotation Assembler'!$A42, Calcs!$AC$5:$AC$51, 0), MATCH('Rotation Assembler'!AL$38, Calcs!$AC$5:$AG$5, 0))","v":{"$error":"#N/A"}},{"$f":"INDEX(Calcs!$AC$5:$AG$51, MATCH('Rotation Assembler'!$A42, Calcs!$AC$5:$AC$51, 0), MATCH('Rotation Assembler'!AM$38, Calcs!$AC$5:$AG$5, 0))","v":{"$error":"#N/A"}},{"$f":"INDEX(Calcs!$AC$5:$AG$51, MATCH('Rotation Assembler'!$A42, Calcs!$AC$5:$AC$51, 0), MATCH('Rotation Assembler'!AN$38, Calcs!$AC$5:$AG$5, 0))","v":{"$error":"#N/A"}},{"$f":"INDEX(Calcs!$AC$5:$AG$51, MATCH('Rotation Assembler'!$A42, Calcs!$AC$5:$AC$51, 0), MATCH('Rotation Assembler'!AO$38, Calcs!$AC$5:$AG$5, 0))","v":{"$error":"#N/A"}},{"$f":"INDEX(Calcs!$AC$5:$AG$51, MATCH('Rotation Assembler'!$A42, Calcs!$AC$5:$AC$51, 0), MATCH('Rotation Assembler'!AP$38, Calcs!$AC$5:$AG$5, 0))","v":{"$error":"#N/A"}},{"$f":"INDEX(Calcs!$AC$5:$AG$51, MATCH('Rotation Assembler'!$A42, Calcs!$AC$5:$AC$51, 0), MATCH('Rotation Assembler'!AQ$38, Calcs!$AC$5:$AG$5, 0))","v":{"$error":"#N/A"}},{"$f":"INDEX(Calcs!$AC$5:$AG$51, MATCH('Rotation Assembler'!$A42, Calcs!$AC$5:$AC$51, 0), MATCH('Rotation Assembler'!AR$38, Calcs!$AC$5:$AG$5, 0))","v":{"$error":"#N/A"}},{"$f":"INDEX(Calcs!$AC$5:$AG$51, MATCH('Rotation Assembler'!$A42, Calcs!$AC$5:$AC$51, 0), MATCH('Rotation Assembler'!AS$38, Calcs!$AC$5:$AG$5, 0))","v":{"$error":"#N/A"}},{"$f":"INDEX(Calcs!$AC$5:$AG$51, MATCH('Rotation Assembler'!$A42, Calcs!$AC$5:$AC$51, 0), MATCH('Rotation Assembler'!AT$38, Calcs!$AC$5:$AG$5, 0))","v":{"$error":"#N/A"}},{"$f":"INDEX(Calcs!$AC$5:$AG$51, MATCH('Rotation Assembler'!$A42, Calcs!$AC$5:$AC$51, 0), MATCH('Rotation Assembler'!AU$38, Calcs!$AC$5:$AG$5, 0))","v":{"$error":"#N/A"}},{"$f":"INDEX(Calcs!$AC$5:$AG$51, MATCH('Rotation Assembler'!$A42, Calcs!$AC$5:$AC$51, 0), MATCH('Rotation Assembler'!AV$38, Calcs!$AC$5:$AG$5, 0))","v":{"$error":"#N/A"}},{"$f":"INDEX(Calcs!$AC$5:$AG$51, MATCH('Rotation Assembler'!$A42, Calcs!$AC$5:$AC$51, 0), MATCH('Rotation Assembler'!AW$38, Calcs!$AC$5:$AG$5, 0))","v":{"$error":"#N/A"}},{"$f":"INDEX(Calcs!$AC$5:$AG$51, MATCH('Rotation Assembler'!$A42, Calcs!$AC$5:$AC$51, 0), MATCH('Rotation Assembler'!AX$38, Calcs!$AC$5:$AG$5, 0))","v":{"$error":"#N/A"}},{"$f":"INDEX(Calcs!$AC$5:$AG$51, MATCH('Rotation Assembler'!$A42, Calcs!$AC$5:$AC$51, 0), MATCH('Rotation Assembler'!AY$38, Calcs!$AC$5:$AG$5, 0))","v":{"$error":"#N/A"}},{"$f":"INDEX(Calcs!$AC$5:$AG$51, MATCH('Rotation Assembler'!$A42, Calcs!$AC$5:$AC$51, 0), MATCH('Rotation Assembler'!AZ$38, Calcs!$AC$5:$AG$5, 0))","v":{"$error":"#N/A"}},{"$f":"INDEX(Calcs!$AC$5:$AG$51, MATCH('Rotation Assembler'!$A42, Calcs!$AC$5:$AC$51, 0), MATCH('Rotation Assembler'!BA$38, Calcs!$AC$5:$AG$5, 0))","v":{"$error":"#N/A"}},{"$f":"INDEX(Calcs!$AC$5:$AG$51, MATCH('Rotation Assembler'!$A42, Calcs!$AC$5:$AC$51, 0), MATCH('Rotation Assembler'!BB$38, Calcs!$AC$5:$AG$5, 0))","v":{"$error":"#N/A"}},{"$f":"INDEX(Calcs!$AC$5:$AG$51, MATCH('Rotation Assembler'!$A42, Calcs!$AC$5:$AC$51, 0), MATCH('Rotation Assembler'!BC$38, Calcs!$AC$5:$AG$5, 0))","v":{"$error":"#N/A"}},{"$f":"INDEX(Calcs!$AC$5:$AG$51, MATCH('Rotation Assembler'!$A42, Calcs!$AC$5:$AC$51, 0), MATCH('Rotation Assembler'!BD$38, Calcs!$AC$5:$AG$5, 0))","v":{"$error":"#N/A"}},{"$f":"INDEX(Calcs!$AC$5:$AG$51, MATCH('Rotation Assembler'!$A42, Calcs!$AC$5:$AC$51, 0), MATCH('Rotation Assembler'!BE$38, Calcs!$AC$5:$AG$5, 0))","v":{"$error":"#N/A"}},{"$f":"INDEX(Calcs!$AC$5:$AG$51, MATCH('Rotation Assembler'!$A42, Calcs!$AC$5:$AC$51, 0), MATCH('Rotation Assembler'!BF$38, Calcs!$AC$5:$AG$5, 0))","v":{"$error":"#N/A"}}]
["ATK%",{"$f":"INDEX(Calcs!$AC$5:$AG$51, MATCH('Rotation Assembler'!$A43, Calcs!$AC$5:$AC$51, 0), MATCH('Rotation Assembler'!B$38, Calcs!$AC$5:$AG$5, 0))","v":0.8548},{"$f":"INDEX(Calcs!$AC$5:$AG$51, MATCH('Rotation Assembler'!$A43, Calcs!$AC$5:$AC$51, 0), MATCH('Rotation Assembler'!C$38, Calcs!$AC$5:$AG$5, 0))","v":0.8548},{"$f":"INDEX(Calcs!$AC$5:$AG$51, MATCH('Rotation Assembler'!$A43, Calcs!$AC$5:$AC$51, 0), MATCH('Rotation Assembler'!D$38, Calcs!$AC$5:$AG$5, 0))","v":9.9199999999999997E-2},{"$f":"INDEX(Calcs!$AC$5:$AG$51, MATCH('Rotation Assembler'!$A43, Calcs!$AC$5:$AC$51, 0), MATCH('Rotation Assembler'!E$38, Calcs!$AC$5:$AG$5, 0))","v":9.9199999999999997E-2},{"$f":"INDEX(Calcs!$AC$5:$AG$51, MATCH('Rotation Assembler'!$A43, Calcs!$AC$5:$AC$51, 0), MATCH('Rotation Assembler'!F$38, Calcs!$AC$5:$AG$5, 0))","v":0.8548},{"$f":"INDEX(Calcs!$AC$5:$AG$51, MATCH('Rotation Assembler'!$A43, Calcs!$AC$5:$AC$51, 0), MATCH('Rotation Assembler'!G$38, Calcs!$AC$5:$AG$5, 0))","v":0.8548},{"$f":"INDEX(Calcs!$AC$5:$AG$51, MATCH('Rotation Assembler'!$A43, Calcs!$AC$5:$AC$51, 0), MATCH('Rotation Assembler'!H$38, Calcs!$AC$5:$AG$5, 0))","v":9.9199999999999997E-2},{"$f":"INDEX(Calcs!$AC$5:$AG$51, MATCH('Rotation Assembler'!$A43, Calcs!$AC$5:$AC$51, 0), MATCH('Rotation Assembler'!I$38, Calcs!$AC$5:$AG$5, 0))","v":9.9199999999999997E-2},{"$f":"INDEX(Calcs!$AC$5:$AG$51, MATCH('Rotation Assembler'!$A43, Calcs!$AC$5:$AC$51, 0), MATCH('Rotation Assembler'!J$38, Calcs!$AC$5:$AG$5, 0))","v":9.9199999999999997E-2},{"$f":"INDEX(Calcs!$AC$5:$AG$51, MATCH('Rotation Assembler'!$A43, Calcs!$AC$5:$AC$51, 0), MATCH('Rotation Assembler'!K$38, Calcs!$AC$5:$AG$5, 0))","v":9.9199999999999997E-2},{"$f":"INDEX(Calcs!$AC$5:$AG$51, MATCH('Rotation Assembler'!$A43, Calcs!$AC$5:$AC$51, 0), MATCH('Rotation Assembler'!L$38, Calcs!$AC$5:$AG$5, 0))","v":9.9199999999999997E-2},{"$f":"INDEX(Calcs!$AC$5:$AG$51, MATCH('Rotation Assembler'!$A43, Calcs!$AC$5:$AC$51, 0), MATCH('Rotation Assembler'!M$38, Calcs!$AC$5:$AG$5, 0))","v":9.9199999999999997E-2},{"$f":"INDEX(Calcs!$AC$5:$AG$51, MATCH('Rotation Assembler'!$A43, Calcs!$AC$5:$AC$51, 0), MATCH('Rotation Assembler'!N$38, Calcs!$AC$5:$AG$5, 0))","v":9.9199999999999997E-2},{"$f":"INDEX(Calcs!$AC$5:$AG$51, MATCH('Rotation Assembler'!$A43, Calcs!$AC$5:$AC$51, 0), MATCH('Rotation Assembler'!O$38, Calcs!$AC$5:$AG$5, 0))","v":9.9199999999999997E-2},{"$f":"INDEX(Calcs!$AC$5:$AG$51, MATCH('Rotation Assembler'!$A43, Calcs!$AC$5:$AC$51, 0), MATCH('Rotation Assembler'!P$38, Calcs!$AC$5:$AG$5, 0))","v":9.9199999999999997E-2},{"$f":"INDEX(Calcs!$AC$5:$AG$51, MATCH('Rotation Assembler'!$A43, Calcs!$AC$5:$AC$51, 0), MATCH('Rotation Assembler'!Q$38, Calcs!$AC$5:$AG$5, 0))","v":9.9199999999999997E-2},{"$f":"INDEX(Calcs!$AC$5:$AG$51, MATCH('Rotation Assembler'!$A43, Calcs!$AC$5:$AC$51, 0), MATCH('Rotation Assembler'!R$38, Calcs!$AC$5:$AG$5, 0))","v":9.9199999999999997E-2},{"$f":"INDEX(Calcs!$AC$5:$AG$51, MATCH('Rotation Assembler'!$A43, Calcs!$AC$5:$AC$51, 0), MATCH('Rotation Assembler'!S$38, Calcs!$AC$5:$AG$5, 0))","v":9.9199999999999997E-2},{"$f":"INDEX(Calcs!$AC$5:$AG$51, MATCH('Rotation Assembler'!$A43, Calcs!$AC$5:$AC$51, 0), MATCH('Rotation Assembler'!T$38, Calcs!$AC$5:$AG$5, 0))","v":9.9199999999999997E-2},{"$f":"INDEX(Calcs!$AC$5:$AG$51, MATCH('Rotation Assembler'!$A43, Calcs!$AC$5:$AC$51, 0), MATCH('Rotation Assembler'!U$38, Calcs!$AC$5:$AG$5, 0))","v":9.9199999999999997E-2},null,{"$f":"INDEX(Calcs!$AC$5:$AG$51, MATCH('Rotation Assembler'!$A43, Calcs!$AC$5:$AC$51, 0), MATCH('Rotation Assembler'!W$38, Calcs!$AC$5:$AG$5, 0))","v":9.9199999999999997E-2},{"$f":"INDEX(Calcs!$AC$5:$AG$51, MATCH('Rotation Assembler'!$A43, Calcs!$AC$5:$AC$51, 0), MATCH('Rotation Assembler'!X$38, Calcs!$AC$5:$AG$5, 0))","v":9.9199999999999997E-2},{"$f":"INDEX(Calcs!$AC$5:$AG$51, MATCH('Rotation Assembler'!$A43, Calcs!$AC$5:$AC$51, 0), MATCH('Rotation Assembler'!Y$38, Calcs!$AC$5:$AG$5, 0))","v":9.9199999999999997E-2},{"$f":"INDEX(Calcs!$AC$5:$AG$51, MATCH('Rotation Assembler'!$A43, Calcs!$AC$5:$AC$51, 0), MATCH('Rotation Assembler'!Z$38, Calcs!$AC$5:$AG$5, 0))","v":9.9199999999999997E-2},{"$f":"INDEX(Calcs!$AC$5:$AG$51, MATCH('Rotation Assembler'!$A43, Calcs!$AC$5:$AC$51, 0), MATCH('Rotation Assembler'!AA$38, Calcs!$AC$5:$AG$5, 0))","v":9.9199999999999997E-2},{"$f":"INDEX(Calcs!$AC$5:$AG$51, MATCH('Rotation Assembler'!$A43, Calcs!$AC$5:$AC$51, 0), MATCH('Rotation Assembler'!AB$38, Calcs!$AC$5:$AG$5, 0))","v":9.9199999999999997E-2},{"$f":"INDEX(Calcs!$AC$5:$AG$51, MATCH('Rotation Assembler'!$A43, Calcs!$AC$5:$AC$51, 0), MATCH('Rotation Assembler'!AC$38, Calcs!$AC$5:$AG$5, 0))","v":9.9199999999999997E-2},{"$f":"INDEX(Calcs!$AC$5:$AG$51, MATCH('Rotation Assembler'!$A43, Calcs!$AC$5:$AC$51, 0), MATCH('Rotation Assembler'!AD$38, Calcs!$AC$5:$AG$5, 0))","v":0.8548},{"$f":"INDEX(Calcs!$AC$5:$AG$51, MATCH('Rotation Assembler'!$A43, Calcs!$AC$5:$AC$51, 0), MATCH('Rotation Assembler'!AE$38, Calcs!$AC$5:$AG$5, 0))","v":9.9199999999999997E-2},{"$f":"INDEX(Calcs!$AC$5:$AG$51, MATCH('Rotation Assembler'!$A43, Calcs!$AC$5:$AC$51, 0), MATCH('Rotation Assembler'!AF$38, Calcs!$AC$5:$AG$5, 0))","v":{"$error":"#N/A"}},{"$f":"INDEX(Calcs!$AC$5:$AG$51, MATCH('Rotation Assembler'!$A43, Calcs!$AC$5:$AC$51, 0), MATCH('Rotation Assembler'!AG$38, Calcs!$AC$5:$AG$5, 0))","v":{"$error":"#N/A"}},{"$f":"INDEX(Calcs!$AC$5:$AG$51, MATCH('Rotation Assembler'!$A43, Calcs!$AC$5:$AC$51, 0), MATCH('Rotation Assembler'!AH$38, Calcs!$AC$5:$AG$5, 0))","v":{"$error":"#N/A"}},{"$f":"INDEX(Calcs!$AC$5:$AG$51, MATCH('Rotation Assembler'!$A43, Calcs!$AC$5:$AC$51, 0), MATCH('Rotation Assembler'!AI$38, Calcs!$AC$5:$AG$5, 0))","v":{"$error":"#N/A"}},{"$f":"INDEX(Calcs!$AC$5:$AG$51, MATCH('Rotation Assembler'!$A43, Calcs!$AC$5:$AC$51, 0), MATCH('Rotation Assembler'!AJ$38, Calcs!$AC$5:$AG$5, 0))","v":{"$error":"#N/A"}},{"$f":"INDEX(Calcs!$AC$5:$AG$51, MATCH('Rotation Assembler'!$A43, Calcs!$AC$5:$AC$51, 0), MATCH('Rotation Assembler'!AK$38, Calcs!$AC$5:$AG$5, 0))","v":{"$error":"#N/A"}},{"$f":"INDEX(Calcs!$AC$5:$AG$51, MATCH('Rotation Assembler'!$A43, Calcs!$AC$5:$AC$51, 0), MATCH('Rotation Assembler'!AL$38, Calcs!$AC$5:$AG$5, 0))","v":{"$error":"#N/A"}},{"$f":"INDEX(Calcs!$AC$5:$AG$51, MATCH('Rotation Assembler'!$A43, Calcs!$AC$5:$AC$51, 0), MATCH('Rotation Assembler'!AM$38, Calcs!$AC$5:$AG$5, 0))","v":{"$error":"#N/A"}},{"$f":"INDEX(Calcs!$AC$5:$AG$51, MATCH('Rotation Assembler'!$A43, Calcs!$AC$5:$AC$51, 0), MATCH('Rotation Assembler'!AN$38, Calcs!$AC$5:$AG$5, 0))","v":{"$error":"#N/A"}},{"$f":"INDEX(Calcs!$AC$5:$AG$51, MATCH('Rotation Assembler'!$A43, Calcs!$AC$5:$AC$51, 0), MATCH('Rotation Assembler'!AO$38, Calcs!$AC$5:$AG$5, 0))","v":{"$error":"#N/A"}},{"$f":"INDEX(Calcs!$AC$5:$AG$51, MATCH('Rotation Assembler'!$A43, Calcs!$AC$5:$AC$51, 0), MATCH('Rotation Assembler'!AP$38, Calcs!$AC$5:$AG$5, 0))","v":{"$error":"#N/A"}},{"$f":"INDEX(Calcs!$AC$5:$AG$51, MATCH('Rotation Assembler'!$A43, Calcs!$AC$5:$AC$51, 0), MATCH('Rotation Assembler'!AQ$38, Calcs!$AC$5:$AG$5, 0))","v":{"$error":"#N/A"}},{"$f":"INDEX(Calcs!$AC$5:$AG$51, MATCH('Rotation Assembler'!$A43, Calcs!$AC$5:$AC$51, 0), MATCH('Rotation Assembler'!AR$38, Calcs!$AC$5:$AG$5, 0))","v":{"$error":"#N/A"}},{"$f":"INDEX(Calcs!$AC$5:$AG$51, MATCH('Rotation Assembler'!$A43, Calcs!$AC$5:$AC$51, 0), MATCH('Rotation Assembler'!AS$38, Calcs!$AC$5:$AG$5, 0))","v":{"$error":"#N/A"}},{"$f":"INDEX(Calcs!$AC$5:$AG$51, MATCH('Rotation Assembler'!$A43, Calcs!$AC$5:$AC$51, 0), MATCH('Rotation Assembler'!AT$38, Calcs!$AC$5:$AG$5, 0))","v":{"$error":"#N/A"}},{"$f":"INDEX(Calcs!$AC$5:$AG$51, MATCH('Rotation Assembler'!$A43, Calcs!$AC$5:$AC$51, 0), MATCH('Rotation Assembler'!AU$38, Calcs!$AC$5:$AG$5, 0))","v":{"$error":"#N/A"}},{"$f":"INDEX(Calcs!$AC$5:$AG$51, MATCH('Rotation Assembler'!$A43, Calcs!$AC$5:$AC$51, 0), MATCH('Rotation Assembler'!AV$38, Calcs!$AC$5:$AG$5, 0))","v":{"$error":"#N/A"}},{"$f":"INDEX(Calcs!$AC$5:$AG$51, MATCH('Rotation Assembler'!$A43, Calcs!$AC$5:$AC$51, 0), MATCH('Rotation Assembler'!AW$38, Calcs!$AC$5:$AG$5, 0))","v":{"$error":"#N/A"}},{"$f":"INDEX(Calcs!$AC$5:$AG$51, MATCH('Rotation Assembler'!$A43, Calcs!$AC$5:$AC$51, 0), MATCH('Rotation Assembler'!AX$38, Calcs!$AC$5:$AG$5, 0))","v":{"$error":"#N/A"}},{"$f":"INDEX(Calcs!$AC$5:$AG$51, MATCH('Rotation Assembler'!$A43, Calcs!$AC$5:$AC$51, 0), MATCH('Rotation Assembler'!AY$38, Calcs!$AC$5:$AG$5, 0))","v":{"$error":"#N/A"}},{"$f":"INDEX(Calcs!$AC$5:$AG$51, MATCH('Rotation Assembler'!$A43, Calcs!$AC$5:$AC$51, 0), MATCH('Rotation Assembler'!AZ$38, Calcs!$AC$5:$AG$5, 0))","v":{"$error":"#N/A"}},{"$f":"INDEX(Calcs!$AC$5:$AG$51, MATCH('Rotation Assembler'!$A43, Calcs!$AC$5:$AC$51, 0), MATCH('Rotation Assembler'!BA$38, Calcs!$AC$5:$AG$5, 0))","v":{"$error":"#N/A"}},{"$f":"INDEX(Calcs!$AC$5:$AG$51, MATCH('Rotation Assembler'!$A43, Calcs!$AC$5:$AC$51, 0), MATCH('Rotation Assembler'!BB$38, Calcs!$AC$5:$AG$5, 0))","v":{"$error":"#N/A"}},{"$f":"INDEX(Calcs!$AC$5:$AG$51, MATCH('Rotation Assembler'!$A43, Calcs!$AC$5:$AC$51, 0), MATCH('Rotation Assembler'!BC$38, Calcs!$AC$5:$AG$5, 0))","v":{"$error":"#N/A"}},{"$f":"INDEX(Calcs!$AC$5:$AG$51, MATCH('Rotation Assembler'!$A43, Calcs!$AC$5:$AC$51, 0), MATCH('Rotation Assembler'!BD$38, Calcs!$AC$5:$AG$5, 0))","v":{"$error":"#N/A"}},{"$f":"INDEX(Calcs!$AC$5:$AG$51, MATCH('Rotation Assembler'!$A43, Calcs!$AC$5:$AC$51, 0), MATCH('Rotation Assembler'!BE$38, Calcs!$AC$5:$AG$5, 0))","v":{"$error":"#N/A"}},{"$f":"INDEX(Calcs!$AC$5:$AG$51, MATCH('Rotation Assembler'!$A43, Calcs!$AC$5:$AC$51, 0), MATCH('Rotation Assembler'!BF$38, Calcs!$AC$5:$AG$5, 0))","v":{"$error":"#N/A"}}]
["DEF%",{"$f":"INDEX(Calcs!$AC$5:$AG$51, MATCH('Rotation Assembler'!$A44, Calcs!$AC$5:$AC$51, 0), MATCH('Rotation Assembler'!B$38, Calcs!$AC$5:$AG$5, 0))","v":0.124},{"$f":"INDEX(Calcs!$AC$5:$AG$51, MATCH('Rotation Assembler'!$A44, Calcs!$AC$5:$AC$51, 0), MATCH('Rotation Assembler'!C$38, Calcs!$AC$5:$AG$5, 0))","v":0.124},{"$f":"INDEX(Calcs!$AC$5:$AG$51, MATCH('Rotation Assembler'!$A44, Calcs!$AC$5:$AC$51, 0), MATCH('Rotation Assembler'!D$38, Calcs!$AC$5:$AG$5, 0))","v":0.124},{"$f":"INDEX(Calcs!$AC$5:$AG$51, MATCH('Rotation Assembler'!$A44, Calcs!$AC$5:$AC$51, 0), MATCH('Rotation Assembler'!E$38, Calcs!$AC$5:$AG$5, 0))","v":0.124},{"$f":"INDEX(Calcs!$AC$5:$AG$51, MATCH('Rotation Assembler'!$A44, Calcs!$AC$5:$AC$51, 0), MATCH('Rotation Assembler'!F$38, Calcs!$AC$5:$AG$5, 0))","v":0.124},{"$f":"INDEX(Calcs!$AC$5:$AG$51, MATCH('Rotation Assembler'!$A44, Calcs!$AC$5:$AC$51, 0), MATCH('Rotation Assembler'!G$38, Calcs!$AC$5:$AG$5, 0))","v":0.124},{"$f":"INDEX(Calcs!$AC$5:$AG$51, MATCH('Rotation Assembler'!$A44, Calcs!$AC$5:$AC$51, 0), MATCH('Rotation Assembler'!H$38, Calcs!$AC$5:$AG$5, 0))","v":0.124},{"$f":"INDEX(Calcs!$AC$5:$AG$51, MATCH('Rotation Assembler'!$A44, Calcs!$AC$5:$AC$51, 0), MATCH('Rotation Assembler'!I$38, Calcs!$AC$5:$AG$5, 0))","v":0.124},{"$f":"INDEX(Calcs!$AC$5:$AG$51, MATCH('Rotation Assembler'!$A44, Calcs!$AC$5:$AC$51, 0), MATCH('Rotation Assembler'!J$38, Calcs!$AC$5:$AG$5, 0))","v":0.124},{"$f":"INDEX(Calcs!$AC$5:$AG$51, MATCH('Rotation Assembler'!$A44, Calcs!$AC$5:$AC$51, 0), MATCH('Rotation Assembler'!K$38, Calcs!$AC$5:$AG$5, 0))","v":0.124},{"$f":"INDEX(Calcs!$AC$5:$AG$51, MATCH('Rotation Assembler'!$A44, Calcs!$AC$5:$AC$51, 0), MATCH('Rotation Assembler'!L$38, Calcs!$AC$5:$AG$5, 0))","v":0.124},{"$f":"INDEX(Calcs!$AC$5:$AG$51, MATCH('Rotation Assembler'!$A44, Calcs!$AC$5:$AC$51, 0), MATCH('Rotation Assembler'!M$38, Calcs!$AC$5:$AG$5, 0))","v":0.124},{"$f":"INDEX(Calcs!$AC$5:$AG$51, MATCH('Rotation Assembler'!$A44, Calcs!$AC$5:$AC$51, 0), MATCH('Rotation Assembler'!N$38, Calcs!$AC$5:$AG$5, 0))","v":0.124},{"$f":"INDEX(Calcs!$AC$5:$AG$51, MATCH('Rotation Assembler'!$A44, Calcs!$AC$5:$AC$51, 0), MATCH('Rotation Assembler'!O$38, Calcs!$AC$5:$AG$5, 0))","v":0.124},{"$f":"INDEX(Calcs!$AC$5:$AG$51, MATCH('Rotation Assembler'!$A44, Calcs!$AC$5:$AC$51, 0), MATCH('Rotation Assembler'!P$38, Calcs!$AC$5:$AG$5, 0))","v":0.124},{"$f":"INDEX(Calcs!$AC$5:$AG$51, MATCH('Rotation Assembler'!$A44, Calcs!$AC$5:$AC$51, 0), MATCH('Rotation Assembler'!Q$38, Calcs!$AC$5:$AG$5, 0))","v":0.124},{"$f":"INDEX(Calcs!$AC$5:$AG$51, MATCH('Rotation Assembler'!$A44, Calcs!$AC$5:$AC$51, 0), MATCH('Rotation Assembler'!R$38, Calcs!$AC$5:$AG$5, 0))","v":0.124},{"$f":"INDEX(Calcs!$AC$5:$AG$51, MATCH('Rotation Assembler'!$A44, Calcs!$AC$5:$AC$51, 0), MATCH('Rotation Assembler'!S$38, Calcs!$AC$5:$AG$5, 0))","v":0.124},{"$f":"INDEX(Calcs!$AC$5:$AG$51, MATCH('Rotation Assembler'!$A44, Calcs!$AC$5:$AC$51, 0), MATCH('Rotation Assembler'!T$38, Calcs!$AC$5:$AG$5, 0))","v":0.124},{"$f":"INDEX(Calcs!$AC$5:$AG$51, MATCH('Rotation Assembler'!$A44, Calcs!$AC$5:$AC$51, 0), MATCH('Rotation Assembler'!U$38, Calcs!$AC$5:$AG$5, 0))","v":0.124},null,{"$f":"INDEX(Calcs!$AC$5:$AG$51, MATCH('Rotation Assembler'!$A44, Calcs!$AC$5:$AC$51, 0), MATCH('Rotation Assembler'!W$38, Calcs!$AC$5:$AG$5, 0))","v":0.124},{"$f":"INDEX(Calcs!$AC$5:$AG$51, MATCH('Rotation Assembler'!$A44, Calcs!$AC$5:$AC$51, 0), MATCH('Rotation Assembler'!X$38, Calcs!$AC$5:$AG$5, 0))","v":0.124},{"$f":"INDEX(Calcs!$AC$5:$AG$51, MATCH('Rotation Assembler'!$A44, Calcs!$AC$5:$AC$51, 0), MATCH('Rotation Assembler'!Y$38, Calcs!$AC$5:$AG$5, 0))","v":0.124},{"$f":"INDEX(Calcs!$AC$5:$AG$51, MATCH('Rotation Assembler'!$A44, Calcs!$AC$5:$AC$51, 0), MATCH('Rotation Assembler'!Z$38, Calcs!$AC$5:$AG$5, 0))","v":0.124},{"$f":"INDEX(Calcs!$AC$5:$AG$51, MATCH('Rotation Assembler'!$A44, Calcs!$AC$5:$AC$51, 0), MATCH('Rotation Assembler'!AA$38, Calcs!$AC$5:$AG$5, 0))","v":0.124},{"$f":"INDEX(Calcs!$AC$5:$AG$51, MATCH('Rotation Assembler'!$A44, Calcs!$AC$5:$AC$51, 0), MATCH('Rotation Assembler'!AB$38, Calcs!$AC$5:$AG$5, 0))","v":0.124},{"$f":"INDEX(Calcs!$AC$5:$AG$51, MATCH('Rotation Assembler'!$A44, Calcs!$AC$5:$AC$51, 0), MATCH('Rotation Assembler'!AC$38, Calcs!$AC$5:$AG$5, 0))","v":0.124},{"$f":"INDEX(Calcs!$AC$5:$AG$51, MATCH('Rotation Assembler'!$A44, Calcs!$AC$5:$AC$51, 0), MATCH('Rotation Assembler'!AD$38, Calcs!$AC$5:$AG$5, 0))","v":0.124},{"$f":"INDEX(Calcs!$AC$5:$AG$51, MATCH('Rotation Assembler'!$A44, Calcs!$AC$5:$AC$51, 0), MATCH('Rotation Assembler'!AE$38, Calcs!$AC$5:$AG$5, 0))","v":0.124},{"$f":"INDEX(Calcs!$AC$5:$AG$51, MATCH('Rotation Assembler'!$A44, Calcs!$AC$5:$AC$51, 0), MATCH('Rotation Assembler'!AF$38, Calcs!$AC$5:$AG$5, 0))","v":{"$error":"#N/A"}},{"$f":"INDEX(Calcs!$AC$5:$AG$51, MATCH('Rotation Assembler'!$A44, Calcs!$AC$5:$AC$51, 0), MATCH('Rotation Assembler'!AG$38, Calcs!$AC$5:$AG$5, 0))","v":{"$error":"#N/A"}},{"$f":"INDEX(Calcs!$AC$5:$AG$51, MATCH('Rotation Assembler'!$A44, Calcs!$AC$5:$AC$51, 0), MATCH('Rotation Assembler'!AH$38, Calcs!$AC$5:$AG$5, 0))","v":{"$error":"#N/A"}},{"$f":"INDEX(Calcs!$AC$5:$AG$51, MATCH('Rotation Assembler'!$A44, Calcs!$AC$5:$AC$51, 0), MATCH('Rotation Assembler'!AI$38, Calcs!$AC$5:$AG$5, 0))","v":{"$error":"#N/A"}},{"$f":"INDEX(Calcs!$AC$5:$AG$51, MATCH('Rotation Assembler'!$A44, Calcs!$AC$5:$AC$51, 0), MATCH('Rotation Assembler'!AJ$38, Calcs!$AC$5:$AG$5, 0))","v":{"$error":"#N/A"}},{"$f":"INDEX(Calcs!$AC$5:$AG$51, MATCH('Rotation Assembler'!$A44, Calcs!$AC$5:$AC$51, 0), MATCH('Rotation Assembler'!AK$38, Calcs!$AC$5:$AG$5, 0))","v":{"$error":"#N/A"}},{"$f":"INDEX(Calcs!$AC$5:$AG$51, MATCH('Rotation Assembler'!$A44, Calcs!$AC$5:$AC$51, 0), MATCH('Rotation Assembler'!AL$38, Calcs!$AC$5:$AG$5, 0))","v":{"$error":"#N/A"}},{"$f":"INDEX(Calcs!$AC$5:$AG$51, MATCH('Rotation Assembler'!$A44, Calcs!$AC$5:$AC$51, 0), MATCH('Rotation Assembler'!AM$38, Calcs!$AC$5:$AG$5, 0))","v":{"$error":"#N/A"}},{"$f":"INDEX(Calcs!$AC$5:$AG$51, MATCH('Rotation Assembler'!$A44, Calcs!$AC$5:$AC$51, 0), MATCH('Rotation Assembler'!AN$38, Calcs!$AC$5:$AG$5, 0))","v":{"$error":"#N/A"}},{"$f":"INDEX(Calcs!$AC$5:$AG$51, MATCH('Rotation Assembler'!$A44, Calcs!$AC$5:$AC$51, 0), MATCH('Rotation Assembler'!AO$38, Calcs!$AC$5:$AG$5, 0))","v":{"$error":"#N/A"}},{"$f":"INDEX(Calcs!$AC$5:$AG$51, MATCH('Rotation Assembler'!$A44, Calcs!$AC$5:$AC$51, 0), MATCH('Rotation Assembler'!AP$38, Calcs!$AC$5:$AG$5, 0))","v":{"$error":"#N/A"}},{"$f":"INDEX(Calcs!$AC$5:$AG$51, MATCH('Rotation Assembler'!$A44, Calcs!$AC$5:$AC$51, 0), MATCH('Rotation Assembler'!AQ$38, Calcs!$AC$5:$AG$5, 0))","v":{"$error":"#N/A"}},{"$f":"INDEX(Calcs!$AC$5:$AG$51, MATCH('Rotation Assembler'!$A44, Calcs!$AC$5:$AC$51, 0), MATCH('Rotation Assembler'!AR$38, Calcs!$AC$5:$AG$5, 0))","v":{"$error":"#N/A"}},{"$f":"INDEX(Calcs!$AC$5:$AG$51, MATCH('Rotation Assembler'!$A44, Calcs!$AC$5:$AC$51, 0), MATCH('Rotation Assembler'!AS$38, Calcs!$AC$5:$AG$5, 0))","v":{"$error":"#N/A"}},{"$f":"INDEX(Calcs!$AC$5:$AG$51, MATCH('Rotation Assembler'!$A44, Calcs!$AC$5:$AC$51, 0), MATCH('Rotation Assembler'!AT$38, Calcs!$AC$5:$AG$5, 0))","v":{"$error":"#N/A"}},{"$f":"INDEX(Calcs!$AC$5:$AG$51, MATCH('Rotation Assembler'!$A44, Calcs!$AC$5:$AC$51, 0), MATCH('Rotation Assembler'!AU$38, Calcs!$AC$5:$AG$5, 0))","v":{"$error":"#N/A"}},{"$f":"INDEX(Calcs!$AC$5:$AG$51, MATCH('Rotation Assembler'!$A44, Calcs!$AC$5:$AC$51, 0), MATCH('Rotation Assembler'!AV$38, Calcs!$AC$5:$AG$5, 0))","v":{"$error":"#N/A"}},{"$f":"INDEX(Calcs!$AC$5:$AG$51, MATCH('Rotation Assembler'!$A44, Calcs!$AC$5:$AC$51, 0), MATCH('Rotation Assembler'!AW$38, Calcs!$AC$5:$AG$5, 0))","v":{"$error":"#N/A"}},{"$f":"INDEX(Calcs!$AC$5:$AG$51, MATCH('Rotation Assembler'!$A44, Calcs!$AC$5:$AC$51, 0), MATCH('Rotation Assembler'!AX$38, Calcs!$AC$5:$AG$5, 0))","v":{"$error":"#N/A"}},{"$f":"INDEX(Calcs!$AC$5:$AG$51, MATCH('Rotation Assembler'!$A44, Calcs!$AC$5:$AC$51, 0), MATCH('Rotation Assembler'!AY$38, Calcs!$AC$5:$AG$5, 0))","v":{"$error":"#N/A"}},{"$f":"INDEX(Calcs!$AC$5:$AG$51, MATCH('Rotation Assembler'!$A44, Calcs!$AC$5:$AC$51, 0), MATCH('Rotation Assembler'!AZ$38, Calcs!$AC$5:$AG$5, 0))","v":{"$error":"#N/A"}},{"$f":"INDEX(Calcs!$AC$5:$AG$51, MATCH('Rotation Assembler'!$A44, Calcs!$AC$5:$AC$51, 0), MATCH('Rotation Assembler'!BA$38, Calcs!$AC$5:$AG$5, 0))","v":{"$error":"#N/A"}},{"$f":"INDEX(Calcs!$AC$5:$AG$51, MATCH('Rotation Assembler'!$A44, Calcs!$AC$5:$AC$51, 0), MATCH('Rotation Assembler'!BB$38, Calcs!$AC$5:$AG$5, 0))","v":{"$error":"#N/A"}},{"$f":"INDEX(Calcs!$AC$5:$AG$51, MATCH('Rotation Assembler'!$A44, Calcs!$AC$5:$AC$51, 0), MATCH('Rotation Assembler'!BC$38, Calcs!$AC$5:$AG$5, 0))","v":{"$error":"#N/A"}},{"$f":"INDEX(Calcs!$AC$5:$AG$51, MATCH('Rotation Assembler'!$A44, Calcs!$AC$5:$AC$51, 0), MATCH('Rotation Assembler'!BD$38, Calcs!$AC$5:$AG$5, 0))","v":{"$error":"#N/A"}},{"$f":"INDEX(Calcs!$AC$5:$AG$51, MATCH('Rotation Assembler'!$A44, Calcs!$AC$5:$AC$51, 0), MATCH('Rotation Assembler'!BE$38, Calcs!$AC$5:$AG$5, 0))","v":{"$error":"#N/A"}},{"$f":"INDEX(Calcs!$AC$5:$AG$51, MATCH('Rotation Assembler'!$A44, Calcs!$AC$5:$AC$51, 0), MATCH('Rotation Assembler'!BF$38, Calcs!$AC$5:$AG$5, 0))","v":{"$error":"#N/A"}}]
["HP%",{"$f":"INDEX(Calcs!$AC$5:$AG$51, MATCH('Rotation Assembler'!$A45, Calcs!$AC$5:$AC$51, 0), MATCH('Rotation Assembler'!B$38, Calcs!$AC$5:$AG$5, 0))","v":9.9199999999999997E-2},{"$f":"INDEX(Calcs!$AC$5:$AG$51, MATCH('Rotation Assembler'!$A45, Calcs!$AC$5:$AC$51, 0), MATCH('Rotation Assembler'!C$38, Calcs!$AC$5:$AG$5, 0))","v":9.9199999999999997E-2},{"$f":"INDEX(Calcs!$AC$5:$AG$51, MATCH('Rotation Assembler'!$A45, Calcs!$AC$5:$AC$51, 0), MATCH('Rotation Assembler'!D$38, Calcs!$AC$5:$AG$5, 0))","v":9.9199999999999997E-2},{"$f":"INDEX(Calcs!$AC$5:$AG$51, MATCH('Rotation Assembler'!$A45, Calcs!$AC$5:$AC$51, 0), MATCH('Rotation Assembler'!E$38, Calcs!$AC$5:$AG$5, 0))","v":9.9199999999999997E-2},{"$f":"INDEX(Calcs!$AC$5:$AG$51, MATCH('Rotation Assembler'!$A45, Calcs!$AC$5:$AC$51, 0), MATCH('Rotation Assembler'!F$38, Calcs!$AC$5:$AG$5, 0))","v":9.9199999999999997E-2},{"$f":"INDEX(Calcs!$AC$5:$AG$51, MATCH('Rotation Assembler'!$A45, Calcs!$AC$5:$AC$51, 0), MATCH('Rotation Assembler'!G$38, Calcs!$AC$5:$AG$5, 0))","v":9.9199999999999997E-2},{"$f":"INDEX(Calcs!$AC$5:$AG$51, MATCH('Rotation Assembler'!$A45, Calcs!$AC$5:$AC$51, 0), MATCH('Rotation Assembler'!H$38, Calcs!$AC$5:$AG$5, 0))","v":9.9199999999999997E-2},{"$f":"INDEX(Calcs!$AC$5:$AG$51, MATCH('Rotation Assembler'!$A45, Calcs!$AC$5:$AC$51, 0), MATCH('Rotation Assembler'!I$38, Calcs!$AC$5:$AG$5, 0))","v":9.9199999999999997E-2},{"$f":"INDEX(Calcs!$AC$5:$AG$51, MATCH('Rotation Assembler'!$A45, Calcs!$AC$5:$AC$51, 0), MATCH('Rotation Assembler'!J$38, Calcs!$AC$5:$AG$5, 0))","v":9.9199999999999997E-2},{"$f":"INDEX(Calcs!$AC$5:$AG$51, MATCH('Rotation Assembler'!$A45, Calcs!$AC$5:$AC$51, 0), MATCH('Rotation Assembler'!K$38, Calcs!$AC$5:$AG$5, 0))","v":9.9199999999999997E-2},{"$f":"INDEX(Calcs!$AC$5:$AG$51, MATCH('Rotation Assembler'!$A45, Calcs!$AC$5:$AC$51, 0), MATCH('Rotation Assembler'!L$38, Calcs!$AC$5:$AG$5, 0))","v":9.9199999999999997E-2},{"$f":"INDEX(Calcs!$AC$5:$AG$51, MATCH('Rotation Assembler'!$A45, Calcs!$AC$5:$AC$51, 0), MATCH('Rotation Assembler'!M$38, Calcs!$AC$5:$AG$5, 0))","v":9.9199999999999997E-2},{"$f":"INDEX(Calcs!$AC$5:$AG$51, MATCH('Rotation Assembler'!$A45, Calcs!$AC$5:$AC$51, 0), MATCH('Rotation Assembler'!N$38, Calcs!$AC$5:$AG$5, 0))","v":9.9199999999999997E-2},{"$f":"INDEX(Calcs!$AC$5:$AG$51, MATCH('Rotation Assembler'!$A45, Calcs!$AC$5:$AC$51, 0), MATCH('Rotation Assembler'!O$38, Calcs!$AC$5:$AG$5, 0))","v":9.9199999999999997E-2},{"$f":"INDEX(Calcs!$AC$5:$AG$51, MATCH('Rotation Assembler'!$A45, Calcs!$AC$5:$AC$51, 0), MATCH('Rotation Assembler'!P$38, Calcs!$AC$5:$AG$5, 0))","v":9.9199999999999997E-2},{"$f":"INDEX(Calcs!$AC$5:$AG$51, MATCH('Rotation Assembler'!$A45, Calcs!$AC$5:$AC$51, 0), MATCH('Rotation Assembler'!Q$38, Calcs!$AC$5:$AG$5, 0))","v":9.9199999999999997E-2},{"$f":"INDEX(Calcs!$AC$5:$AG$51, MATCH('Rotation Assembler'!$A45, Calcs!$AC$5:$AC$51, 0), MATCH('Rotation Assembler'!R$38, Calcs!$AC$5:$AG$5, 0))","v":9.9199999999999997E-2},{"$f":"INDEX(Calcs!$AC$5:$AG$51, MATCH('Rotation Assembler'!$A45, Calcs!$AC$5:$AC$51, 0), MATCH('Rotation Assembler'!S$38, Calcs!$AC$5:$AG$5, 0))","v":9.9199999999999997E-2},{"$f":"INDEX(Calcs!$AC$5:$AG$51, MATCH('Rotation Assembler'!$A45, Calcs!$AC$5:$AC$51, 0), MATCH('Rotation Assembler'!T$38, Calcs!$AC$5:$AG$5, 0))","v":9.9199999999999997E-2},{"$f":"INDEX(Calcs!$AC$5:$AG$51, MATCH('Rotation Assembler'!$A45, Calcs!$AC$5:$AC$51, 0), MATCH('Rotation Assembler'!U$38, Calcs!$AC$5:$AG$5, 0))","v":9.9199999999999997E-2},null,{"$f":"INDEX(Calcs!$AC$5:$AG$51, MATCH('Rotation Assembler'!$A45, Calcs!$AC$5:$AC$51, 0), MATCH('Rotation Assembler'!W$38, Calcs!$AC$5:$AG$5, 0))","v":9.9199999999999997E-2},{"$f":"INDEX(Calcs!$AC$5:$AG$51, MATCH('Rotation Assembler'!$A45, Calcs!$AC$5:$AC$51, 0), MATCH('Rotation Assembler'!X$38, Calcs!$AC$5:$AG$5, 0))","v":9.9199999999999997E-2},{"$f":"INDEX(Calcs!$AC$5:$AG$51, MATCH('Rotation Assembler'!$A45, Calcs!$AC$5:$AC$51, 0), MATCH('Rotation Assembler'!Y$38, Calcs!$AC$5:$AG$5, 0))","v":2.3462000000000005},{"$f":"INDEX(Calcs!$AC$5:$AG$51, MATCH('Rotation Assembler'!$A45, Calcs!$AC$5:$AC$51, 0), MATCH('Rotation Assembler'!Z$38, Calcs!$AC$5:$AG$5, 0))","v":2.3462000000000005},{"$f":"INDEX(Calcs!$AC$5:$AG$51, MATCH('Rotation Assembler'!$A45, Calcs!$AC$5:$AC$51, 0), MATCH('Rotation Assembler'!AA$38, Calcs!$AC$5:$AG$5, 0))","v":2.3462000000000005},{"$f":"INDEX(Calcs!$AC$5:$AG$51, MATCH('Rotation Assembler'!$A45, Calcs!$AC$5:$AC$51, 0), MATCH('Rotation Assembler'!AB$38, Calcs!$AC$5:$AG$5, 0))","v":9.9199999999999997E-2},{"$f":"INDEX(Calcs!$AC$5:$AG$51, MATCH('Rotation Assembler'!$A45, Calcs!$AC$5:$AC$51, 0), MATCH('Rotation Assembler'!AC$38, Calcs!$AC$5:$AG$5, 0))","v":9.9199999999999997E-2},{"$f":"INDEX(Calcs!$AC$5:$AG$51, MATCH('Rotation Assembler'!$A45, Calcs!$AC$5:$AC$51, 0), MATCH('Rotation Assembler'!AD$38, Calcs!$AC$5:$AG$5, 0))","v":9.9199999999999997E-2},{"$f":"INDEX(Calcs!$AC$5:$AG$51, MATCH('Rotation Assembler'!$A45, Calcs!$AC$5:$AC$51, 0), MATCH('Rotation Assembler'!AE$38, Calcs!$AC$5:$AG$5, 0))","v":9.9199999999999997E-2},{"$f":"INDEX(Calcs!$AC$5:$AG$51, MATCH('Rotation Assembler'!$A45, Calcs!$AC$5:$AC$51, 0), MATCH('Rotation Assembler'!AF$38, Calcs!$AC$5:$AG$5, 0))","v":{"$error":"#N/A"}},{"$f":"INDEX(Calcs!$AC$5:$AG$51, MATCH('Rotation Assembler'!$A45, Calcs!$AC$5:$AC$51, 0), MATCH('Rotation Assembler'!AG$38, Calcs!$AC$5:$AG$5, 0))","v":{"$error":"#N/A"}},{"$f":"INDEX(Calcs!$AC$5:$AG$51, MATCH('Rotation Assembler'!$A45, Calcs!$AC$5:$AC$51, 0), MATCH('Rotation Assembler'!AH$38, Calcs!$AC$5:$AG$5, 0))","v":{"$error":"#N/A"}},{"$f":"INDEX(Calcs!$AC$5:$AG$51, MATCH('Rotation Assembler'!$A45, Calcs!$AC$5:$AC$51, 0), MATCH('Rotation Assembler'!AI$38, Calcs!$AC$5:$AG$5, 0))","v":{"$error":"#N/A"}},{"$f":"INDEX(Calcs!$AC$5:$AG$51, MATCH('Rotation Assembler'!$A45, Calcs!$AC$5:$AC$51, 0), MATCH('Rotation Assembler'!AJ$38, Calcs!$AC$5:$AG$5, 0))","v":{"$error":"#N/A"}},{"$f":"INDEX(Calcs!$AC$5:$AG$51, MATCH('Rotation Assembler'!$A45, Calcs!$AC$5:$AC$51, 0), MATCH('Rotation Assembler'!AK$38, Calcs!$AC$5:$AG$5, 0))","v":{"$error":"#N/A"}},{"$f":"INDEX(Calcs!$AC$5:$AG$51, MATCH('Rotation Assembler'!$A45, Calcs!$AC$5:$AC$51, 0), MATCH('Rotation Assembler'!AL$38, Calcs!$AC$5:$AG$5, 0))","v":{"$error":"#N/A"}},{"$f":"INDEX(Calcs!$AC$5:$AG$51, MATCH('Rotation Assembler'!$A45, Calcs!$AC$5:$AC$51, 0), MATCH('Rotation Assembler'!AM$38, Calcs!$AC$5:$AG$5, 0))","v":{"$error":"#N/A"}},{"$f":"INDEX(Calcs!$AC$5:$AG$51, MATCH('Rotation Assembler'!$A45, Calcs!$AC$5:$AC$51, 0), MATCH('Rotation Assembler'!AN$38, Calcs!$AC$5:$AG$5, 0))","v":{"$error":"#N/A"}},{"$f":"INDEX(Calcs!$AC$5:$AG$51, MATCH('Rotation Assembler'!$A45, Calcs!$AC$5:$AC$51, 0), MATCH('Rotation Assembler'!AO$38, Calcs!$AC$5:$AG$5, 0))","v":{"$error":"#N/A"}},{"$f":"INDEX(Calcs!$AC$5:$AG$51, MATCH('Rotation Assembler'!$A45, Calcs!$AC$5:$AC$51, 0), MATCH('Rotation Assembler'!AP$38, Calcs!$AC$5:$AG$5, 0))","v":{"$error":"#N/A"}},{"$f":"INDEX(Calcs!$AC$5:$AG$51, MATCH('Rotation Assembler'!$A45, Calcs!$AC$5:$AC$51, 0), MATCH('Rotation Assembler'!AQ$38, Calcs!$AC$5:$AG$5, 0))","v":{"$error":"#N/A"}},{"$f":"INDEX(Calcs!$AC$5:$AG$51, MATCH('Rotation Assembler'!$A45, Calcs!$AC$5:$AC$51, 0), MATCH('Rotation Assembler'!AR$38, Calcs!$AC$5:$AG$5, 0))","v":{"$error":"#N/A"}},{"$f":"INDEX(Calcs!$AC$5:$AG$51, MATCH('Rotation Assembler'!$A45, Calcs!$AC$5:$AC$51, 0), MATCH('Rotation Assembler'!AS$38, Calcs!$AC$5:$AG$5, 0))","v":{"$error":"#N/A"}},{"$f":"INDEX(Calcs!$AC$5:$AG$51, MATCH('Rotation Assembler'!$A45, Calcs!$AC$5:$AC$51, 0), MATCH('Rotation Assembler'!AT$38, Calcs!$AC$5:$AG$5, 0))","v":{"$error":"#N/A"}},{"$f":"INDEX(Calcs!$AC$5:$AG$51, MATCH('Rotation Assembler'!$A45, Calcs!$AC$5:$AC$51, 0), MATCH('Rotation Assembler'!AU$38, Calcs!$AC$5:$AG$5, 0))","v":{"$error":"#N/A"}},{"$f":"INDEX(Calcs!$AC$5:$AG$51, MATCH('Rotation Assembler'!$A45, Calcs!$AC$5:$AC$51, 0), MATCH('Rotation Assembler'!AV$38, Calcs!$AC$5:$AG$5, 0))","v":{"$error":"#N/A"}},{"$f":"INDEX(Calcs!$AC$5:$AG$51, MATCH('Rotation Assembler'!$A45, Calcs!$AC$5:$AC$51, 0), MATCH('Rotation Assembler'!AW$38, Calcs!$AC$5:$AG$5, 0))","v":{"$error":"#N/A"}},{"$f":"INDEX(Calcs!$AC$5:$AG$51, MATCH('Rotation Assembler'!$A45, Calcs!$AC$5:$AC$51, 0), MATCH('Rotation Assembler'!AX$38, Calcs!$AC$5:$AG$5, 0))","v":{"$error":"#N/A"}},{"$f":"INDEX(Calcs!$AC$5:$AG$51, MATCH('Rotation Assembler'!$A45, Calcs!$AC$5:$AC$51, 0), MATCH('Rotation Assembler'!AY$38, Calcs!$AC$5:$AG$5, 0))","v":{"$error":"#N/A"}},{"$f":"INDEX(Calcs!$AC$5:$AG$51, MATCH('Rotation Assembler'!$A45, Calcs!$AC$5:$AC$51, 0), MATCH('Rotation Assembler'!AZ$38, Calcs!$AC$5:$AG$5, 0))","v":{"$error":"#N/A"}},{"$f":"INDEX(Calcs!$AC$5:$AG$51, MATCH('Rotation Assembler'!$A45, Calcs!$AC$5:$AC$51, 0), MATCH('Rotation Assembler'!BA$38, Calcs!$AC$5:$AG$5, 0))","v":{"$error":"#N/A"}},{"$f":"INDEX(Calcs!$AC$5:$AG$51, MATCH('Rotation Assembler'!$A45, Calcs!$AC$5:$AC$51, 0), MATCH('Rotation Assembler'!BB$38, Calcs!$AC$5:$AG$5, 0))","v":{"$error":"#N/A"}},{"$f":"INDEX(Calcs!$AC$5:$AG$51, MATCH('Rotation Assembler'!$A45, Calcs!$AC$5:$AC$51, 0), MATCH('Rotation Assembler'!BC$38, Calcs!$AC$5:$AG$5, 0))","v":{"$error":"#N/A"}},{"$f":"INDEX(Calcs!$AC$5:$AG$51, MATCH('Rotation Assembler'!$A45, Calcs!$AC$5:$AC$51, 0), MATCH('Rotation Assembler'!BD$38, Calcs!$AC$5:$AG$5, 0))","v":{"$error":"#N/A"}},{"$f":"INDEX(Calcs!$AC$5:$AG$51, MATCH('Rotation Assembler'!$A45, Calcs!$AC$5:$AC$51, 0), MATCH('Rotation Assembler'!BE$38, Calcs!$AC$5:$AG$5, 0))","v":{"$error":"#N/A"}},{"$f":"INDEX(Calcs!$AC$5:$AG$51, MATCH('Rotation Assembler'!$A45, Calcs!$AC$5:$AC$51, 0), MATCH('Rotation Assembler'!BF$38, Calcs!$AC$5:$AG$5, 0))","v":{"$error":"#N/A"}}]
["CR%",{"$f":"INDEX(Calcs!$AC$5:$AG$51, MATCH('Rotation Assembler'!$A46, Calcs!$AC$5:$AC$51, 0), MATCH('Rotation Assembler'!B$38, Calcs!$AC$5:$AG$5, 0))","v":0.62579999999999991},{"$f":"INDEX(Calcs!$AC$5:$AG$51, MATCH('Rotation Assembler'!$A46, Calcs!$AC$5:$AC$51, 0), MATCH('Rotation Assembler'!C$38, Calcs!$AC$5:$AG$5, 0))","v":0.62579999999999991},{"$f":"INDEX(Calcs!$AC$5:$AG$51, MATCH('Rotation Assembler'!$A46, Calcs!$AC$5:$AC$51, 0), MATCH('Rotation Assembler'!D$38, Calcs!$AC$5:$AG$5, 0))","v":0.62579999999999991},{"$f":"INDEX(Calcs!$AC$5:$AG$51, MATCH('Rotation Assembler'!$A46, Calcs!$AC$5:$AC$51, 0), MATCH('Rotation Assembler'!E$38, Calcs!$AC$5:$AG$5, 0))","v":0.62579999999999991},{"$f":"INDEX(Calcs!$AC$5:$AG$51, MATCH('Rotation Assembler'!$A46, Calcs!$AC$5:$AC$51, 0), MATCH('Rotation Assembler'!F$38, Calcs!$AC$5:$AG$5, 0))","v":0.62579999999999991},{"$f":"INDEX(Calcs!$AC$5:$AG$51, MATCH('Rotation Assembler'!$A46, Calcs!$AC$5:$AC$51, 0), MATCH('Rotation Assembler'!G$38, Calcs!$AC$5:$AG$5, 0))","v":0.62579999999999991},{"$f":"INDEX(Calcs!$AC$5:$AG$51, MATCH('Rotation Assembler'!$A46, Calcs!$AC$5:$AC$51, 0), MATCH('Rotation Assembler'!H$38, Calcs!$AC$5:$AG$5, 0))","v":0.91520000000000001},{"$f":"INDEX(Calcs!$AC$5:$AG$51, MATCH('Rotation Assembler'!$A46, Calcs!$AC$5:$AC$51, 0), MATCH('Rotation Assembler'!I$38, Calcs!$AC$5:$AG$5, 0))","v":0.91520000000000001},{"$f":"INDEX(Calcs!$AC$5:$AG$51, MATCH('Rotation Assembler'!$A46, Calcs!$AC$5:$AC$51, 0), MATCH('Rotation Assembler'!J$38, Calcs!$AC$5:$AG$5, 0))","v":0.91520000000000001},{"$f":"INDEX(Calcs!$AC$5:$AG$51, MATCH('Rotation Assembler'!$A46, Calcs!$AC$5:$AC$51, 0), MATCH('Rotation Assembler'!K$38, Calcs!$AC$5:$AG$5, 0))","v":0.91520000000000001},{"$f":"INDEX(Calcs!$AC$5:$AG$51, MATCH('Rotation Assembler'!$A46, Calcs!$AC$5:$AC$51, 0), MATCH('Rotation Assembler'!L$38, Calcs!$AC$5:$AG$5, 0))","v":0.91520000000000001},{"$f":"INDEX(Calcs!$AC$5:$AG$51, MATCH('Rotation Assembler'!$A46, Calcs!$AC$5:$AC$51, 0), MATCH('Rotation Assembler'!M$38, Calcs!$AC$5:$AG$5, 0))","v":0.91520000000000001},{"$f":"INDEX(Calcs!$AC$5:$AG$51, MATCH('Rotation Assembler'!$A46, Calcs!$AC$5:$AC$51, 0), MATCH('Rotation Assembler'!N$38, Calcs!$AC$5:$AG$5, 0))","v":0.91520000000000001},{"$f":"INDEX(Calcs!$AC$5:$AG$51, MATCH('Rotation Assembler'!$A46, Calcs!$AC$5:$AC$51, 0), MATCH('Rotation Assembler'!O$38, Calcs!$AC$5:$AG$5, 0))","v":0.91520000000000001},{"$f":"INDEX(Calcs!$AC$5:$AG$51, MATCH('Rotation Assembler'!$A46, Calcs!$AC$5:$AC$51, 0), MATCH('Rotation Assembler'!P$38, Calcs!$AC$5:$AG$5, 0))","v":0.91520000000000001},{"$f":"INDEX(Calcs!$AC$5:$AG$51, MATCH('Rotation Assembler'!$A46, Calcs!$AC$5:$AC$51, 0), MATCH('Rotation Assembler'!Q$38, Calcs!$AC$5:$AG$5, 0))","v":0.91520000000000001},{"$f":"INDEX(Calcs!$AC$5:$AG$51, MATCH('Rotation Assembler'!$A46, Calcs!$AC$5:$AC$51, 0), MATCH('Rotation Assembler'!R$38, Calcs!$AC$5:$AG$5, 0))","v":0.91520000000000001},{"$f":"INDEX(Calcs!$AC$5:$AG$51, MATCH('Rotation Assembler'!$A46, Calcs!$AC$5:$AC$51, 0), MATCH('Rotation Assembler'!S$38, Calcs!$AC$5:$AG$5, 0))","v":0.91520000000000001},{"$f":"INDEX(Calcs!$AC$5:$AG$51, MATCH('Rotation Assembler'!$A46, Calcs!$AC$5:$AC$51, 0), MATCH('Rotation Assembler'!T$38, Calcs!$AC$5:$AG$5, 0))","v":0.91520000000000001},{"$f":"INDEX(Calcs!$AC$5:$AG$51, MATCH('Rotation Assembler'!$A46, Calcs!$AC$5:$AC$51, 0), MATCH('Rotation Assembler'!U$38, Calcs!$AC$5:$AG$5, 0))","v":0.91520000000000001},null,{"$f":"INDEX(Calcs!$AC$5:$AG$51, MATCH('Rotation Assembler'!$A46, Calcs!$AC$5:$AC$51, 0), MATCH('Rotation Assembler'!W$38, Calcs!$AC$5:$AG$5, 0))","v":0.62579999999999991},{"$f":"INDEX(Calcs!$AC$5:$AG$51, MATCH('Rotation Assembler'!$A46, Calcs!$AC$5:$AC$51, 0), MATCH('Rotation Assembler'!X$38, Calcs!$AC$5:$AG$5, 0))","v":0.62579999999999991},{"$f":"INDEX(Calcs!$AC$5:$AG$51, MATCH('Rotation Assembler'!$A46, Calcs!$AC$5:$AC$51, 0), MATCH('Rotation Assembler'!Y$38, Calcs!$AC$5:$AG$5, 0))","v":0.44719999999999999},{"$f":"INDEX(Calcs!$AC$5:$AG$51, MATCH('Rotation Assembler'!$A46, Calcs!$AC$5:$AC$51, 0), MATCH('Rotation Assembler'!Z$38, Calcs!$AC$5:$AG$5, 0))","v":0.44719999999999999},{"$f":"INDEX(Calcs!$AC$5:$AG$51, MATCH('Rotation Assembler'!$A46, Calcs!$AC$5:$AC$51, 0), MATCH('Rotation Assembler'!AA$38, Calcs!$AC$5:$AG$5, 0))","v":0.44719999999999999},{"$f":"INDEX(Calcs!$AC$5:$AG$51, MATCH('Rotation Assembler'!$A46, Calcs!$AC$5:$AC$51, 0), MATCH('Rotation Assembler'!AB$38, Calcs!$AC$5:$AG$5, 0))","v":0.91520000000000001},{"$f":"INDEX(Calcs!$AC$5:$AG$51, MATCH('Rotation Assembler'!$A46, Calcs!$AC$5:$AC$51, 0), MATCH('Rotation Assembler'!AC$38, Calcs!$AC$5:$AG$5, 0))","v":0.91520000000000001},{"$f":"INDEX(Calcs!$AC$5:$AG$51, MATCH('Rotation Assembler'!$A46, Calcs!$AC$5:$AC$51, 0), MATCH('Rotation Assembler'!AD$38, Calcs!$AC$5:$AG$5, 0))","v":0.62579999999999991},{"$f":"INDEX(Calcs!$AC$5:$AG$51, MATCH('Rotation Assembler'!$A46, Calcs!$AC$5:$AC$51, 0), MATCH('Rotation Assembler'!AE$38, Calcs!$AC$5:$AG$5, 0))","v":0.91520000000000001},{"$f":"INDEX(Calcs!$AC$5:$AG$51, MATCH('Rotation Assembler'!$A46, Calcs!$AC$5:$AC$51, 0), MATCH('Rotation Assembler'!AF$38, Calcs!$AC$5:$AG$5, 0))","v":{"$error":"#N/A"}},{"$f":"INDEX(Calcs!$AC$5:$AG$51, MATCH('Rotation Assembler'!$A46, Calcs!$AC$5:$AC$51, 0), MATCH('Rotation Assembler'!AG$38, Calcs!$AC$5:$AG$5, 0))","v":{"$error":"#N/A"}},{"$f":"INDEX(Calcs!$AC$5:$AG$51, MATCH('Rotation Assembler'!$A46, Calcs!$AC$5:$AC$51, 0), MATCH('Rotation Assembler'!AH$38, Calcs!$AC$5:$AG$5, 0))","v":{"$error":"#N/A"}},{"$f":"INDEX(Calcs!$AC$5:$AG$51, MATCH('Rotation Assembler'!$A46, Calcs!$AC$5:$AC$51, 0), MATCH('Rotation Assembler'!AI$38, Calcs!$AC$5:$AG$5, 0))","v":{"$error":"#N/A"}},{"$f":"INDEX(Calcs!$AC$5:$AG$51, MATCH('Rotation Assembler'!$A46, Calcs!$AC$5:$AC$51, 0), MATCH('Rotation Assembler'!AJ$38, Calcs!$AC$5:$AG$5, 0))","v":{"$error":"#N/A"}},{"$f":"INDEX(Calcs!$AC$5:$AG$51, MATCH('Rotation Assembler'!$A46, Calcs!$AC$5:$AC$51, 0), MATCH('Rotation Assembler'!AK$38, Calcs!$AC$5:$AG$5, 0))","v":{"$error":"#N/A"}},{"$f":"INDEX(Calcs!$AC$5:$AG$51, MATCH('Rotation Assembler'!$A46, Calcs!$AC$5:$AC$51, 0), MATCH('Rotation Assembler'!AL$38, Calcs!$AC$5:$AG$5, 0))","v":{"$error":"#N/A"}},{"$f":"INDEX(Calcs!$AC$5:$AG$51, MATCH('Rotation Assembler'!$A46, Calcs!$AC$5:$AC$51, 0), MATCH('Rotation Assembler'!AM$38, Calcs!$AC$5:$AG$5, 0))","v":{"$error":"#N/A"}},{"$f":"INDEX(Calcs!$AC$5:$AG$51, MATCH('Rotation Assembler'!$A46, Calcs!$AC$5:$AC$51, 0), MATCH('Rotation Assembler'!AN$38, Calcs!$AC$5:$AG$5, 0))","v":{"$error":"#N/A"}},{"$f":"INDEX(Calcs!$AC$5:$AG$51, MATCH('Rotation Assembler'!$A46, Calcs!$AC$5:$AC$51, 0), MATCH('Rotation Assembler'!AO$38, Calcs!$AC$5:$AG$5, 0))","v":{"$error":"#N/A"}},{"$f":"INDEX(Calcs!$AC$5:$AG$51, MATCH('Rotation Assembler'!$A46, Calcs!$AC$5:$AC$51, 0), MATCH('Rotation Assembler'!AP$38, Calcs!$AC$5:$AG$5, 0))","v":{"$error":"#N/A"}},{"$f":"INDEX(Calcs!$AC$5:$AG$51, MATCH('Rotation Assembler'!$A46, Calcs!$AC$5:$AC$51, 0), MATCH('Rotation Assembler'!AQ$38, Calcs!$AC$5:$AG$5, 0))","v":{"$error":"#N/A"}},{"$f":"INDEX(Calcs!$AC$5:$AG$51, MATCH('Rotation Assembler'!$A46, Calcs!$AC$5:$AC$51, 0), MATCH('Rotation Assembler'!AR$38, Calcs!$AC$5:$AG$5, 0))","v":{"$error":"#N/A"}},{"$f":"INDEX(Calcs!$AC$5:$AG$51, MATCH('Rotation Assembler'!$A46, Calcs!$AC$5:$AC$51, 0), MATCH('Rotation Assembler'!AS$38, Calcs!$AC$5:$AG$5, 0))","v":{"$error":"#N/A"}},{"$f":"INDEX(Calcs!$AC$5:$AG$51, MATCH('Rotation Assembler'!$A46, Calcs!$AC$5:$AC$51, 0), MATCH('Rotation Assembler'!AT$38, Calcs!$AC$5:$AG$5, 0))","v":{"$error":"#N/A"}},{"$f":"INDEX(Calcs!$AC$5:$AG$51, MATCH('Rotation Assembler'!$A46, Calcs!$AC$5:$AC$51, 0), MATCH('Rotation Assembler'!AU$38, Calcs!$AC$5:$AG$5, 0))","v":{"$error":"#N/A"}},{"$f":"INDEX(Calcs!$AC$5:$AG$51, MATCH('Rotation Assembler'!$A46, Calcs!$AC$5:$AC$51, 0), MATCH('Rotation Assembler'!AV$38, Calcs!$AC$5:$AG$5, 0))","v":{"$error":"#N/A"}},{"$f":"INDEX(Calcs!$AC$5:$AG$51, MATCH('Rotation Assembler'!$A46, Calcs!$AC$5:$AC$51, 0), MATCH('Rotation Assembler'!AW$38, Calcs!$AC$5:$AG$5, 0))","v":{"$error":"#N/A"}},{"$f":"INDEX(Calcs!$AC$5:$AG$51, MATCH('Rotation Assembler'!$A46, Calcs!$AC$5:$AC$51, 0), MATCH('Rotation Assembler'!AX$38, Calcs!$AC$5:$AG$5, 0))","v":{"$error":"#N/A"}},{"$f":"INDEX(Calcs!$AC$5:$AG$51, MATCH('Rotation Assembler'!$A46, Calcs!$AC$5:$AC$51, 0), MATCH('Rotation Assembler'!AY$38, Calcs!$AC$5:$AG$5, 0))","v":{"$error":"#N/A"}},{"$f":"INDEX(Calcs!$AC$5:$AG$51, MATCH('Rotation Assembler'!$A46, Calcs!$AC$5:$AC$51, 0), MATCH('Rotation Assembler'!AZ$38, Calcs!$AC$5:$AG$5, 0))","v":{"$error":"#N/A"}},{"$f":"INDEX(Calcs!$AC$5:$AG$51, MATCH('Rotation Assembler'!$A46, Calcs!$AC$5:$AC$51, 0), MATCH('Rotation Assembler'!BA$38, Calcs!$AC$5:$AG$5, 0))","v":{"$error":"#N/A"}},{"$f":"INDEX(Calcs!$AC$5:$AG$51, MATCH('Rotation Assembler'!$A46, Calcs!$AC$5:$AC$51, 0), MATCH('Rotation Assembler'!BB$38, Calcs!$AC$5:$AG$5, 0))","v":{"$error":"#N/A"}},{"$f":"INDEX(Calcs!$AC$5:$AG$51, MATCH('Rotation Assembler'!$A46, Calcs!$AC$5:$AC$51, 0), MATCH('Rotation Assembler'!BC$38, Calcs!$AC$5:$AG$5, 0))","v":{"$error":"#N/A"}},{"$f":"INDEX(Calcs!$AC$5:$AG$51, MATCH('Rotation Assembler'!$A46, Calcs!$AC$5:$AC$51, 0), MATCH('Rotation Assembler'!BD$38, Calcs!$AC$5:$AG$5, 0))","v":{"$error":"#N/A"}},{"$f":"INDEX(Calcs!$AC$5:$AG$51, MATCH('Rotation Assembler'!$A46, Calcs!$AC$5:$AC$51, 0), MATCH('Rotation Assembler'!BE$38, Calcs!$AC$5:$AG$5, 0))","v":{"$error":"#N/A"}},{"$f":"INDEX(Calcs!$AC$5:$AG$51, MATCH('Rotation Assembler'!$A46, Calcs!$AC$5:$AC$51, 0), MATCH('Rotation Assembler'!BF$38, Calcs!$AC$5:$AG$5, 0))","v":{"$error":"#N/A"}}]
["CDMG%",{"$f":"INDEX(Calcs!$AC$5:$AG$51, MATCH('Rotation Assembler'!$A47, Calcs!$AC$5:$AC$51, 0), MATCH('Rotation Assembler'!B$38, Calcs!$AC$5:$AG$5, 0))","v":1.2944},{"$f":"INDEX(Calcs!$AC$5:$AG$51, MATCH('Rotation Assembler'!$A47, Calcs!$AC$5:$AC$51, 0), MATCH('Rotation Assembler'!C$38, Calcs!$AC$5:$AG$5, 0))","v":1.2944},{"$f":"INDEX(Calcs!$AC$5:$AG$51, MATCH('Rotation Assembler'!$A47, Calcs!$AC$5:$AC$51, 0), MATCH('Rotation Assembler'!D$38, Calcs!$AC$5:$AG$5, 0))","v":1.1619999999999999},{"$f":"INDEX(Calcs!$AC$5:$AG$51, MATCH('Rotation Assembler'!$A47, Calcs!$AC$5:$AC$51, 0), MATCH('Rotation Assembler'!E$38, Calcs!$AC$5:$AG$5, 0))","v":1.1619999999999999},{"$f":"INDEX(Calcs!$AC$5:$AG$51, MATCH('Rotation Assembler'!$A47, Calcs!$AC$5:$AC$51, 0), MATCH('Rotation Assembler'!F$38, Calcs!$AC$5:$AG$5, 0))","v":1.2944},{"$f":"INDEX(Calcs!$AC$5:$AG$51, MATCH('Rotation Assembler'!$A47, Calcs!$AC$5:$AC$51, 0), MATCH('Rotation Assembler'!G$38, Calcs!$AC$5:$AG$5, 0))","v":1.2944},{"$f":"INDEX(Calcs!$AC$5:$AG$51, MATCH('Rotation Assembler'!$A47, Calcs!$AC$5:$AC$51, 0), MATCH('Rotation Assembler'!H$38, Calcs!$AC$5:$AG$5, 0))","v":1.7839999999999998},{"$f":"INDEX(Calcs!$AC$5:$AG$51, MATCH('Rotation Assembler'!$A47, Calcs!$AC$5:$AC$51, 0), MATCH('Rotation Assembler'!I$38, Calcs!$AC$5:$AG$5, 0))","v":1.7839999999999998},{"$f":"INDEX(Calcs!$AC$5:$AG$51, MATCH('Rotation Assembler'!$A47, Calcs!$AC$5:$AC$51, 0), MATCH('Rotation Assembler'!J$38, Calcs!$AC$5:$AG$5, 0))","v":1.7839999999999998},{"$f":"INDEX(Calcs!$AC$5:$AG$51, MATCH('Rotation Assembler'!$A47, Calcs!$AC$5:$AC$51, 0), MATCH('Rotation Assembler'!K$38, Calcs!$AC$5:$AG$5, 0))","v":1.7839999999999998},{"$f":"INDEX(Calcs!$AC$5:$AG$51, MATCH('Rotation Assembler'!$A47, Calcs!$AC$5:$AC$51, 0), MATCH('Rotation Assembler'!L$38, Calcs!$AC$5:$AG$5, 0))","v":1.7839999999999998},{"$f":"INDEX(Calcs!$AC$5:$AG$51, MATCH('Rotation Assembler'!$A47, Calcs!$AC$5:$AC$51, 0), MATCH('Rotation Assembler'!M$38, Calcs!$AC$5:$AG$5, 0))","v":1.7839999999999998},{"$f":"INDEX(Calcs!$AC$5:$AG$51, MATCH('Rotation Assembler'!$A47, Calcs!$AC$5:$AC$51, 0), MATCH('Rotation Assembler'!N$38, Calcs!$AC$5:$AG$5, 0))","v":1.7839999999999998},{"$f":"INDEX(Calcs!$AC$5:$AG$51, MATCH('Rotation Assembler'!$A47, Calcs!$AC$5:$AC$51, 0), MATCH('Rotation Assembler'!O$38, Calcs!$AC$5:$AG$5, 0))","v":1.7839999999999998},{"$f":"INDEX(Calcs!$AC$5:$AG$51, MATCH('Rotation Assembler'!$A47, Calcs!$AC$5:$AC$51, 0), MATCH('Rotation Assembler'!P$38, Calcs!$AC$5:$AG$5, 0))","v":1.7839999999999998},{"$f":"INDEX(Calcs!$AC$5:$AG$51, MATCH('Rotation Assembler'!$A47, Calcs!$AC$5:$AC$51, 0), MATCH('Rotation Assembler'!Q$38, Calcs!$AC$5:$AG$5, 0))","v":1.7839999999999998},{"$f":"INDEX(Calcs!$AC$5:$AG$51, MATCH('Rotation Assembler'!$A47, Calcs!$AC$5:$AC$51, 0), MATCH('Rotation Assembler'!R$38, Calcs!$AC$5:$AG$5, 0))","v":1.7839999999999998},{"$f":"INDEX(Calcs!$AC$5:$AG$51, MATCH('Rotation Assembler'!$A47, Calcs!$AC$5:$AC$51, 0), MATCH('Rotation Assembler'!S$38, Calcs!$AC$5:$AG$5, 0))","v":1.7839999999999998},{"$f":"INDEX(Calcs!$AC$5:$AG$51, MATCH('Rotation Assembler'!$A47, Calcs!$AC$5:$AC$51, 0), MATCH('Rotation Assembler'!T$38, Calcs!$AC$5:$AG$5, 0))","v":1.7839999999999998},{"$f":"INDEX(Calcs!$AC$5:$AG$51, MATCH('Rotation Assembler'!$A47, Calcs!$AC$5:$AC$51, 0), MATCH('Rotation Assembler'!U$38, Calcs!$AC$5:$AG$5, 0))","v":1.7839999999999998},null,{"$f":"INDEX(Calcs!$AC$5:$AG$51, MATCH('Rotation Assembler'!$A47, Calcs!$AC$5:$AC$51, 0), MATCH('Rotation Assembler'!W$38, Calcs!$AC$5:$AG$5, 0))","v":1.1619999999999999},{"$f":"INDEX(Calcs!$AC$5:$AG$51, MATCH('Rotation Assembler'!$A47, Calcs!$AC$5:$AC$51, 0), MATCH('Rotation Assembler'!X$38, Calcs!$AC$5:$AG$5, 0))","v":1.1619999999999999},{"$f":"INDEX(Calcs!$AC$5:$AG$51, MATCH('Rotation Assembler'!$A47, Calcs!$AC$5:$AC$51, 0), MATCH('Rotation Assembler'!Y$38, Calcs!$AC$5:$AG$5, 0))","v":1.2944},{"$f":"INDEX(Calcs!$AC$5:$AG$51, MATCH('Rotation Assembler'!$A47, Calcs!$AC$5:$AC$51, 0), MATCH('Rotation Assembler'!Z$38, Calcs!$AC$5:$AG$5, 0))","v":1.2944},{"$f":"INDEX(Calcs!$AC$5:$AG$51, MATCH('Rotation Assembler'!$A47, Calcs!$AC$5:$AC$51, 0), MATCH('Rotation Assembler'!AA$38, Calcs!$AC$5:$AG$5, 0))","v":1.2944},{"$f":"INDEX(Calcs!$AC$5:$AG$51, MATCH('Rotation Assembler'!$A47, Calcs!$AC$5:$AC$51, 0), MATCH('Rotation Assembler'!AB$38, Calcs!$AC$5:$AG$5, 0))","v":1.7839999999999998},{"$f":"INDEX(Calcs!$AC$5:$AG$51, MATCH('Rotation Assembler'!$A47, Calcs!$AC$5:$AC$51, 0), MATCH('Rotation Assembler'!AC$38, Calcs!$AC$5:$AG$5, 0))","v":1.7839999999999998},{"$f":"INDEX(Calcs!$AC$5:$AG$51, MATCH('Rotation Assembler'!$A47, Calcs!$AC$5:$AC$51, 0), MATCH('Rotation Assembler'!AD$38, Calcs!$AC$5:$AG$5, 0))","v":1.2944},{"$f":"INDEX(Calcs!$AC$5:$AG$51, MATCH('Rotation Assembler'!$A47, Calcs!$AC$5:$AC$51, 0), MATCH('Rotation Assembler'!AE$38, Calcs!$AC$5:$AG$5, 0))","v":1.7839999999999998},{"$f":"INDEX(Calcs!$AC$5:$AG$51, MATCH('Rotation Assembler'!$A47, Calcs!$AC$5:$AC$51, 0), MATCH('Rotation Assembler'!AF$38, Calcs!$AC$5:$AG$5, 0))","v":{"$error":"#N/A"}},{"$f":"INDEX(Calcs!$AC$5:$AG$51, MATCH('Rotation Assembler'!$A47, Calcs!$AC$5:$AC$51, 0), MATCH('Rotation Assembler'!AG$38, Calcs!$AC$5:$AG$5, 0))","v":{"$error":"#N/A"}},{"$f":"INDEX(Calcs!$AC$5:$AG$51, MATCH('Rotation Assembler'!$A47, Calcs!$AC$5:$AC$51, 0), MATCH('Rotation Assembler'!AH$38, Calcs!$AC$5:$AG$5, 0))","v":{"$error":"#N/A"}},{"$f":"INDEX(Calcs!$AC$5:$AG$51, MATCH('Rotation Assembler'!$A47, Calcs!$AC$5:$AC$51, 0), MATCH('Rotation Assembler'!AI$38, Calcs!$AC$5:$AG$5, 0))","v":{"$error":"#N/A"}},{"$f":"INDEX(Calcs!$AC$5:$AG$51, MATCH('Rotation Assembler'!$A47, Calcs!$AC$5:$AC$51, 0), MATCH('Rotation Assembler'!AJ$38, Calcs!$AC$5:$AG$5, 0))","v":{"$error":"#N/A"}},{"$f":"INDEX(Calcs!$AC$5:$AG$51, MATCH('Rotation Assembler'!$A47, Calcs!$AC$5:$AC$51, 0), MATCH('Rotation Assembler'!AK$38, Calcs!$AC$5:$AG$5, 0))","v":{"$error":"#N/A"}},{"$f":"INDEX(Calcs!$AC$5:$AG$51, MATCH('Rotation Assembler'!$A47, Calcs!$AC$5:$AC$51, 0), MATCH('Rotation Assembler'!AL$38, Calcs!$AC$5:$AG$5, 0))","v":{"$error":"#N/A"}},{"$f":"INDEX(Calcs!$AC$5:$AG$51, MATCH('Rotation Assembler'!$A47, Calcs!$AC$5:$AC$51, 0), MATCH('Rotation Assembler'!AM$38, Calcs!$AC$5:$AG$5, 0))","v":{"$error":"#N/A"}},{"$f":"INDEX(Calcs!$AC$5:$AG$51, MATCH('Rotation Assembler'!$A47, Calcs!$AC$5:$AC$51, 0), MATCH('Rotation Assembler'!AN$38, Calcs!$AC$5:$AG$5, 0))","v":{"$error":"#N/A"}},{"$f":"INDEX(Calcs!$AC$5:$AG$51, MATCH('Rotation Assembler'!$A47, Calcs!$AC$5:$AC$51, 0), MATCH('Rotation Assembler'!AO$38, Calcs!$AC$5:$AG$5, 0))","v":{"$error":"#N/A"}},{"$f":"INDEX(Calcs!$AC$5:$AG$51, MATCH('Rotation Assembler'!$A47, Calcs!$AC$5:$AC$51, 0), MATCH('Rotation Assembler'!AP$38, Calcs!$AC$5:$AG$5, 0))","v":{"$error":"#N/A"}},{"$f":"INDEX(Calcs!$AC$5:$AG$51, MATCH('Rotation Assembler'!$A47, Calcs!$AC$5:$AC$51, 0), MATCH('Rotation Assembler'!AQ$38, Calcs!$AC$5:$AG$5, 0))","v":{"$error":"#N/A"}},{"$f":"INDEX(Calcs!$AC$5:$AG$51, MATCH('Rotation Assembler'!$A47, Calcs!$AC$5:$AC$51, 0), MATCH('Rotation Assembler'!AR$38, Calcs!$AC$5:$AG$5, 0))","v":{"$error":"#N/A"}},{"$f":"INDEX(Calcs!$AC$5:$AG$51, MATCH('Rotation Assembler'!$A47, Calcs!$AC$5:$AC$51, 0), MATCH('Rotation Assembler'!AS$38, Calcs!$AC$5:$AG$5, 0))","v":{"$error":"#N/A"}},{"$f":"INDEX(Calcs!$AC$5:$AG$51, MATCH('Rotation Assembler'!$A47, Calcs!$AC$5:$AC$51, 0), MATCH('Rotation Assembler'!AT$38, Calcs!$AC$5:$AG$5, 0))","v":{"$error":"#N/A"}},{"$f":"INDEX(Calcs!$AC$5:$AG$51, MATCH('Rotation Assembler'!$A47, Calcs!$AC$5:$AC$51, 0), MATCH('Rotation Assembler'!AU$38, Calcs!$AC$5:$AG$5, 0))","v":{"$error":"#N/A"}},{"$f":"INDEX(Calcs!$AC$5:$AG$51, MATCH('Rotation Assembler'!$A47, Calcs!$AC$5:$AC$51, 0), MATCH('Rotation Assembler'!AV$38, Calcs!$AC$5:$AG$5, 0))","v":{"$error":"#N/A"}},{"$f":"INDEX(Calcs!$AC$5:$AG$51, MATCH('Rotation Assembler'!$A47, Calcs!$AC$5:$AC$51, 0), MATCH('Rotation Assembler'!AW$38, Calcs!$AC$5:$AG$5, 0))","v":{"$error":"#N/A"}},{"$f":"INDEX(Calcs!$AC$5:$AG$51, MATCH('Rotation Assembler'!$A47, Calcs!$AC$5:$AC$51, 0), MATCH('Rotation Assembler'!AX$38, Calcs!$AC$5:$AG$5, 0))","v":{"$error":"#N/A"}},{"$f":"INDEX(Calcs!$AC$5:$AG$51, MATCH('Rotation Assembler'!$A47, Calcs!$AC$5:$AC$51, 0), MATCH('Rotation Assembler'!AY$38, Calcs!$AC$5:$AG$5, 0))","v":{"$error":"#N/A"}},{"$f":"INDEX(Calcs!$AC$5:$AG$51, MATCH('Rotation Assembler'!$A47, Calcs!$AC$5:$AC$51, 0), MATCH('Rotation Assembler'!AZ$38, Calcs!$AC$5:$AG$5, 0))","v":{"$error":"#N/A"}},{"$f":"INDEX(Calcs!$AC$5:$AG$51, MATCH('Rotation Assembler'!$A47, Calcs!$AC$5:$AC$51, 0), MATCH('Rotation Assembler'!BA$38, Calcs!$AC$5:$AG$5, 0))","v":{"$error":"#N/A"}},{"$f":"INDEX(Calcs!$AC$5:$AG$51, MATCH('Rotation Assembler'!$A47, Calcs!$AC$5:$AC$51, 0), MATCH('Rotation Assembler'!BB$38, Calcs!$AC$5:$AG$5, 0))","v":{"$error":"#N/A"}},{"$f":"INDEX(Calcs!$AC$5:$AG$51, MATCH('Rotation Assembler'!$A47, Calcs!$AC$5:$AC$51, 0), MATCH('Rotation Assembler'!BC$38, Calcs!$AC$5:$AG$5, 0))","v":{"$error":"#N/A"}},{"$f":"INDEX(Calcs!$AC$5:$AG$51, MATCH('Rotation Assembler'!$A47, Calcs!$AC$5:$AC$51, 0), MATCH('Rotation Assembler'!BD$38, Calcs!$AC$5:$AG$5, 0))","v":{"$error":"#N/A"}},{"$f":"INDEX(Calcs!$AC$5:$AG$51, MATCH('Rotation Assembler'!$A47, Calcs!$AC$5:$AC$51, 0), MATCH('Rotation Assembler'!BE$38, Calcs!$AC$5:$AG$5, 0))","v":{"$error":"#N/A"}},{"$f":"INDEX(Calcs!$AC$5:$AG$51, MATCH('Rotation Assembler'!$A47, Calcs!$AC$5:$AC$51, 0), MATCH('Rotation Assembler'!BF$38, Calcs!$AC$5:$AG$5, 0))","v":{"$error":"#N/A"}}]
["ER%",{"$f":"INDEX(Calcs!$AC$5:$AG$51, MATCH('Rotation Assembler'!$A48, Calcs!$AC$5:$AC$51, 0), MATCH('Rotation Assembler'!B$38, Calcs!$AC$5:$AG$5, 0))","v":2.0884999999999998},{"$f":"INDEX(Calcs!$AC$5:$AG$51, MATCH('Rotation Assembler'!$A48, Calcs!$AC$5:$AC$51, 0), MATCH('Rotation Assembler'!C$38, Calcs!$AC$5:$AG$5, 0))","v":2.0884999999999998},{"$f":"INDEX(Calcs!$AC$5:$AG$51, MATCH('Rotation Assembler'!$A48, Calcs!$AC$5:$AC$51, 0), MATCH('Rotation Assembler'!D$38, Calcs!$AC$5:$AG$5, 0))","v":2.2258},{"$f":"INDEX(Calcs!$AC$5:$AG$51, MATCH('Rotation Assembler'!$A48, Calcs!$AC$5:$AC$51, 0), MATCH('Rotation Assembler'!E$38, Calcs!$AC$5:$AG$5, 0))","v":2.2258},{"$f":"INDEX(Calcs!$AC$5:$AG$51, MATCH('Rotation Assembler'!$A48, Calcs!$AC$5:$AC$51, 0), MATCH('Rotation Assembler'!F$38, Calcs!$AC$5:$AG$5, 0))","v":2.0884999999999998},{"$f":"INDEX(Calcs!$AC$5:$AG$51, MATCH('Rotation Assembler'!$A48, Calcs!$AC$5:$AC$51, 0), MATCH('Rotation Assembler'!G$38, Calcs!$AC$5:$AG$5, 0))","v":2.0884999999999998},{"$f":"INDEX(Calcs!$AC$5:$AG$51, MATCH('Rotation Assembler'!$A48, Calcs!$AC$5:$AC$51, 0), MATCH('Rotation Assembler'!H$38, Calcs!$AC$5:$AG$5, 0))","v":1.2203999999999999},{"$f":"INDEX(Calcs!$AC$5:$AG$51, MATCH('Rotation Assembler'!$A48, Calcs!$AC$5:$AC$51, 0), MATCH('Rotation Assembler'!I$38, Calcs!$AC$5:$AG$5, 0))","v":1.2203999999999999},{"$f":"INDEX(Calcs!$AC$5:$AG$51, MATCH('Rotation Assembler'!$A48, Calcs!$AC$5:$AC$51, 0), MATCH('Rotation Assembler'!J$38, Calcs!$AC$5:$AG$5, 0))","v":1.2203999999999999},{"$f":"INDEX(Calcs!$AC$5:$AG$51, MATCH('Rotation Assembler'!$A48, Calcs!$AC$5:$AC$51, 0), MATCH('Rotation Assembler'!K$38, Calcs!$AC$5:$AG$5, 0))","v":1.2203999999999999},{"$f":"INDEX(Calcs!$AC$5:$AG$51, MATCH('Rotation Assembler'!$A48, Calcs!$AC$5:$AC$51, 0), MATCH('Rotation Assembler'!L$38, Calcs!$AC$5:$AG$5, 0))","v":1.2203999999999999},{"$f":"INDEX(Calcs!$AC$5:$AG$51, MATCH('Rotation Assembler'!$A48, Calcs!$AC$5:$AC$51, 0), MATCH('Rotation Assembler'!M$38, Calcs!$AC$5:$AG$5, 0))","v":1.2203999999999999},{"$f":"INDEX(Calcs!$AC$5:$AG$51, MATCH('Rotation Assembler'!$A48, Calcs!$AC$5:$AC$51, 0), MATCH('Rotation Assembler'!N$38, Calcs!$AC$5:$AG$5, 0))","v":1.2203999999999999},{"$f":"INDEX(Calcs!$AC$5:$AG$51, MATCH('Rotation Assembler'!$A48, Calcs!$AC$5:$AC$51, 0), MATCH('Rotation Assembler'!O$38, Calcs!$AC$5:$AG$5, 0))","v":1.2203999999999999},{"$f":"INDEX(Calcs!$AC$5:$AG$51, MATCH('Rotation Assembler'!$A48, Calcs!$AC$5:$AC$51, 0), MATCH('Rotation Assembler'!P$38, Calcs!$AC$5:$AG$5, 0))","v":1.2203999999999999},{"$f":"INDEX(Calcs!$AC$5:$AG$51, MATCH('Rotation Assembler'!$A48, Calcs!$AC$5:$AC$51, 0), MATCH('Rotation Assembler'!Q$38, Calcs!$AC$5:$AG$5, 0))","v":1.2203999999999999},{"$f":"INDEX(Calcs!$AC$5:$AG$51, MATCH('Rotation Assembler'!$A48, Calcs!$AC$5:$AC$51, 0), MATCH('Rotation Assembler'!R$38, Calcs!$AC$5:$AG$5, 0))","v":1.2203999999999999},{"$f":"INDEX(Calcs!$AC$5:$AG$51, MATCH('Rotation Assembler'!$A48, Calcs!$AC$5:$AC$51, 0), MATCH('Rotation Assembler'!S$38, Calcs!$AC$5:$AG$5, 0))","v":1.2203999999999999},{"$f":"INDEX(Calcs!$AC$5:$AG$51, MATCH('Rotation Assembler'!$A48, Calcs!$AC$5:$AC$51, 0), MATCH('Rotation Assembler'!T$38, Calcs!$AC$5:$AG$5, 0))","v":1.2203999999999999},{"$f":"INDEX(Calcs!$AC$5:$AG$51, MATCH('Rotation Assembler'!$A48, Calcs!$AC$5:$AC$51, 0), MATCH('Rotation Assembler'!U$38, Calcs!$AC$5:$AG$5, 0))","v":1.2203999999999999},null,{"$f":"INDEX(Calcs!$AC$5:$AG$51, MATCH('Rotation Assembler'!$A48, Calcs!$AC$5:$AC$51, 0), MATCH('Rotation Assembler'!W$38, Calcs!$AC$5:$AG$5, 0))","v":2.2258},{"$f":"INDEX(Calcs!$AC$5:$AG$51, MATCH('Rotation Assembler'!$A48, Calcs!$AC$5:$AC$51, 0), MATCH('Rotation Assembler'!X$38, Calcs!$AC$5:$AG$5, 0))","v":2.2258},{"$f":"INDEX(Calcs!$AC$5:$AG$51, MATCH('Rotation Assembler'!$A48, Calcs!$AC$5:$AC$51, 0), MATCH('Rotation Assembler'!Y$38, Calcs!$AC$5:$AG$5, 0))","v":1.1102000000000001},{"$f":"INDEX(Calcs!$AC$5:$AG$51, MATCH('Rotation Assembler'!$A48, Calcs!$AC$5:$AC$51, 0), MATCH('Rotation Assembler'!Z$38, Calcs!$AC$5:$AG$5, 0))","v":1.1102000000000001},{"$f":"INDEX(Calcs!$AC$5:$AG$51, MATCH('Rotation Assembler'!$A48, Calcs!$AC$5:$AC$51, 0), MATCH('Rotation Assembler'!AA$38, Calcs!$AC$5:$AG$5, 0))","v":1.1102000000000001},{"$f":"INDEX(Calcs!$AC$5:$AG$51, MATCH('Rotation Assembler'!$A48, Calcs!$AC$5:$AC$51, 0), MATCH('Rotation Assembler'!AB$38, Calcs!$AC$5:$AG$5, 0))","v":1.2203999999999999},{"$f":"INDEX(Calcs!$AC$5:$AG$51, MATCH('Rotation Assembler'!$A48, Calcs!$AC$5:$AC$51, 0), MATCH('Rotation Assembler'!AC$38, Calcs!$AC$5:$AG$5, 0))","v":1.2203999999999999},{"$f":"INDEX(Calcs!$AC$5:$AG$51, MATCH('Rotation Assembler'!$A48, Calcs!$AC$5:$AC$51, 0), MATCH('Rotation Assembler'!AD$38, Calcs!$AC$5:$AG$5, 0))","v":2.0884999999999998},{"$f":"INDEX(Calcs!$AC$5:$AG$51, MATCH('Rotation Assembler'!$A48, Calcs!$AC$5:$AC$51, 0), MATCH('Rotation Assembler'!AE$38, Calcs!$AC$5:$AG$5, 0))","v":1.2203999999999999},{"$f":"INDEX(Calcs!$AC$5:$AG$51, MATCH('Rotation Assembler'!$A48, Calcs!$AC$5:$AC$51, 0), MATCH('Rotation Assembler'!AF$38, Calcs!$AC$5:$AG$5, 0))","v":{"$error":"#N/A"}},{"$f":"INDEX(Calcs!$AC$5:$AG$51, MATCH('Rotation Assembler'!$A48, Calcs!$AC$5:$AC$51, 0), MATCH('Rotation Assembler'!AG$38, Calcs!$AC$5:$AG$5, 0))","v":{"$error":"#N/A"}},{"$f":"INDEX(Calcs!$AC$5:$AG$51, MATCH('Rotation Assembler'!$A48, Calcs!$AC$5:$AC$51, 0), MATCH('Rotation Assembler'!AH$38, Calcs!$AC$5:$AG$5, 0))","v":{"$error":"#N/A"}},{"$f":"INDEX(Calcs!$AC$5:$AG$51, MATCH('Rotation Assembler'!$A48, Calcs!$AC$5:$AC$51, 0), MATCH('Rotation Assembler'!AI$38, Calcs!$AC$5:$AG$5, 0))","v":{"$error":"#N/A"}},{"$f":"INDEX(Calcs!$AC$5:$AG$51, MATCH('Rotation Assembler'!$A48, Calcs!$AC$5:$AC$51, 0), MATCH('Rotation Assembler'!AJ$38, Calcs!$AC$5:$AG$5, 0))","v":{"$error":"#N/A"}},{"$f":"INDEX(Calcs!$AC$5:$AG$51, MATCH('Rotation Assembler'!$A48, Calcs!$AC$5:$AC$51, 0), MATCH('Rotation Assembler'!AK$38, Calcs!$AC$5:$AG$5, 0))","v":{"$error":"#N/A"}},{"$f":"INDEX(Calcs!$AC$5:$AG$51, MATCH('Rotation Assembler'!$A48, Calcs!$AC$5:$AC$51, 0), MATCH('Rotation Assembler'!AL$38, Calcs!$AC$5:$AG$5, 0))","v":{"$error":"#N/A"}},{"$f":"INDEX(Calcs!$AC$5:$AG$51, MATCH('Rotation Assembler'!$A48, Calcs!$AC$5:$AC$51, 0), MATCH('Rotation Assembler'!AM$38, Calcs!$AC$5:$AG$5, 0))","v":{"$error":"#N/A"}},{"$f":"INDEX(Calcs!$AC$5:$AG$51, MATCH('Rotation Assembler'!$A48, Calcs!$AC$5:$AC$51, 0), MATCH('Rotation Assembler'!AN$38, Calcs!$AC$5:$AG$5, 0))","v":{"$error":"#N/A"}},{"$f":"INDEX(Calcs!$AC$5:$AG$51, MATCH('Rotation Assembler'!$A48, Calcs!$AC$5:$AC$51, 0), MATCH('Rotation Assembler'!AO$38, Calcs!$AC$5:$AG$5, 0))","v":{"$error":"#N/A"}},{"$f":"INDEX(Calcs!$AC$5:$AG$51, MATCH('Rotation Assembler'!$A48, Calcs!$AC$5:$AC$51, 0), MATCH('Rotation Assembler'!AP$38, Calcs!$AC$5:$AG$5, 0))","v":{"$error":"#N/A"}},{"$f":"INDEX(Calcs!$AC$5:$AG$51, MATCH('Rotation Assembler'!$A48, Calcs!$AC$5:$AC$51, 0), MATCH('Rotation Assembler'!AQ$38, Calcs!$AC$5:$AG$5, 0))","v":{"$error":"#N/A"}},{"$f":"INDEX(Calcs!$AC$5:$AG$51, MATCH('Rotation Assembler'!$A48, Calcs!$AC$5:$AC$51, 0), MATCH('Rotation Assembler'!AR$38, Calcs!$AC$5:$AG$5, 0))","v":{"$error":"#N/A"}},{"$f":"INDEX(Calcs!$AC$5:$AG$51, MATCH('Rotation Assembler'!$A48, Calcs!$AC$5:$AC$51, 0), MATCH('Rotation Assembler'!AS$38, Calcs!$AC$5:$AG$5, 0))","v":{"$error":"#N/A"}},{"$f":"INDEX(Calcs!$AC$5:$AG$51, MATCH('Rotation Assembler'!$A48, Calcs!$AC$5:$AC$51, 0), MATCH('Rotation Assembler'!AT$38, Calcs!$AC$5:$AG$5, 0))","v":{"$error":"#N/A"}},{"$f":"INDEX(Calcs!$AC$5:$AG$51, MATCH('Rotation Assembler'!$A48, Calcs!$AC$5:$AC$51, 0), MATCH('Rotation Assembler'!AU$38, Calcs!$AC$5:$AG$5, 0))","v":{"$error":"#N/A"}},{"$f":"INDEX(Calcs!$AC$5:$AG$51, MATCH('Rotation Assembler'!$A48, Calcs!$AC$5:$AC$51, 0), MATCH('Rotation Assembler'!AV$38, Calcs!$AC$5:$AG$5, 0))","v":{"$error":"#N/A"}},{"$f":"INDEX(Calcs!$AC$5:$AG$51, MATCH('Rotation Assembler'!$A48, Calcs!$AC$5:$AC$51, 0), MATCH('Rotation Assembler'!AW$38, Calcs!$AC$5:$AG$5, 0))","v":{"$error":"#N/A"}},{"$f":"INDEX(Calcs!$AC$5:$AG$51, MATCH('Rotation Assembler'!$A48, Calcs!$AC$5:$AC$51, 0), MATCH('Rotation Assembler'!AX$38, Calcs!$AC$5:$AG$5, 0))","v":{"$error":"#N/A"}},{"$f":"INDEX(Calcs!$AC$5:$AG$51, MATCH('Rotation Assembler'!$A48, Calcs!$AC$5:$AC$51, 0), MATCH('Rotation Assembler'!AY$38, Calcs!$AC$5:$AG$5, 0))","v":{"$error":"#N/A"}},{"$f":"INDEX(Calcs!$AC$5:$AG$51, MATCH('Rotation Assembler'!$A48, Calcs!$AC$5:$AC$51, 0), MATCH('Rotation Assembler'!AZ$38, Calcs!$AC$5:$AG$5, 0))","v":{"$error":"#N/A"}},{"$f":"INDEX(Calcs!$AC$5:$AG$51, MATCH('Rotation Assembler'!$A48, Calcs!$AC$5:$AC$51, 0), MATCH('Rotation Assembler'!BA$38, Calcs!$AC$5:$AG$5, 0))","v":{"$error":"#N/A"}},{"$f":"INDEX(Calcs!$AC$5:$AG$51, MATCH('Rotation Assembler'!$A48, Calcs!$AC$5:$AC$51, 0), MATCH('Rotation Assembler'!BB$38, Calcs!$AC$5:$AG$5, 0))","v":{"$error":"#N/A"}},{"$f":"INDEX(Calcs!$AC$5:$AG$51, MATCH('Rotation Assembler'!$A48, Calcs!$AC$5:$AC$51, 0), MATCH('Rotation Assembler'!BC$38, Calcs!$AC$5:$AG$5, 0))","v":{"$error":"#N/A"}},{"$f":"INDEX(Calcs!$AC$5:$AG$51, MATCH('Rotation Assembler'!$A48, Calcs!$AC$5:$AC$51, 0), MATCH('Rotation Assembler'!BD$38, Calcs!$AC$5:$AG$5, 0))","v":{"$error":"#N/A"}},{"$f":"INDEX(Calcs!$AC$5:$AG$51, MATCH('Rotation Assembler'!$A48, Calcs!$AC$5:$AC$51, 0), MATCH('Rotation Assembler'!BE$38, Calcs!$AC$5:$AG$5, 0))","v":{"$error":"#N/A"}},{"$f":"INDEX(Calcs!$AC$5:$AG$51, MATCH('Rotation Assembler'!$A48, Calcs!$AC$5:$AC$51, 0), MATCH('Rotation Assembler'!BF$38, Calcs!$AC$5:$AG$5, 0))","v":{"$error":"#N/A"}}]
["DMG%",{"$f":"INDEX(Calcs!$AC$5:$AG$51, MATCH('Rotation Assembler'!$A49, Calcs!$AC$5:$AC$51, 0), MATCH('Rotation Assembler'!B$38, Calcs!$AC$5:$AG$5, 0))","v":0},{"$f":"INDEX(Calcs!$AC$5:$AG$51, MATCH('Rotation Assembler'!$A49, Calcs!$AC$5:$AC$51, 0), MATCH('Rotation Assembler'!C$38, Calcs!$AC$5:$AG$5, 0))","v":0},{"$f":"INDEX(Calcs!$AC$5:$AG$51, MATCH('Rotation Assembler'!$A49, Calcs!$AC$5:$AC$51, 0), MATCH('Rotation Assembler'!D$38, Calcs!$AC$5:$AG$5, 0))","v":0},{"$f":"INDEX(Calcs!$AC$5:$AG$51, MATCH('Rotation Assembler'!$A49, Calcs!$AC$5:$AC$51, 0), MATCH('Rotation Assembler'!E$38, Calcs!$AC$5:$AG$5, 0))","v":0},{"$f":"INDEX(Calcs!$AC$5:$AG$51, MATCH('Rotation Assembler'!$A49, Calcs!$AC$5:$AC$51, 0), MATCH('Rotation Assembler'!F$38, Calcs!$AC$5:$AG$5, 0))","v":0},{"$f":"INDEX(Calcs!$AC$5:$AG$51, MATCH('Rotation Assembler'!$A49, Calcs!$AC$5:$AC$51, 0), MATCH('Rotation Assembler'!G$38, Calcs!$AC$5:$AG$5, 0))","v":0},{"$f":"INDEX(Calcs!$AC$5:$AG$51, MATCH('Rotation Assembler'!$A49, Calcs!$AC$5:$AC$51, 0), MATCH('Rotation Assembler'!H$38, Calcs!$AC$5:$AG$5, 0))","v":0.3},{"$f":"INDEX(Calcs!$AC$5:$AG$51, MATCH('Rotation Assembler'!$A49, Calcs!$AC$5:$AC$51, 0), MATCH('Rotation Assembler'!I$38, Calcs!$AC$5:$AG$5, 0))","v":0.3},{"$f":"INDEX(Calcs!$AC$5:$AG$51, MATCH('Rotation Assembler'!$A49, Calcs!$AC$5:$AC$51, 0), MATCH('Rotation Assembler'!J$38, Calcs!$AC$5:$AG$5, 0))","v":0.3},{"$f":"INDEX(Calcs!$AC$5:$AG$51, MATCH('Rotation Assembler'!$A49, Calcs!$AC$5:$AC$51, 0), MATCH('Rotation Assembler'!K$38, Calcs!$AC$5:$AG$5, 0))","v":0.3},{"$f":"INDEX(Calcs!$AC$5:$AG$51, MATCH('Rotation Assembler'!$A49, Calcs!$AC$5:$AC$51, 0), MATCH('Rotation Assembler'!L$38, Calcs!$AC$5:$AG$5, 0))","v":0.3},{"$f":"INDEX(Calcs!$AC$5:$AG$51, MATCH('Rotation Assembler'!$A49, Calcs!$AC$5:$AC$51, 0), MATCH('Rotation Assembler'!M$38, Calcs!$AC$5:$AG$5, 0))","v":0.3},{"$f":"INDEX(Calcs!$AC$5:$AG$51, MATCH('Rotation Assembler'!$A49, Calcs!$AC$5:$AC$51, 0), MATCH('Rotation Assembler'!N$38, Calcs!$AC$5:$AG$5, 0))","v":0.3},{"$f":"INDEX(Calcs!$AC$5:$AG$51, MATCH('Rotation Assembler'!$A49, Calcs!$AC$5:$AC$51, 0), MATCH('Rotation Assembler'!O$38, Calcs!$AC$5:$AG$5, 0))","v":0.3},{"$f":"INDEX(Calcs!$AC$5:$AG$51, MATCH('Rotation Assembler'!$A49, Calcs!$AC$5:$AC$51, 0), MATCH('Rotation Assembler'!P$38, Calcs!$AC$5:$AG$5, 0))","v":0.3},{"$f":"INDEX(Calcs!$AC$5:$AG$51, MATCH('Rotation Assembler'!$A49, Calcs!$AC$5:$AC$51, 0), MATCH('Rotation Assembler'!Q$38, Calcs!$AC$5:$AG$5, 0))","v":0.3},{"$f":"INDEX(Calcs!$AC$5:$AG$51, MATCH('Rotation Assembler'!$A49, Calcs!$AC$5:$AC$51, 0), MATCH('Rotation Assembler'!R$38, Calcs!$AC$5:$AG$5, 0))","v":0.3},{"$f":"INDEX(Calcs!$AC$5:$AG$51, MATCH('Rotation Assembler'!$A49, Calcs!$AC$5:$AC$51, 0), MATCH('Rotation Assembler'!S$38, Calcs!$AC$5:$AG$5, 0))","v":0.3},{"$f":"INDEX(Calcs!$AC$5:$AG$51, MATCH('Rotation Assembler'!$A49, Calcs!$AC$5:$AC$51, 0), MATCH('Rotation Assembler'!T$38, Calcs!$AC$5:$AG$5, 0))","v":0.3},{"$f":"INDEX(Calcs!$AC$5:$AG$51, MATCH('Rotation Assembler'!$A49, Calcs!$AC$5:$AC$51, 0), MATCH('Rotation Assembler'!U$38, Calcs!$AC$5:$AG$5, 0))","v":0.3},null,{"$f":"INDEX(Calcs!$AC$5:$AG$51, MATCH('Rotation Assembler'!$A49, Calcs!$AC$5:$AC$51, 0), MATCH('Rotation Assembler'!W$38, Calcs!$AC$5:$AG$5, 0))","v":0},{"$f":"INDEX(Calcs!$AC$5:$AG$51, MATCH('Rotation Assembler'!$A49, Calcs!$AC$5:$AC$51, 0), MATCH('Rotation Assembler'!X$38, Calcs!$AC$5:$AG$5, 0))","v":0},{"$f":"INDEX(Calcs!$AC$5:$AG$51, MATCH('Rotation Assembler'!$A49, Calcs!$AC$5:$AC$51, 0), MATCH('Rotation Assembler'!Y$38, Calcs!$AC$5:$AG$5, 0))","v":0.8},{"$f":"INDEX(Calcs!$AC$5:$AG$51, MATCH('Rotation Assembler'!$A49, Calcs!$AC$5:$AC$51, 0), MATCH('Rotation Assembler'!Z$38, Calcs!$AC$5:$AG$5, 0))","v":0.8},{"$f":"INDEX(Calcs!$AC$5:$AG$51, MATCH('Rotation Assembler'!$A49, Calcs!$AC$5:$AC$51, 0), MATCH('Rotation Assembler'!AA$38, Calcs!$AC$5:$AG$5, 0))","v":0.8},{"$f":"INDEX(Calcs!$AC$5:$AG$51, MATCH('Rotation Assembler'!$A49, Calcs!$AC$5:$AC$51, 0), MATCH('Rotation Assembler'!AB$38, Calcs!$AC$5:$AG$5, 0))","v":0.3},{"$f":"INDEX(Calcs!$AC$5:$AG$51, MATCH('Rotation Assembler'!$A49, Calcs!$AC$5:$AC$51, 0), MATCH('Rotation Assembler'!AC$38, Calcs!$AC$5:$AG$5, 0))","v":0.3},{"$f":"INDEX(Calcs!$AC$5:$AG$51, MATCH('Rotation Assembler'!$A49, Calcs!$AC$5:$AC$51, 0), MATCH('Rotation Assembler'!AD$38, Calcs!$AC$5:$AG$5, 0))","v":0},{"$f":"INDEX(Calcs!$AC$5:$AG$51, MATCH('Rotation Assembler'!$A49, Calcs!$AC$5:$AC$51, 0), MATCH('Rotation Assembler'!AE$38, Calcs!$AC$5:$AG$5, 0))","v":0.3},{"$f":"INDEX(Calcs!$AC$5:$AG$51, MATCH('Rotation Assembler'!$A49, Calcs!$AC$5:$AC$51, 0), MATCH('Rotation Assembler'!AF$38, Calcs!$AC$5:$AG$5, 0))","v":{"$error":"#N/A"}},{"$f":"INDEX(Calcs!$AC$5:$AG$51, MATCH('Rotation Assembler'!$A49, Calcs!$AC$5:$AC$51, 0), MATCH('Rotation Assembler'!AG$38, Calcs!$AC$5:$AG$5, 0))","v":{"$error":"#N/A"}},{"$f":"INDEX(Calcs!$AC$5:$AG$51, MATCH('Rotation Assembler'!$A49, Calcs!$AC$5:$AC$51, 0), MATCH('Rotation Assembler'!AH$38, Calcs!$AC$5:$AG$5, 0))","v":{"$error":"#N/A"}},{"$f":"INDEX(Calcs!$AC$5:$AG$51, MATCH('Rotation Assembler'!$A49, Calcs!$AC$5:$AC$51, 0), MATCH('Rotation Assembler'!AI$38, Calcs!$AC$5:$AG$5, 0))","v":{"$error":"#N/A"}},{"$f":"INDEX(Calcs!$AC$5:$AG$51, MATCH('Rotation Assembler'!$A49, Calcs!$AC$5:$AC$51, 0), MATCH('Rotation Assembler'!AJ$38, Calcs!$AC$5:$AG$5, 0))","v":{"$error":"#N/A"}},{"$f":"INDEX(Calcs!$AC$5:$AG$51, MATCH('Rotation Assembler'!$A49, Calcs!$AC$5:$AC$51, 0), MATCH('Rotation Assembler'!AK$38, Calcs!$AC$5:$AG$5, 0))","v":{"$error":"#N/A"}},{"$f":"INDEX(Calcs!$AC$5:$AG$51, MATCH('Rotation Assembler'!$A49, Calcs!$AC$5:$AC$51, 0), MATCH('Rotation Assembler'!AL$38, Calcs!$AC$5:$AG$5, 0))","v":{"$error":"#N/A"}},{"$f":"INDEX(Calcs!$AC$5:$AG$51, MATCH('Rotation Assembler'!$A49, Calcs!$AC$5:$AC$51, 0), MATCH('Rotation Assembler'!AM$38, Calcs!$AC$5:$AG$5, 0))","v":{"$error":"#N/A"}},{"$f":"INDEX(Calcs!$AC$5:$AG$51, MATCH('Rotation Assembler'!$A49, Calcs!$AC$5:$AC$51, 0), MATCH('Rotation Assembler'!AN$38, Calcs!$AC$5:$AG$5, 0))","v":{"$error":"#N/A"}},{"$f":"INDEX(Calcs!$AC$5:$AG$51, MATCH('Rotation Assembler'!$A49, Calcs!$AC$5:$AC$51, 0), MATCH('Rotation Assembler'!AO$38, Calcs!$AC$5:$AG$5, 0))","v":{"$error":"#N/A"}},{"$f":"INDEX(Calcs!$AC$5:$AG$51, MATCH('Rotation Assembler'!$A49, Calcs!$AC$5:$AC$51, 0), MATCH('Rotation Assembler'!AP$38, Calcs!$AC$5:$AG$5, 0))","v":{"$error":"#N/A"}},{"$f":"INDEX(Calcs!$AC$5:$AG$51, MATCH('Rotation Assembler'!$A49, Calcs!$AC$5:$AC$51, 0), MATCH('Rotation Assembler'!AQ$38, Calcs!$AC$5:$AG$5, 0))","v":{"$error":"#N/A"}},{"$f":"INDEX(Calcs!$AC$5:$AG$51, MATCH('Rotation Assembler'!$A49, Calcs!$AC$5:$AC$51, 0), MATCH('Rotation Assembler'!AR$38, Calcs!$AC$5:$AG$5, 0))","v":{"$error":"#N/A"}},{"$f":"INDEX(Calcs!$AC$5:$AG$51, MATCH('Rotation Assembler'!$A49, Calcs!$AC$5:$AC$51, 0), MATCH('Rotation Assembler'!AS$38, Calcs!$AC$5:$AG$5, 0))","v":{"$error":"#N/A"}},{"$f":"INDEX(Calcs!$AC$5:$AG$51, MATCH('Rotation Assembler'!$A49, Calcs!$AC$5:$AC$51, 0), MATCH('Rotation Assembler'!AT$38, Calcs!$AC$5:$AG$5, 0))","v":{"$error":"#N/A"}},{"$f":"INDEX(Calcs!$AC$5:$AG$51, MATCH('Rotation Assembler'!$A49, Calcs!$AC$5:$AC$51, 0), MATCH('Rotation Assembler'!AU$38, Calcs!$AC$5:$AG$5, 0))","v":{"$error":"#N/A"}},{"$f":"INDEX(Calcs!$AC$5:$AG$51, MATCH('Rotation Assembler'!$A49, Calcs!$AC$5:$AC$51, 0), MATCH('Rotation Assembler'!AV$38, Calcs!$AC$5:$AG$5, 0))","v":{"$error":"#N/A"}},{"$f":"INDEX(Calcs!$AC$5:$AG$51, MATCH('Rotation Assembler'!$A49, Calcs!$AC$5:$AC$51, 0), MATCH('Rotation Assembler'!AW$38, Calcs!$AC$5:$AG$5, 0))","v":{"$error":"#N/A"}},{"$f":"INDEX(Calcs!$AC$5:$AG$51, MATCH('Rotation Assembler'!$A49, Calcs!$AC$5:$AC$51, 0), MATCH('Rotation Assembler'!AX$38, Calcs!$AC$5:$AG$5, 0))","v":{"$error":"#N/A"}},{"$f":"INDEX(Calcs!$AC$5:$AG$51, MATCH('Rotation Assembler'!$A49, Calcs!$AC$5:$AC$51, 0), MATCH('Rotation Assembler'!AY$38, Calcs!$AC$5:$AG$5, 0))","v":{"$error":"#N/A"}},{"$f":"INDEX(Calcs!$AC$5:$AG$51, MATCH('Rotation Assembler'!$A49, Calcs!$AC$5:$AC$51, 0), MATCH('Rotation Assembler'!AZ$38, Calcs!$AC$5:$AG$5, 0))","v":{"$error":"#N/A"}},{"$f":"INDEX(Calcs!$AC$5:$AG$51, MATCH('Rotation Assembler'!$A49, Calcs!$AC$5:$AC$51, 0), MATCH('Rotation Assembler'!BA$38, Calcs!$AC$5:$AG$5, 0))","v":{"$error":"#N/A"}},{"$f":"INDEX(Calcs!$AC$5:$AG$51, MATCH('Rotation Assembler'!$A49, Calcs!$AC$5:$AC$51, 0), MATCH('Rotation Assembler'!BB$38, Calcs!$AC$5:$AG$5, 0))","v":{"$error":"#N/A"}},{"$f":"INDEX(Calcs!$AC$5:$AG$51, MATCH('Rotation Assembler'!$A49, Calcs!$AC$5:$AC$51, 0), MATCH('Rotation Assembler'!BC$38, Calcs!$AC$5:$AG$5, 0))","v":{"$error":"#N/A"}},{"$f":"INDEX(Calcs!$AC$5:$AG$51, MATCH('Rotation Assembler'!$A49, Calcs!$AC$5:$AC$51, 0), MATCH('Rotation Assembler'!BD$38, Calcs!$AC$5:$AG$5, 0))","v":{"$error":"#N/A"}},{"$f":"INDEX(Calcs!$AC$5:$AG$51, MATCH('Rotation Assembler'!$A49, Calcs!$AC$5:$AC$51, 0), MATCH('Rotation Assembler'!BE$38, Calcs!$AC$5:$AG$5, 0))","v":{"$error":"#N/A"}},{"$f":"INDEX(Calcs!$AC$5:$AG$51, MATCH('Rotation Assembler'!$A49, Calcs!$AC$5:$AC$51, 0), MATCH('Rotation Assembler'!BF$38, Calcs!$AC$5:$AG$5, 0))","v":{"$error":"#N/A"}}]
["Phys DMG%",{"$f":"INDEX(Calcs!$AC$5:$AG$51, MATCH('Rotation Assembler'!$A50, Calcs!$AC$5:$AC$51, 0), MATCH('Rotation Assembler'!B$38, Calcs!$AC$5:$AG$5, 0))","v":0},{"$f":"INDEX(Calcs!$AC$5:$AG$51, MATCH('Rotation Assembler'!$A50, Calcs!$AC$5:$AC$51, 0), MATCH('Rotation Assembler'!C$38, Calcs!$AC$5:$AG$5, 0))","v":0},{"$f":"INDEX(Calcs!$AC$5:$AG$51, MATCH('Rotation Assembler'!$A50, Calcs!$AC$5:$AC$51, 0), MATCH('Rotation Assembler'!D$38, Calcs!$AC$5:$AG$5, 0))","v":0.34499999999999997},{"$f":"INDEX(Calcs!$AC$5:$AG$51, MATCH('Rotation Assembler'!$A50, Calcs!$AC$5:$AC$51, 0), MATCH('Rotation Assembler'!E$38, Calcs!$AC$5:$AG$5, 0))","v":0.34499999999999997},{"$f":"INDEX(Calcs!$AC$5:$AG$51, MATCH('Rotation Assembler'!$A50, Calcs!$AC$5:$AC$51, 0), MATCH('Rotation Assembler'!F$38, Calcs!$AC$5:$AG$5, 0))","v":0},{"$f":"INDEX(Calcs!$AC$5:$AG$51, MATCH('Rotation Assembler'!$A50, Calcs!$AC$5:$AC$51, 0), MATCH('Rotation Assembler'!G$38, Calcs!$AC$5:$AG$5, 0))","v":0},{"$f":"INDEX(Calcs!$AC$5:$AG$51, MATCH('Rotation Assembler'!$A50, Calcs!$AC$5:$AC$51, 0), MATCH('Rotation Assembler'!H$38, Calcs!$AC$5:$AG$5, 0))","v":0},{"$f":"INDEX(Calcs!$AC$5:$AG$51, MATCH('Rotation Assembler'!$A50, Calcs!$AC$5:$AC$51, 0), MATCH('Rotation Assembler'!I$38, Calcs!$AC$5:$AG$5, 0))","v":0},{"$f":"INDEX(Calcs!$AC$5:$AG$51, MATCH('Rotation Assembler'!$A50, Calcs!$AC$5:$AC$51, 0), MATCH('Rotation Assembler'!J$38, Calcs!$AC$5:$AG$5, 0))","v":0},{"$f":"INDEX(Calcs!$AC$5:$AG$51, MATCH('Rotation Assembler'!$A50, Calcs!$AC$5:$AC$51, 0), MATCH('Rotation Assembler'!K$38, Calcs!$AC$5:$AG$5, 0))","v":0},{"$f":"INDEX(Calcs!$AC$5:$AG$51, MATCH('Rotation Assembler'!$A50, Calcs!$AC$5:$AC$51, 0), MATCH('Rotation Assembler'!L$38, Calcs!$AC$5:$AG$5, 0))","v":0},{"$f":"INDEX(Calcs!$AC$5:$AG$51, MATCH('Rotation Assembler'!$A50, Calcs!$AC$5:$AC$51, 0), MATCH('Rotation Assembler'!M$38, Calcs!$AC$5:$AG$5, 0))","v":0},{"$f":"INDEX(Calcs!$AC$5:$AG$51, MATCH('Rotation Assembler'!$A50, Calcs!$AC$5:$AC$51, 0), MATCH('Rotation Assembler'!N$38, Calcs!$AC$5:$AG$5, 0))","v":0},{"$f":"INDEX(Calcs!$AC$5:$AG$51, MATCH('Rotation Assembler'!$A50, Calcs!$AC$5:$AC$51, 0), MATCH('Rotation Assembler'!O$38, Calcs!$AC$5:$AG$5, 0))","v":0},{"$f":"INDEX(Calcs!$AC$5:$AG$51, MATCH('Rotation Assembler'!$A50, Calcs!$AC$5:$AC$51, 0), MATCH('Rotation Assembler'!P$38, Calcs!$AC$5:$AG$5, 0))","v":0},{"$f":"INDEX(Calcs!$AC$5:$AG$51, MATCH('Rotation Assembler'!$A50, Calcs!$AC$5:$AC$51, 0), MATCH('Rotation Assembler'!Q$38, Calcs!$AC$5:$AG$5, 0))","v":0},{"$f":"INDEX(Calcs!$AC$5:$AG$51, MATCH('Rotation Assembler'!$A50, Calcs!$AC$5:$AC$51, 0), MATCH('Rotation Assembler'!R$38, Calcs!$AC$5:$AG$5, 0))","v":0},{"$f":"INDEX(Calcs!$AC$5:$AG$51, MATCH('Rotation Assembler'!$A50, Calcs!$AC$5:$AC$51, 0), MATCH('Rotation Assembler'!S$38, Calcs!$AC$5:$AG$5, 0))","v":0},{"$f":"INDEX(Calcs!$AC$5:$AG$51, MATCH('Rotation Assembler'!$A50, Calcs!$AC$5:$AC$51, 0), MATCH('Rotation Assembler'!T$38, Calcs!$AC$5:$AG$5, 0))","v":0},{"$f":"INDEX(Calcs!$AC$5:$AG$51, MATCH('Rotation Assembler'!$A50, Calcs!$AC$5:$AC$51, 0), MATCH('Rotation Assembler'!U$38, Calcs!$AC$5:$AG$5, 0))","v":0},null,{"$f":"INDEX(Calcs!$AC$5:$AG$51, MATCH('Rotation Assembler'!$A50, Calcs!$AC$5:$AC$51, 0), MATCH('Rotation Assembler'!W$38, Calcs!$AC$5:$AG$5, 0))","v":0.34499999999999997},{"$f":"INDEX(Calcs!$AC$5:$AG$51, MATCH('Rotation Assembler'!$A50, Calcs!$AC$5:$AC$51, 0), MATCH('Rotation Assembler'!X$38, Calcs!$AC$5:$AG$5, 0))","v":0.34499999999999997},{"$f":"INDEX(Calcs!$AC$5:$AG$51, MATCH('Rotation Assembler'!$A50, Calcs!$AC$5:$AC$51, 0), MATCH('Rotation Assembler'!Y$38, Calcs!$AC$5:$AG$5, 0))","v":0},{"$f":"INDEX(Calcs!$AC$5:$AG$51, MATCH('Rotation Assembler'!$A50, Calcs!$AC$5:$AC$51, 0), MATCH('Rotation Assembler'!Z$38, Calcs!$AC$5:$AG$5, 0))","v":0},{"$f":"INDEX(Calcs!$AC$5:$AG$51, MATCH('Rotation Assembler'!$A50, Calcs!$AC$5:$AC$51, 0), MATCH('Rotation Assembler'!AA$38, Calcs!$AC$5:$AG$5, 0))","v":0},{"$f":"INDEX(Calcs!$AC$5:$AG$51, MATCH('Rotation Assembler'!$A50, Calcs!$AC$5:$AC$51, 0), MATCH('Rotation Assembler'!AB$38, Calcs!$AC$5:$AG$5, 0))","v":0},{"$f":"INDEX(Calcs!$AC$5:$AG$51, MATCH('Rotation Assembler'!$A50, Calcs!$AC$5:$AC$51, 0), MATCH('Rotation Assembler'!AC$38, Calcs!$AC$5:$AG$5, 0))","v":0},{"$f":"INDEX(Calcs!$AC$5:$AG$51, MATCH('Rotation Assembler'!$A50, Calcs!$AC$5:$AC$51, 0), MATCH('Rotation Assembler'!AD$38, Calcs!$AC$5:$AG$5, 0))","v":0},{"$f":"INDEX(Calcs!$AC$5:$AG$51, MATCH('Rotation Assembler'!$A50, Calcs!$AC$5:$AC$51, 0), MATCH('Rotation Assembler'!AE$38, Calcs!$AC$5:$AG$5, 0))","v":0},{"$f":"INDEX(Calcs!$AC$5:$AG$51, MATCH('Rotation Assembler'!$A50, Calcs!$AC$5:$AC$51, 0), MATCH('Rotation Assembler'!AF$38, Calcs!$AC$5:$AG$5, 0))","v":{"$error":"#N/A"}},{"$f":"INDEX(Calcs!$AC$5:$AG$51, MATCH('Rotation Assembler'!$A50, Calcs!$AC$5:$AC$51, 0), MATCH('Rotation Assembler'!AG$38, Calcs!$AC$5:$AG$5, 0))","v":{"$error":"#N/A"}},{"$f":"INDEX(Calcs!$AC$5:$AG$51, MATCH('Rotation Assembler'!$A50, Calcs!$AC$5:$AC$51, 0), MATCH('Rotation Assembler'!AH$38, Calcs!$AC$5:$AG$5, 0))","v":{"$error":"#N/A"}},{"$f":"INDEX(Calcs!$AC$5:$AG$51, MATCH('Rotation Assembler'!$A50, Calcs!$AC$5:$AC$51, 0), MATCH('Rotation Assembler'!AI$38, Calcs!$AC$5:$AG$5, 0))","v":{"$error":"#N/A"}},{"$f":"INDEX(Calcs!$AC$5:$AG$51, MATCH('Rotation Assembler'!$A50, Calcs!$AC$5:$AC$51, 0), MATCH('Rotation Assembler'!AJ$38, Calcs!$AC$5:$AG$5, 0))","v":{"$error":"#N/A"}},{"$f":"INDEX(Calcs!$AC$5:$AG$51, MATCH('Rotation Assembler'!$A50, Calcs!$AC$5:$AC$51, 0), MATCH('Rotation Assembler'!AK$38, Calcs!$AC$5:$AG$5, 0))","v":{"$error":"#N/A"}},{"$f":"INDEX(Calcs!$AC$5:$AG$51, MATCH('Rotation Assembler'!$A50, Calcs!$AC$5:$AC$51, 0), MATCH('Rotation Assembler'!AL$38, Calcs!$AC$5:$AG$5, 0))","v":{"$error":"#N/A"}},{"$f":"INDEX(Calcs!$AC$5:$AG$51, MATCH('Rotation Assembler'!$A50, Calcs!$AC$5:$AC$51, 0), MATCH('Rotation Assembler'!AM$38, Calcs!$AC$5:$AG$5, 0))","v":{"$error":"#N/A"}},{"$f":"INDEX(Calcs!$AC$5:$AG$51, MATCH('Rotation Assembler'!$A50, Calcs!$AC$5:$AC$51, 0), MATCH('Rotation Assembler'!AN$38, Calcs!$AC$5:$AG$5, 0))","v":{"$error":"#N/A"}},{"$f":"INDEX(Calcs!$AC$5:$AG$51, MATCH('Rotation Assembler'!$A50, Calcs!$AC$5:$AC$51, 0), MATCH('Rotation Assembler'!AO$38, Calcs!$AC$5:$AG$5, 0))","v":{"$error":"#N/A"}},{"$f":"INDEX(Calcs!$AC$5:$AG$51, MATCH('Rotation Assembler'!$A50, Calcs!$AC$5:$AC$51, 0), MATCH('Rotation Assembler'!AP$38, Calcs!$AC$5:$AG$5, 0))","v":{"$error":"#N/A"}},{"$f":"INDEX(Calcs!$AC$5:$AG$51, MATCH('Rotation Assembler'!$A50, Calcs!$AC$5:$AC$51, 0), MATCH('Rotation Assembler'!AQ$38, Calcs!$AC$5:$AG$5, 0))","v":{"$error":"#N/A"}},{"$f":"INDEX(Calcs!$AC$5:$AG$51, MATCH('Rotation Assembler'!$A50, Calcs!$AC$5:$AC$51, 0), MATCH('Rotation Assembler'!AR$38, Calcs!$AC$5:$AG$5, 0))","v":{"$error":"#N/A"}},{"$f":"INDEX(Calcs!$AC$5:$AG$51, MATCH('Rotation Assembler'!$A50, Calcs!$AC$5:$AC$51, 0), MATCH('Rotation Assembler'!AS$38, Calcs!$AC$5:$AG$5, 0))","v":{"$error":"#N/A"}},{"$f":"INDEX(Calcs!$AC$5:$AG$51, MATCH('Rotation Assembler'!$A50, Calcs!$AC$5:$AC$51, 0), MATCH('Rotation Assembler'!AT$38, Calcs!$AC$5:$AG$5, 0))","v":{"$error":"#N/A"}},{"$f":"INDEX(Calcs!$AC$5:$AG$51, MATCH('Rotation Assembler'!$A50, Calcs!$AC$5:$AC$51, 0), MATCH('Rotation Assembler'!AU$38, Calcs!$AC$5:$AG$5, 0))","v":{"$error":"#N/A"}},{"$f":"INDEX(Calcs!$AC$5:$AG$51, MATCH('Rotation Assembler'!$A50, Calcs!$AC$5:$AC$51, 0), MATCH('Rotation Assembler'!AV$38, Calcs!$AC$5:$AG$5, 0))","v":{"$error":"#N/A"}},{"$f":"INDEX(Calcs!$AC$5:$AG$51, MATCH('Rotation Assembler'!$A50, Calcs!$AC$5:$AC$51, 0), MATCH('Rotation Assembler'!AW$38, Calcs!$AC$5:$AG$5, 0))","v":{"$error":"#N/A"}},{"$f":"INDEX(Calcs!$AC$5:$AG$51, MATCH('Rotation Assembler'!$A50, Calcs!$AC$5:$AC$51, 0), MATCH('Rotation Assembler'!AX$38, Calcs!$AC$5:$AG$5, 0))","v":{"$error":"#N/A"}},{"$f":"INDEX(Calcs!$AC$5:$AG$51, MATCH('Rotation Assembler'!$A50, Calcs!$AC$5:$AC$51, 0), MATCH('Rotation Assembler'!AY$38, Calcs!$AC$5:$AG$5, 0))","v":{"$error":"#N/A"}},{"$f":"INDEX(Calcs!$AC$5:$AG$51, MATCH('Rotation Assembler'!$A50, Calcs!$AC$5:$AC$51, 0), MATCH('Rotation Assembler'!AZ$38, Calcs!$AC$5:$AG$5, 0))","v":{"$error":"#N/A"}},{"$f":"INDEX(Calcs!$AC$5:$AG$51, MATCH('Rotation Assembler'!$A50, Calcs!$AC$5:$AC$51, 0), MATCH('Rotation Assembler'!BA$38, Calcs!$AC$5:$AG$5, 0))","v":{"$error":"#N/A"}},{"$f":"INDEX(Calcs!$AC$5:$AG$51, MATCH('Rotation Assembler'!$A50, Calcs!$AC$5:$AC$51, 0), MATCH('Rotation Assembler'!BB$38, Calcs!$AC$5:$AG$5, 0))","v":{"$error":"#N/A"}},{"$f":"INDEX(Calcs!$AC$5:$AG$51, MATCH('Rotation Assembler'!$A50, Calcs!$AC$5:$AC$51, 0), MATCH('Rotation Assembler'!BC$38, Calcs!$AC$5:$AG$5, 0))","v":{"$error":"#N/A"}},{"$f":"INDEX(Calcs!$AC$5:$AG$51, MATCH('Rotation Assembler'!$A50, Calcs!$AC$5:$AC$51, 0), MATCH('Rotation Assembler'!BD$38, Calcs!$AC$5:$AG$5, 0))","v":{"$error":"#N/A"}},{"$f":"INDEX(Calcs!$AC$5:$AG$51, MATCH('Rotation Assembler'!$A50, Calcs!$AC$5:$AC$51, 0), MATCH('Rotation Assembler'!BE$38, Calcs!$AC$5:$AG$5, 0))","v":{"$error":"#N/A"}},{"$f":"INDEX(Calcs!$AC$5:$AG$51, MATCH('Rotation Assembler'!$A50, Calcs!$AC$5:$AC$51, 0), MATCH('Rotation Assembler'!BF$38, Calcs!$AC$5:$AG$5, 0))","v":{"$error":"#N/A"}}]
["Anemo DMG%",{"$f":"INDEX(Calcs!$AC$5:$AG$51, MATCH('Rotation Assembler'!$A51, Calcs!$AC$5:$AC$51, 0), MATCH('Rotation Assembler'!B$38, Calcs!$AC$5:$AG$5, 0))","v":0},{"$f":"INDEX(Calcs!$AC$5:$AG$51, MATCH('Rotation Assembler'!$A51, Calcs!$AC$5:$AC$51, 0), MATCH('Rotation Assembler'!C$38, Calcs!$AC$5:$AG$5, 0))","v":0},{"$f":"INDEX(Calcs!$AC$5:$AG$51, MATCH('Rotation Assembler'!$A51, Calcs!$AC$5:$AC$51, 0), MATCH('Rotation Assembler'!D$38, Calcs!$AC$5:$AG$5, 0))","v":0},{"$f":"INDEX(Calcs!$AC$5:$AG$51, MATCH('Rotation Assembler'!$A51, Calcs!$AC$5:$AC$51, 0), MATCH('Rotation Assembler'!E$38, Calcs!$AC$5:$AG$5, 0))","v":0},{"$f":"INDEX(Calcs!$AC$5:$AG$51, MATCH('Rotation Assembler'!$A51, Calcs!$AC$5:$AC$51, 0), MATCH('Rotation Assembler'!F$38, Calcs!$AC$5:$AG$5, 0))","v":0},{"$f":"INDEX(Calcs!$AC$5:$AG$51, MATCH('Rotation Assembler'!$A51, Calcs!$AC$5:$AC$51, 0), MATCH('Rotation Assembler'!G$38, Calcs!$AC$5:$AG$5, 0))","v":0},{"$f":"INDEX(Calcs!$AC$5:$AG$51, MATCH('Rotation Assembler'!$A51, Calcs!$AC$5:$AC$51, 0), MATCH('Rotation Assembler'!H$38, Calcs!$AC$5:$AG$5, 0))","v":0},{"$f":"INDEX(Calcs!$AC$5:$AG$51, MATCH('Rotation Assembler'!$A51, Calcs!$AC$5:$AC$51, 0), MATCH('Rotation Assembler'!I$38, Calcs!$AC$5:$AG$5, 0))","v":0},{"$f":"INDEX(Calcs!$AC$5:$AG$51, MATCH('Rotation Assembler'!$A51, Calcs!$AC$5:$AC$51, 0), MATCH('Rotation Assembler'!J$38, Calcs!$AC$5:$AG$5, 0))","v":0},{"$f":"INDEX(Calcs!$AC$5:$AG$51, MATCH('Rotation Assembler'!$A51, Calcs!$AC$5:$AC$51, 0), MATCH('Rotation Assembler'!K$38, Calcs!$AC$5:$AG$5, 0))","v":0},{"$f":"INDEX(Calcs!$AC$5:$AG$51, MATCH('Rotation Assembler'!$A51, Calcs!$AC$5:$AC$51, 0), MATCH('Rotation Assembler'!L$38, Calcs!$AC$5:$AG$5, 0))","v":0},{"$f":"INDEX(Calcs!$AC$5:$AG$51, MATCH('Rotation Assembler'!$A51, Calcs!$AC$5:$AC$51, 0), MATCH('Rotation Assembler'!M$38, Calcs!$AC$5:$AG$5, 0))","v":0},{"$f":"INDEX(Calcs!$AC$5:$AG$51, MATCH('Rotation Assembler'!$A51, Calcs!$AC$5:$AC$51, 0), MATCH('Rotation Assembler'!N$38, Calcs!$AC$5:$AG$5, 0))","v":0},{"$f":"INDEX(Calcs!$AC$5:$AG$51, MATCH('Rotation Assembler'!$A51, Calcs!$AC$5:$AC$51, 0), MATCH('Rotation Assembler'!O$38, Calcs!$AC$5:$AG$5, 0))","v":0},{"$f":"INDEX(Calcs!$AC$5:$AG$51, MATCH('Rotation Assembler'!$A51, Calcs!$AC$5:$AC$51, 0), MATCH('Rotation Assembler'!P$38, Calcs!$AC$5:$AG$5, 0))","v":0},{"$f":"INDEX(Calcs!$AC$5:$AG$51, MATCH('Rotation Assembler'!$A51, Calcs!$AC$5:$AC$51, 0), MATCH('Rotation Assembler'!Q$38, Calcs!$AC$5:$AG$5, 0))","v":0},{"$f":"INDEX(Calcs!$AC$5:$AG$51, MATCH('Rotation Assembler'!$A51, Calcs!$AC$5:$AC$51, 0), MATCH('Rotation Assembler'!R$38, Calcs!$AC$5:$AG$5, 0))","v":0},{"$f":"INDEX(Calcs!$AC$5:$AG$51, MATCH('Rotation Assembler'!$A51, Calcs!$AC$5:$AC$51, 0), MATCH('Rotation Assembler'!S$38, Calcs!$AC$5:$AG$5, 0))","v":0},{"$f":"INDEX(Calcs!$AC$5:$AG$51, MATCH('Rotation Assembler'!$A51, Calcs!$AC$5:$AC$51, 0), MATCH('Rotation Assembler'!T$38, Calcs!$AC$5:$AG$5, 0))","v":0},{"$f":"INDEX(Calcs!$AC$5:$AG$51, MATCH('Rotation Assembler'!$A51, Calcs!$AC$5:$AC$51, 0), MATCH('Rotation Assembler'!U$38, Calcs!$AC$5:$AG$5, 0))","v":0},null,{"$f":"INDEX(Calcs!$AC$5:$AG$51, MATCH('Rotation Assembler'!$A51, Calcs!$AC$5:$AC$51, 0), MATCH('Rotation Assembler'!W$38, Calcs!$AC$5:$AG$5, 0))","v":0},{"$f":"INDEX(Calcs!$AC$5:$AG$51, MATCH('Rotation Assembler'!$A51, Calcs!$AC$5:$AC$51, 0), MATCH('Rotation Assembler'!X$38, Calcs!$AC$5:$AG$5, 0))","v":0},{"$f":"INDEX(Calcs!$AC$5:$AG$51, MATCH('Rotation Assembler'!$A51, Calcs!$AC$5:$AC$51, 0), MATCH('Rotation Assembler'!Y$38, Calcs!$AC$5:$AG$5, 0))","v":0},{"$f":"INDEX(Calcs!$AC$5:$AG$51, MATCH('Rotation Assembler'!$A51, Calcs!$AC$5:$AC$51, 0), MATCH('Rotation Assembler'!Z$38, Calcs!$AC$5:$AG$5, 0))","v":0},{"$f":"INDEX(Calcs!$AC$5:$AG$51, MATCH('Rotation Assembler'!$A51, Calcs!$AC$5:$AC$51, 0), MATCH('Rotation Assembler'!AA$38, Calcs!$AC$5:$AG$5, 0))","v":0},{"$f":"INDEX(Calcs!$AC$5:$AG$51, MATCH('Rotation Assembler'!$A51, Calcs!$AC$5:$AC$51, 0), MATCH('Rotation Assembler'!AB$38, Calcs!$AC$5:$AG$5, 0))","v":0},{"$f":"INDEX(Calcs!$AC$5:$AG$51, MATCH('Rotation Assembler'!$A51, Calcs!$AC$5:$AC$51, 0), MATCH('Rotation Assembler'!AC$38, Calcs!$AC$5:$AG$5, 0))","v":0},{"$f":"INDEX(Calcs!$AC$5:$AG$51, MATCH('Rotation Assembler'!$A51, Calcs!$AC$5:$AC$51, 0), MATCH('Rotation Assembler'!AD$38, Calcs!$AC$5:$AG$5, 0))","v":0},{"$f":"INDEX(Calcs!$AC$5:$AG$51, MATCH('Rotation Assembler'!$A51, Calcs!$AC$5:$AC$51, 0), MATCH('Rotation Assembler'!AE$38, Calcs!$AC$5:$AG$5, 0))","v":0},{"$f":"INDEX(Calcs!$AC$5:$AG$51, MATCH('Rotation Assembler'!$A51, Calcs!$AC$5:$AC$51, 0), MATCH('Rotation Assembler'!AF$38, Calcs!$AC$5:$AG$5, 0))","v":{"$error":"#N/A"}},{"$f":"INDEX(Calcs!$AC$5:$AG$51, MATCH('Rotation Assembler'!$A51, Calcs!$AC$5:$AC$51, 0), MATCH('Rotation Assembler'!AG$38, Calcs!$AC$5:$AG$5, 0))","v":{"$error":"#N/A"}},{"$f":"INDEX(Calcs!$AC$5:$AG$51, MATCH('Rotation Assembler'!$A51, Calcs!$AC$5:$AC$51, 0), MATCH('Rotation Assembler'!AH$38, Calcs!$AC$5:$AG$5, 0))","v":{"$error":"#N/A"}},{"$f":"INDEX(Calcs!$AC$5:$AG$51, MATCH('Rotation Assembler'!$A51, Calcs!$AC$5:$AC$51, 0), MATCH('Rotation Assembler'!AI$38, Calcs!$AC$5:$AG$5, 0))","v":{"$error":"#N/A"}},{"$f":"INDEX(Calcs!$AC$5:$AG$51, MATCH('Rotation Assembler'!$A51, Calcs!$AC$5:$AC$51, 0), MATCH('Rotation Assembler'!AJ$38, Calcs!$AC$5:$AG$5, 0))","v":{"$error":"#N/A"}},{"$f":"INDEX(Calcs!$AC$5:$AG$51, MATCH('Rotation Assembler'!$A51, Calcs!$AC$5:$AC$51, 0), MATCH('Rotation Assembler'!AK$38, Calcs!$AC$5:$AG$5, 0))","v":{"$error":"#N/A"}},{"$f":"INDEX(Calcs!$AC$5:$AG$51, MATCH('Rotation Assembler'!$A51, Calcs!$AC$5:$AC$51, 0), MATCH('Rotation Assembler'!AL$38, Calcs!$AC$5:$AG$5, 0))","v":{"$error":"#N/A"}},{"$f":"INDEX(Calcs!$AC$5:$AG$51, MATCH('Rotation Assembler'!$A51, Calcs!$AC$5:$AC$51, 0), MATCH('Rotation Assembler'!AM$38, Calcs!$AC$5:$AG$5, 0))","v":{"$error":"#N/A"}},{"$f":"INDEX(Calcs!$AC$5:$AG$51, MATCH('Rotation Assembler'!$A51, Calcs!$AC$5:$AC$51, 0), MATCH('Rotation Assembler'!AN$38, Calcs!$AC$5:$AG$5, 0))","v":{"$error":"#N/A"}},{"$f":"INDEX(Calcs!$AC$5:$AG$51, MATCH('Rotation Assembler'!$A51, Calcs!$AC$5:$AC$51, 0), MATCH('Rotation Assembler'!AO$38, Calcs!$AC$5:$AG$5, 0))","v":{"$error":"#N/A"}},{"$f":"INDEX(Calcs!$AC$5:$AG$51, MATCH('Rotation Assembler'!$A51, Calcs!$AC$5:$AC$51, 0), MATCH('Rotation Assembler'!AP$38, Calcs!$AC$5:$AG$5, 0))","v":{"$error":"#N/A"}},{"$f":"INDEX(Calcs!$AC$5:$AG$51, MATCH('Rotation Assembler'!$A51, Calcs!$AC$5:$AC$51, 0), MATCH('Rotation Assembler'!AQ$38, Calcs!$AC$5:$AG$5, 0))","v":{"$error":"#N/A"}},{"$f":"INDEX(Calcs!$AC$5:$AG$51, MATCH('Rotation Assembler'!$A51, Calcs!$AC$5:$AC$51, 0), MATCH('Rotation Assembler'!AR$38, Calcs!$AC$5:$AG$5, 0))","v":{"$error":"#N/A"}},{"$f":"INDEX(Calcs!$AC$5:$AG$51, MATCH('Rotation Assembler'!$A51, Calcs!$AC$5:$AC$51, 0), MATCH('Rotation Assembler'!AS$38, Calcs!$AC$5:$AG$5, 0))","v":{"$error":"#N/A"}},{"$f":"INDEX(Calcs!$AC$5:$AG$51, MATCH('Rotation Assembler'!$A51, Calcs!$AC$5:$AC$51, 0), MATCH('Rotation Assembler'!AT$38, Calcs!$AC$5:$AG$5, 0))","v":{"$error":"#N/A"}},{"$f":"INDEX(Calcs!$AC$5:$AG$51, MATCH('Rotation Assembler'!$A51, Calcs!$AC$5:$AC$51, 0), MATCH('Rotation Assembler'!AU$38, Calcs!$AC$5:$AG$5, 0))","v":{"$error":"#N/A"}},{"$f":"INDEX(Calcs!$AC$5:$AG$51, MATCH('Rotation Assembler'!$A51, Calcs!$AC$5:$AC$51, 0), MATCH('Rotation Assembler'!AV$38, Calcs!$AC$5:$AG$5, 0))","v":{"$error":"#N/A"}},{"$f":"INDEX(Calcs!$AC$5:$AG$51, MATCH('Rotation Assembler'!$A51, Calcs!$AC$5:$AC$51, 0), MATCH('Rotation Assembler'!AW$38, Calcs!$AC$5:$AG$5, 0))","v":{"$error":"#N/A"}},{"$f":"INDEX(Calcs!$AC$5:$AG$51, MATCH('Rotation Assembler'!$A51, Calcs!$AC$5:$AC$51, 0), MATCH('Rotation Assembler'!AX$38, Calcs!$AC$5:$AG$5, 0))","v":{"$error":"#N/A"}},{"$f":"INDEX(Calcs!$AC$5:$AG$51, MATCH('Rotation Assembler'!$A51, Calcs!$AC$5:$AC$51, 0), MATCH('Rotation Assembler'!AY$38, Calcs!$AC$5:$AG$5, 0))","v":{"$error":"#N/A"}},{"$f":"INDEX(Calcs!$AC$5:$AG$51, MATCH('Rotation Assembler'!$A51, Calcs!$AC$5:$AC$51, 0), MATCH('Rotation Assembler'!AZ$38, Calcs!$AC$5:$AG$5, 0))","v":{"$error":"#N/A"}},{"$f":"INDEX(Calcs!$AC$5:$AG$51, MATCH('Rotation Assembler'!$A51, Calcs!$AC$5:$AC$51, 0), MATCH('Rotation Assembler'!BA$38, Calcs!$AC$5:$AG$5, 0))","v":{"$error":"#N/A"}},{"$f":"INDEX(Calcs!$AC$5:$AG$51, MATCH('Rotation Assembler'!$A51, Calcs!$AC$5:$AC$51, 0), MATCH('Rotation Assembler'!BB$38, Calcs!$AC$5:$AG$5, 0))","v":{"$error":"#N/A"}},{"$f":"INDEX(Calcs!$AC$5:$AG$51, MATCH('Rotation Assembler'!$A51, Calcs!$AC$5:$AC$51, 0), MATCH('Rotation Assembler'!BC$38, Calcs!$AC$5:$AG$5, 0))","v":{"$error":"#N/A"}},{"$f":"INDEX(Calcs!$AC$5:$AG$51, MATCH('Rotation Assembler'!$A51, Calcs!$AC$5:$AC$51, 0), MATCH('Rotation Assembler'!BD$38, Calcs!$AC$5:$AG$5, 0))","v":{"$error":"#N/A"}},{"$f":"INDEX(Calcs!$AC$5:$AG$51, MATCH('Rotation Assembler'!$A51, Calcs!$AC$5:$AC$51, 0), MATCH('Rotation Assembler'!BE$38, Calcs!$AC$5:$AG$5, 0))","v":{"$error":"#N/A"}},{"$f":"INDEX(Calcs!$AC$5:$AG$51, MATCH('Rotation Assembler'!$A51, Calcs!$AC$5:$AC$51, 0), MATCH('Rotation Assembler'!BF$38, Calcs!$AC$5:$AG$5, 0))","v":{"$error":"#N/A"}}]
["Geo DMG%",{"$f":"INDEX(Calcs!$AC$5:$AG$51, MATCH('Rotation Assembler'!$A52, Calcs!$AC$5:$AC$51, 0), MATCH('Rotation Assembler'!B$38, Calcs!$AC$5:$AG$5, 0))","v":0},{"$f":"INDEX(Calcs!$AC$5:$AG$51, MATCH('Rotation Assembler'!$A52, Calcs!$AC$5:$AC$51, 0), MATCH('Rotation Assembler'!C$38, Calcs!$AC$5:$AG$5, 0))","v":0},{"$f":"INDEX(Calcs!$AC$5:$AG$51, MATCH('Rotation Assembler'!$A52, Calcs!$AC$5:$AC$51, 0), MATCH('Rotation Assembler'!D$38, Calcs!$AC$5:$AG$5, 0))","v":0},{"$f":"INDEX(Calcs!$AC$5:$AG$51, MATCH('Rotation Assembler'!$A52, Calcs!$AC$5:$AC$51, 0), MATCH('Rotation Assembler'!E$38, Calcs!$AC$5:$AG$5, 0))","v":0},{"$f":"INDEX(Calcs!$AC$5:$AG$51, MATCH('Rotation Assembler'!$A52, Calcs!$AC$5:$AC$51, 0), MATCH('Rotation Assembler'!F$38, Calcs!$AC$5:$AG$5, 0))","v":0},{"$f":"INDEX(Calcs!$AC$5:$AG$51, MATCH('Rotation Assembler'!$A52, Calcs!$AC$5:$AC$51, 0), MATCH('Rotation Assembler'!G$38, Calcs!$AC$5:$AG$5, 0))","v":0},{"$f":"INDEX(Calcs!$AC$5:$AG$51, MATCH('Rotation Assembler'!$A52, Calcs!$AC$5:$AC$51, 0), MATCH('Rotation Assembler'!H$38, Calcs!$AC$5:$AG$5, 0))","v":0},{"$f":"INDEX(Calcs!$AC$5:$AG$51, MATCH('Rotation Assembler'!$A52, Calcs!$AC$5:$AC$51, 0), MATCH('Rotation Assembler'!I$38, Calcs!$AC$5:$AG$5, 0))","v":0},{"$f":"INDEX(Calcs!$AC$5:$AG$51, MATCH('Rotation Assembler'!$A52, Calcs!$AC$5:$AC$51, 0), MATCH('Rotation Assembler'!J$38, Calcs!$AC$5:$AG$5, 0))","v":0},{"$f":"INDEX(Calcs!$AC$5:$AG$51, MATCH('Rotation Assembler'!$A52, Calcs!$AC$5:$AC$51, 0), MATCH('Rotation Assembler'!K$38, Calcs!$AC$5:$AG$5, 0))","v":0},{"$f":"INDEX(Calcs!$AC$5:$AG$51, MATCH('Rotation Assembler'!$A52, Calcs!$AC$5:$AC$51, 0), MATCH('Rotation Assembler'!L$38, Calcs!$AC$5:$AG$5, 0))","v":0},{"$f":"INDEX(Calcs!$AC$5:$AG$51, MATCH('Rotation Assembler'!$A52, Calcs!$AC$5:$AC$51, 0), MATCH('Rotation Assembler'!M$38, Calcs!$AC$5:$AG$5, 0))","v":0},{"$f":"INDEX(Calcs!$AC$5:$AG$51, MATCH('Rotation Assembler'!$A52, Calcs!$AC$5:$AC$51, 0), MATCH('Rotation Assembler'!N$38, Calcs!$AC$5:$AG$5, 0))","v":0},{"$f":"INDEX(Calcs!$AC$5:$AG$51, MATCH('Rotation Assembler'!$A52, Calcs!$AC$5:$AC$51, 0), MATCH('Rotation Assembler'!O$38, Calcs!$AC$5:$AG$5, 0))","v":0},{"$f":"INDEX(Calcs!$AC$5:$AG$51, MATCH('Rotation Assembler'!$A52, Calcs!$AC$5:$AC$51, 0), MATCH('Rotation Assembler'!P$38, Calcs!$AC$5:$AG$5, 0))","v":0},{"$f":"INDEX(Calcs!$AC$5:$AG$51, MATCH('Rotation Assembler'!$A52, Calcs!$AC$5:$AC$51, 0), MATCH('Rotation Assembler'!Q$38, Calcs!$AC$5:$AG$5, 0))","v":0},{"$f":"INDEX(Calcs!$AC$5:$AG$51, MATCH('Rotation Assembler'!$A52, Calcs!$AC$5:$AC$51, 0), MATCH('Rotation Assembler'!R$38, Calcs!$AC$5:$AG$5, 0))","v":0},{"$f":"INDEX(Calcs!$AC$5:$AG$51, MATCH('Rotation Assembler'!$A52, Calcs!$AC$5:$AC$51, 0), MATCH('Rotation Assembler'!S$38, Calcs!$AC$5:$AG$5, 0))","v":0},{"$f":"INDEX(Calcs!$AC$5:$AG$51, MATCH('Rotation Assembler'!$A52, Calcs!$AC$5:$AC$51, 0), MATCH('Rotation Assembler'!T$38, Calcs!$AC$5:$AG$5, 0))","v":0},{"$f":"INDEX(Calcs!$AC$5:$AG$51, MATCH('Rotation Assembler'!$A52, Calcs!$AC$5:$AC$51, 0), MATCH('Rotation Assembler'!U$38, Calcs!$AC$5:$AG$5, 0))","v":0},null,{"$f":"INDEX(Calcs!$AC$5:$AG$51, MATCH('Rotation Assembler'!$A52, Calcs!$AC$5:$AC$51, 0), MATCH('Rotation Assembler'!W$38, Calcs!$AC$5:$AG$5, 0))","v":0},{"$f":"INDEX(Calcs!$AC$5:$AG$51, MATCH('Rotation Assembler'!$A52, Calcs!$AC$5:$AC$51, 0), MATCH('Rotation Assembler'!X$38, Calcs!$AC$5:$AG$5, 0))","v":0},{"$f":"INDEX(Calcs!$AC$5:$AG$51, MATCH('Rotation Assembler'!$A52, Calcs!$AC$5:$AC$51, 0), MATCH('Rotation Assembler'!Y$38, Calcs!$AC$5:$AG$5, 0))","v":0.28800000000000003},{"$f":"INDEX(Calcs!$AC$5:$AG$51, MATCH('Rotation Assembler'!$A52, Calcs!$AC$5:$AC$51, 0), MATCH('Rotation Assembler'!Z$38, Calcs!$AC$5:$AG$5, 0))","v":0.28800000000000003},{"$f":"INDEX(Calcs!$AC$5:$AG$51, MATCH('Rotation Assembler'!$A52, Calcs!$AC$5:$AC$51, 0), MATCH('Rotation Assembler'!AA$38, Calcs!$AC$5:$AG$5, 0))","v":0.28800000000000003},{"$f":"INDEX(Calcs!$AC$5:$AG$51, MATCH('Rotation Assembler'!$A52, Calcs!$AC$5:$AC$51, 0), MATCH('Rotation Assembler'!AB$38, Calcs!$AC$5:$AG$5, 0))","v":0},{"$f":"INDEX(Calcs!$AC$5:$AG$51, MATCH('Rotation Assembler'!$A52, Calcs!$AC$5:$AC$51, 0), MATCH('Rotation Assembler'!AC$38, Calcs!$AC$5:$AG$5, 0))","v":0},{"$f":"INDEX(Calcs!$AC$5:$AG$51, MATCH('Rotation Assembler'!$A52, Calcs!$AC$5:$AC$51, 0), MATCH('Rotation Assembler'!AD$38, Calcs!$AC$5:$AG$5, 0))","v":0},{"$f":"INDEX(Calcs!$AC$5:$AG$51, MATCH('Rotation Assembler'!$A52, Calcs!$AC$5:$AC$51, 0), MATCH('Rotation Assembler'!AE$38, Calcs!$AC$5:$AG$5, 0))","v":0},{"$f":"INDEX(Calcs!$AC$5:$AG$51, MATCH('Rotation Assembler'!$A52, Calcs!$AC$5:$AC$51, 0), MATCH('Rotation Assembler'!AF$38, Calcs!$AC$5:$AG$5, 0))","v":{"$error":"#N/A"}},{"$f":"INDEX(Calcs!$AC$5:$AG$51, MATCH('Rotation Assembler'!$A52, Calcs!$AC$5:$AC$51, 0), MATCH('Rotation Assembler'!AG$38, Calcs!$AC$5:$AG$5, 0))","v":{"$error":"#N/A"}},{"$f":"INDEX(Calcs!$AC$5:$AG$51, MATCH('Rotation Assembler'!$A52, Calcs!$AC$5:$AC$51, 0), MATCH('Rotation Assembler'!AH$38, Calcs!$AC$5:$AG$5, 0))","v":{"$error":"#N/A"}},{"$f":"INDEX(Calcs!$AC$5:$AG$51, MATCH('Rotation Assembler'!$A52, Calcs!$AC$5:$AC$51, 0), MATCH('Rotation Assembler'!AI$38, Calcs!$AC$5:$AG$5, 0))","v":{"$error":"#N/A"}},{"$f":"INDEX(Calcs!$AC$5:$AG$51, MATCH('Rotation Assembler'!$A52, Calcs!$AC$5:$AC$51, 0), MATCH('Rotation Assembler'!AJ$38, Calcs!$AC$5:$AG$5, 0))","v":{"$error":"#N/A"}},{"$f":"INDEX(Calcs!$AC$5:$AG$51, MATCH('Rotation Assembler'!$A52, Calcs!$AC$5:$AC$51, 0), MATCH('Rotation Assembler'!AK$38, Calcs!$AC$5:$AG$5, 0))","v":{"$error":"#N/A"}},{"$f":"INDEX(Calcs!$AC$5:$AG$51, MATCH('Rotation Assembler'!$A52, Calcs!$AC$5:$AC$51, 0), MATCH('Rotation Assembler'!AL$38, Calcs!$AC$5:$AG$5, 0))","v":{"$error":"#N/A"}},{"$f":"INDEX(Calcs!$AC$5:$AG$51, MATCH('Rotation Assembler'!$A52, Calcs!$AC$5:$AC$51, 0), MATCH('Rotation Assembler'!AM$38, Calcs!$AC$5:$AG$5, 0))","v":{"$error":"#N/A"}},{"$f":"INDEX(Calcs!$AC$5:$AG$51, MATCH('Rotation Assembler'!$A52, Calcs!$AC$5:$AC$51, 0), MATCH('Rotation Assembler'!AN$38, Calcs!$AC$5:$AG$5, 0))","v":{"$error":"#N/A"}},{"$f":"INDEX(Calcs!$AC$5:$AG$51, MATCH('Rotation Assembler'!$A52, Calcs!$AC$5:$AC$51, 0), MATCH('Rotation Assembler'!AO$38, Calcs!$AC$5:$AG$5, 0))","v":{"$error":"#N/A"}},{"$f":"INDEX(Calcs!$AC$5:$AG$51, MATCH('Rotation Assembler'!$A52, Calcs!$AC$5:$AC$51, 0), MATCH('Rotation Assembler'!AP$38, Calcs!$AC$5:$AG$5, 0))","v":{"$error":"#N/A"}},{"$f":"INDEX(Calcs!$AC$5:$AG$51, MATCH('Rotation Assembler'!$A52, Calcs!$AC$5:$AC$51, 0), MATCH('Rotation Assembler'!AQ$38, Calcs!$AC$5:$AG$5, 0))","v":{"$error":"#N/A"}},{"$f":"INDEX(Calcs!$AC$5:$AG$51, MATCH('Rotation Assembler'!$A52, Calcs!$AC$5:$AC$51, 0), MATCH('Rotation Assembler'!AR$38, Calcs!$AC$5:$AG$5, 0))","v":{"$error":"#N/A"}},{"$f":"INDEX(Calcs!$AC$5:$AG$51, MATCH('Rotation Assembler'!$A52, Calcs!$AC$5:$AC$51, 0), MATCH('Rotation Assembler'!AS$38, Calcs!$AC$5:$AG$5, 0))","v":{"$error":"#N/A"}},{"$f":"INDEX(Calcs!$AC$5:$AG$51, MATCH('Rotation Assembler'!$A52, Calcs!$AC$5:$AC$51, 0), MATCH('Rotation Assembler'!AT$38, Calcs!$AC$5:$AG$5, 0))","v":{"$error":"#N/A"}},{"$f":"INDEX(Calcs!$AC$5:$AG$51, MATCH('Rotation Assembler'!$A52, Calcs!$AC$5:$AC$51, 0), MATCH('Rotation Assembler'!AU$38, Calcs!$AC$5:$AG$5, 0))","v":{"$error":"#N/A"}},{"$f":"INDEX(Calcs!$AC$5:$AG$51, MATCH('Rotation Assembler'!$A52, Calcs!$AC$5:$AC$51, 0), MATCH('Rotation Assembler'!AV$38, Calcs!$AC$5:$AG$5, 0))","v":{"$error":"#N/A"}},{"$f":"INDEX(Calcs!$AC$5:$AG$51, MATCH('Rotation Assembler'!$A52, Calcs!$AC$5:$AC$51, 0), MATCH('Rotation Assembler'!AW$38, Calcs!$AC$5:$AG$5, 0))","v":{"$error":"#N/A"}},{"$f":"INDEX(Calcs!$AC$5:$AG$51, MATCH('Rotation Assembler'!$A52, Calcs!$AC$5:$AC$51, 0), MATCH('Rotation Assembler'!AX$38, Calcs!$AC$5:$AG$5, 0))","v":{"$error":"#N/A"}},{"$f":"INDEX(Calcs!$AC$5:$AG$51, MATCH('Rotation Assembler'!$A52, Calcs!$AC$5:$AC$51, 0), MATCH('Rotation Assembler'!AY$38, Calcs!$AC$5:$AG$5, 0))","v":{"$error":"#N/A"}},{"$f":"INDEX(Calcs!$AC$5:$AG$51, MATCH('Rotation Assembler'!$A52, Calcs!$AC$5:$AC$51, 0), MATCH('Rotation Assembler'!AZ$38, Calcs!$AC$5:$AG$5, 0))","v":{"$error":"#N/A"}},{"$f":"INDEX(Calcs!$AC$5:$AG$51, MATCH('Rotation Assembler'!$A52, Calcs!$AC$5:$AC$51, 0), MATCH('Rotation Assembler'!BA$38, Calcs!$AC$5:$AG$5, 0))","v":{"$error":"#N/A"}},{"$f":"INDEX(Calcs!$AC$5:$AG$51, MATCH('Rotation Assembler'!$A52, Calcs!$AC$5:$AC$51, 0), MATCH('Rotation Assembler'!BB$38, Calcs!$AC$5:$AG$5, 0))","v":{"$error":"#N/A"}},{"$f":"INDEX(Calcs!$AC$5:$AG$51, MATCH('Rotation Assembler'!$A52, Calcs!$AC$5:$AC$51, 0), MATCH('Rotation Assembler'!BC$38, Calcs!$AC$5:$AG$5, 0))","v":{"$error":"#N/A"}},{"$f":"INDEX(Calcs!$AC$5:$AG$51, MATCH('Rotation Assembler'!$A52, Calcs!$AC$5:$AC$51, 0), MATCH('Rotation Assembler'!BD$38, Calcs!$AC$5:$AG$5, 0))","v":{"$error":"#N/A"}},{"$f":"INDEX(Calcs!$AC$5:$AG$51, MATCH('Rotation Assembler'!$A52, Calcs!$AC$5:$AC$51, 0), MATCH('Rotation Assembler'!BE$38, Calcs!$AC$5:$AG$5, 0))","v":{"$error":"#N/A"}},{"$f":"INDEX(Calcs!$AC$5:$AG$51, MATCH('Rotation Assembler'!$A52, Calcs!$AC$5:$AC$51, 0), MATCH('Rotation Assembler'!BF$38, Calcs!$AC$5:$AG$5, 0))","v":{"$error":"#N/A"}}]
["Pyro DMG%",{"$f":"INDEX(Calcs!$AC$5:$AG$51, MATCH('Rotation Assembler'!$A53, Calcs!$AC$5:$AC$51, 0), MATCH('Rotation Assembler'!B$38, Calcs!$AC$5:$AG$5, 0))","v":0},{"$f":"INDEX(Calcs!$AC$5:$AG$51, MATCH('Rotation Assembler'!$A53, Calcs!$AC$5:$AC$51, 0), MATCH('Rotation Assembler'!C$38, Calcs!$AC$5:$AG$5, 0))","v":0},{"$f":"INDEX(Calcs!$AC$5:$AG$51, MATCH('Rotation Assembler'!$A53, Calcs!$AC$5:$AC$51, 0), MATCH('Rotation Assembler'!D$38, Calcs!$AC$5:$AG$5, 0))","v":0.46600000000000003},{"$f":"INDEX(Calcs!$AC$5:$AG$51, MATCH('Rotation Assembler'!$A53, Calcs!$AC$5:$AC$51, 0), MATCH('Rotation Assembler'!E$38, Calcs!$AC$5:$AG$5, 0))","v":0.46600000000000003},{"$f":"INDEX(Calcs!$AC$5:$AG$51, MATCH('Rotation Assembler'!$A53, Calcs!$AC$5:$AC$51, 0), MATCH('Rotation Assembler'!F$38, Calcs!$AC$5:$AG$5, 0))","v":0},{"$f":"INDEX(Calcs!$AC$5:$AG$51, MATCH('Rotation Assembler'!$A53, Calcs!$AC$5:$AC$51, 0), MATCH('Rotation Assembler'!G$38, Calcs!$AC$5:$AG$5, 0))","v":0},{"$f":"INDEX(Calcs!$AC$5:$AG$51, MATCH('Rotation Assembler'!$A53, Calcs!$AC$5:$AC$51, 0), MATCH('Rotation Assembler'!H$38, Calcs!$AC$5:$AG$5, 0))","v":0.81600000000000006},{"$f":"INDEX(Calcs!$AC$5:$AG$51, MATCH('Rotation Assembler'!$A53, Calcs!$AC$5:$AC$51, 0), MATCH('Rotation Assembler'!I$38, Calcs!$AC$5:$AG$5, 0))","v":0.81600000000000006},{"$f":"INDEX(Calcs!$AC$5:$AG$51, MATCH('Rotation Assembler'!$A53, Calcs!$AC$5:$AC$51, 0), MATCH('Rotation Assembler'!J$38, Calcs!$AC$5:$AG$5, 0))","v":0.81600000000000006},{"$f":"INDEX(Calcs!$AC$5:$AG$51, MATCH('Rotation Assembler'!$A53, Calcs!$AC$5:$AC$51, 0), MATCH('Rotation Assembler'!K$38, Calcs!$AC$5:$AG$5, 0))","v":0.81600000000000006},{"$f":"INDEX(Calcs!$AC$5:$AG$51, MATCH('Rotation Assembler'!$A53, Calcs!$AC$5:$AC$51, 0), MATCH('Rotation Assembler'!L$38, Calcs!$AC$5:$AG$5, 0))","v":0.81600000000000006},{"$f":"INDEX(Calcs!$AC$5:$AG$51, MATCH('Rotation Assembler'!$A53, Calcs!$AC$5:$AC$51, 0), MATCH('Rotation Assembler'!M$38, Calcs!$AC$5:$AG$5, 0))","v":0.81600000000000006},{"$f":"INDEX(Calcs!$AC$5:$AG$51, MATCH('Rotation Assembler'!$A53, Calcs!$AC$5:$AC$51, 0), MATCH('Rotation Assembler'!N$38, Calcs!$AC$5:$AG$5, 0))","v":0.81600000000000006},{"$f":"INDEX(Calcs!$AC$5:$AG$51, MATCH('Rotation Assembler'!$A53, Calcs!$AC$5:$AC$51, 0), MATCH('Rotation Assembler'!O$38, Calcs!$AC$5:$AG$5, 0))","v":0.81600000000000006},{"$f":"INDEX(Calcs!$AC$5:$AG$51, MATCH('Rotation Assembler'!$A53, Calcs!$AC$5:$AC$51, 0), MATCH('Rotation Assembler'!P$38, Calcs!$AC$5:$AG$5, 0))","v":0.81600000000000006},{"$f":"INDEX(Calcs!$AC$5:$AG$51, MATCH('Rotation Assembler'!$A53, Calcs!$AC$5:$AC$51, 0), MATCH('Rotation Assembler'!Q$38, Calcs!$AC$5:$AG$5, 0))","v":0.81600000000000006},{"$f":"INDEX(Calcs!$AC$5:$AG$51, MATCH('Rotation Assembler'!$A53, Calcs!$AC$5:$AC$51, 0), MATCH('Rotation Assembler'!R$38, Calcs!$AC$5:$AG$5, 0))","v":0.81600000000000006},{"$f":"INDEX(Calcs!$AC$5:$AG$51, MATCH('Rotation Assembler'!$A53, Calcs!$AC$5:$AC$51, 0), MATCH('Rotation Assembler'!S$38, Calcs!$AC$5:$AG$5, 0))","v":0.81600000000000006},{"$f":"INDEX(Calcs!$AC$5:$AG$51, MATCH('Rotation Assembler'!$A53, Calcs!$AC$5:$AC$51, 0), MATCH('Rotation Assembler'!T$38, Calcs!$AC$5:$AG$5, 0))","v":0.81600000000000006},{"$f":"INDEX(Calcs!$AC$5:$AG$51, MATCH('Rotation Assembler'!$A53, Calcs!$AC$5:$AC$51, 0), MATCH('Rotation Assembler'!U$38, Calcs!$AC$5:$AG$5, 0))","v":0.81600000000000006},null,{"$f":"INDEX(Calcs!$AC$5:$AG$51, MATCH('Rotation Assembler'!$A53, Calcs!$AC$5:$AC$51, 0), MATCH('Rotation Assembler'!W$38, Calcs!$AC$5:$AG$5, 0))","v":0.46600000000000003},{"$f":"INDEX(Calcs!$AC$5:$AG$51, MATCH('Rotation Assembler'!$A53, Calcs!$AC$5:$AC$51, 0), MATCH('Rotation Assembler'!X$38, Calcs!$AC$5:$AG$5, 0))","v":0.46600000000000003},{"$f":"INDEX(Calcs!$AC$5:$AG$51, MATCH('Rotation Assembler'!$A53, Calcs!$AC$5:$AC$51, 0), MATCH('Rotation Assembler'!Y$38, Calcs!$AC$5:$AG$5, 0))","v":0},{"$f":"INDEX(Calcs!$AC$5:$AG$51, MATCH('Rotation Assembler'!$A53, Calcs!$AC$5:$AC$51, 0), MATCH('Rotation Assembler'!Z$38, Calcs!$AC$5:$AG$5, 0))","v":0},{"$f":"INDEX(Calcs!$AC$5:$AG$51, MATCH('Rotation Assembler'!$A53, Calcs!$AC$5:$AC$51, 0), MATCH('Rotation Assembler'!AA$38, Calcs!$AC$5:$AG$5, 0))","v":0},{"$f":"INDEX(Calcs!$AC$5:$AG$51, MATCH('Rotation Assembler'!$A53, Calcs!$AC$5:$AC$51, 0), MATCH('Rotation Assembler'!AB$38, Calcs!$AC$5:$AG$5, 0))","v":0.81600000000000006},{"$f":"INDEX(Calcs!$AC$5:$AG$51, MATCH('Rotation Assembler'!$A53, Calcs!$AC$5:$AC$51, 0), MATCH('Rotation Assembler'!AC$38, Calcs!$AC$5:$AG$5, 0))","v":0.81600000000000006},{"$f":"INDEX(Calcs!$AC$5:$AG$51, MATCH('Rotation Assembler'!$A53, Calcs!$AC$5:$AC$51, 0), MATCH('Rotation Assembler'!AD$38, Calcs!$AC$5:$AG$5, 0))","v":0},{"$f":"INDEX(Calcs!$AC$5:$AG$51, MATCH('Rotation Assembler'!$A53, Calcs!$AC$5:$AC$51, 0), MATCH('Rotation Assembler'!AE$38, Calcs!$AC$5:$AG$5, 0))","v":0.81600000000000006},{"$f":"INDEX(Calcs!$AC$5:$AG$51, MATCH('Rotation Assembler'!$A53, Calcs!$AC$5:$AC$51, 0), MATCH('Rotation Assembler'!AF$38, Calcs!$AC$5:$AG$5, 0))","v":{"$error":"#N/A"}},{"$f":"INDEX(Calcs!$AC$5:$AG$51, MATCH('Rotation Assembler'!$A53, Calcs!$AC$5:$AC$51, 0), MATCH('Rotation Assembler'!AG$38, Calcs!$AC$5:$AG$5, 0))","v":{"$error":"#N/A"}},{"$f":"INDEX(Calcs!$AC$5:$AG$51, MATCH('Rotation Assembler'!$A53, Calcs!$AC$5:$AC$51, 0), MATCH('Rotation Assembler'!AH$38, Calcs!$AC$5:$AG$5, 0))","v":{"$error":"#N/A"}},{"$f":"INDEX(Calcs!$AC$5:$AG$51, MATCH('Rotation Assembler'!$A53, Calcs!$AC$5:$AC$51, 0), MATCH('Rotation Assembler'!AI$38, Calcs!$AC$5:$AG$5, 0))","v":{"$error":"#N/A"}},{"$f":"INDEX(Calcs!$AC$5:$AG$51, MATCH('Rotation Assembler'!$A53, Calcs!$AC$5:$AC$51, 0), MATCH('Rotation Assembler'!AJ$38, Calcs!$AC$5:$AG$5, 0))","v":{"$error":"#N/A"}},{"$f":"INDEX(Calcs!$AC$5:$AG$51, MATCH('Rotation Assembler'!$A53, Calcs!$AC$5:$AC$51, 0), MATCH('Rotation Assembler'!AK$38, Calcs!$AC$5:$AG$5, 0))","v":{"$error":"#N/A"}},{"$f":"INDEX(Calcs!$AC$5:$AG$51, MATCH('Rotation Assembler'!$A53, Calcs!$AC$5:$AC$51, 0), MATCH('Rotation Assembler'!AL$38, Calcs!$AC$5:$AG$5, 0))","v":{"$error":"#N/A"}},{"$f":"INDEX(Calcs!$AC$5:$AG$51, MATCH('Rotation Assembler'!$A53, Calcs!$AC$5:$AC$51, 0), MATCH('Rotation Assembler'!AM$38, Calcs!$AC$5:$AG$5, 0))","v":{"$error":"#N/A"}},{"$f":"INDEX(Calcs!$AC$5:$AG$51, MATCH('Rotation Assembler'!$A53, Calcs!$AC$5:$AC$51, 0), MATCH('Rotation Assembler'!AN$38, Calcs!$AC$5:$AG$5, 0))","v":{"$error":"#N/A"}},{"$f":"INDEX(Calcs!$AC$5:$AG$51, MATCH('Rotation Assembler'!$A53, Calcs!$AC$5:$AC$51, 0), MATCH('Rotation Assembler'!AO$38, Calcs!$AC$5:$AG$5, 0))","v":{"$error":"#N/A"}},{"$f":"INDEX(Calcs!$AC$5:$AG$51, MATCH('Rotation Assembler'!$A53, Calcs!$AC$5:$AC$51, 0), MATCH('Rotation Assembler'!AP$38, Calcs!$AC$5:$AG$5, 0))","v":{"$error":"#N/A"}},{"$f":"INDEX(Calcs!$AC$5:$AG$51, MATCH('Rotation Assembler'!$A53, Calcs!$AC$5:$AC$51, 0), MATCH('Rotation Assembler'!AQ$38, Calcs!$AC$5:$AG$5, 0))","v":{"$error":"#N/A"}},{"$f":"INDEX(Calcs!$AC$5:$AG$51, MATCH('Rotation Assembler'!$A53, Calcs!$AC$5:$AC$51, 0), MATCH('Rotation Assembler'!AR$38, Calcs!$AC$5:$AG$5, 0))","v":{"$error":"#N/A"}},{"$f":"INDEX(Calcs!$AC$5:$AG$51, MATCH('Rotation Assembler'!$A53, Calcs!$AC$5:$AC$51, 0), MATCH('Rotation Assembler'!AS$38, Calcs!$AC$5:$AG$5, 0))","v":{"$error":"#N/A"}},{"$f":"INDEX(Calcs!$AC$5:$AG$51, MATCH('Rotation Assembler'!$A53, Calcs!$AC$5:$AC$51, 0), MATCH('Rotation Assembler'!AT$38, Calcs!$AC$5:$AG$5, 0))","v":{"$error":"#N/A"}},{"$f":"INDEX(Calcs!$AC$5:$AG$51, MATCH('Rotation Assembler'!$A53, Calcs!$AC$5:$AC$51, 0), MATCH('Rotation Assembler'!AU$38, Calcs!$AC$5:$AG$5, 0))","v":{"$error":"#N/A"}},{"$f":"INDEX(Calcs!$AC$5:$AG$51, MATCH('Rotation Assembler'!$A53, Calcs!$AC$5:$AC$51, 0), MATCH('Rotation Assembler'!AV$38, Calcs!$AC$5:$AG$5, 0))","v":{"$error":"#N/A"}},{"$f":"INDEX(Calcs!$AC$5:$AG$51, MATCH('Rotation Assembler'!$A53, Calcs!$AC$5:$AC$51, 0), MATCH('Rotation Assembler'!AW$38, Calcs!$AC$5:$AG$5, 0))","v":{"$error":"#N/A"}},{"$f":"INDEX(Calcs!$AC$5:$AG$51, MATCH('Rotation Assembler'!$A53, Calcs!$AC$5:$AC$51, 0), MATCH('Rotation Assembler'!AX$38, Calcs!$AC$5:$AG$5, 0))","v":{"$error":"#N/A"}},{"$f":"INDEX(Calcs!$AC$5:$AG$51, MATCH('Rotation Assembler'!$A53, Calcs!$AC$5:$AC$51, 0), MATCH('Rotation Assembler'!AY$38, Calcs!$AC$5:$AG$5, 0))","v":{"$error":"#N/A"}},{"$f":"INDEX(Calcs!$AC$5:$AG$51, MATCH('Rotation Assembler'!$A53, Calcs!$AC$5:$AC$51, 0), MATCH('Rotation Assembler'!AZ$38, Calcs!$AC$5:$AG$5, 0))","v":{"$error":"#N/A"}},{"$f":"INDEX(Calcs!$AC$5:$AG$51, MATCH('Rotation Assembler'!$A53, Calcs!$AC$5:$AC$51, 0), MATCH('Rotation Assembler'!BA$38, Calcs!$AC$5:$AG$5, 0))","v":{"$error":"#N/A"}},{"$f":"INDEX(Calcs!$AC$5:$AG$51, MATCH('Rotation Assembler'!$A53, Calcs!$AC$5:$AC$51, 0), MATCH('Rotation Assembler'!BB$38, Calcs!$AC$5:$AG$5, 0))","v":{"$error":"#N/A"}},{"$f":"INDEX(Calcs!$AC$5:$AG$51, MATCH('Rotation Assembler'!$A53, Calcs!$AC$5:$AC$51, 0), MATCH('Rotation Assembler'!BC$38, Calcs!$AC$5:$AG$5, 0))","v":{"$error":"#N/A"}},{"$f":"INDEX(Calcs!$AC$5:$AG$51, MATCH('Rotation Assembler'!$A53, Calcs!$AC$5:$AC$51, 0), MATCH('Rotation Assembler'!BD$38, Calcs!$AC$5:$AG$5, 0))","v":{"$error":"#N/A"}},{"$f":"INDEX(Calcs!$AC$5:$AG$51, MATCH('Rotation Assembler'!$A53, Calcs!$AC$5:$AC$51, 0), MATCH('Rotation Assembler'!BE$38, Calcs!$AC$5:$AG$5, 0))","v":{"$error":"#N/A"}},{"$f":"INDEX(Calcs!$AC$5:$AG$51, MATCH('Rotation Assembler'!$A53, Calcs!$AC$5:$AC$51, 0), MATCH('Rotation Assembler'!BF$38, Calcs!$AC$5:$AG$5, 0))","v":{"$error":"#N/A"}}]
["Cryo DMG%",{"$f":"INDEX(Calcs!$AC$5:$AG$51, MATCH('Rotation Assembler'!$A54, Calcs!$AC$5:$AC$51, 0), MATCH('Rotation Assembler'!B$38, Calcs!$AC$5:$AG$5, 0))","v":0},{"$f":"INDEX(Calcs!$AC$5:$AG$51, MATCH('Rotation Assembler'!$A54, Calcs!$AC$5:$AC$51, 0), MATCH('Rotation Assembler'!C$38, Calcs!$AC$5:$AG$5, 0))","v":0},{"$f":"INDEX(Calcs!$AC$5:$AG$51, MATCH('Rotation Assembler'!$A54, Calcs!$AC$5:$AC$51, 0), MATCH('Rotation Assembler'!D$38, Calcs!$AC$5:$AG$5, 0))","v":0},{"$f":"INDEX(Calcs!$AC$5:$AG$51, MATCH('Rotation Assembler'!$A54, Calcs!$AC$5:$AC$51, 0), MATCH('Rotation Assembler'!E$38, Calcs!$AC$5:$AG$5, 0))","v":0},{"$f":"INDEX(Calcs!$AC$5:$AG$51, MATCH('Rotation Assembler'!$A54, Calcs!$AC$5:$AC$51, 0), MATCH('Rotation Assembler'!F$38, Calcs!$AC$5:$AG$5, 0))","v":0},{"$f":"INDEX(Calcs!$AC$5:$AG$51, MATCH('Rotation Assembler'!$A54, Calcs!$AC$5:$AC$51, 0), MATCH('Rotation Assembler'!G$38, Calcs!$AC$5:$AG$5, 0))","v":0},{"$f":"INDEX(Calcs!$AC$5:$AG$51, MATCH('Rotation Assembler'!$A54, Calcs!$AC$5:$AC$51, 0), MATCH('Rotation Assembler'!H$38, Calcs!$AC$5:$AG$5, 0))","v":0},{"$f":"INDEX(Calcs!$AC$5:$AG$51, MATCH('Rotation Assembler'!$A54, Calcs!$AC$5:$AC$51, 0), MATCH('Rotation Assembler'!I$38, Calcs!$AC$5:$AG$5, 0))","v":0},{"$f":"INDEX(Calcs!$AC$5:$AG$51, MATCH('Rotation Assembler'!$A54, Calcs!$AC$5:$AC$51, 0), MATCH('Rotation Assembler'!J$38, Calcs!$AC$5:$AG$5, 0))","v":0},{"$f":"INDEX(Calcs!$AC$5:$AG$51, MATCH('Rotation Assembler'!$A54, Calcs!$AC$5:$AC$51, 0), MATCH('Rotation Assembler'!K$38, Calcs!$AC$5:$AG$5, 0))","v":0},{"$f":"INDEX(Calcs!$AC$5:$AG$51, MATCH('Rotation Assembler'!$A54, Calcs!$AC$5:$AC$51, 0), MATCH('Rotation Assembler'!L$38, Calcs!$AC$5:$AG$5, 0))","v":0},{"$f":"INDEX(Calcs!$AC$5:$AG$51, MATCH('Rotation Assembler'!$A54, Calcs!$AC$5:$AC$51, 0), MATCH('Rotation Assembler'!M$38, Calcs!$AC$5:$AG$5, 0))","v":0},{"$f":"INDEX(Calcs!$AC$5:$AG$51, MATCH('Rotation Assembler'!$A54, Calcs!$AC$5:$AC$51, 0), MATCH('Rotation Assembler'!N$38, Calcs!$AC$5:$AG$5, 0))","v":0},{"$f":"INDEX(Calcs!$AC$5:$AG$51, MATCH('Rotation Assembler'!$A54, Calcs!$AC$5:$AC$51, 0), MATCH('Rotation Assembler'!O$38, Calcs!$AC$5:$AG$5, 0))","v":0},{"$f":"INDEX(Calcs!$AC$5:$AG$51, MATCH('Rotation Assembler'!$A54, Calcs!$AC$5:$AC$51, 0), MATCH('Rotation Assembler'!P$38, Calcs!$AC$5:$AG$5, 0))","v":0},{"$f":"INDEX(Calcs!$AC$5:$AG$51, MATCH('Rotation Assembler'!$A54, Calcs!$AC$5:$AC$51, 0), MATCH('Rotation Assembler'!Q$38, Calcs!$AC$5:$AG$5, 0))","v":0},{"$f":"INDEX(Calcs!$AC$5:$AG$51, MATCH('Rotation Assembler'!$A54, Calcs!$AC$5:$AC$51, 0), MATCH('Rotation Assembler'!R$38, Calcs!$AC$5:$AG$5, 0))","v":0},{"$f":"INDEX(Calcs!$AC$5:$AG$51, MATCH('Rotation Assembler'!$A54, Calcs!$AC$5:$AC$51, 0), MATCH('Rotation Assembler'!S$38, Calcs!$AC$5:$AG$5, 0))","v":0},{"$f":"INDEX(Calcs!$AC$5:$AG$51, MATCH('Rotation Assembler'!$A54, Calcs!$AC$5:$AC$51, 0), MATCH('Rotation Assembler'!T$38, Calcs!$AC$5:$AG$5, 0))","v":0},{"$f":"INDEX(Calcs!$AC$5:$AG$51, MATCH('Rotation Assembler'!$A54, Calcs!$AC$5:$AC$51, 0), MATCH('Rotation Assembler'!U$38, Calcs!$AC$5:$AG$5, 0))","v":0},null,{"$f":"INDEX(Calcs!$AC$5:$AG$51, MATCH('Rotation Assembler'!$A54, Calcs!$AC$5:$AC$51, 0), MATCH('Rotation Assembler'!W$38, Calcs!$AC$5:$AG$5, 0))","v":0},{"$f":"INDEX(Calcs!$AC$5:$AG$51, MATCH('Rotation Assembler'!$A54, Calcs!$AC$5:$AC$51, 0), MATCH('Rotation Assembler'!X$38, Calcs!$AC$5:$AG$5, 0))","v":0},{"$f":"INDEX(Calcs!$AC$5:$AG$51, MATCH('Rotation Assembler'!$A54, Calcs!$AC$5:$AC$51, 0), MATCH('Rotation Assembler'!Y$38, Calcs!$AC$5:$AG$5, 0))","v":0},{"$f":"INDEX(Calcs!$AC$5:$AG$51, MATCH('Rotation Assembler'!$A54, Calcs!$AC$5:$AC$51, 0), MATCH('Rotation Assembler'!Z$38, Calcs!$AC$5:$AG$5, 0))","v":0},{"$f":"INDEX(Calcs!$AC$5:$AG$51, MATCH('Rotation Assembler'!$A54, Calcs!$AC$5:$AC$51, 0), MATCH('Rotation Assembler'!AA$38, Calcs!$AC$5:$AG$5, 0))","v":0},{"$f":"INDEX(Calcs!$AC$5:$AG$51, MATCH('Rotation Assembler'!$A54, Calcs!$AC$5:$AC$51, 0), MATCH('Rotation Assembler'!AB$38, Calcs!$AC$5:$AG$5, 0))","v":0},{"$f":"INDEX(Calcs!$AC$5:$AG$51, MATCH('Rotation Assembler'!$A54, Calcs!$AC$5:$AC$51, 0), MATCH('Rotation Assembler'!AC$38, Calcs!$AC$5:$AG$5, 0))","v":0},{"$f":"INDEX(Calcs!$AC$5:$AG$51, MATCH('Rotation Assembler'!$A54, Calcs!$AC$5:$AC$51, 0), MATCH('Rotation Assembler'!AD$38, Calcs!$AC$5:$AG$5, 0))","v":0},{"$f":"INDEX(Calcs!$AC$5:$AG$51, MATCH('Rotation Assembler'!$A54, Calcs!$AC$5:$AC$51, 0), MATCH('Rotation Assembler'!AE$38, Calcs!$AC$5:$AG$5, 0))","v":0},{"$f":"INDEX(Calcs!$AC$5:$AG$51, MATCH('Rotation Assembler'!$A54, Calcs!$AC$5:$AC$51, 0), MATCH('Rotation Assembler'!AF$38, Calcs!$AC$5:$AG$5, 0))","v":{"$error":"#N/A"}},{"$f":"INDEX(Calcs!$AC$5:$AG$51, MATCH('Rotation Assembler'!$A54, Calcs!$AC$5:$AC$51, 0), MATCH('Rotation Assembler'!AG$38, Calcs!$AC$5:$AG$5, 0))","v":{"$error":"#N/A"}},{"$f":"INDEX(Calcs!$AC$5:$AG$51, MATCH('Rotation Assembler'!$A54, Calcs!$AC$5:$AC$51, 0), MATCH('Rotation Assembler'!AH$38, Calcs!$AC$5:$AG$5, 0))","v":{"$error":"#N/A"}},{"$f":"INDEX(Calcs!$AC$5:$AG$51, MATCH('Rotation Assembler'!$A54, Calcs!$AC$5:$AC$51, 0), MATCH('Rotation Assembler'!AI$38, Calcs!$AC$5:$AG$5, 0))","v":{"$error":"#N/A"}},{"$f":"INDEX(Calcs!$AC$5:$AG$51, MATCH('Rotation Assembler'!$A54, Calcs!$AC$5:$AC$51, 0), MATCH('Rotation Assembler'!AJ$38, Calcs!$AC$5:$AG$5, 0))","v":{"$error":"#N/A"}},{"$f":"INDEX(Calcs!$AC$5:$AG$51, MATCH('Rotation Assembler'!$A54, Calcs!$AC$5:$AC$51, 0), MATCH('Rotation Assembler'!AK$38, Calcs!$AC$5:$AG$5, 0))","v":{"$error":"#N/A"}},{"$f":"INDEX(Calcs!$AC$5:$AG$51, MATCH('Rotation Assembler'!$A54, Calcs!$AC$5:$AC$51, 0), MATCH('Rotation Assembler'!AL$38, Calcs!$AC$5:$AG$5, 0))","v":{"$error":"#N/A"}},{"$f":"INDEX(Calcs!$AC$5:$AG$51, MATCH('Rotation Assembler'!$A54, Calcs!$AC$5:$AC$51, 0), MATCH('Rotation Assembler'!AM$38, Calcs!$AC$5:$AG$5, 0))","v":{"$error":"#N/A"}},{"$f":"INDEX(Calcs!$AC$5:$AG$51, MATCH('Rotation Assembler'!$A54, Calcs!$AC$5:$AC$51, 0), MATCH('Rotation Assembler'!AN$38, Calcs!$AC$5:$AG$5, 0))","v":{"$error":"#N/A"}},{"$f":"INDEX(Calcs!$AC$5:$AG$51, MATCH('Rotation Assembler'!$A54, Calcs!$AC$5:$AC$51, 0), MATCH('Rotation Assembler'!AO$38, Calcs!$AC$5:$AG$5, 0))","v":{"$error":"#N/A"}},{"$f":"INDEX(Calcs!$AC$5:$AG$51, MATCH('Rotation Assembler'!$A54, Calcs!$AC$5:$AC$51, 0), MATCH('Rotation Assembler'!AP$38, Calcs!$AC$5:$AG$5, 0))","v":{"$error":"#N/A"}},{"$f":"INDEX(Calcs!$AC$5:$AG$51, MATCH('Rotation Assembler'!$A54, Calcs!$AC$5:$AC$51, 0), MATCH('Rotation Assembler'!AQ$38, Calcs!$AC$5:$AG$5, 0))","v":{"$error":"#N/A"}},{"$f":"INDEX(Calcs!$AC$5:$AG$51, MATCH('Rotation Assembler'!$A54, Calcs!$AC$5:$AC$51, 0), MATCH('Rotation Assembler'!AR$38, Calcs!$AC$5:$AG$5, 0))","v":{"$error":"#N/A"}},{"$f":"INDEX(Calcs!$AC$5:$AG$51, MATCH('Rotation Assembler'!$A54, Calcs!$AC$5:$AC$51, 0), MATCH('Rotation Assembler'!AS$38, Calcs!$AC$5:$AG$5, 0))","v":{"$error":"#N/A"}},{"$f":"INDEX(Calcs!$AC$5:$AG$51, MATCH('Rotation Assembler'!$A54, Calcs!$AC$5:$AC$51, 0), MATCH('Rotation Assembler'!AT$38, Calcs!$AC$5:$AG$5, 0))","v":{"$error":"#N/A"}},{"$f":"INDEX(Calcs!$AC$5:$AG$51, MATCH('Rotation Assembler'!$A54, Calcs!$AC$5:$AC$51, 0), MATCH('Rotation Assembler'!AU$38, Calcs!$AC$5:$AG$5, 0))","v":{"$error":"#N/A"}},{"$f":"INDEX(Calcs!$AC$5:$AG$51, MATCH('Rotation Assembler'!$A54, Calcs!$AC$5:$AC$51, 0), MATCH('Rotation Assembler'!AV$38, Calcs!$AC$5:$AG$5, 0))","v":{"$error":"#N/A"}},{"$f":"INDEX(Calcs!$AC$5:$AG$51, MATCH('Rotation Assembler'!$A54, Calcs!$AC$5:$AC$51, 0), MATCH('Rotation Assembler'!AW$38, Calcs!$AC$5:$AG$5, 0))","v":{"$error":"#N/A"}},{"$f":"INDEX(Calcs!$AC$5:$AG$51, MATCH('Rotation Assembler'!$A54, Calcs!$AC$5:$AC$51, 0), MATCH('Rotation Assembler'!AX$38, Calcs!$AC$5:$AG$5, 0))","v":{"$error":"#N/A"}},{"$f":"INDEX(Calcs!$AC$5:$AG$51, MATCH('Rotation Assembler'!$A54, Calcs!$AC$5:$AC$51, 0), MATCH('Rotation Assembler'!AY$38, Calcs!$AC$5:$AG$5, 0))","v":{"$error":"#N/A"}},{"$f":"INDEX(Calcs!$AC$5:$AG$51, MATCH('Rotation Assembler'!$A54, Calcs!$AC$5:$AC$51, 0), MATCH('Rotation Assembler'!AZ$38, Calcs!$AC$5:$AG$5, 0))","v":{"$error":"#N/A"}},{"$f":"INDEX(Calcs!$AC$5:$AG$51, MATCH('Rotation Assembler'!$A54, Calcs!$AC$5:$AC$51, 0), MATCH('Rotation Assembler'!BA$38, Calcs!$AC$5:$AG$5, 0))","v":{"$error":"#N/A"}},{"$f":"INDEX(Calcs!$AC$5:$AG$51, MATCH('Rotation Assembler'!$A54, Calcs!$AC$5:$AC$51, 0), MATCH('Rotation Assembler'!BB$38, Calcs!$AC$5:$AG$5, 0))","v":{"$error":"#N/A"}},{"$f":"INDEX(Calcs!$AC$5:$AG$51, MATCH('Rotation Assembler'!$A54, Calcs!$AC$5:$AC$51, 0), MATCH('Rotation Assembler'!BC$38, Calcs!$AC$5:$AG$5, 0))","v":{"$error":"#N/A"}},{"$f":"INDEX(Calcs!$AC$5:$AG$51, MATCH('Rotation Assembler'!$A54, Calcs!$AC$5:$AC$51, 0), MATCH('Rotation Assembler'!BD$38, Calcs!$AC$5:$AG$5, 0))","v":{"$error":"#N/A"}},{"$f":"INDEX(Calcs!$AC$5:$AG$51, MATCH('Rotation Assembler'!$A54, Calcs!$AC$5:$AC$51, 0), MATCH('Rotation Assembler'!BE$38, Calcs!$AC$5:$AG$5, 0))","v":{"$error":"#N/A"}},{"$f":"INDEX(Calcs!$AC$5:$AG$51, MATCH('Rotation Assembler'!$A54, Calcs!$AC$5:$AC$51, 0), MATCH('Rotation Assembler'!BF$38, Calcs!$AC$5:$AG$5, 0))","v":{"$error":"#N/A"}}]
["Hydro DMG%",{"$f":"INDEX(Calcs!$AC$5:$AG$51, MATCH('Rotation Assembler'!$A55, Calcs!$AC$5:$AC$51, 0), MATCH('Rotation Assembler'!B$38, Calcs!$AC$5:$AG$5, 0))","v":0.46600000000000003},{"$f":"INDEX(Calcs!$AC$5:$AG$51, MATCH('Rotation Assembler'!$A55, Calcs!$AC$5:$AC$51, 0), MATCH('Rotation Assembler'!C$38, Calcs!$AC$5:$AG$5, 0))","v":0.46600000000000003},{"$f":"INDEX(Calcs!$AC$5:$AG$51, MATCH('Rotation Assembler'!$A55, Calcs!$AC$5:$AC$51, 0), MATCH('Rotation Assembler'!D$38, Calcs!$AC$5:$AG$5, 0))","v":0},{"$f":"INDEX(Calcs!$AC$5:$AG$51, MATCH('Rotation Assembler'!$A55, Calcs!$AC$5:$AC$51, 0), MATCH('Rotation Assembler'!E$38, Calcs!$AC$5:$AG$5, 0))","v":0},{"$f":"INDEX(Calcs!$AC$5:$AG$51, MATCH('Rotation Assembler'!$A55, Calcs!$AC$5:$AC$51, 0), MATCH('Rotation Assembler'!F$38, Calcs!$AC$5:$AG$5, 0))","v":0.46600000000000003},{"$f":"INDEX(Calcs!$AC$5:$AG$51, MATCH('Rotation Assembler'!$A55, Calcs!$AC$5:$AC$51, 0), MATCH('Rotation Assembler'!G$38, Calcs!$AC$5:$AG$5, 0))","v":0.46600000000000003},{"$f":"INDEX(Calcs!$AC$5:$AG$51, MATCH('Rotation Assembler'!$A55, Calcs!$AC$5:$AC$51, 0), MATCH('Rotation Assembler'!H$38, Calcs!$AC$5:$AG$5, 0))","v":0},{"$f":"INDEX(Calcs!$AC$5:$AG$51, MATCH('Rotation Assembler'!$A55, Calcs!$AC$5:$AC$51, 0), MATCH('Rotation Assembler'!I$38, Calcs!$AC$5:$AG$5, 0))","v":0},{"$f":"INDEX(Calcs!$AC$5:$AG$51, MATCH('Rotation Assembler'!$A55, Calcs!$AC$5:$AC$51, 0), MATCH('Rotation Assembler'!J$38, Calcs!$AC$5:$AG$5, 0))","v":0},{"$f":"INDEX(Calcs!$AC$5:$AG$51, MATCH('Rotation Assembler'!$A55, Calcs!$AC$5:$AC$51, 0), MATCH('Rotation Assembler'!K$38, Calcs!$AC$5:$AG$5, 0))","v":0},{"$f":"INDEX(Calcs!$AC$5:$AG$51, MATCH('Rotation Assembler'!$A55, Calcs!$AC$5:$AC$51, 0), MATCH('Rotation Assembler'!L$38, Calcs!$AC$5:$AG$5, 0))","v":0},{"$f":"INDEX(Calcs!$AC$5:$AG$51, MATCH('Rotation Assembler'!$A55, Calcs!$AC$5:$AC$51, 0), MATCH('Rotation Assembler'!M$38, Calcs!$AC$5:$AG$5, 0))","v":0},{"$f":"INDEX(Calcs!$AC$5:$AG$51, MATCH('Rotation Assembler'!$A55, Calcs!$AC$5:$AC$51, 0), MATCH('Rotation Assembler'!N$38, Calcs!$AC$5:$AG$5, 0))","v":0},{"$f":"INDEX(Calcs!$AC$5:$AG$51, MATCH('Rotation Assembler'!$A55, Calcs!$AC$5:$AC$51, 0), MATCH('Rotation Assembler'!O$38, Calcs!$AC$5:$AG$5, 0))","v":0},{"$f":"INDEX(Calcs!$AC$5:$AG$51, MATCH('Rotation Assembler'!$A55, Calcs!$AC$5:$AC$51, 0), MATCH('Rotation Assembler'!P$38, Calcs!$AC$5:$AG$5, 0))","v":0},{"$f":"INDEX(Calcs!$AC$5:$AG$51, MATCH('Rotation Assembler'!$A55, Calcs!$AC$5:$AC$51, 0), MATCH('Rotation Assembler'!Q$38, Calcs!$AC$5:$AG$5, 0))","v":0},{"$f":"INDEX(Calcs!$AC$5:$AG$51, MATCH('Rotation Assembler'!$A55, Calcs!$AC$5:$AC$51, 0), MATCH('Rotation Assembler'!R$38, Calcs!$AC$5:$AG$5, 0))","v":0},{"$f":"INDEX(Calcs!$AC$5:$AG$51, MATCH('Rotation Assembler'!$A55, Calcs!$AC$5:$AC$51, 0), MATCH('Rotation Assembler'!S$38, Calcs!$AC$5:$AG$5, 0))","v":0},{"$f":"INDEX(Calcs!$AC$5:$AG$51, MATCH('Rotation Assembler'!$A55, Calcs!$AC$5:$AC$51, 0), MATCH('Rotation Assembler'!T$38, Calcs!$AC$5:$AG$5, 0))","v":0},{"$f":"INDEX(Calcs!$AC$5:$AG$51, MATCH('Rotation Assembler'!$A55, Calcs!$AC$5:$AC$51, 0), MATCH('Rotation Assembler'!U$38, Calcs!$AC$5:$AG$5, 0))","v":0},null,{"$f":"INDEX(Calcs!$AC$5:$AG$51, MATCH('Rotation Assembler'!$A55, Calcs!$AC$5:$AC$51, 0), MATCH('Rotation Assembler'!W$38, Calcs!$AC$5:$AG$5, 0))","v":0},{"$f":"INDEX(Calcs!$AC$5:$AG$51, MATCH('Rotation Assembler'!$A55, Calcs!$AC$5:$AC$51, 0), MATCH('Rotation Assembler'!X$38, Calcs!$AC$5:$AG$5, 0))","v":0},{"$f":"INDEX(Calcs!$AC$5:$AG$51, MATCH('Rotation Assembler'!$A55, Calcs!$AC$5:$AC$51, 0), MATCH('Rotation Assembler'!Y$38, Calcs!$AC$5:$AG$5, 0))","v":0},{"$f":"INDEX(Calcs!$AC$5:$AG$51, MATCH('Rotation Assembler'!$A55, Calcs!$AC$5:$AC$51, 0), MATCH('Rotation Assembler'!Z$38, Calcs!$AC$5:$AG$5, 0))","v":0},{"$f":"INDEX(Calcs!$AC$5:$AG$51, MATCH('Rotation Assembler'!$A55, Calcs!$AC$5:$AC$51, 0), MATCH('Rotation Assembler'!AA$38, Calcs!$AC$5:$AG$5, 0))","v":0},{"$f":"INDEX(Calcs!$AC$5:$AG$51, MATCH('Rotation Assembler'!$A55, Calcs!$AC$5:$AC$51, 0), MATCH('Rotation Assembler'!AB$38, Calcs!$AC$5:$AG$5, 0))","v":0},{"$f":"INDEX(Calcs!$AC$5:$AG$51, MATCH('Rotation Assembler'!$A55, Calcs!$AC$5:$AC$51, 0), MATCH('Rotation Assembler'!AC$38, Calcs!$AC$5:$AG$5, 0))","v":0},{"$f":"INDEX(Calcs!$AC$5:$AG$51, MATCH('Rotation Assembler'!$A55, Calcs!$AC$5:$AC$51, 0), MATCH('Rotation Assembler'!AD$38, Calcs!$AC$5:$AG$5, 0))","v":0.46600000000000003},{"$f":"INDEX(Calcs!$AC$5:$AG$51, MATCH('Rotation Assembler'!$A55, Calcs!$AC$5:$AC$51, 0), MATCH('Rotation Assembler'!AE$38, Calcs!$AC$5:$AG$5, 0))","v":0},{"$f":"INDEX(Calcs!$AC$5:$AG$51, MATCH('Rotation Assembler'!$A55, Calcs!$AC$5:$AC$51, 0), MATCH('Rotation Assembler'!AF$38, Calcs!$AC$5:$AG$5, 0))","v":{"$error":"#N/A"}},{"$f":"INDEX(Calcs!$AC$5:$AG$51, MATCH('Rotation Assembler'!$A55, Calcs!$AC$5:$AC$51, 0), MATCH('Rotation Assembler'!AG$38, Calcs!$AC$5:$AG$5, 0))","v":{"$error":"#N/A"}},{"$f":"INDEX(Calcs!$AC$5:$AG$51, MATCH('Rotation Assembler'!$A55, Calcs!$AC$5:$AC$51, 0), MATCH('Rotation Assembler'!AH$38, Calcs!$AC$5:$AG$5, 0))","v":{"$error":"#N/A"}},{"$f":"INDEX(Calcs!$AC$5:$AG$51, MATCH('Rotation Assembler'!$A55, Calcs!$AC$5:$AC$51, 0), MATCH('Rotation Assembler'!AI$38, Calcs!$AC$5:$AG$5, 0))","v":{"$error":"#N/A"}},{"$f":"INDEX(Calcs!$AC$5:$AG$51, MATCH('Rotation Assembler'!$A55, Calcs!$AC$5:$AC$51, 0), MATCH('Rotation Assembler'!AJ$38, Calcs!$AC$5:$AG$5, 0))","v":{"$error":"#N/A"}},{"$f":"INDEX(Calcs!$AC$5:$AG$51, MATCH('Rotation Assembler'!$A55, Calcs!$AC$5:$AC$51, 0), MATCH('Rotation Assembler'!AK$38, Calcs!$AC$5:$AG$5, 0))","v":{"$error":"#N/A"}},{"$f":"INDEX(Calcs!$AC$5:$AG$51, MATCH('Rotation Assembler'!$A55, Calcs!$AC$5:$AC$51, 0), MATCH('Rotation Assembler'!AL$38, Calcs!$AC$5:$AG$5, 0))","v":{"$error":"#N/A"}},{"$f":"INDEX(Calcs!$AC$5:$AG$51, MATCH('Rotation Assembler'!$A55, Calcs!$AC$5:$AC$51, 0), MATCH('Rotation Assembler'!AM$38, Calcs!$AC$5:$AG$5, 0))","v":{"$error":"#N/A"}},{"$f":"INDEX(Calcs!$AC$5:$AG$51, MATCH('Rotation Assembler'!$A55, Calcs!$AC$5:$AC$51, 0), MATCH('Rotation Assembler'!AN$38, Calcs!$AC$5:$AG$5, 0))","v":{"$error":"#N/A"}},{"$f":"INDEX(Calcs!$AC$5:$AG$51, MATCH('Rotation Assembler'!$A55, Calcs!$AC$5:$AC$51, 0), MATCH('Rotation Assembler'!AO$38, Calcs!$AC$5:$AG$5, 0))","v":{"$error":"#N/A"}},{"$f":"INDEX(Calcs!$AC$5:$AG$51, MATCH('Rotation Assembler'!$A55, Calcs!$AC$5:$AC$51, 0), MATCH('Rotation Assembler'!AP$38, Calcs!$AC$5:$AG$5, 0))","v":{"$error":"#N/A"}},{"$f":"INDEX(Calcs!$AC$5:$AG$51, MATCH('Rotation Assembler'!$A55, Calcs!$AC$5:$AC$51, 0), MATCH('Rotation Assembler'!AQ$38, Calcs!$AC$5:$AG$5, 0))","v":{"$error":"#N/A"}},{"$f":"INDEX(Calcs!$AC$5:$AG$51, MATCH('Rotation Assembler'!$A55, Calcs!$AC$5:$AC$51, 0), MATCH('Rotation Assembler'!AR$38, Calcs!$AC$5:$AG$5, 0))","v":{"$error":"#N/A"}},{"$f":"INDEX(Calcs!$AC$5:$AG$51, MATCH('Rotation Assembler'!$A55, Calcs!$AC$5:$AC$51, 0), MATCH('Rotation Assembler'!AS$38, Calcs!$AC$5:$AG$5, 0))","v":{"$error":"#N/A"}},{"$f":"INDEX(Calcs!$AC$5:$AG$51, MATCH('Rotation Assembler'!$A55, Calcs!$AC$5:$AC$51, 0), MATCH('Rotation Assembler'!AT$38, Calcs!$AC$5:$AG$5, 0))","v":{"$error":"#N/A"}},{"$f":"INDEX(Calcs!$AC$5:$AG$51, MATCH('Rotation Assembler'!$A55, Calcs!$AC$5:$AC$51, 0), MATCH('Rotation Assembler'!AU$38, Calcs!$AC$5:$AG$5, 0))","v":{"$error":"#N/A"}},{"$f":"INDEX(Calcs!$AC$5:$AG$51, MATCH('Rotation Assembler'!$A55, Calcs!$AC$5:$AC$51, 0), MATCH('Rotation Assembler'!AV$38, Calcs!$AC$5:$AG$5, 0))","v":{"$error":"#N/A"}},{"$f":"INDEX(Calcs!$AC$5:$AG$51, MATCH('Rotation Assembler'!$A55, Calcs!$AC$5:$AC$51, 0), MATCH('Rotation Assembler'!AW$38, Calcs!$AC$5:$AG$5, 0))","v":{"$error":"#N/A"}},{"$f":"INDEX(Calcs!$AC$5:$AG$51, MATCH('Rotation Assembler'!$A55, Calcs!$AC$5:$AC$51, 0), MATCH('Rotation Assembler'!AX$38, Calcs!$AC$5:$AG$5, 0))","v":{"$error":"#N/A"}},{"$f":"INDEX(Calcs!$AC$5:$AG$51, MATCH('Rotation Assembler'!$A55, Calcs!$AC$5:$AC$51, 0), MATCH('Rotation Assembler'!AY$38, Calcs!$AC$5:$AG$5, 0))","v":{"$error":"#N/A"}},{"$f":"INDEX(Calcs!$AC$5:$AG$51, MATCH('Rotation Assembler'!$A55, Calcs!$AC$5:$AC$51, 0), MATCH('Rotation Assembler'!AZ$38, Calcs!$AC$5:$AG$5, 0))","v":{"$error":"#N/A"}},{"$f":"INDEX(Calcs!$AC$5:$AG$51, MATCH('Rotation Assembler'!$A55, Calcs!$AC$5:$AC$51, 0), MATCH('Rotation Assembler'!BA$38, Calcs!$AC$5:$AG$5, 0))","v":{"$error":"#N/A"}},{"$f":"INDEX(Calcs!$AC$5:$AG$51, MATCH('Rotation Assembler'!$A55, Calcs!$AC$5:$AC$51, 0), MATCH('Rotation Assembler'!BB$38, Calcs!$AC$5:$AG$5, 0))","v":{"$error":"#N/A"}},{"$f":"INDEX(Calcs!$AC$5:$AG$51, MATCH('Rotation Assembler'!$A55, Calcs!$AC$5:$AC$51, 0), MATCH('Rotation Assembler'!BC$38, Calcs!$AC$5:$AG$5, 0))","v":{"$error":"#N/A"}},{"$f":"INDEX(Calcs!$AC$5:$AG$51, MATCH('Rotation Assembler'!$A55, Calcs!$AC$5:$AC$51, 0), MATCH('Rotation Assembler'!BD$38, Calcs!$AC$5:$AG$5, 0))","v":{"$error":"#N/A"}},{"$f":"INDEX(Calcs!$AC$5:$AG$51, MATCH('Rotation Assembler'!$A55, Calcs!$AC$5:$AC$51, 0), MATCH('Rotation Assembler'!BE$38, Calcs!$AC$5:$AG$5, 0))","v":{"$error":"#N/A"}},{"$f":"INDEX(Calcs!$AC$5:$AG$51, MATCH('Rotation Assembler'!$A55, Calcs!$AC$5:$AC$51, 0), MATCH('Rotation Assembler'!BF$38, Calcs!$AC$5:$AG$5, 0))","v":{"$error":"#N/A"}}]
["Electro DMG%",{"$f":"INDEX(Calcs!$AC$5:$AG$51, MATCH('Rotation Assembler'!$A56, Calcs!$AC$5:$AC$51, 0), MATCH('Rotation Assembler'!B$38, Calcs!$AC$5:$AG$5, 0))","v":0},{"$f":"INDEX(Calcs!$AC$5:$AG$51, MATCH('Rotation Assembler'!$A56, Calcs!$AC$5:$AC$51, 0), MATCH('Rotation Assembler'!C$38, Calcs!$AC$5:$AG$5, 0))","v":0},{"$f":"INDEX(Calcs!$AC$5:$AG$51, MATCH('Rotation Assembler'!$A56, Calcs!$AC$5:$AC$51, 0), MATCH('Rotation Assembler'!D$38, Calcs!$AC$5:$AG$5, 0))","v":0},{"$f":"INDEX(Calcs!$AC$5:$AG$51, MATCH('Rotation Assembler'!$A56, Calcs!$AC$5:$AC$51, 0), MATCH('Rotation Assembler'!E$38, Calcs!$AC$5:$AG$5, 0))","v":0},{"$f":"INDEX(Calcs!$AC$5:$AG$51, MATCH('Rotation Assembler'!$A56, Calcs!$AC$5:$AC$51, 0), MATCH('Rotation Assembler'!F$38, Calcs!$AC$5:$AG$5, 0))","v":0},{"$f":"INDEX(Calcs!$AC$5:$AG$51, MATCH('Rotation Assembler'!$A56, Calcs!$AC$5:$AC$51, 0), MATCH('Rotation Assembler'!G$38, Calcs!$AC$5:$AG$5, 0))","v":0},{"$f":"INDEX(Calcs!$AC$5:$AG$51, MATCH('Rotation Assembler'!$A56, Calcs!$AC$5:$AC$51, 0), MATCH('Rotation Assembler'!H$38, Calcs!$AC$5:$AG$5, 0))","v":0},{"$f":"INDEX(Calcs!$AC$5:$AG$51, MATCH('Rotation Assembler'!$A56, Calcs!$AC$5:$AC$51, 0), MATCH('Rotation Assembler'!I$38, Calcs!$AC$5:$AG$5, 0))","v":0},{"$f":"INDEX(Calcs!$AC$5:$AG$51, MATCH('Rotation Assembler'!$A56, Calcs!$AC$5:$AC$51, 0), MATCH('Rotation Assembler'!J$38, Calcs!$AC$5:$AG$5, 0))","v":0},{"$f":"INDEX(Calcs!$AC$5:$AG$51, MATCH('Rotation Assembler'!$A56, Calcs!$AC$5:$AC$51, 0), MATCH('Rotation Assembler'!K$38, Calcs!$AC$5:$AG$5, 0))","v":0},{"$f":"INDEX(Calcs!$AC$5:$AG$51, MATCH('Rotation Assembler'!$A56, Calcs!$AC$5:$AC$51, 0), MATCH('Rotation Assembler'!L$38, Calcs!$AC$5:$AG$5, 0))","v":0},{"$f":"INDEX(Calcs!$AC$5:$AG$51, MATCH('Rotation Assembler'!$A56, Calcs!$AC$5:$AC$51, 0), MATCH('Rotation Assembler'!M$38, Calcs!$AC$5:$AG$5, 0))","v":0},{"$f":"INDEX(Calcs!$AC$5:$AG$51, MATCH('Rotation Assembler'!$A56, Calcs!$AC$5:$AC$51, 0), MATCH('Rotation Assembler'!N$38, Calcs!$AC$5:$AG$5, 0))","v":0},{"$f":"INDEX(Calcs!$AC$5:$AG$51, MATCH('Rotation Assembler'!$A56, Calcs!$AC$5:$AC$51, 0), MATCH('Rotation Assembler'!O$38, Calcs!$AC$5:$AG$5, 0))","v":0},{"$f":"INDEX(Calcs!$AC$5:$AG$51, MATCH('Rotation Assembler'!$A56, Calcs!$AC$5:$AC$51, 0), MATCH('Rotation Assembler'!P$38, Calcs!$AC$5:$AG$5, 0))","v":0},{"$f":"INDEX(Calcs!$AC$5:$AG$51, MATCH('Rotation Assembler'!$A56, Calcs!$AC$5:$AC$51, 0), MATCH('Rotation Assembler'!Q$38, Calcs!$AC$5:$AG$5, 0))","v":0},{"$f":"INDEX(Calcs!$AC$5:$AG$51, MATCH('Rotation Assembler'!$A56, Calcs!$AC$5:$AC$51, 0), MATCH('Rotation Assembler'!R$38, Calcs!$AC$5:$AG$5, 0))","v":0},{"$f":"INDEX(Calcs!$AC$5:$AG$51, MATCH('Rotation Assembler'!$A56, Calcs!$AC$5:$AC$51, 0), MATCH('Rotation Assembler'!S$38, Calcs!$AC$5:$AG$5, 0))","v":0},{"$f":"INDEX(Calcs!$AC$5:$AG$51, MATCH('Rotation Assembler'!$A56, Calcs!$AC$5:$AC$51, 0), MATCH('Rotation Assembler'!T$38, Calcs!$AC$5:$AG$5, 0))","v":0},{"$f":"INDEX(Calcs!$AC$5:$AG$51, MATCH('Rotation Assembler'!$A56, Calcs!$AC$5:$AC$51, 0), MATCH('Rotation Assembler'!U$38, Calcs!$AC$5:$AG$5, 0))","v":0},null,{"$f":"INDEX(Calcs!$AC$5:$AG$51, MATCH('Rotation Assembler'!$A56, Calcs!$AC$5:$AC$51, 0), MATCH('Rotation Assembler'!W$38, Calcs!$AC$5:$AG$5, 0))","v":0},{"$f":"INDEX(Calcs!$AC$5:$AG$51, MATCH('Rotation Assembler'!$A56, Calcs!$AC$5:$AC$51, 0), MATCH('Rotation Assembler'!X$38, Calcs!$AC$5:$AG$5, 0))","v":0},{"$f":"INDEX(Calcs!$AC$5:$AG$51, MATCH('Rotation Assembler'!$A56, Calcs!$AC$5:$AC$51, 0), MATCH('Rotation Assembler'!Y$38, Calcs!$AC$5:$AG$5, 0))","v":0},{"$f":"INDEX(Calcs!$AC$5:$AG$51, MATCH('Rotation Assembler'!$A56, Calcs!$AC$5:$AC$51, 0), MATCH('Rotation Assembler'!Z$38, Calcs!$AC$5:$AG$5, 0))","v":0},{"$f":"INDEX(Calcs!$AC$5:$AG$51, MATCH('Rotation Assembler'!$A56, Calcs!$AC$5:$AC$51, 0), MATCH('Rotation Assembler'!AA$38, Calcs!$AC$5:$AG$5, 0))","v":0},{"$f":"INDEX(Calcs!$AC$5:$AG$51, MATCH('Rotation Assembler'!$A56, Calcs!$AC$5:$AC$51, 0), MATCH('Rotation Assembler'!AB$38, Calcs!$AC$5:$AG$5, 0))","v":0},{"$f":"INDEX(Calcs!$AC$5:$AG$51, MATCH('Rotation Assembler'!$A56, Calcs!$AC$5:$AC$51, 0), MATCH('Rotation Assembler'!AC$38, Calcs!$AC$5:$AG$5, 0))","v":0},{"$f":"INDEX(Calcs!$AC$5:$AG$51, MATCH('Rotation Assembler'!$A56, Calcs!$AC$5:$AC$51, 0), MATCH('Rotation Assembler'!AD$38, Calcs!$AC$5:$AG$5, 0))","v":0},{"$f":"INDEX(Calcs!$AC$5:$AG$51, MATCH('Rotation Assembler'!$A56, Calcs!$AC$5:$AC$51, 0), MATCH('Rotation Assembler'!AE$38, Calcs!$AC$5:$AG$5, 0))","v":0},{"$f":"INDEX(Calcs!$AC$5:$AG$51, MATCH('Rotation Assembler'!$A56, Calcs!$AC$5:$AC$51, 0), MATCH('Rotation Assembler'!AF$38, Calcs!$AC$5:$AG$5, 0))","v":{"$error":"#N/A"}},{"$f":"INDEX(Calcs!$AC$5:$AG$51, MATCH('Rotation Assembler'!$A56, Calcs!$AC$5:$AC$51, 0), MATCH('Rotation Assembler'!AG$38, Calcs!$AC$5:$AG$5, 0))","v":{"$error":"#N/A"}},{"$f":"INDEX(Calcs!$AC$5:$AG$51, MATCH('Rotation Assembler'!$A56, Calcs!$AC$5:$AC$51, 0), MATCH('Rotation Assembler'!AH$38, Calcs!$AC$5:$AG$5, 0))","v":{"$error":"#N/A"}},{"$f":"INDEX(Calcs!$AC$5:$AG$51, MATCH('Rotation Assembler'!$A56, Calcs!$AC$5:$AC$51, 0), MATCH('Rotation Assembler'!AI$38, Calcs!$AC$5:$AG$5, 0))","v":{"$error":"#N/A"}},{"$f":"INDEX(Calcs!$AC$5:$AG$51, MATCH('Rotation Assembler'!$A56, Calcs!$AC$5:$AC$51, 0), MATCH('Rotation Assembler'!AJ$38, Calcs!$AC$5:$AG$5, 0))","v":{"$error":"#N/A"}},{"$f":"INDEX(Calcs!$AC$5:$AG$51, MATCH('Rotation Assembler'!$A56, Calcs!$AC$5:$AC$51, 0), MATCH('Rotation Assembler'!AK$38, Calcs!$AC$5:$AG$5, 0))","v":{"$error":"#N/A"}},{"$f":"INDEX(Calcs!$AC$5:$AG$51, MATCH('Rotation Assembler'!$A56, Calcs!$AC$5:$AC$51, 0), MATCH('Rotation Assembler'!AL$38, Calcs!$AC$5:$AG$5, 0))","v":{"$error":"#N/A"}},{"$f":"INDEX(Calcs!$AC$5:$AG$51, MATCH('Rotation Assembler'!$A56, Calcs!$AC$5:$AC$51, 0), MATCH('Rotation Assembler'!AM$38, Calcs!$AC$5:$AG$5, 0))","v":{"$error":"#N/A"}},{"$f":"INDEX(Calcs!$AC$5:$AG$51, MATCH('Rotation Assembler'!$A56, Calcs!$AC$5:$AC$51, 0), MATCH('Rotation Assembler'!AN$38, Calcs!$AC$5:$AG$5, 0))","v":{"$error":"#N/A"}},{"$f":"INDEX(Calcs!$AC$5:$AG$51, MATCH('Rotation Assembler'!$A56, Calcs!$AC$5:$AC$51, 0), MATCH('Rotation Assembler'!AO$38, Calcs!$AC$5:$AG$5, 0))","v":{"$error":"#N/A"}},{"$f":"INDEX(Calcs!$AC$5:$AG$51, MATCH('Rotation Assembler'!$A56, Calcs!$AC$5:$AC$51, 0), MATCH('Rotation Assembler'!AP$38, Calcs!$AC$5:$AG$5, 0))","v":{"$error":"#N/A"}},{"$f":"INDEX(Calcs!$AC$5:$AG$51, MATCH('Rotation Assembler'!$A56, Calcs!$AC$5:$AC$51, 0), MATCH('Rotation Assembler'!AQ$38, Calcs!$AC$5:$AG$5, 0))","v":{"$error":"#N/A"}},{"$f":"INDEX(Calcs!$AC$5:$AG$51, MATCH('Rotation Assembler'!$A56, Calcs!$AC$5:$AC$51, 0), MATCH('Rotation Assembler'!AR$38, Calcs!$AC$5:$AG$5, 0))","v":{"$error":"#N/A"}},{"$f":"INDEX(Calcs!$AC$5:$AG$51, MATCH('Rotation Assembler'!$A56, Calcs!$AC$5:$AC$51, 0), MATCH('Rotation Assembler'!AS$38, Calcs!$AC$5:$AG$5, 0))","v":{"$error":"#N/A"}},{"$f":"INDEX(Calcs!$AC$5:$AG$51, MATCH('Rotation Assembler'!$A56, Calcs!$AC$5:$AC$51, 0), MATCH('Rotation Assembler'!AT$38, Calcs!$AC$5:$AG$5, 0))","v":{"$error":"#N/A"}},{"$f":"INDEX(Calcs!$AC$5:$AG$51, MATCH('Rotation Assembler'!$A56, Calcs!$AC$5:$AC$51, 0), MATCH('Rotation Assembler'!AU$38, Calcs!$AC$5:$AG$5, 0))","v":{"$error":"#N/A"}},{"$f":"INDEX(Calcs!$AC$5:$AG$51, MATCH('Rotation Assembler'!$A56, Calcs!$AC$5:$AC$51, 0), MATCH('Rotation Assembler'!AV$38, Calcs!$AC$5:$AG$5, 0))","v":{"$error":"#N/A"}},{"$f":"INDEX(Calcs!$AC$5:$AG$51, MATCH('Rotation Assembler'!$A56, Calcs!$AC$5:$AC$51, 0), MATCH('Rotation Assembler'!AW$38, Calcs!$AC$5:$AG$5, 0))","v":{"$error":"#N/A"}},{"$f":"INDEX(Calcs!$AC$5:$AG$51, MATCH('Rotation Assembler'!$A56, Calcs!$AC$5:$AC$51, 0), MATCH('Rotation Assembler'!AX$38, Calcs!$AC$5:$AG$5, 0))","v":{"$error":"#N/A"}},{"$f":"INDEX(Calcs!$AC$5:$AG$51, MATCH('Rotation Assembler'!$A56, Calcs!$AC$5:$AC$51, 0), MATCH('Rotation Assembler'!AY$38, Calcs!$AC$5:$AG$5, 0))","v":{"$error":"#N/A"}},{"$f":"INDEX(Calcs!$AC$5:$AG$51, MATCH('Rotation Assembler'!$A56, Calcs!$AC$5:$AC$51, 0), MATCH('Rotation Assembler'!AZ$38, Calcs!$AC$5:$AG$5, 0))","v":{"$error":"#N/A"}},{"$f":"INDEX(Calcs!$AC$5:$AG$51, MATCH('Rotation Assembler'!$A56, Calcs!$AC$5:$AC$51, 0), MATCH('Rotation Assembler'!BA$38, Calcs!$AC$5:$AG$5, 0))","v":{"$error":"#N/A"}},{"$f":"INDEX(Calcs!$AC$5:$AG$51, MATCH('Rotation Assembler'!$A56, Calcs!$AC$5:$AC$51, 0), MATCH('Rotation Assembler'!BB$38, Calcs!$AC$5:$AG$5, 0))","v":{"$error":"#N/A"}},{"$f":"INDEX(Calcs!$AC$5:$AG$51, MATCH('Rotation Assembler'!$A56, Calcs!$AC$5:$AC$51, 0), MATCH('Rotation Assembler'!BC$38, Calcs!$AC$5:$AG$5, 0))","v":{"$error":"#N/A"}},{"$f":"INDEX(Calcs!$AC$5:$AG$51, MATCH('Rotation Assembler'!$A56, Calcs!$AC$5:$AC$51, 0), MATCH('Rotation Assembler'!BD$38, Calcs!$AC$5:$AG$5, 0))","v":{"$error":"#N/A"}},{"$f":"INDEX(Calcs!$AC$5:$AG$51, MATCH('Rotation Assembler'!$A56, Calcs!$AC$5:$AC$51, 0), MATCH('Rotation Assembler'!BE$38, Calcs!$AC$5:$AG$5, 0))","v":{"$error":"#N/A"}},{"$f":"INDEX(Calcs!$AC$5:$AG$51, MATCH('Rotation Assembler'!$A56, Calcs!$AC$5:$AC$51, 0), MATCH('Rotation Assembler'!BF$38, Calcs!$AC$5:$AG$5, 0))","v":{"$error":"#N/A"}}]
["Normal DMG%",{"$f":"INDEX(Calcs!$AC$5:$AG$51, MATCH('Rotation Assembler'!$A57, Calcs!$AC$5:$AC$51, 0), MATCH('Rotation Assembler'!B$38, Calcs!$AC$5:$AG$5, 0))","v":0},{"$f":"INDEX(Calcs!$AC$5:$AG$51, MATCH('Rotation Assembler'!$A57, Calcs!$AC$5:$AC$51, 0), MATCH('Rotation Assembler'!C$38, Calcs!$AC$5:$AG$5, 0))","v":0},{"$f":"INDEX(Calcs!$AC$5:$AG$51, MATCH('Rotation Assembler'!$A57, Calcs!$AC$5:$AC$51, 0), MATCH('Rotation Assembler'!D$38, Calcs!$AC$5:$AG$5, 0))","v":0},{"$f":"INDEX(Calcs!$AC$5:$AG$51, MATCH('Rotation Assembler'!$A57, Calcs!$AC$5:$AC$51, 0), MATCH('Rotation Assembler'!E$38, Calcs!$AC$5:$AG$5, 0))","v":0},{"$f":"INDEX(Calcs!$AC$5:$AG$51, MATCH('Rotation Assembler'!$A57, Calcs!$AC$5:$AC$51, 0), MATCH('Rotation Assembler'!F$38, Calcs!$AC$5:$AG$5, 0))","v":0},{"$f":"INDEX(Calcs!$AC$5:$AG$51, MATCH('Rotation Assembler'!$A57, Calcs!$AC$5:$AC$51, 0), MATCH('Rotation Assembler'!G$38, Calcs!$AC$5:$AG$5, 0))","v":0},{"$f":"INDEX(Calcs!$AC$5:$AG$51, MATCH('Rotation Assembler'!$A57, Calcs!$AC$5:$AC$51, 0), MATCH('Rotation Assembler'!H$38, Calcs!$AC$5:$AG$5, 0))","v":0},{"$f":"INDEX(Calcs!$AC$5:$AG$51, MATCH('Rotation Assembler'!$A57, Calcs!$AC$5:$AC$51, 0), MATCH('Rotation Assembler'!I$38, Calcs!$AC$5:$AG$5, 0))","v":0},{"$f":"INDEX(Calcs!$AC$5:$AG$51, MATCH('Rotation Assembler'!$A57, Calcs!$AC$5:$AC$51, 0), MATCH('Rotation Assembler'!J$38, Calcs!$AC$5:$AG$5, 0))","v":0},{"$f":"INDEX(Calcs!$AC$5:$AG$51, MATCH('Rotation Assembler'!$A57, Calcs!$AC$5:$AC$51, 0), MATCH('Rotation Assembler'!K$38, Calcs!$AC$5:$AG$5, 0))","v":0},{"$f":"INDEX(Calcs!$AC$5:$AG$51, MATCH('Rotation Assembler'!$A57, Calcs!$AC$5:$AC$51, 0), MATCH('Rotation Assembler'!L$38, Calcs!$AC$5:$AG$5, 0))","v":0},{"$f":"INDEX(Calcs!$AC$5:$AG$51, MATCH('Rotation Assembler'!$A57, Calcs!$AC$5:$AC$51, 0), MATCH('Rotation Assembler'!M$38, Calcs!$AC$5:$AG$5, 0))","v":0},{"$f":"INDEX(Calcs!$AC$5:$AG$51, MATCH('Rotation Assembler'!$A57, Calcs!$AC$5:$AC$51, 0), MATCH('Rotation Assembler'!N$38, Calcs!$AC$5:$AG$5, 0))","v":0},{"$f":"INDEX(Calcs!$AC$5:$AG$51, MATCH('Rotation Assembler'!$A57, Calcs!$AC$5:$AC$51, 0), MATCH('Rotation Assembler'!O$38, Calcs!$AC$5:$AG$5, 0))","v":0},{"$f":"INDEX(Calcs!$AC$5:$AG$51, MATCH('Rotation Assembler'!$A57, Calcs!$AC$5:$AC$51, 0), MATCH('Rotation Assembler'!P$38, Calcs!$AC$5:$AG$5, 0))","v":0},{"$f":"INDEX(Calcs!$AC$5:$AG$51, MATCH('Rotation Assembler'!$A57, Calcs!$AC$5:$AC$51, 0), MATCH('Rotation Assembler'!Q$38, Calcs!$AC$5:$AG$5, 0))","v":0},{"$f":"INDEX(Calcs!$AC$5:$AG$51, MATCH('Rotation Assembler'!$A57, Calcs!$AC$5:$AC$51, 0), MATCH('Rotation Assembler'!R$38, Calcs!$AC$5:$AG$5, 0))","v":0},{"$f":"INDEX(Calcs!$AC$5:$AG$51, MATCH('Rotation Assembler'!$A57, Calcs!$AC$5:$AC$51, 0), MATCH('Rotation Assembler'!S$38, Calcs!$AC$5:$AG$5, 0))","v":0},{"$f":"INDEX(Calcs!$AC$5:$AG$51, MATCH('Rotation Assembler'!$A57, Calcs!$AC$5:$AC$51, 0), MATCH('Rotation Assembler'!T$38, Calcs!$AC$5:$AG$5, 0))","v":0},{"$f":"INDEX(Calcs!$AC$5:$AG$51, MATCH('Rotation Assembler'!$A57, Calcs!$AC$5:$AC$51, 0), MATCH('Rotation Assembler'!U$38, Calcs!$AC$5:$AG$5, 0))","v":0},null,{"$f":"INDEX(Calcs!$AC$5:$AG$51, MATCH('Rotation Assembler'!$A57, Calcs!$AC$5:$AC$51, 0), MATCH('Rotation Assembler'!W$38, Calcs!$AC$5:$AG$5, 0))","v":0},{"$f":"INDEX(Calcs!$AC$5:$AG$51, MATCH('Rotation Assembler'!$A57, Calcs!$AC$5:$AC$51, 0), MATCH('Rotation Assembler'!X$38, Calcs!$AC$5:$AG$5, 0))","v":0},{"$f":"INDEX(Calcs!$AC$5:$AG$51, MATCH('Rotation Assembler'!$A57, Calcs!$AC$5:$AC$51, 0), MATCH('Rotation Assembler'!Y$38, Calcs!$AC$5:$AG$5, 0))","v":0},{"$f":"INDEX(Calcs!$AC$5:$AG$51, MATCH('Rotation Assembler'!$A57, Calcs!$AC$5:$AC$51, 0), MATCH('Rotation Assembler'!Z$38, Calcs!$AC$5:$AG$5, 0))","v":0},{"$f":"INDEX(Calcs!$AC$5:$AG$51, MATCH('Rotation Assembler'!$A57, Calcs!$AC$5:$AC$51, 0), MATCH('Rotation Assembler'!AA$38, Calcs!$AC$5:$AG$5, 0))","v":0},{"$f":"INDEX(Calcs!$AC$5:$AG$51, MATCH('Rotation Assembler'!$A57, Calcs!$AC$5:$AC$51, 0), MATCH('Rotation Assembler'!AB$38, Calcs!$AC$5:$AG$5, 0))","v":0},{"$f":"INDEX(Calcs!$AC$5:$AG$51, MATCH('Rotation Assembler'!$A57, Calcs!$AC$5:$AC$51, 0), MATCH('Rotation Assembler'!AC$38, Calcs!$AC$5:$AG$5, 0))","v":0},{"$f":"INDEX(Calcs!$AC$5:$AG$51, MATCH('Rotation Assembler'!$A57, Calcs!$AC$5:$AC$51, 0), MATCH('Rotation Assembler'!AD$38, Calcs!$AC$5:$AG$5, 0))","v":0},{"$f":"INDEX(Calcs!$AC$5:$AG$51, MATCH('Rotation Assembler'!$A57, Calcs!$AC$5:$AC$51, 0), MATCH('Rotation Assembler'!AE$38, Calcs!$AC$5:$AG$5, 0))","v":0},{"$f":"INDEX(Calcs!$AC$5:$AG$51, MATCH('Rotation Assembler'!$A57, Calcs!$AC$5:$AC$51, 0), MATCH('Rotation Assembler'!AF$38, Calcs!$AC$5:$AG$5, 0))","v":{"$error":"#N/A"}},{"$f":"INDEX(Calcs!$AC$5:$AG$51, MATCH('Rotation Assembler'!$A57, Calcs!$AC$5:$AC$51, 0), MATCH('Rotation Assembler'!AG$38, Calcs!$AC$5:$AG$5, 0))","v":{"$error":"#N/A"}},{"$f":"INDEX(Calcs!$AC$5:$AG$51, MATCH('Rotation Assembler'!$A57, Calcs!$AC$5:$AC$51, 0), MATCH('Rotation Assembler'!AH$38, Calcs!$AC$5:$AG$5, 0))","v":{"$error":"#N/A"}},{"$f":"INDEX(Calcs!$AC$5:$AG$51, MATCH('Rotation Assembler'!$A57, Calcs!$AC$5:$AC$51, 0), MATCH('Rotation Assembler'!AI$38, Calcs!$AC$5:$AG$5, 0))","v":{"$error":"#N/A"}},{"$f":"INDEX(Calcs!$AC$5:$AG$51, MATCH('Rotation Assembler'!$A57, Calcs!$AC$5:$AC$51, 0), MATCH('Rotation Assembler'!AJ$38, Calcs!$AC$5:$AG$5, 0))","v":{"$error":"#N/A"}},{"$f":"INDEX(Calcs!$AC$5:$AG$51, MATCH('Rotation Assembler'!$A57, Calcs!$AC$5:$AC$51, 0), MATCH('Rotation Assembler'!AK$38, Calcs!$AC$5:$AG$5, 0))","v":{"$error":"#N/A"}},{"$f":"INDEX(Calcs!$AC$5:$AG$51, MATCH('Rotation Assembler'!$A57, Calcs!$AC$5:$AC$51, 0), MATCH('Rotation Assembler'!AL$38, Calcs!$AC$5:$AG$5, 0))","v":{"$error":"#N/A"}},{"$f":"INDEX(Calcs!$AC$5:$AG$51, MATCH('Rotation Assembler'!$A57, Calcs!$AC$5:$AC$51, 0), MATCH('Rotation Assembler'!AM$38, Calcs!$AC$5:$AG$5, 0))","v":{"$error":"#N/A"}},{"$f":"INDEX(Calcs!$AC$5:$AG$51, MATCH('Rotation Assembler'!$A57, Calcs!$AC$5:$AC$51, 0), MATCH('Rotation Assembler'!AN$38, Calcs!$AC$5:$AG$5, 0))","v":{"$error":"#N/A"}},{"$f":"INDEX(Calcs!$AC$5:$AG$51, MATCH('Rotation Assembler'!$A57, Calcs!$AC$5:$AC$51, 0), MATCH('Rotation Assembler'!AO$38, Calcs!$AC$5:$AG$5, 0))","v":{"$error":"#N/A"}},{"$f":"INDEX(Calcs!$AC$5:$AG$51, MATCH('Rotation Assembler'!$A57, Calcs!$AC$5:$AC$51, 0), MATCH('Rotation Assembler'!AP$38, Calcs!$AC$5:$AG$5, 0))","v":{"$error":"#N/A"}},{"$f":"INDEX(Calcs!$AC$5:$AG$51, MATCH('Rotation Assembler'!$A57, Calcs!$AC$5:$AC$51, 0), MATCH('Rotation Assembler'!AQ$38, Calcs!$AC$5:$AG$5, 0))","v":{"$error":"#N/A"}},{"$f":"INDEX(Calcs!$AC$5:$AG$51, MATCH('Rotation Assembler'!$A57, Calcs!$AC$5:$AC$51, 0), MATCH('Rotation Assembler'!AR$38, Calcs!$AC$5:$AG$5, 0))","v":{"$error":"#N/A"}},{"$f":"INDEX(Calcs!$AC$5:$AG$51, MATCH('Rotation Assembler'!$A57, Calcs!$AC$5:$AC$51, 0), MATCH('Rotation Assembler'!AS$38, Calcs!$AC$5:$AG$5, 0))","v":{"$error":"#N/A"}},{"$f":"INDEX(Calcs!$AC$5:$AG$51, MATCH('Rotation Assembler'!$A57, Calcs!$AC$5:$AC$51, 0), MATCH('Rotation Assembler'!AT$38, Calcs!$AC$5:$AG$5, 0))","v":{"$error":"#N/A"}},{"$f":"INDEX(Calcs!$AC$5:$AG$51, MATCH('Rotation Assembler'!$A57, Calcs!$AC$5:$AC$51, 0), MATCH('Rotation Assembler'!AU$38, Calcs!$AC$5:$AG$5, 0))","v":{"$error":"#N/A"}},{"$f":"INDEX(Calcs!$AC$5:$AG$51, MATCH('Rotation Assembler'!$A57, Calcs!$AC$5:$AC$51, 0), MATCH('Rotation Assembler'!AV$38, Calcs!$AC$5:$AG$5, 0))","v":{"$error":"#N/A"}},{"$f":"INDEX(Calcs!$AC$5:$AG$51, MATCH('Rotation Assembler'!$A57, Calcs!$AC$5:$AC$51, 0), MATCH('Rotation Assembler'!AW$38, Calcs!$AC$5:$AG$5, 0))","v":{"$error":"#N/A"}},{"$f":"INDEX(Calcs!$AC$5:$AG$51, MATCH('Rotation Assembler'!$A57, Calcs!$AC$5:$AC$51, 0), MATCH('Rotation Assembler'!AX$38, Calcs!$AC$5:$AG$5, 0))","v":{"$error":"#N/A"}},{"$f":"INDEX(Calcs!$AC$5:$AG$51, MATCH('Rotation Assembler'!$A57, Calcs!$AC$5:$AC$51, 0), MATCH('Rotation Assembler'!AY$38, Calcs!$AC$5:$AG$5, 0))","v":{"$error":"#N/A"}},{"$f":"INDEX(Calcs!$AC$5:$AG$51, MATCH('Rotation Assembler'!$A57, Calcs!$AC$5:$AC$51, 0), MATCH('Rotation Assembler'!AZ$38, Calcs!$AC$5:$AG$5, 0))","v":{"$error":"#N/A"}},{"$f":"INDEX(Calcs!$AC$5:$AG$51, MATCH('Rotation Assembler'!$A57, Calcs!$AC$5:$AC$51, 0), MATCH('Rotation Assembler'!BA$38, Calcs!$AC$5:$AG$5, 0))","v":{"$error":"#N/A"}},{"$f":"INDEX(Calcs!$AC$5:$AG$51, MATCH('Rotation Assembler'!$A57, Calcs!$AC$5:$AC$51, 0), MATCH('Rotation Assembler'!BB$38, Calcs!$AC$5:$AG$5, 0))","v":{"$error":"#N/A"}},{"$f":"INDEX(Calcs!$AC$5:$AG$51, MATCH('Rotation Assembler'!$A57, Calcs!$AC$5:$AC$51, 0), MATCH('Rotation Assembler'!BC$38, Calcs!$AC$5:$AG$5, 0))","v":{"$error":"#N/A"}},{"$f":"INDEX(Calcs!$AC$5:$AG$51, MATCH('Rotation Assembler'!$A57, Calcs!$AC$5:$AC$51, 0), MATCH('Rotation Assembler'!BD$38, Calcs!$AC$5:$AG$5, 0))","v":{"$error":"#N/A"}},{"$f":"INDEX(Calcs!$AC$5:$AG$51, MATCH('Rotation Assembler'!$A57, Calcs!$AC$5:$AC$51, 0), MATCH('Rotation Assembler'!BE$38, Calcs!$AC$5:$AG$5, 0))","v":{"$error":"#N/A"}},{"$f":"INDEX(Calcs!$AC$5:$AG$51, MATCH('Rotation Assembler'!$A57, Calcs!$AC$5:$AC$51, 0), MATCH('Rotation Assembler'!BF$38, Calcs!$AC$5:$AG$5, 0))","v":{"$error":"#N/A"}}]
["Charged DMG%",{"$f":"INDEX(Calcs!$AC$5:$AG$51, MATCH('Rotation Assembler'!$A58, Calcs!$AC$5:$AC$51, 0), MATCH('Rotation Assembler'!B$38, Calcs!$AC$5:$AG$5, 0))","v":0},{"$f":"INDEX(Calcs!$AC$5:$AG$51, MATCH('Rotation Assembler'!$A58, Calcs!$AC$5:$AC$51, 0), MATCH('Rotation Assembler'!C$38, Calcs!$AC$5:$AG$5, 0))","v":0},{"$f":"INDEX(Calcs!$AC$5:$AG$51, MATCH('Rotation Assembler'!$A58, Calcs!$AC$5:$AC$51, 0), MATCH('Rotation Assembler'!D$38, Calcs!$AC$5:$AG$5, 0))","v":0},{"$f":"INDEX(Calcs!$AC$5:$AG$51, MATCH('Rotation Assembler'!$A58, Calcs!$AC$5:$AC$51, 0), MATCH('Rotation Assembler'!E$38, Calcs!$AC$5:$AG$5, 0))","v":0},{"$f":"INDEX(Calcs!$AC$5:$AG$51, MATCH('Rotation Assembler'!$A58, Calcs!$AC$5:$AC$51, 0), MATCH('Rotation Assembler'!F$38, Calcs!$AC$5:$AG$5, 0))","v":0},{"$f":"INDEX(Calcs!$AC$5:$AG$51, MATCH('Rotation Assembler'!$A58, Calcs!$AC$5:$AC$51, 0), MATCH('Rotation Assembler'!G$38, Calcs!$AC$5:$AG$5, 0))","v":0},{"$f":"INDEX(Calcs!$AC$5:$AG$51, MATCH('Rotation Assembler'!$A58, Calcs!$AC$5:$AC$51, 0), MATCH('Rotation Assembler'!H$38, Calcs!$AC$5:$AG$5, 0))","v":0},{"$f":"INDEX(Calcs!$AC$5:$AG$51, MATCH('Rotation Assembler'!$A58, Calcs!$AC$5:$AC$51, 0), MATCH('Rotation Assembler'!I$38, Calcs!$AC$5:$AG$5, 0))","v":0},{"$f":"INDEX(Calcs!$AC$5:$AG$51, MATCH('Rotation Assembler'!$A58, Calcs!$AC$5:$AC$51, 0), MATCH('Rotation Assembler'!J$38, Calcs!$AC$5:$AG$5, 0))","v":0},{"$f":"INDEX(Calcs!$AC$5:$AG$51, MATCH('Rotation Assembler'!$A58, Calcs!$AC$5:$AC$51, 0), MATCH('Rotation Assembler'!K$38, Calcs!$AC$5:$AG$5, 0))","v":0},{"$f":"INDEX(Calcs!$AC$5:$AG$51, MATCH('Rotation Assembler'!$A58, Calcs!$AC$5:$AC$51, 0), MATCH('Rotation Assembler'!L$38, Calcs!$AC$5:$AG$5, 0))","v":0},{"$f":"INDEX(Calcs!$AC$5:$AG$51, MATCH('Rotation Assembler'!$A58, Calcs!$AC$5:$AC$51, 0), MATCH('Rotation Assembler'!M$38, Calcs!$AC$5:$AG$5, 0))","v":0},{"$f":"INDEX(Calcs!$AC$5:$AG$51, MATCH('Rotation Assembler'!$A58, Calcs!$AC$5:$AC$51, 0), MATCH('Rotation Assembler'!N$38, Calcs!$AC$5:$AG$5, 0))","v":0},{"$f":"INDEX(Calcs!$AC$5:$AG$51, MATCH('Rotation Assembler'!$A58, Calcs!$AC$5:$AC$51, 0), MATCH('Rotation Assembler'!O$38, Calcs!$AC$5:$AG$5, 0))","v":0},{"$f":"INDEX(Calcs!$AC$5:$AG$51, MATCH('Rotation Assembler'!$A58, Calcs!$AC$5:$AC$51, 0), MATCH('Rotation Assembler'!P$38, Calcs!$AC$5:$AG$5, 0))","v":0},{"$f":"INDEX(Calcs!$AC$5:$AG$51, MATCH('Rotation Assembler'!$A58, Calcs!$AC$5:$AC$51, 0), MATCH('Rotation Assembler'!Q$38, Calcs!$AC$5:$AG$5, 0))","v":0},{"$f":"INDEX(Calcs!$AC$5:$AG$51, MATCH('Rotation Assembler'!$A58, Calcs!$AC$5:$AC$51, 0), MATCH('Rotation Assembler'!R$38, Calcs!$AC$5:$AG$5, 0))","v":0},{"$f":"INDEX(Calcs!$AC$5:$AG$51, MATCH('Rotation Assembler'!$A58, Calcs!$AC$5:$AC$51, 0), MATCH('Rotation Assembler'!S$38, Calcs!$AC$5:$AG$5, 0))","v":0},{"$f":"INDEX(Calcs!$AC$5:$AG$51, MATCH('Rotation Assembler'!$A58, Calcs!$AC$5:$AC$51, 0), MATCH('Rotation Assembler'!T$38, Calcs!$AC$5:$AG$5, 0))","v":0},{"$f":"INDEX(Calcs!$AC$5:$AG$51, MATCH('Rotation Assembler'!$A58, Calcs!$AC$5:$AC$51, 0), MATCH('Rotation Assembler'!U$38, Calcs!$AC$5:$AG$5, 0))","v":0},null,{"$f":"INDEX(Calcs!$AC$5:$AG$51, MATCH('Rotation Assembler'!$A58, Calcs!$AC$5:$AC$51, 0), MATCH('Rotation Assembler'!W$38, Calcs!$AC$5:$AG$5, 0))","v":0},{"$f":"INDEX(Calcs!$AC$5:$AG$51, MATCH('Rotation Assembler'!$A58, Calcs!$AC$5:$AC$51, 0), MATCH('Rotation Assembler'!X$38, Calcs!$AC$5:$AG$5, 0))","v":0},{"$f":"INDEX(Calcs!$AC$5:$AG$51, MATCH('Rotation Assembler'!$A58, Calcs!$AC$5:$AC$51, 0), MATCH('Rotation Assembler'!Y$38, Calcs!$AC$5:$AG$5, 0))","v":0},{"$f":"INDEX(Calcs!$AC$5:$AG$51, MATCH('Rotation Assembler'!$A58, Calcs!$AC$5:$AC$51, 0), MATCH('Rotation Assembler'!Z$38, Calcs!$AC$5:$AG$5, 0))","v":0},{"$f":"INDEX(Calcs!$AC$5:$AG$51, MATCH('Rotation Assembler'!$A58, Calcs!$AC$5:$AC$51, 0), MATCH('Rotation Assembler'!AA$38, Calcs!$AC$5:$AG$5, 0))","v":0},{"$f":"INDEX(Calcs!$AC$5:$AG$51, MATCH('Rotation Assembler'!$A58, Calcs!$AC$5:$AC$51, 0), MATCH('Rotation Assembler'!AB$38, Calcs!$AC$5:$AG$5, 0))","v":0},{"$f":"INDEX(Calcs!$AC$5:$AG$51, MATCH('Rotation Assembler'!$A58, Calcs!$AC$5:$AC$51, 0), MATCH('Rotation Assembler'!AC$38, Calcs!$AC$5:$AG$5, 0))","v":0},{"$f":"INDEX(Calcs!$AC$5:$AG$51, MATCH('Rotation Assembler'!$A58, Calcs!$AC$5:$AC$51, 0), MATCH('Rotation Assembler'!AD$38, Calcs!$AC$5:$AG$5, 0))","v":0},{"$f":"INDEX(Calcs!$AC$5:$AG$51, MATCH('Rotation Assembler'!$A58, Calcs!$AC$5:$AC$51, 0), MATCH('Rotation Assembler'!AE$38, Calcs!$AC$5:$AG$5, 0))","v":0},{"$f":"INDEX(Calcs!$AC$5:$AG$51, MATCH('Rotation Assembler'!$A58, Calcs!$AC$5:$AC$51, 0), MATCH('Rotation Assembler'!AF$38, Calcs!$AC$5:$AG$5, 0))","v":{"$error":"#N/A"}},{"$f":"INDEX(Calcs!$AC$5:$AG$51, MATCH('Rotation Assembler'!$A58, Calcs!$AC$5:$AC$51, 0), MATCH('Rotation Assembler'!AG$38, Calcs!$AC$5:$AG$5, 0))","v":{"$error":"#N/A"}},{"$f":"INDEX(Calcs!$AC$5:$AG$51, MATCH('Rotation Assembler'!$A58, Calcs!$AC$5:$AC$51, 0), MATCH('Rotation Assembler'!AH$38, Calcs!$AC$5:$AG$5, 0))","v":{"$error":"#N/A"}},{"$f":"INDEX(Calcs!$AC$5:$AG$51, MATCH('Rotation Assembler'!$A58, Calcs!$AC$5:$AC$51, 0), MATCH('Rotation Assembler'!AI$38, Calcs!$AC$5:$AG$5, 0))","v":{"$error":"#N/A"}},{"$f":"INDEX(Calcs!$AC$5:$AG$51, MATCH('Rotation Assembler'!$A58, Calcs!$AC$5:$AC$51, 0), MATCH('Rotation Assembler'!AJ$38, Calcs!$AC$5:$AG$5, 0))","v":{"$error":"#N/A"}},{"$f":"INDEX(Calcs!$AC$5:$AG$51, MATCH('Rotation Assembler'!$A58, Calcs!$AC$5:$AC$51, 0), MATCH('Rotation Assembler'!AK$38, Calcs!$AC$5:$AG$5, 0))","v":{"$error":"#N/A"}},{"$f":"INDEX(Calcs!$AC$5:$AG$51, MATCH('Rotation Assembler'!$A58, Calcs!$AC$5:$AC$51, 0), MATCH('Rotation Assembler'!AL$38, Calcs!$AC$5:$AG$5, 0))","v":{"$error":"#N/A"}},{"$f":"INDEX(Calcs!$AC$5:$AG$51, MATCH('Rotation Assembler'!$A58, Calcs!$AC$5:$AC$51, 0), MATCH('Rotation Assembler'!AM$38, Calcs!$AC$5:$AG$5, 0))","v":{"$error":"#N/A"}},{"$f":"INDEX(Calcs!$AC$5:$AG$51, MATCH('Rotation Assembler'!$A58, Calcs!$AC$5:$AC$51, 0), MATCH('Rotation Assembler'!AN$38, Calcs!$AC$5:$AG$5, 0))","v":{"$error":"#N/A"}},{"$f":"INDEX(Calcs!$AC$5:$AG$51, MATCH('Rotation Assembler'!$A58, Calcs!$AC$5:$AC$51, 0), MATCH('Rotation Assembler'!AO$38, Calcs!$AC$5:$AG$5, 0))","v":{"$error":"#N/A"}},{"$f":"INDEX(Calcs!$AC$5:$AG$51, MATCH('Rotation Assembler'!$A58, Calcs!$AC$5:$AC$51, 0), MATCH('Rotation Assembler'!AP$38, Calcs!$AC$5:$AG$5, 0))","v":{"$error":"#N/A"}},{"$f":"INDEX(Calcs!$AC$5:$AG$51, MATCH('Rotation Assembler'!$A58, Calcs!$AC$5:$AC$51, 0), MATCH('Rotation Assembler'!AQ$38, Calcs!$AC$5:$AG$5, 0))","v":{"$error":"#N/A"}},{"$f":"INDEX(Calcs!$AC$5:$AG$51, MATCH('Rotation Assembler'!$A58, Calcs!$AC$5:$AC$51, 0), MATCH('Rotation Assembler'!AR$38, Calcs!$AC$5:$AG$5, 0))","v":{"$error":"#N/A"}},{"$f":"INDEX(Calcs!$AC$5:$AG$51, MATCH('Rotation Assembler'!$A58, Calcs!$AC$5:$AC$51, 0), MATCH('Rotation Assembler'!AS$38, Calcs!$AC$5:$AG$5, 0))","v":{"$error":"#N/A"}},{"$f":"INDEX(Calcs!$AC$5:$AG$51, MATCH('Rotation Assembler'!$A58, Calcs!$AC$5:$AC$51, 0), MATCH('Rotation Assembler'!AT$38, Calcs!$AC$5:$AG$5, 0))","v":{"$error":"#N/A"}},{"$f":"INDEX(Calcs!$AC$5:$AG$51, MATCH('Rotation Assembler'!$A58, Calcs!$AC$5:$AC$51, 0), MATCH('Rotation Assembler'!AU$38, Calcs!$AC$5:$AG$5, 0))","v":{"$error":"#N/A"}},{"$f":"INDEX(Calcs!$AC$5:$AG$51, MATCH('Rotation Assembler'!$A58, Calcs!$AC$5:$AC$51, 0), MATCH('Rotation Assembler'!AV$38, Calcs!$AC$5:$AG$5, 0))","v":{"$error":"#N/A"}},{"$f":"INDEX(Calcs!$AC$5:$AG$51, MATCH('Rotation Assembler'!$A58, Calcs!$AC$5:$AC$51, 0), MATCH('Rotation Assembler'!AW$38, Calcs!$AC$5:$AG$5, 0))","v":{"$error":"#N/A"}},{"$f":"INDEX(Calcs!$AC$5:$AG$51, MATCH('Rotation Assembler'!$A58, Calcs!$AC$5:$AC$51, 0), MATCH('Rotation Assembler'!AX$38, Calcs!$AC$5:$AG$5, 0))","v":{"$error":"#N/A"}},{"$f":"INDEX(Calcs!$AC$5:$AG$51, MATCH('Rotation Assembler'!$A58, Calcs!$AC$5:$AC$51, 0), MATCH('Rotation Assembler'!AY$38, Calcs!$AC$5:$AG$5, 0))","v":{"$error":"#N/A"}},{"$f":"INDEX(Calcs!$AC$5:$AG$51, MATCH('Rotation Assembler'!$A58, Calcs!$AC$5:$AC$51, 0), MATCH('Rotation Assembler'!AZ$38, Calcs!$AC$5:$AG$5, 0))","v":{"$error":"#N/A"}},{"$f":"INDEX(Calcs!$AC$5:$AG$51, MATCH('Rotation Assembler'!$A58, Calcs!$AC$5:$AC$51, 0), MATCH('Rotation Assembler'!BA$38, Calcs!$AC$5:$AG$5, 0))","v":{"$error":"#N/A"}},{"$f":"INDEX(Calcs!$AC$5:$AG$51, MATCH('Rotation Assembler'!$A58, Calcs!$AC$5:$AC$51, 0), MATCH('Rotation Assembler'!BB$38, Calcs!$AC$5:$AG$5, 0))","v":{"$error":"#N/A"}},{"$f":"INDEX(Calcs!$AC$5:$AG$51, MATCH('Rotation Assembler'!$A58, Calcs!$AC$5:$AC$51, 0), MATCH('Rotation Assembler'!BC$38, Calcs!$AC$5:$AG$5, 0))","v":{"$error":"#N/A"}},{"$f":"INDEX(Calcs!$AC$5:$AG$51, MATCH('Rotation Assembler'!$A58, Calcs!$AC$5:$AC$51, 0), MATCH('Rotation Assembler'!BD$38, Calcs!$AC$5:$AG$5, 0))","v":{"$error":"#N/A"}},{"$f":"INDEX(Calcs!$AC$5:$AG$51, MATCH('Rotation Assembler'!$A58, Calcs!$AC$5:$AC$51, 0), MATCH('Rotation Assembler'!BE$38, Calcs!$AC$5:$AG$5, 0))","v":{"$error":"#N/A"}},{"$f":"INDEX(Calcs!$AC$5:$AG$51, MATCH('Rotation Assembler'!$A58, Calcs!$AC$5:$AC$51, 0), MATCH('Rotation Assembler'!BF$38, Calcs!$AC$5:$AG$5, 0))","v":{"$error":"#N/A"}}]
["Plunging DMG%",{"$f":"INDEX(Calcs!$AC$5:$AG$51, MATCH('Rotation Assembler'!$A59, Calcs!$AC$5:$AC$51, 0), MATCH('Rotation Assembler'!B$38, Calcs!$AC$5:$AG$5, 0))","v":0},{"$f":"INDEX(Calcs!$AC$5:$AG$51, MATCH('Rotation Assembler'!$A59, Calcs!$AC$5:$AC$51, 0), MATCH('Rotation Assembler'!C$38, Calcs!$AC$5:$AG$5, 0))","v":0},{"$f":"INDEX(Calcs!$AC$5:$AG$51, MATCH('Rotation Assembler'!$A59, Calcs!$AC$5:$AC$51, 0), MATCH('Rotation Assembler'!D$38, Calcs!$AC$5:$AG$5, 0))","v":0},{"$f":"INDEX(Calcs!$AC$5:$AG$51, MATCH('Rotation Assembler'!$A59, Calcs!$AC$5:$AC$51, 0), MATCH('Rotation Assembler'!E$38, Calcs!$AC$5:$AG$5, 0))","v":0},{"$f":"INDEX(Calcs!$AC$5:$AG$51, MATCH('Rotation Assembler'!$A59, Calcs!$AC$5:$AC$51, 0), MATCH('Rotation Assembler'!F$38, Calcs!$AC$5:$AG$5, 0))","v":0},{"$f":"INDEX(Calcs!$AC$5:$AG$51, MATCH('Rotation Assembler'!$A59, Calcs!$AC$5:$AC$51, 0), MATCH('Rotation Assembler'!G$38, Calcs!$AC$5:$AG$5, 0))","v":0},{"$f":"INDEX(Calcs!$AC$5:$AG$51, MATCH('Rotation Assembler'!$A59, Calcs!$AC$5:$AC$51, 0), MATCH('Rotation Assembler'!H$38, Calcs!$AC$5:$AG$5, 0))","v":0},{"$f":"INDEX(Calcs!$AC$5:$AG$51, MATCH('Rotation Assembler'!$A59, Calcs!$AC$5:$AC$51, 0), MATCH('Rotation Assembler'!I$38, Calcs!$AC$5:$AG$5, 0))","v":0},{"$f":"INDEX(Calcs!$AC$5:$AG$51, MATCH('Rotation Assembler'!$A59, Calcs!$AC$5:$AC$51, 0), MATCH('Rotation Assembler'!J$38, Calcs!$AC$5:$AG$5, 0))","v":0},{"$f":"INDEX(Calcs!$AC$5:$AG$51, MATCH('Rotation Assembler'!$A59, Calcs!$AC$5:$AC$51, 0), MATCH('Rotation Assembler'!K$38, Calcs!$AC$5:$AG$5, 0))","v":0},{"$f":"INDEX(Calcs!$AC$5:$AG$51, MATCH('Rotation Assembler'!$A59, Calcs!$AC$5:$AC$51, 0), MATCH('Rotation Assembler'!L$38, Calcs!$AC$5:$AG$5, 0))","v":0},{"$f":"INDEX(Calcs!$AC$5:$AG$51, MATCH('Rotation Assembler'!$A59, Calcs!$AC$5:$AC$51, 0), MATCH('Rotation Assembler'!M$38, Calcs!$AC$5:$AG$5, 0))","v":0},{"$f":"INDEX(Calcs!$AC$5:$AG$51, MATCH('Rotation Assembler'!$A59, Calcs!$AC$5:$AC$51, 0), MATCH('Rotation Assembler'!N$38, Calcs!$AC$5:$AG$5, 0))","v":0},{"$f":"INDEX(Calcs!$AC$5:$AG$51, MATCH('Rotation Assembler'!$A59, Calcs!$AC$5:$AC$51, 0), MATCH('Rotation Assembler'!O$38, Calcs!$AC$5:$AG$5, 0))","v":0},{"$f":"INDEX(Calcs!$AC$5:$AG$51, MATCH('Rotation Assembler'!$A59, Calcs!$AC$5:$AC$51, 0), MATCH('Rotation Assembler'!P$38, Calcs!$AC$5:$AG$5, 0))","v":0},{"$f":"INDEX(Calcs!$AC$5:$AG$51, MATCH('Rotation Assembler'!$A59, Calcs!$AC$5:$AC$51, 0), MATCH('Rotation Assembler'!Q$38, Calcs!$AC$5:$AG$5, 0))","v":0},{"$f":"INDEX(Calcs!$AC$5:$AG$51, MATCH('Rotation Assembler'!$A59, Calcs!$AC$5:$AC$51, 0), MATCH('Rotation Assembler'!R$38, Calcs!$AC$5:$AG$5, 0))","v":0},{"$f":"INDEX(Calcs!$AC$5:$AG$51, MATCH('Rotation Assembler'!$A59, Calcs!$AC$5:$AC$51, 0), MATCH('Rotation Assembler'!S$38, Calcs!$AC$5:$AG$5, 0))","v":0},{"$f":"INDEX(Calcs!$AC$5:$AG$51, MATCH('Rotation Assembler'!$A59, Calcs!$AC$5:$AC$51, 0), MATCH('Rotation Assembler'!T$38, Calcs!$AC$5:$AG$5, 0))","v":0},{"$f":"INDEX(Calcs!$AC$5:$AG$51, MATCH('Rotation Assembler'!$A59, Calcs!$AC$5:$AC$51, 0), MATCH('Rotation Assembler'!U$38, Calcs!$AC$5:$AG$5, 0))","v":0},null,{"$f":"INDEX(Calcs!$AC$5:$AG$51, MATCH('Rotation Assembler'!$A59, Calcs!$AC$5:$AC$51, 0), MATCH('Rotation Assembler'!W$38, Calcs!$AC$5:$AG$5, 0))","v":0},{"$f":"INDEX(Calcs!$AC$5:$AG$51, MATCH('Rotation Assembler'!$A59, Calcs!$AC$5:$AC$51, 0), MATCH('Rotation Assembler'!X$38, Calcs!$AC$5:$AG$5, 0))","v":0},{"$f":"INDEX(Calcs!$AC$5:$AG$51, MATCH('Rotation Assembler'!$A59, Calcs!$AC$5:$AC$51, 0), MATCH('Rotation Assembler'!Y$38, Calcs!$AC$5:$AG$5, 0))","v":0},{"$f":"INDEX(Calcs!$AC$5:$AG$51, MATCH('Rotation Assembler'!$A59, Calcs!$AC$5:$AC$51, 0), MATCH('Rotation Assembler'!Z$38, Calcs!$AC$5:$AG$5, 0))","v":0},{"$f":"INDEX(Calcs!$AC$5:$AG$51, MATCH('Rotation Assembler'!$A59, Calcs!$AC$5:$AC$51, 0), MATCH('Rotation Assembler'!AA$38, Calcs!$AC$5:$AG$5, 0))","v":0},{"$f":"INDEX(Calcs!$AC$5:$AG$51, MATCH('Rotation Assembler'!$A59, Calcs!$AC$5:$AC$51, 0), MATCH('Rotation Assembler'!AB$38, Calcs!$AC$5:$AG$5, 0))","v":0},{"$f":"INDEX(Calcs!$AC$5:$AG$51, MATCH('Rotation Assembler'!$A59, Calcs!$AC$5:$AC$51, 0), MATCH('Rotation Assembler'!AC$38, Calcs!$AC$5:$AG$5, 0))","v":0},{"$f":"INDEX(Calcs!$AC$5:$AG$51, MATCH('Rotation Assembler'!$A59, Calcs!$AC$5:$AC$51, 0), MATCH('Rotation Assembler'!AD$38, Calcs!$AC$5:$AG$5, 0))","v":0},{"$f":"INDEX(Calcs!$AC$5:$AG$51, MATCH('Rotation Assembler'!$A59, Calcs!$AC$5:$AC$51, 0), MATCH('Rotation Assembler'!AE$38, Calcs!$AC$5:$AG$5, 0))","v":0},{"$f":"INDEX(Calcs!$AC$5:$AG$51, MATCH('Rotation Assembler'!$A59, Calcs!$AC$5:$AC$51, 0), MATCH('Rotation Assembler'!AF$38, Calcs!$AC$5:$AG$5, 0))","v":{"$error":"#N/A"}},{"$f":"INDEX(Calcs!$AC$5:$AG$51, MATCH('Rotation Assembler'!$A59, Calcs!$AC$5:$AC$51, 0), MATCH('Rotation Assembler'!AG$38, Calcs!$AC$5:$AG$5, 0))","v":{"$error":"#N/A"}},{"$f":"INDEX(Calcs!$AC$5:$AG$51, MATCH('Rotation Assembler'!$A59, Calcs!$AC$5:$AC$51, 0), MATCH('Rotation Assembler'!AH$38, Calcs!$AC$5:$AG$5, 0))","v":{"$error":"#N/A"}},{"$f":"INDEX(Calcs!$AC$5:$AG$51, MATCH('Rotation Assembler'!$A59, Calcs!$AC$5:$AC$51, 0), MATCH('Rotation Assembler'!AI$38, Calcs!$AC$5:$AG$5, 0))","v":{"$error":"#N/A"}},{"$f":"INDEX(Calcs!$AC$5:$AG$51, MATCH('Rotation Assembler'!$A59, Calcs!$AC$5:$AC$51, 0), MATCH('Rotation Assembler'!AJ$38, Calcs!$AC$5:$AG$5, 0))","v":{"$error":"#N/A"}},{"$f":"INDEX(Calcs!$AC$5:$AG$51, MATCH('Rotation Assembler'!$A59, Calcs!$AC$5:$AC$51, 0), MATCH('Rotation Assembler'!AK$38, Calcs!$AC$5:$AG$5, 0))","v":{"$error":"#N/A"}},{"$f":"INDEX(Calcs!$AC$5:$AG$51, MATCH('Rotation Assembler'!$A59, Calcs!$AC$5:$AC$51, 0), MATCH('Rotation Assembler'!AL$38, Calcs!$AC$5:$AG$5, 0))","v":{"$error":"#N/A"}},{"$f":"INDEX(Calcs!$AC$5:$AG$51, MATCH('Rotation Assembler'!$A59, Calcs!$AC$5:$AC$51, 0), MATCH('Rotation Assembler'!AM$38, Calcs!$AC$5:$AG$5, 0))","v":{"$error":"#N/A"}},{"$f":"INDEX(Calcs!$AC$5:$AG$51, MATCH('Rotation Assembler'!$A59, Calcs!$AC$5:$AC$51, 0), MATCH('Rotation Assembler'!AN$38, Calcs!$AC$5:$AG$5, 0))","v":{"$error":"#N/A"}},{"$f":"INDEX(Calcs!$AC$5:$AG$51, MATCH('Rotation Assembler'!$A59, Calcs!$AC$5:$AC$51, 0), MATCH('Rotation Assembler'!AO$38, Calcs!$AC$5:$AG$5, 0))","v":{"$error":"#N/A"}},{"$f":"INDEX(Calcs!$AC$5:$AG$51, MATCH('Rotation Assembler'!$A59, Calcs!$AC$5:$AC$51, 0), MATCH('Rotation Assembler'!AP$38, Calcs!$AC$5:$AG$5, 0))","v":{"$error":"#N/A"}},{"$f":"INDEX(Calcs!$AC$5:$AG$51, MATCH('Rotation Assembler'!$A59, Calcs!$AC$5:$AC$51, 0), MATCH('Rotation Assembler'!AQ$38, Calcs!$AC$5:$AG$5, 0))","v":{"$error":"#N/A"}},{"$f":"INDEX(Calcs!$AC$5:$AG$51, MATCH('Rotation Assembler'!$A59, Calcs!$AC$5:$AC$51, 0), MATCH('Rotation Assembler'!AR$38, Calcs!$AC$5:$AG$5, 0))","v":{"$error":"#N/A"}},{"$f":"INDEX(Calcs!$AC$5:$AG$51, MATCH('Rotation Assembler'!$A59, Calcs!$AC$5:$AC$51, 0), MATCH('Rotation Assembler'!AS$38, Calcs!$AC$5:$AG$5, 0))","v":{"$error":"#N/A"}},{"$f":"INDEX(Calcs!$AC$5:$AG$51, MATCH('Rotation Assembler'!$A59, Calcs!$AC$5:$AC$51, 0), MATCH('Rotation Assembler'!AT$38, Calcs!$AC$5:$AG$5, 0))","v":{"$error":"#N/A"}},{"$f":"INDEX(Calcs!$AC$5:$AG$51, MATCH('Rotation Assembler'!$A59, Calcs!$AC$5:$AC$51, 0), MATCH('Rotation Assembler'!AU$38, Calcs!$AC$5:$AG$5, 0))","v":{"$error":"#N/A"}},{"$f":"INDEX(Calcs!$AC$5:$AG$51, MATCH('Rotation Assembler'!$A59, Calcs!$AC$5:$AC$51, 0), MATCH('Rotation Assembler'!AV$38, Calcs!$AC$5:$AG$5, 0))","v":{"$error":"#N/A"}},{"$f":"INDEX(Calcs!$AC$5:$AG$51, MATCH('Rotation Assembler'!$A59, Calcs!$AC$5:$AC$51, 0), MATCH('Rotation Assembler'!AW$38, Calcs!$AC$5:$AG$5, 0))","v":{"$error":"#N/A"}},{"$f":"INDEX(Calcs!$AC$5:$AG$51, MATCH('Rotation Assembler'!$A59, Calcs!$AC$5:$AC$51, 0), MATCH('Rotation Assembler'!AX$38, Calcs!$AC$5:$AG$5, 0))","v":{"$error":"#N/A"}},{"$f":"INDEX(Calcs!$AC$5:$AG$51, MATCH('Rotation Assembler'!$A59, Calcs!$AC$5:$AC$51, 0), MATCH('Rotation Assembler'!AY$38, Calcs!$AC$5:$AG$5, 0))","v":{"$error":"#N/A"}},{"$f":"INDEX(Calcs!$AC$5:$AG$51, MATCH('Rotation Assembler'!$A59, Calcs!$AC$5:$AC$51, 0), MATCH('Rotation Assembler'!AZ$38, Calcs!$AC$5:$AG$5, 0))","v":{"$error":"#N/A"}},{"$f":"INDEX(Calcs!$AC$5:$AG$51, MATCH('Rotation Assembler'!$A59, Calcs!$AC$5:$AC$51, 0), MATCH('Rotation Assembler'!BA$38, Calcs!$AC$5:$AG$5, 0))","v":{"$error":"#N/A"}},{"$f":"INDEX(Calcs!$AC$5:$AG$51, MATCH('Rotation Assembler'!$A59, Calcs!$AC$5:$AC$51, 0), MATCH('Rotation Assembler'!BB$38, Calcs!$AC$5:$AG$5, 0))","v":{"$error":"#N/A"}},{"$f":"INDEX(Calcs!$AC$5:$AG$51, MATCH('Rotation Assembler'!$A59, Calcs!$AC$5:$AC$51, 0), MATCH('Rotation Assembler'!BC$38, Calcs!$AC$5:$AG$5, 0))","v":{"$error":"#N/A"}},{"$f":"INDEX(Calcs!$AC$5:$AG$51, MATCH('Rotation Assembler'!$A59, Calcs!$AC$5:$AC$51, 0), MATCH('Rotation Assembler'!BD$38, Calcs!$AC$5:$AG$5, 0))","v":{"$error":"#N/A"}},{"$f":"INDEX(Calcs!$AC$5:$AG$51, MATCH('Rotation Assembler'!$A59, Calcs!$AC$5:$AC$51, 0), MATCH('Rotation Assembler'!BE$38, Calcs!$AC$5:$AG$5, 0))","v":{"$error":"#N/A"}},{"$f":"INDEX(Calcs!$AC$5:$AG$51, MATCH('Rotation Assembler'!$A59, Calcs!$AC$5:$AC$51, 0), MATCH('Rotation Assembler'!BF$38, Calcs!$AC$5:$AG$5, 0))","v":{"$error":"#N/A"}}]
["Skill DMG%",{"$f":"INDEX(Calcs!$AC$5:$AG$51, MATCH('Rotation Assembler'!$A60, Calcs!$AC$5:$AC$51, 0), MATCH('Rotation Assembler'!B$38, Calcs!$AC$5:$AG$5, 0))","v":0},{"$f":"INDEX(Calcs!$AC$5:$AG$51, MATCH('Rotation Assembler'!$A60, Calcs!$AC$5:$AC$51, 0), MATCH('Rotation Assembler'!C$38, Calcs!$AC$5:$AG$5, 0))","v":0},{"$f":"INDEX(Calcs!$AC$5:$AG$51, MATCH('Rotation Assembler'!$A60, Calcs!$AC$5:$AC$51, 0), MATCH('Rotation Assembler'!D$38, Calcs!$AC$5:$AG$5, 0))","v":0},{"$f":"INDEX(Calcs!$AC$5:$AG$51, MATCH('Rotation Assembler'!$A60, Calcs!$AC$5:$AC$51, 0), MATCH('Rotation Assembler'!E$38, Calcs!$AC$5:$AG$5, 0))","v":0},{"$f":"INDEX(Calcs!$AC$5:$AG$51, MATCH('Rotation Assembler'!$A60, Calcs!$AC$5:$AC$51, 0), MATCH('Rotation Assembler'!F$38, Calcs!$AC$5:$AG$5, 0))","v":0},{"$f":"INDEX(Calcs!$AC$5:$AG$51, MATCH('Rotation Assembler'!$A60, Calcs!$AC$5:$AC$51, 0), MATCH('Rotation Assembler'!G$38, Calcs!$AC$5:$AG$5, 0))","v":0},{"$f":"INDEX(Calcs!$AC$5:$AG$51, MATCH('Rotation Assembler'!$A60, Calcs!$AC$5:$AC$51, 0), MATCH('Rotation Assembler'!H$38, Calcs!$AC$5:$AG$5, 0))","v":0},{"$f":"INDEX(Calcs!$AC$5:$AG$51, MATCH('Rotation Assembler'!$A60, Calcs!$AC$5:$AC$51, 0), MATCH('Rotation Assembler'!I$38, Calcs!$AC$5:$AG$5, 0))","v":0},{"$f":"INDEX(Calcs!$AC$5:$AG$51, MATCH('Rotation Assembler'!$A60, Calcs!$AC$5:$AC$51, 0), MATCH('Rotation Assembler'!J$38, Calcs!$AC$5:$AG$5, 0))","v":0},{"$f":"INDEX(Calcs!$AC$5:$AG$51, MATCH('Rotation Assembler'!$A60, Calcs!$AC$5:$AC$51, 0), MATCH('Rotation Assembler'!K$38, Calcs!$AC$5:$AG$5, 0))","v":0},{"$f":"INDEX(Calcs!$AC$5:$AG$51, MATCH('Rotation Assembler'!$A60, Calcs!$AC$5:$AC$51, 0), MATCH('Rotation Assembler'!L$38, Calcs!$AC$5:$AG$5, 0))","v":0},{"$f":"INDEX(Calcs!$AC$5:$AG$51, MATCH('Rotation Assembler'!$A60, Calcs!$AC$5:$AC$51, 0), MATCH('Rotation Assembler'!M$38, Calcs!$AC$5:$AG$5, 0))","v":0},{"$f":"INDEX(Calcs!$AC$5:$AG$51, MATCH('Rotation Assembler'!$A60, Calcs!$AC$5:$AC$51, 0), MATCH('Rotation Assembler'!N$38, Calcs!$AC$5:$AG$5, 0))","v":0},{"$f":"INDEX(Calcs!$AC$5:$AG$51, MATCH('Rotation Assembler'!$A60, Calcs!$AC$5:$AC$51, 0), MATCH('Rotation Assembler'!O$38, Calcs!$AC$5:$AG$5, 0))","v":0},{"$f":"INDEX(Calcs!$AC$5:$AG$51, MATCH('Rotation Assembler'!$A60, Calcs!$AC$5:$AC$51, 0), MATCH('Rotation Assembler'!P$38, Calcs!$AC$5:$AG$5, 0))","v":0},{"$f":"INDEX(Calcs!$AC$5:$AG$51, MATCH('Rotation Assembler'!$A60, Calcs!$AC$5:$AC$51, 0), MATCH('Rotation Assembler'!Q$38, Calcs!$AC$5:$AG$5, 0))","v":0},{"$f":"INDEX(Calcs!$AC$5:$AG$51, MATCH('Rotation Assembler'!$A60, Calcs!$AC$5:$AC$51, 0), MATCH('Rotation Assembler'!R$38, Calcs!$AC$5:$AG$5, 0))","v":0},{"$f":"INDEX(Calcs!$AC$5:$AG$51, MATCH('Rotation Assembler'!$A60, Calcs!$AC$5:$AC$51, 0), MATCH('Rotation Assembler'!S$38, Calcs!$AC$5:$AG$5, 0))","v":0},{"$f":"INDEX(Calcs!$AC$5:$AG$51, MATCH('Rotation Assembler'!$A60, Calcs!$AC$5:$AC$51, 0), MATCH('Rotation Assembler'!T$38, Calcs!$AC$5:$AG$5, 0))","v":0},{"$f":"INDEX(Calcs!$AC$5:$AG$51, MATCH('Rotation Assembler'!$A60, Calcs!$AC$5:$AC$51, 0), MATCH('Rotation Assembler'!U$38, Calcs!$AC$5:$AG$5, 0))","v":0},null,{"$f":"INDEX(Calcs!$AC$5:$AG$51, MATCH('Rotation Assembler'!$A60, Calcs!$AC$5:$AC$51, 0), MATCH('Rotation Assembler'!W$38, Calcs!$AC$5:$AG$5, 0))","v":0},{"$f":"INDEX(Calcs!$AC$5:$AG$51, MATCH('Rotation Assembler'!$A60, Calcs!$AC$5:$AC$51, 0), MATCH('Rotation Assembler'!X$38, Calcs!$AC$5:$AG$5, 0))","v":0},{"$f":"INDEX(Calcs!$AC$5:$AG$51, MATCH('Rotation Assembler'!$A60, Calcs!$AC$5:$AC$51, 0), MATCH('Rotation Assembler'!Y$38, Calcs!$AC$5:$AG$5, 0))","v":0},{"$f":"INDEX(Calcs!$AC$5:$AG$51, MATCH('Rotation Assembler'!$A60, Calcs!$AC$5:$AC$51, 0), MATCH('Rotation Assembler'!Z$38, Calcs!$AC$5:$AG$5, 0))","v":0},{"$f":"INDEX(Calcs!$AC$5:$AG$51, MATCH('Rotation Assembler'!$A60, Calcs!$AC$5:$AC$51, 0), MATCH('Rotation Assembler'!AA$38, Calcs!$AC$5:$AG$5, 0))","v":0},{"$f":"INDEX(Calcs!$AC$5:$AG$51, MATCH('Rotation Assembler'!$A60, Calcs!$AC$5:$AC$51, 0), MATCH('Rotation Assembler'!AB$38, Calcs!$AC$5:$AG$5, 0))","v":0},{"$f":"INDEX(Calcs!$AC$5:$AG$51, MATCH('Rotation Assembler'!$A60, Calcs!$AC$5:$AC$51, 0), MATCH('Rotation Assembler'!AC$38, Calcs!$AC$5:$AG$5, 0))","v":0},{"$f":"INDEX(Calcs!$AC$5:$AG$51, MATCH('Rotation Assembler'!$A60, Calcs!$AC$5:$AC$51, 0), MATCH('Rotation Assembler'!AD$38, Calcs!$AC$5:$AG$5, 0))","v":0},{"$f":"INDEX(Calcs!$AC$5:$AG$51, MATCH('Rotation Assembler'!$A60, Calcs!$AC$5:$AC$51, 0), MATCH('Rotation Assembler'!AE$38, Calcs!$AC$5:$AG$5, 0))","v":0},{"$f":"INDEX(Calcs!$AC$5:$AG$51, MATCH('Rotation Assembler'!$A60, Calcs!$AC$5:$AC$51, 0), MATCH('Rotation Assembler'!AF$38, Calcs!$AC$5:$AG$5, 0))","v":{"$error":"#N/A"}},{"$f":"INDEX(Calcs!$AC$5:$AG$51, MATCH('Rotation Assembler'!$A60, Calcs!$AC$5:$AC$51, 0), MATCH('Rotation Assembler'!AG$38, Calcs!$AC$5:$AG$5, 0))","v":{"$error":"#N/A"}},{"$f":"INDEX(Calcs!$AC$5:$AG$51, MATCH('Rotation Assembler'!$A60, Calcs!$AC$5:$AC$51, 0), MATCH('Rotation Assembler'!AH$38, Calcs!$AC$5:$AG$5, 0))","v":{"$error":"#N/A"}},{"$f":"INDEX(Calcs!$AC$5:$AG$51, MATCH('Rotation Assembler'!$A60, Calcs!$AC$5:$AC$51, 0), MATCH('Rotation Assembler'!AI$38, Calcs!$AC$5:$AG$5, 0))","v":{"$error":"#N/A"}},{"$f":"INDEX(Calcs!$AC$5:$AG$51, MATCH('Rotation Assembler'!$A60, Calcs!$AC$5:$AC$51, 0), MATCH('Rotation Assembler'!AJ$38, Calcs!$AC$5:$AG$5, 0))","v":{"$error":"#N/A"}},{"$f":"INDEX(Calcs!$AC$5:$AG$51, MATCH('Rotation Assembler'!$A60, Calcs!$AC$5:$AC$51, 0), MATCH('Rotation Assembler'!AK$38, Calcs!$AC$5:$AG$5, 0))","v":{"$error":"#N/A"}},{"$f":"INDEX(Calcs!$AC$5:$AG$51, MATCH('Rotation Assembler'!$A60, Calcs!$AC$5:$AC$51, 0), MATCH('Rotation Assembler'!AL$38, Calcs!$AC$5:$AG$5, 0))","v":{"$error":"#N/A"}},{"$f":"INDEX(Calcs!$AC$5:$AG$51, MATCH('Rotation Assembler'!$A60, Calcs!$AC$5:$AC$51, 0), MATCH('Rotation Assembler'!AM$38, Calcs!$AC$5:$AG$5, 0))","v":{"$error":"#N/A"}},{"$f":"INDEX(Calcs!$AC$5:$AG$51, MATCH('Rotation Assembler'!$A60, Calcs!$AC$5:$AC$51, 0), MATCH('Rotation Assembler'!AN$38, Calcs!$AC$5:$AG$5, 0))","v":{"$error":"#N/A"}},{"$f":"INDEX(Calcs!$AC$5:$AG$51, MATCH('Rotation Assembler'!$A60, Calcs!$AC$5:$AC$51, 0), MATCH('Rotation Assembler'!AO$38, Calcs!$AC$5:$AG$5, 0))","v":{"$error":"#N/A"}},{"$f":"INDEX(Calcs!$AC$5:$AG$51, MATCH('Rotation Assembler'!$A60, Calcs!$AC$5:$AC$51, 0), MATCH('Rotation Assembler'!AP$38, Calcs!$AC$5:$AG$5, 0))","v":{"$error":"#N/A"}},{"$f":"INDEX(Calcs!$AC$5:$AG$51, MATCH('Rotation Assembler'!$A60, Calcs!$AC$5:$AC$51, 0), MATCH('Rotation Assembler'!AQ$38, Calcs!$AC$5:$AG$5, 0))","v":{"$error":"#N/A"}},{"$f":"INDEX(Calcs!$AC$5:$AG$51, MATCH('Rotation Assembler'!$A60, Calcs!$AC$5:$AC$51, 0), MATCH('Rotation Assembler'!AR$38, Calcs!$AC$5:$AG$5, 0))","v":{"$error":"#N/A"}},{"$f":"INDEX(Calcs!$AC$5:$AG$51, MATCH('Rotation Assembler'!$A60, Calcs!$AC$5:$AC$51, 0), MATCH('Rotation Assembler'!AS$38, Calcs!$AC$5:$AG$5, 0))","v":{"$error":"#N/A"}},{"$f":"INDEX(Calcs!$AC$5:$AG$51, MATCH('Rotation Assembler'!$A60, Calcs!$AC$5:$AC$51, 0), MATCH('Rotation Assembler'!AT$38, Calcs!$AC$5:$AG$5, 0))","v":{"$error":"#N/A"}},{"$f":"INDEX(Calcs!$AC$5:$AG$51, MATCH('Rotation Assembler'!$A60, Calcs!$AC$5:$AC$51, 0), MATCH('Rotation Assembler'!AU$38, Calcs!$AC$5:$AG$5, 0))","v":{"$error":"#N/A"}},{"$f":"INDEX(Calcs!$AC$5:$AG$51, MATCH('Rotation Assembler'!$A60, Calcs!$AC$5:$AC$51, 0), MATCH('Rotation Assembler'!AV$38, Calcs!$AC$5:$AG$5, 0))","v":{"$error":"#N/A"}},{"$f":"INDEX(Calcs!$AC$5:$AG$51, MATCH('Rotation Assembler'!$A60, Calcs!$AC$5:$AC$51, 0), MATCH('Rotation Assembler'!AW$38, Calcs!$AC$5:$AG$5, 0))","v":{"$error":"#N/A"}},{"$f":"INDEX(Calcs!$AC$5:$AG$51, MATCH('Rotation Assembler'!$A60, Calcs!$AC$5:$AC$51, 0), MATCH('Rotation Assembler'!AX$38, Calcs!$AC$5:$AG$5, 0))","v":{"$error":"#N/A"}},{"$f":"INDEX(Calcs!$AC$5:$AG$51, MATCH('Rotation Assembler'!$A60, Calcs!$AC$5:$AC$51, 0), MATCH('Rotation Assembler'!AY$38, Calcs!$AC$5:$AG$5, 0))","v":{"$error":"#N/A"}},{"$f":"INDEX(Calcs!$AC$5:$AG$51, MATCH('Rotation Assembler'!$A60, Calcs!$AC$5:$AC$51, 0), MATCH('Rotation Assembler'!AZ$38, Calcs!$AC$5:$AG$5, 0))","v":{"$error":"#N/A"}},{"$f":"INDEX(Calcs!$AC$5:$AG$51, MATCH('Rotation Assembler'!$A60, Calcs!$AC$5:$AC$51, 0), MATCH('Rotation Assembler'!BA$38, Calcs!$AC$5:$AG$5, 0))","v":{"$error":"#N/A"}},{"$f":"INDEX(Calcs!$AC$5:$AG$51, MATCH('Rotation Assembler'!$A60, Calcs!$AC$5:$AC$51, 0), MATCH('Rotation Assembler'!BB$38, Calcs!$AC$5:$AG$5, 0))","v":{"$error":"#N/A"}},{"$f":"INDEX(Calcs!$AC$5:$AG$51, MATCH('Rotation Assembler'!$A60, Calcs!$AC$5:$AC$51, 0), MATCH('Rotation Assembler'!BC$38, Calcs!$AC$5:$AG$5, 0))","v":{"$error":"#N/A"}},{"$f":"INDEX(Calcs!$AC$5:$AG$51, MATCH('Rotation Assembler'!$A60, Calcs!$AC$5:$AC$51, 0), MATCH('Rotation Assembler'!BD$38, Calcs!$AC$5:$AG$5, 0))","v":{"$error":"#N/A"}},{"$f":"INDEX(Calcs!$AC$5:$AG$51, MATCH('Rotation Assembler'!$A60, Calcs!$AC$5:$AC$51, 0), MATCH('Rotation Assembler'!BE$38, Calcs!$AC$5:$AG$5, 0))","v":{"$error":"#N/A"}},{"$f":"INDEX(Calcs!$AC$5:$AG$51, MATCH('Rotation Assembler'!$A60, Calcs!$AC$5:$AC$51, 0), MATCH('Rotation Assembler'!BF$38, Calcs!$AC$5:$AG$5, 0))","v":{"$error":"#N/A"}}]
["Burst DMG%",{"$f":"INDEX(Calcs!$AC$5:$AG$51, MATCH('Rotation Assembler'!$A61, Calcs!$AC$5:$AC$51, 0), MATCH('Rotation Assembler'!B$38, Calcs!$AC$5:$AG$5, 0))","v":0.52212499999999995},{"$f":"INDEX(Calcs!$AC$5:$AG$51, MATCH('Rotation Assembler'!$A61, Calcs!$AC$5:$AC$51, 0), MATCH('Rotation Assembler'!C$38, Calcs!$AC$5:$AG$5, 0))","v":0.52212499999999995},{"$f":"INDEX(Calcs!$AC$5:$AG$51, MATCH('Rotation Assembler'!$A61, Calcs!$AC$5:$AC$51, 0), MATCH('Rotation Assembler'!D$38, Calcs!$AC$5:$AG$5, 0))","v":0.2},{"$f":"INDEX(Calcs!$AC$5:$AG$51, MATCH('Rotation Assembler'!$A61, Calcs!$AC$5:$AC$51, 0), MATCH('Rotation Assembler'!E$38, Calcs!$AC$5:$AG$5, 0))","v":0.2},{"$f":"INDEX(Calcs!$AC$5:$AG$51, MATCH('Rotation Assembler'!$A61, Calcs!$AC$5:$AC$51, 0), MATCH('Rotation Assembler'!F$38, Calcs!$AC$5:$AG$5, 0))","v":0.52212499999999995},{"$f":"INDEX(Calcs!$AC$5:$AG$51, MATCH('Rotation Assembler'!$A61, Calcs!$AC$5:$AC$51, 0), MATCH('Rotation Assembler'!G$38, Calcs!$AC$5:$AG$5, 0))","v":0.52212499999999995},{"$f":"INDEX(Calcs!$AC$5:$AG$51, MATCH('Rotation Assembler'!$A61, Calcs!$AC$5:$AC$51, 0), MATCH('Rotation Assembler'!H$38, Calcs!$AC$5:$AG$5, 0))","v":0},{"$f":"INDEX(Calcs!$AC$5:$AG$51, MATCH('Rotation Assembler'!$A61, Calcs!$AC$5:$AC$51, 0), MATCH('Rotation Assembler'!I$38, Calcs!$AC$5:$AG$5, 0))","v":0},{"$f":"INDEX(Calcs!$AC$5:$AG$51, MATCH('Rotation Assembler'!$A61, Calcs!$AC$5:$AC$51, 0), MATCH('Rotation Assembler'!J$38, Calcs!$AC$5:$AG$5, 0))","v":0},{"$f":"INDEX(Calcs!$AC$5:$AG$51, MATCH('Rotation Assembler'!$A61, Calcs!$AC$5:$AC$51, 0), MATCH('Rotation Assembler'!K$38, Calcs!$AC$5:$AG$5, 0))","v":0},{"$f":"INDEX(Calcs!$AC$5:$AG$51, MATCH('Rotation Assembler'!$A61, Calcs!$AC$5:$AC$51, 0), MATCH('Rotation Assembler'!L$38, Calcs!$AC$5:$AG$5, 0))","v":0},{"$f":"INDEX(Calcs!$AC$5:$AG$51, MATCH('Rotation Assembler'!$A61, Calcs!$AC$5:$AC$51, 0), MATCH('Rotation Assembler'!M$38, Calcs!$AC$5:$AG$5, 0))","v":0},{"$f":"INDEX(Calcs!$AC$5:$AG$51, MATCH('Rotation Assembler'!$A61, Calcs!$AC$5:$AC$51, 0), MATCH('Rotation Assembler'!N$38, Calcs!$AC$5:$AG$5, 0))","v":0},{"$f":"INDEX(Calcs!$AC$5:$AG$51, MATCH('Rotation Assembler'!$A61, Calcs!$AC$5:$AC$51, 0), MATCH('Rotation Assembler'!O$38, Calcs!$AC$5:$AG$5, 0))","v":0},{"$f":"INDEX(Calcs!$AC$5:$AG$51, MATCH('Rotation Assembler'!$A61, Calcs!$AC$5:$AC$51, 0), MATCH('Rotation Assembler'!P$38, Calcs!$AC$5:$AG$5, 0))","v":0},{"$f":"INDEX(Calcs!$AC$5:$AG$51, MATCH('Rotation Assembler'!$A61, Calcs!$AC$5:$AC$51, 0), MATCH('Rotation Assembler'!Q$38, Calcs!$AC$5:$AG$5, 0))","v":0},{"$f":"INDEX(Calcs!$AC$5:$AG$51, MATCH('Rotation Assembler'!$A61, Calcs!$AC$5:$AC$51, 0), MATCH('Rotation Assembler'!R$38, Calcs!$AC$5:$AG$5, 0))","v":0},{"$f":"INDEX(Calcs!$AC$5:$AG$51, MATCH('Rotation Assembler'!$A61, Calcs!$AC$5:$AC$51, 0), MATCH('Rotation Assembler'!S$38, Calcs!$AC$5:$AG$5, 0))","v":0},{"$f":"INDEX(Calcs!$AC$5:$AG$51, MATCH('Rotation Assembler'!$A61, Calcs!$AC$5:$AC$51, 0), MATCH('Rotation Assembler'!T$38, Calcs!$AC$5:$AG$5, 0))","v":0},{"$f":"INDEX(Calcs!$AC$5:$AG$51, MATCH('Rotation Assembler'!$A61, Calcs!$AC$5:$AC$51, 0), MATCH('Rotation Assembler'!U$38, Calcs!$AC$5:$AG$5, 0))","v":0},null,{"$f":"INDEX(Calcs!$AC$5:$AG$51, MATCH('Rotation Assembler'!$A61, Calcs!$AC$5:$AC$51, 0), MATCH('Rotation Assembler'!W$38, Calcs!$AC$5:$AG$5, 0))","v":0.2},{"$f":"INDEX(Calcs!$AC$5:$AG$51, MATCH('Rotation Assembler'!$A61, Calcs!$AC$5:$AC$51, 0), MATCH('Rotation Assembler'!X$38, Calcs!$AC$5:$AG$5, 0))","v":0.2},{"$f":"INDEX(Calcs!$AC$5:$AG$51, MATCH('Rotation Assembler'!$A61, Calcs!$AC$5:$AC$51, 0), MATCH('Rotation Assembler'!Y$38, Calcs!$AC$5:$AG$5, 0))","v":0},{"$f":"INDEX(Calcs!$AC$5:$AG$51, MATCH('Rotation Assembler'!$A61, Calcs!$AC$5:$AC$51, 0), MATCH('Rotation Assembler'!Z$38, Calcs!$AC$5:$AG$5, 0))","v":0},{"$f":"INDEX(Calcs!$AC$5:$AG$51, MATCH('Rotation Assembler'!$A61, Calcs!$AC$5:$AC$51, 0), MATCH('Rotation Assembler'!AA$38, Calcs!$AC$5:$AG$5, 0))","v":0},{"$f":"INDEX(Calcs!$AC$5:$AG$51, MATCH('Rotation Assembler'!$A61, Calcs!$AC$5:$AC$51, 0), MATCH('Rotation Assembler'!AB$38, Calcs!$AC$5:$AG$5, 0))","v":0},{"$f":"INDEX(Calcs!$AC$5:$AG$51, MATCH('Rotation Assembler'!$A61, Calcs!$AC$5:$AC$51, 0), MATCH('Rotation Assembler'!AC$38, Calcs!$AC$5:$AG$5, 0))","v":0},{"$f":"INDEX(Calcs!$AC$5:$AG$51, MATCH('Rotation Assembler'!$A61, Calcs!$AC$5:$AC$51, 0), MATCH('Rotation Assembler'!AD$38, Calcs!$AC$5:$AG$5, 0))","v":0.52212499999999995},{"$f":"INDEX(Calcs!$AC$5:$AG$51, MATCH('Rotation Assembler'!$A61, Calcs!$AC$5:$AC$51, 0), MATCH('Rotation Assembler'!AE$38, Calcs!$AC$5:$AG$5, 0))","v":0},{"$f":"INDEX(Calcs!$AC$5:$AG$51, MATCH('Rotation Assembler'!$A61, Calcs!$AC$5:$AC$51, 0), MATCH('Rotation Assembler'!AF$38, Calcs!$AC$5:$AG$5, 0))","v":{"$error":"#N/A"}},{"$f":"INDEX(Calcs!$AC$5:$AG$51, MATCH('Rotation Assembler'!$A61, Calcs!$AC$5:$AC$51, 0), MATCH('Rotation Assembler'!AG$38, Calcs!$AC$5:$AG$5, 0))","v":{"$error":"#N/A"}},{"$f":"INDEX(Calcs!$AC$5:$AG$51, MATCH('Rotation Assembler'!$A61, Calcs!$AC$5:$AC$51, 0), MATCH('Rotation Assembler'!AH$38, Calcs!$AC$5:$AG$5, 0))","v":{"$error":"#N/A"}},{"$f":"INDEX(Calcs!$AC$5:$AG$51, MATCH('Rotation Assembler'!$A61, Calcs!$AC$5:$AC$51, 0), MATCH('Rotation Assembler'!AI$38, Calcs!$AC$5:$AG$5, 0))","v":{"$error":"#N/A"}},{"$f":"INDEX(Calcs!$AC$5:$AG$51, MATCH('Rotation Assembler'!$A61, Calcs!$AC$5:$AC$51, 0), MATCH('Rotation Assembler'!AJ$38, Calcs!$AC$5:$AG$5, 0))","v":{"$error":"#N/A"}},{"$f":"INDEX(Calcs!$AC$5:$AG$51, MATCH('Rotation Assembler'!$A61, Calcs!$AC$5:$AC$51, 0), MATCH('Rotation Assembler'!AK$38, Calcs!$AC$5:$AG$5, 0))","v":{"$error":"#N/A"}},{"$f":"INDEX(Calcs!$AC$5:$AG$51, MATCH('Rotation Assembler'!$A61, Calcs!$AC$5:$AC$51, 0), MATCH('Rotation Assembler'!AL$38, Calcs!$AC$5:$AG$5, 0))","v":{"$error":"#N/A"}},{"$f":"INDEX(Calcs!$AC$5:$AG$51, MATCH('Rotation Assembler'!$A61, Calcs!$AC$5:$AC$51, 0), MATCH('Rotation Assembler'!AM$38, Calcs!$AC$5:$AG$5, 0))","v":{"$error":"#N/A"}},{"$f":"INDEX(Calcs!$AC$5:$AG$51, MATCH('Rotation Assembler'!$A61, Calcs!$AC$5:$AC$51, 0), MATCH('Rotation Assembler'!AN$38, Calcs!$AC$5:$AG$5, 0))","v":{"$error":"#N/A"}},{"$f":"INDEX(Calcs!$AC$5:$AG$51, MATCH('Rotation Assembler'!$A61, Calcs!$AC$5:$AC$51, 0), MATCH('Rotation Assembler'!AO$38, Calcs!$AC$5:$AG$5, 0))","v":{"$error":"#N/A"}},{"$f":"INDEX(Calcs!$AC$5:$AG$51, MATCH('Rotation Assembler'!$A61, Calcs!$AC$5:$AC$51, 0), MATCH('Rotation Assembler'!AP$38, Calcs!$AC$5:$AG$5, 0))","v":{"$error":"#N/A"}},{"$f":"INDEX(Calcs!$AC$5:$AG$51, MATCH('Rotation Assembler'!$A61, Calcs!$AC$5:$AC$51, 0), MATCH('Rotation Assembler'!AQ$38, Calcs!$AC$5:$AG$5, 0))","v":{"$error":"#N/A"}},{"$f":"INDEX(Calcs!$AC$5:$AG$51, MATCH('Rotation Assembler'!$A61, Calcs!$AC$5:$AC$51, 0), MATCH('Rotation Assembler'!AR$38, Calcs!$AC$5:$AG$5, 0))","v":{"$error":"#N/A"}},{"$f":"INDEX(Calcs!$AC$5:$AG$51, MATCH('Rotation Assembler'!$A61, Calcs!$AC$5:$AC$51, 0), MATCH('Rotation Assembler'!AS$38, Calcs!$AC$5:$AG$5, 0))","v":{"$error":"#N/A"}},{"$f":"INDEX(Calcs!$AC$5:$AG$51, MATCH('Rotation Assembler'!$A61, Calcs!$AC$5:$AC$51, 0), MATCH('Rotation Assembler'!AT$38, Calcs!$AC$5:$AG$5, 0))","v":{"$error":"#N/A"}},{"$f":"INDEX(Calcs!$AC$5:$AG$51, MATCH('Rotation Assembler'!$A61, Calcs!$AC$5:$AC$51, 0), MATCH('Rotation Assembler'!AU$38, Calcs!$AC$5:$AG$5, 0))","v":{"$error":"#N/A"}},{"$f":"INDEX(Calcs!$AC$5:$AG$51, MATCH('Rotation Assembler'!$A61, Calcs!$AC$5:$AC$51, 0), MATCH('Rotation Assembler'!AV$38, Calcs!$AC$5:$AG$5, 0))","v":{"$error":"#N/A"}},{"$f":"INDEX(Calcs!$AC$5:$AG$51, MATCH('Rotation Assembler'!$A61, Calcs!$AC$5:$AC$51, 0), MATCH('Rotation Assembler'!AW$38, Calcs!$AC$5:$AG$5, 0))","v":{"$error":"#N/A"}},{"$f":"INDEX(Calcs!$AC$5:$AG$51, MATCH('Rotation Assembler'!$A61, Calcs!$AC$5:$AC$51, 0), MATCH('Rotation Assembler'!AX$38, Calcs!$AC$5:$AG$5, 0))","v":{"$error":"#N/A"}},{"$f":"INDEX(Calcs!$AC$5:$AG$51, MATCH('Rotation Assembler'!$A61, Calcs!$AC$5:$AC$51, 0), MATCH('Rotation Assembler'!AY$38, Calcs!$AC$5:$AG$5, 0))","v":{"$error":"#N/A"}},{"$f":"INDEX(Calcs!$AC$5:$AG$51, MATCH('Rotation Assembler'!$A61, Calcs!$AC$5:$AC$51, 0), MATCH('Rotation Assembler'!AZ$38, Calcs!$AC$5:$AG$5, 0))","v":{"$error":"#N/A"}},{"$f":"INDEX(Calcs!$AC$5:$AG$51, MATCH('Rotation Assembler'!$A61, Calcs!$AC$5:$AC$51, 0), MATCH('Rotation Assembler'!BA$38, Calcs!$AC$5:$AG$5, 0))","v":{"$error":"#N/A"}},{"$f":"INDEX(Calcs!$AC$5:$AG$51, MATCH('Rotation Assembler'!$A61, Calcs!$AC$5:$AC$51, 0), MATCH('Rotation Assembler'!BB$38, Calcs!$AC$5:$AG$5, 0))","v":{"$error":"#N/A"}},{"$f":"INDEX(Calcs!$AC$5:$AG$51, MATCH('Rotation Assembler'!$A61, Calcs!$AC$5:$AC$51, 0), MATCH('Rotation Assembler'!BC$38, Calcs!$AC$5:$AG$5, 0))","v":{"$error":"#N/A"}},{"$f":"INDEX(Calcs!$AC$5:$AG$51, MATCH('Rotation Assembler'!$A61, Calcs!$AC$5:$AC$51, 0), MATCH('Rotation Assembler'!BD$38, Calcs!$AC$5:$AG$5, 0))","v":{"$error":"#N/A"}},{"$f":"INDEX(Calcs!$AC$5:$AG$51, MATCH('Rotation Assembler'!$A61, Calcs!$AC$5:$AC$51, 0), MATCH('Rotation Assembler'!BE$38, Calcs!$AC$5:$AG$5, 0))","v":{"$error":"#N/A"}},{"$f":"INDEX(Calcs!$AC$5:$AG$51, MATCH('Rotation Assembler'!$A61, Calcs!$AC$5:$AC$51, 0), MATCH('Rotation Assembler'!BF$38, Calcs!$AC$5:$AG$5, 0))","v":{"$error":"#N/A"}}]
["Swirl%",{"$f":"INDEX(Calcs!$AC$5:$AG$51, MATCH('Rotation Assembler'!$A62, Calcs!$AC$5:$AC$51, 0), MATCH('Rotation Assembler'!B$38, Calcs!$AC$5:$AG$5, 0))","v":0},{"$f":"INDEX(Calcs!$AC$5:$AG$51, MATCH('Rotation Assembler'!$A62, Calcs!$AC$5:$AC$51, 0), MATCH('Rotation Assembler'!C$38, Calcs!$AC$5:$AG$5, 0))","v":0},{"$f":"INDEX(Calcs!$AC$5:$AG$51, MATCH('Rotation Assembler'!$A62, Calcs!$AC$5:$AC$51, 0), MATCH('Rotation Assembler'!D$38, Calcs!$AC$5:$AG$5, 0))","v":0},{"$f":"INDEX(Calcs!$AC$5:$AG$51, MATCH('Rotation Assembler'!$A62, Calcs!$AC$5:$AC$51, 0), MATCH('Rotation Assembler'!E$38, Calcs!$AC$5:$AG$5, 0))","v":0},{"$f":"INDEX(Calcs!$AC$5:$AG$51, MATCH('Rotation Assembler'!$A62, Calcs!$AC$5:$AC$51, 0), MATCH('Rotation Assembler'!F$38, Calcs!$AC$5:$AG$5, 0))","v":0},{"$f":"INDEX(Calcs!$AC$5:$AG$51, MATCH('Rotation Assembler'!$A62, Calcs!$AC$5:$AC$51, 0), MATCH('Rotation Assembler'!G$38, Calcs!$AC$5:$AG$5, 0))","v":0},{"$f":"INDEX(Calcs!$AC$5:$AG$51, MATCH('Rotation Assembler'!$A62, Calcs!$AC$5:$AC$51, 0), MATCH('Rotation Assembler'!H$38, Calcs!$AC$5:$AG$5, 0))","v":0},{"$f":"INDEX(Calcs!$AC$5:$AG$51, MATCH('Rotation Assembler'!$A62, Calcs!$AC$5:$AC$51, 0), MATCH('Rotation Assembler'!I$38, Calcs!$AC$5:$AG$5, 0))","v":0},{"$f":"INDEX(Calcs!$AC$5:$AG$51, MATCH('Rotation Assembler'!$A62, Calcs!$AC$5:$AC$51, 0), MATCH('Rotation Assembler'!J$38, Calcs!$AC$5:$AG$5, 0))","v":0},{"$f":"INDEX(Calcs!$AC$5:$AG$51, MATCH('Rotation Assembler'!$A62, Calcs!$AC$5:$AC$51, 0), MATCH('Rotation Assembler'!K$38, Calcs!$AC$5:$AG$5, 0))","v":0},{"$f":"INDEX(Calcs!$AC$5:$AG$51, MATCH('Rotation Assembler'!$A62, Calcs!$AC$5:$AC$51, 0), MATCH('Rotation Assembler'!L$38, Calcs!$AC$5:$AG$5, 0))","v":0},{"$f":"INDEX(Calcs!$AC$5:$AG$51, MATCH('Rotation Assembler'!$A62, Calcs!$AC$5:$AC$51, 0), MATCH('Rotation Assembler'!M$38, Calcs!$AC$5:$AG$5, 0))","v":0},{"$f":"INDEX(Calcs!$AC$5:$AG$51, MATCH('Rotation Assembler'!$A62, Calcs!$AC$5:$AC$51, 0), MATCH('Rotation Assembler'!N$38, Calcs!$AC$5:$AG$5, 0))","v":0},{"$f":"INDEX(Calcs!$AC$5:$AG$51, MATCH('Rotation Assembler'!$A62, Calcs!$AC$5:$AC$51, 0), MATCH('Rotation Assembler'!O$38, Calcs!$AC$5:$AG$5, 0))","v":0},{"$f":"INDEX(Calcs!$AC$5:$AG$51, MATCH('Rotation Assembler'!$A62, Calcs!$AC$5:$AC$51, 0), MATCH('Rotation Assembler'!P$38, Calcs!$AC$5:$AG$5, 0))","v":0},{"$f":"INDEX(Calcs!$AC$5:$AG$51, MATCH('Rotation Assembler'!$A62, Calcs!$AC$5:$AC$51, 0), MATCH('Rotation Assembler'!Q$38, Calcs!$AC$5:$AG$5, 0))","v":0},{"$f":"INDEX(Calcs!$AC$5:$AG$51, MATCH('Rotation Assembler'!$A62, Calcs!$AC$5:$AC$51, 0), MATCH('Rotation Assembler'!R$38, Calcs!$AC$5:$AG$5, 0))","v":0},{"$f":"INDEX(Calcs!$AC$5:$AG$51, MATCH('Rotation Assembler'!$A62, Calcs!$AC$5:$AC$51, 0), MATCH('Rotation Assembler'!S$38, Calcs!$AC$5:$AG$5, 0))","v":0},{"$f":"INDEX(Calcs!$AC$5:$AG$51, MATCH('Rotation Assembler'!$A62, Calcs!$AC$5:$AC$51, 0), MATCH('Rotation Assembler'!T$38, Calcs!$AC$5:$AG$5, 0))","v":0},{"$f":"INDEX(Calcs!$AC$5:$AG$51, MATCH('Rotation Assembler'!$A62, Calcs!$AC$5:$AC$51, 0), MATCH('Rotation Assembler'!U$38, Calcs!$AC$5:$AG$5, 0))","v":0},null,{"$f":"INDEX(Calcs!$AC$5:$AG$51, MATCH('Rotation Assembler'!$A62, Calcs!$AC$5:$AC$51, 0), MATCH('Rotation Assembler'!W$38, Calcs!$AC$5:$AG$5, 0))","v":0},{"$f":"INDEX(Calcs!$AC$5:$AG$51, MATCH('Rotation Assembler'!$A62, Calcs!$AC$5:$AC$51, 0), MATCH('Rotation Assembler'!X$38, Calcs!$AC$5:$AG$5, 0))","v":0},{"$f":"INDEX(Calcs!$AC$5:$AG$51, MATCH('Rotation Assembler'!$A62, Calcs!$AC$5:$AC$51, 0), MATCH('Rotation Assembler'!Y$38, Calcs!$AC$5:$AG$5, 0))","v":0},{"$f":"INDEX(Calcs!$AC$5:$AG$51, MATCH('Rotation Assembler'!$A62, Calcs!$AC$5:$AC$51, 0), MATCH('Rotation Assembler'!Z$38, Calcs!$AC$5:$AG$5, 0))","v":0},{"$f":"INDEX(Calcs!$AC$5:$AG$51, MATCH('Rotation Assembler'!$A62, Calcs!$AC$5:$AC$51, 0), MATCH('Rotation Assembler'!AA$38, Calcs!$AC$5:$AG$5, 0))","v":0},{"$f":"INDEX(Calcs!$AC$5:$AG$51, MATCH('Rotation Assembler'!$A62, Calcs!$AC$5:$AC$51, 0), MATCH('Rotation Assembler'!AB$38, Calcs!$AC$5:$AG$5, 0))","v":0},{"$f":"INDEX(Calcs!$AC$5:$AG$51, MATCH('Rotation Assembler'!$A62, Calcs!$AC$5:$AC$51, 0), MATCH('Rotation Assembler'!AC$38, Calcs!$AC$5:$AG$5, 0))","v":0},{"$f":"INDEX(Calcs!$AC$5:$AG$51, MATCH('Rotation Assembler'!$A62, Calcs!$AC$5:$AC$51, 0), MATCH('Rotation Assembler'!AD$38, Calcs!$AC$5:$AG$5, 0))","v":0},{"$f":"INDEX(Calcs!$AC$5:$AG$51, MATCH('Rotation Assembler'!$A62, Calcs!$AC$5:$AC$51, 0), MATCH('Rotation Assembler'!AE$38, Calcs!$AC$5:$AG$5, 0))","v":0},{"$f":"INDEX(Calcs!$AC$5:$AG$51, MATCH('Rotation Assembler'!$A62, Calcs!$AC$5:$AC$51, 0), MATCH('Rotation Assembler'!AF$38, Calcs!$AC$5:$AG$5, 0))","v":{"$error":"#N/A"}},{"$f":"INDEX(Calcs!$AC$5:$AG$51, MATCH('Rotation Assembler'!$A62, Calcs!$AC$5:$AC$51, 0), MATCH('Rotation Assembler'!AG$38, Calcs!$AC$5:$AG$5, 0))","v":{"$error":"#N/A"}},{"$f":"INDEX(Calcs!$AC$5:$AG$51, MATCH('Rotation Assembler'!$A62, Calcs!$AC$5:$AC$51, 0), MATCH('Rotation Assembler'!AH$38, Calcs!$AC$5:$AG$5, 0))","v":{"$error":"#N/A"}},{"$f":"INDEX(Calcs!$AC$5:$AG$51, MATCH('Rotation Assembler'!$A62, Calcs!$AC$5:$AC$51, 0), MATCH('Rotation Assembler'!AI$38, Calcs!$AC$5:$AG$5, 0))","v":{"$error":"#N/A"}},{"$f":"INDEX(Calcs!$AC$5:$AG$51, MATCH('Rotation Assembler'!$A62, Calcs!$AC$5:$AC$51, 0), MATCH('Rotation Assembler'!AJ$38, Calcs!$AC$5:$AG$5, 0))","v":{"$error":"#N/A"}},{"$f":"INDEX(Calcs!$AC$5:$AG$51, MATCH('Rotation Assembler'!$A62, Calcs!$AC$5:$AC$51, 0), MATCH('Rotation Assembler'!AK$38, Calcs!$AC$5:$AG$5, 0))","v":{"$error":"#N/A"}},{"$f":"INDEX(Calcs!$AC$5:$AG$51, MATCH('Rotation Assembler'!$A62, Calcs!$AC$5:$AC$51, 0), MATCH('Rotation Assembler'!AL$38, Calcs!$AC$5:$AG$5, 0))","v":{"$error":"#N/A"}},{"$f":"INDEX(Calcs!$AC$5:$AG$51, MATCH('Rotation Assembler'!$A62, Calcs!$AC$5:$AC$51, 0), MATCH('Rotation Assembler'!AM$38, Calcs!$AC$5:$AG$5, 0))","v":{"$error":"#N/A"}},{"$f":"INDEX(Calcs!$AC$5:$AG$51, MATCH('Rotation Assembler'!$A62, Calcs!$AC$5:$AC$51, 0), MATCH('Rotation Assembler'!AN$38, Calcs!$AC$5:$AG$5, 0))","v":{"$error":"#N/A"}},{"$f":"INDEX(Calcs!$AC$5:$AG$51, MATCH('Rotation Assembler'!$A62, Calcs!$AC$5:$AC$51, 0), MATCH('Rotation Assembler'!AO$38, Calcs!$AC$5:$AG$5, 0))","v":{"$error":"#N/A"}},{"$f":"INDEX(Calcs!$AC$5:$AG$51, MATCH('Rotation Assembler'!$A62, Calcs!$AC$5:$AC$51, 0), MATCH('Rotation Assembler'!AP$38, Calcs!$AC$5:$AG$5, 0))","v":{"$error":"#N/A"}},{"$f":"INDEX(Calcs!$AC$5:$AG$51, MATCH('Rotation Assembler'!$A62, Calcs!$AC$5:$AC$51, 0), MATCH('Rotation Assembler'!AQ$38, Calcs!$AC$5:$AG$5, 0))","v":{"$error":"#N/A"}},{"$f":"INDEX(Calcs!$AC$5:$AG$51, MATCH('Rotation Assembler'!$A62, Calcs!$AC$5:$AC$51, 0), MATCH('Rotation Assembler'!AR$38, Calcs!$AC$5:$AG$5, 0))","v":{"$error":"#N/A"}},{"$f":"INDEX(Calcs!$AC$5:$AG$51, MATCH('Rotation Assembler'!$A62, Calcs!$AC$5:$AC$51, 0), MATCH('Rotation Assembler'!AS$38, Calcs!$AC$5:$AG$5, 0))","v":{"$error":"#N/A"}},{"$f":"INDEX(Calcs!$AC$5:$AG$51, MATCH('Rotation Assembler'!$A62, Calcs!$AC$5:$AC$51, 0), MATCH('Rotation Assembler'!AT$38, Calcs!$AC$5:$AG$5, 0))","v":{"$error":"#N/A"}},{"$f":"INDEX(Calcs!$AC$5:$AG$51, MATCH('Rotation Assembler'!$A62, Calcs!$AC$5:$AC$51, 0), MATCH('Rotation Assembler'!AU$38, Calcs!$AC$5:$AG$5, 0))","v":{"$error":"#N/A"}},{"$f":"INDEX(Calcs!$AC$5:$AG$51, MATCH('Rotation Assembler'!$A62, Calcs!$AC$5:$AC$51, 0), MATCH('Rotation Assembler'!AV$38, Calcs!$AC$5:$AG$5, 0))","v":{"$error":"#N/A"}},{"$f":"INDEX(Calcs!$AC$5:$AG$51, MATCH('Rotation Assembler'!$A62, Calcs!$AC$5:$AC$51, 0), MATCH('Rotation Assembler'!AW$38, Calcs!$AC$5:$AG$5, 0))","v":{"$error":"#N/A"}},{"$f":"INDEX(Calcs!$AC$5:$AG$51, MATCH('Rotation Assembler'!$A62, Calcs!$AC$5:$AC$51, 0), MATCH('Rotation Assembler'!AX$38, Calcs!$AC$5:$AG$5, 0))","v":{"$error":"#N/A"}},{"$f":"INDEX(Calcs!$AC$5:$AG$51, MATCH('Rotation Assembler'!$A62, Calcs!$AC$5:$AC$51, 0), MATCH('Rotation Assembler'!AY$38, Calcs!$AC$5:$AG$5, 0))","v":{"$error":"#N/A"}},{"$f":"INDEX(Calcs!$AC$5:$AG$51, MATCH('Rotation Assembler'!$A62, Calcs!$AC$5:$AC$51, 0), MATCH('Rotation Assembler'!AZ$38, Calcs!$AC$5:$AG$5, 0))","v":{"$error":"#N/A"}},{"$f":"INDEX(Calcs!$AC$5:$AG$51, MATCH('Rotation Assembler'!$A62, Calcs!$AC$5:$AC$51, 0), MATCH('Rotation Assembler'!BA$38, Calcs!$AC$5:$AG$5, 0))","v":{"$error":"#N/A"}},{"$f":"INDEX(Calcs!$AC$5:$AG$51, MATCH('Rotation Assembler'!$A62, Calcs!$AC$5:$AC$51, 0), MATCH('Rotation Assembler'!BB$38, Calcs!$AC$5:$AG$5, 0))","v":{"$error":"#N/A"}},{"$f":"INDEX(Calcs!$AC$5:$AG$51, MATCH('Rotation Assembler'!$A62, Calcs!$AC$5:$AC$51, 0), MATCH('Rotation Assembler'!BC$38, Calcs!$AC$5:$AG$5, 0))","v":{"$error":"#N/A"}},{"$f":"INDEX(Calcs!$AC$5:$AG$51, MATCH('Rotation Assembler'!$A62, Calcs!$AC$5:$AC$51, 0), MATCH('Rotation Assembler'!BD$38, Calcs!$AC$5:$AG$5, 0))","v":{"$error":"#N/A"}},{"$f":"INDEX(Calcs!$AC$5:$AG$51, MATCH('Rotation Assembler'!$A62, Calcs!$AC$5:$AC$51, 0), MATCH('Rotation Assembler'!BE$38, Calcs!$AC$5:$AG$5, 0))","v":{"$error":"#N/A"}},{"$f":"INDEX(Calcs!$AC$5:$AG$51, MATCH('Rotation Assembler'!$A62, Calcs!$AC$5:$AC$51, 0), MATCH('Rotation Assembler'!BF$38, Calcs!$AC$5:$AG$5, 0))","v":{"$error":"#N/A"}}]
["Overload%",{"$f":"INDEX(Calcs!$AC$5:$AG$51, MATCH('Rotation Assembler'!$A63, Calcs!$AC$5:$AC$51, 0), MATCH('Rotation Assembler'!B$38, Calcs!$AC$5:$AG$5, 0))","v":0},{"$f":"INDEX(Calcs!$AC$5:$AG$51, MATCH('Rotation Assembler'!$A63, Calcs!$AC$5:$AC$51, 0), MATCH('Rotation Assembler'!C$38, Calcs!$AC$5:$AG$5, 0))","v":0},{"$f":"INDEX(Calcs!$AC$5:$AG$51, MATCH('Rotation Assembler'!$A63, Calcs!$AC$5:$AC$51, 0), MATCH('Rotation Assembler'!D$38, Calcs!$AC$5:$AG$5, 0))","v":0},{"$f":"INDEX(Calcs!$AC$5:$AG$51, MATCH('Rotation Assembler'!$A63, Calcs!$AC$5:$AC$51, 0), MATCH('Rotation Assembler'!E$38, Calcs!$AC$5:$AG$5, 0))","v":0},{"$f":"INDEX(Calcs!$AC$5:$AG$51, MATCH('Rotation Assembler'!$A63, Calcs!$AC$5:$AC$51, 0), MATCH('Rotation Assembler'!F$38, Calcs!$AC$5:$AG$5, 0))","v":0},{"$f":"INDEX(Calcs!$AC$5:$AG$51, MATCH('Rotation Assembler'!$A63, Calcs!$AC$5:$AC$51, 0), MATCH('Rotation Assembler'!G$38, Calcs!$AC$5:$AG$5, 0))","v":0},{"$f":"INDEX(Calcs!$AC$5:$AG$51, MATCH('Rotation Assembler'!$A63, Calcs!$AC$5:$AC$51, 0), MATCH('Rotation Assembler'!H$38, Calcs!$AC$5:$AG$5, 0))","v":0.4},{"$f":"INDEX(Calcs!$AC$5:$AG$51, MATCH('Rotation Assembler'!$A63, Calcs!$AC$5:$AC$51, 0), MATCH('Rotation Assembler'!I$38, Calcs!$AC$5:$AG$5, 0))","v":0.4},{"$f":"INDEX(Calcs!$AC$5:$AG$51, MATCH('Rotation Assembler'!$A63, Calcs!$AC$5:$AC$51, 0), MATCH('Rotation Assembler'!J$38, Calcs!$AC$5:$AG$5, 0))","v":0.4},{"$f":"INDEX(Calcs!$AC$5:$AG$51, MATCH('Rotation Assembler'!$A63, Calcs!$AC$5:$AC$51, 0), MATCH('Rotation Assembler'!K$38, Calcs!$AC$5:$AG$5, 0))","v":0.4},{"$f":"INDEX(Calcs!$AC$5:$AG$51, MATCH('Rotation Assembler'!$A63, Calcs!$AC$5:$AC$51, 0), MATCH('Rotation Assembler'!L$38, Calcs!$AC$5:$AG$5, 0))","v":0.4},{"$f":"INDEX(Calcs!$AC$5:$AG$51, MATCH('Rotation Assembler'!$A63, Calcs!$AC$5:$AC$51, 0), MATCH('Rotation Assembler'!M$38, Calcs!$AC$5:$AG$5, 0))","v":0.4},{"$f":"INDEX(Calcs!$AC$5:$AG$51, MATCH('Rotation Assembler'!$A63, Calcs!$AC$5:$AC$51, 0), MATCH('Rotation Assembler'!N$38, Calcs!$AC$5:$AG$5, 0))","v":0.4},{"$f":"INDEX(Calcs!$AC$5:$AG$51, MATCH('Rotation Assembler'!$A63, Calcs!$AC$5:$AC$51, 0), MATCH('Rotation Assembler'!O$38, Calcs!$AC$5:$AG$5, 0))","v":0.4},{"$f":"INDEX(Calcs!$AC$5:$AG$51, MATCH('Rotation Assembler'!$A63, Calcs!$AC$5:$AC$51, 0), MATCH('Rotation Assembler'!P$38, Calcs!$AC$5:$AG$5, 0))","v":0.4},{"$f":"INDEX(Calcs!$AC$5:$AG$51, MATCH('Rotation Assembler'!$A63, Calcs!$AC$5:$AC$51, 0), MATCH('Rotation Assembler'!Q$38, Calcs!$AC$5:$AG$5, 0))","v":0.4},{"$f":"INDEX(Calcs!$AC$5:$AG$51, MATCH('Rotation Assembler'!$A63, Calcs!$AC$5:$AC$51, 0), MATCH('Rotation Assembler'!R$38, Calcs!$AC$5:$AG$5, 0))","v":0.4},{"$f":"INDEX(Calcs!$AC$5:$AG$51, MATCH('Rotation Assembler'!$A63, Calcs!$AC$5:$AC$51, 0), MATCH('Rotation Assembler'!S$38, Calcs!$AC$5:$AG$5, 0))","v":0.4},{"$f":"INDEX(Calcs!$AC$5:$AG$51, MATCH('Rotation Assembler'!$A63, Calcs!$AC$5:$AC$51, 0), MATCH('Rotation Assembler'!T$38, Calcs!$AC$5:$AG$5, 0))","v":0.4},{"$f":"INDEX(Calcs!$AC$5:$AG$51, MATCH('Rotation Assembler'!$A63, Calcs!$AC$5:$AC$51, 0), MATCH('Rotation Assembler'!U$38, Calcs!$AC$5:$AG$5, 0))","v":0.4},null,{"$f":"INDEX(Calcs!$AC$5:$AG$51, MATCH('Rotation Assembler'!$A63, Calcs!$AC$5:$AC$51, 0), MATCH('Rotation Assembler'!W$38, Calcs!$AC$5:$AG$5, 0))","v":0},{"$f":"INDEX(Calcs!$AC$5:$AG$51, MATCH('Rotation Assembler'!$A63, Calcs!$AC$5:$AC$51, 0), MATCH('Rotation Assembler'!X$38, Calcs!$AC$5:$AG$5, 0))","v":0},{"$f":"INDEX(Calcs!$AC$5:$AG$51, MATCH('Rotation Assembler'!$A63, Calcs!$AC$5:$AC$51, 0), MATCH('Rotation Assembler'!Y$38, Calcs!$AC$5:$AG$5, 0))","v":0},{"$f":"INDEX(Calcs!$AC$5:$AG$51, MATCH('Rotation Assembler'!$A63, Calcs!$AC$5:$AC$51, 0), MATCH('Rotation Assembler'!Z$38, Calcs!$AC$5:$AG$5, 0))","v":0},{"$f":"INDEX(Calcs!$AC$5:$AG$51, MATCH('Rotation Assembler'!$A63, Calcs!$AC$5:$AC$51, 0), MATCH('Rotation Assembler'!AA$38, Calcs!$AC$5:$AG$5, 0))","v":0},{"$f":"INDEX(Calcs!$AC$5:$AG$51, MATCH('Rotation Assembler'!$A63, Calcs!$AC$5:$AC$51, 0), MATCH('Rotation Assembler'!AB$38, Calcs!$AC$5:$AG$5, 0))","v":0.4},{"$f":"INDEX(Calcs!$AC$5:$AG$51, MATCH('Rotation Assembler'!$A63, Calcs!$AC$5:$AC$51, 0), MATCH('Rotation Assembler'!AC$38, Calcs!$AC$5:$AG$5, 0))","v":0.4},{"$f":"INDEX(Calcs!$AC$5:$AG$51, MATCH('Rotation Assembler'!$A63, Calcs!$AC$5:$AC$51, 0), MATCH('Rotation Assembler'!AD$38, Calcs!$AC$5:$AG$5, 0))","v":0},{"$f":"INDEX(Calcs!$AC$5:$AG$51, MATCH('Rotation Assembler'!$A63, Calcs!$AC$5:$AC$51, 0), MATCH('Rotation Assembler'!AE$38, Calcs!$AC$5:$AG$5, 0))","v":0.4},{"$f":"INDEX(Calcs!$AC$5:$AG$51, MATCH('Rotation Assembler'!$A63, Calcs!$AC$5:$AC$51, 0), MATCH('Rotation Assembler'!AF$38, Calcs!$AC$5:$AG$5, 0))","v":{"$error":"#N/A"}},{"$f":"INDEX(Calcs!$AC$5:$AG$51, MATCH('Rotation Assembler'!$A63, Calcs!$AC$5:$AC$51, 0), MATCH('Rotation Assembler'!AG$38, Calcs!$AC$5:$AG$5, 0))","v":{"$error":"#N/A"}},{"$f":"INDEX(Calcs!$AC$5:$AG$51, MATCH('Rotation Assembler'!$A63, Calcs!$AC$5:$AC$51, 0), MATCH('Rotation Assembler'!AH$38, Calcs!$AC$5:$AG$5, 0))","v":{"$error":"#N/A"}},{"$f":"INDEX(Calcs!$AC$5:$AG$51, MATCH('Rotation Assembler'!$A63, Calcs!$AC$5:$AC$51, 0), MATCH('Rotation Assembler'!AI$38, Calcs!$AC$5:$AG$5, 0))","v":{"$error":"#N/A"}},{"$f":"INDEX(Calcs!$AC$5:$AG$51, MATCH('Rotation Assembler'!$A63, Calcs!$AC$5:$AC$51, 0), MATCH('Rotation Assembler'!AJ$38, Calcs!$AC$5:$AG$5, 0))","v":{"$error":"#N/A"}},{"$f":"INDEX(Calcs!$AC$5:$AG$51, MATCH('Rotation Assembler'!$A63, Calcs!$AC$5:$AC$51, 0), MATCH('Rotation Assembler'!AK$38, Calcs!$AC$5:$AG$5, 0))","v":{"$error":"#N/A"}},{"$f":"INDEX(Calcs!$AC$5:$AG$51, MATCH('Rotation Assembler'!$A63, Calcs!$AC$5:$AC$51, 0), MATCH('Rotation Assembler'!AL$38, Calcs!$AC$5:$AG$5, 0))","v":{"$error":"#N/A"}},{"$f":"INDEX(Calcs!$AC$5:$AG$51, MATCH('Rotation Assembler'!$A63, Calcs!$AC$5:$AC$51, 0), MATCH('Rotation Assembler'!AM$38, Calcs!$AC$5:$AG$5, 0))","v":{"$error":"#N/A"}},{"$f":"INDEX(Calcs!$AC$5:$AG$51, MATCH('Rotation Assembler'!$A63, Calcs!$AC$5:$AC$51, 0), MATCH('Rotation Assembler'!AN$38, Calcs!$AC$5:$AG$5, 0))","v":{"$error":"#N/A"}},{"$f":"INDEX(Calcs!$AC$5:$AG$51, MATCH('Rotation Assembler'!$A63, Calcs!$AC$5:$AC$51, 0), MATCH('Rotation Assembler'!AO$38, Calcs!$AC$5:$AG$5, 0))","v":{"$error":"#N/A"}},{"$f":"INDEX(Calcs!$AC$5:$AG$51, MATCH('Rotation Assembler'!$A63, Calcs!$AC$5:$AC$51, 0), MATCH('Rotation Assembler'!AP$38, Calcs!$AC$5:$AG$5, 0))","v":{"$error":"#N/A"}},{"$f":"INDEX(Calcs!$AC$5:$AG$51, MATCH('Rotation Assembler'!$A63, Calcs!$AC$5:$AC$51, 0), MATCH('Rotation Assembler'!AQ$38, Calcs!$AC$5:$AG$5, 0))","v":{"$error":"#N/A"}},{"$f":"INDEX(Calcs!$AC$5:$AG$51, MATCH('Rotation Assembler'!$A63, Calcs!$AC$5:$AC$51, 0), MATCH('Rotation Assembler'!AR$38, Calcs!$AC$5:$AG$5, 0))","v":{"$error":"#N/A"}},{"$f":"INDEX(Calcs!$AC$5:$AG$51, MATCH('Rotation Assembler'!$A63, Calcs!$AC$5:$AC$51, 0), MATCH('Rotation Assembler'!AS$38, Calcs!$AC$5:$AG$5, 0))","v":{"$error":"#N/A"}},{"$f":"INDEX(Calcs!$AC$5:$AG$51, MATCH('Rotation Assembler'!$A63, Calcs!$AC$5:$AC$51, 0), MATCH('Rotation Assembler'!AT$38, Calcs!$AC$5:$AG$5, 0))","v":{"$error":"#N/A"}},{"$f":"INDEX(Calcs!$AC$5:$AG$51, MATCH('Rotation Assembler'!$A63, Calcs!$AC$5:$AC$51, 0), MATCH('Rotation Assembler'!AU$38, Calcs!$AC$5:$AG$5, 0))","v":{"$error":"#N/A"}},{"$f":"INDEX(Calcs!$AC$5:$AG$51, MATCH('Rotation Assembler'!$A63, Calcs!$AC$5:$AC$51, 0), MATCH('Rotation Assembler'!AV$38, Calcs!$AC$5:$AG$5, 0))","v":{"$error":"#N/A"}},{"$f":"INDEX(Calcs!$AC$5:$AG$51, MATCH('Rotation Assembler'!$A63, Calcs!$AC$5:$AC$51, 0), MATCH('Rotation Assembler'!AW$38, Calcs!$AC$5:$AG$5, 0))","v":{"$error":"#N/A"}},{"$f":"INDEX(Calcs!$AC$5:$AG$51, MATCH('Rotation Assembler'!$A63, Calcs!$AC$5:$AC$51, 0), MATCH('Rotation Assembler'!AX$38, Calcs!$AC$5:$AG$5, 0))","v":{"$error":"#N/A"}},{"$f":"INDEX(Calcs!$AC$5:$AG$51, MATCH('Rotation Assembler'!$A63, Calcs!$AC$5:$AC$51, 0), MATCH('Rotation Assembler'!AY$38, Calcs!$AC$5:$AG$5, 0))","v":{"$error":"#N/A"}},{"$f":"INDEX(Calcs!$AC$5:$AG$51, MATCH('Rotation Assembler'!$A63, Calcs!$AC$5:$AC$51, 0), MATCH('Rotation Assembler'!AZ$38, Calcs!$AC$5:$AG$5, 0))","v":{"$error":"#N/A"}},{"$f":"INDEX(Calcs!$AC$5:$AG$51, MATCH('Rotation Assembler'!$A63, Calcs!$AC$5:$AC$51, 0), MATCH('Rotation Assembler'!BA$38, Calcs!$AC$5:$AG$5, 0))","v":{"$error":"#N/A"}},{"$f":"INDEX(Calcs!$AC$5:$AG$51, MATCH('Rotation Assembler'!$A63, Calcs!$AC$5:$AC$51, 0), MATCH('Rotation Assembler'!BB$38, Calcs!$AC$5:$AG$5, 0))","v":{"$error":"#N/A"}},{"$f":"INDEX(Calcs!$AC$5:$AG$51, MATCH('Rotation Assembler'!$A63, Calcs!$AC$5:$AC$51, 0), MATCH('Rotation Assembler'!BC$38, Calcs!$AC$5:$AG$5, 0))","v":{"$error":"#N/A"}},{"$f":"INDEX(Calcs!$AC$5:$AG$51, MATCH('Rotation Assembler'!$A63, Calcs!$AC$5:$AC$51, 0), MATCH('Rotation Assembler'!BD$38, Calcs!$AC$5:$AG$5, 0))","v":{"$error":"#N/A"}},{"$f":"INDEX(Calcs!$AC$5:$AG$51, MATCH('Rotation Assembler'!$A63, Calcs!$AC$5:$AC$51, 0), MATCH('Rotation Assembler'!BE$38, Calcs!$AC$5:$AG$5, 0))","v":{"$error":"#N/A"}},{"$f":"INDEX(Calcs!$AC$5:$AG$51, MATCH('Rotation Assembler'!$A63, Calcs!$AC$5:$AC$51, 0), MATCH('Rotation Assembler'!BF$38, Calcs!$AC$5:$AG$5, 0))","v":{"$error":"#N/A"}}]
["Crystallize%",{"$f":"INDEX(Calcs!$AC$5:$AG$51, MATCH('Rotation Assembler'!$A64, Calcs!$AC$5:$AC$51, 0), MATCH('Rotation Assembler'!B$38, Calcs!$AC$5:$AG$5, 0))","v":0},{"$f":"INDEX(Calcs!$AC$5:$AG$51, MATCH('Rotation Assembler'!$A64, Calcs!$AC$5:$AC$51, 0), MATCH('Rotation Assembler'!C$38, Calcs!$AC$5:$AG$5, 0))","v":0},{"$f":"INDEX(Calcs!$AC$5:$AG$51, MATCH('Rotation Assembler'!$A64, Calcs!$AC$5:$AC$51, 0), MATCH('Rotation Assembler'!D$38, Calcs!$AC$5:$AG$5, 0))","v":0},{"$f":"INDEX(Calcs!$AC$5:$AG$51, MATCH('Rotation Assembler'!$A64, Calcs!$AC$5:$AC$51, 0), MATCH('Rotation Assembler'!E$38, Calcs!$AC$5:$AG$5, 0))","v":0},{"$f":"INDEX(Calcs!$AC$5:$AG$51, MATCH('Rotation Assembler'!$A64, Calcs!$AC$5:$AC$51, 0), MATCH('Rotation Assembler'!F$38, Calcs!$AC$5:$AG$5, 0))","v":0},{"$f":"INDEX(Calcs!$AC$5:$AG$51, MATCH('Rotation Assembler'!$A64, Calcs!$AC$5:$AC$51, 0), MATCH('Rotation Assembler'!G$38, Calcs!$AC$5:$AG$5, 0))","v":0},{"$f":"INDEX(Calcs!$AC$5:$AG$51, MATCH('Rotation Assembler'!$A64, Calcs!$AC$5:$AC$51, 0), MATCH('Rotation Assembler'!H$38, Calcs!$AC$5:$AG$5, 0))","v":0},{"$f":"INDEX(Calcs!$AC$5:$AG$51, MATCH('Rotation Assembler'!$A64, Calcs!$AC$5:$AC$51, 0), MATCH('Rotation Assembler'!I$38, Calcs!$AC$5:$AG$5, 0))","v":0},{"$f":"INDEX(Calcs!$AC$5:$AG$51, MATCH('Rotation Assembler'!$A64, Calcs!$AC$5:$AC$51, 0), MATCH('Rotation Assembler'!J$38, Calcs!$AC$5:$AG$5, 0))","v":0},{"$f":"INDEX(Calcs!$AC$5:$AG$51, MATCH('Rotation Assembler'!$A64, Calcs!$AC$5:$AC$51, 0), MATCH('Rotation Assembler'!K$38, Calcs!$AC$5:$AG$5, 0))","v":0},{"$f":"INDEX(Calcs!$AC$5:$AG$51, MATCH('Rotation Assembler'!$A64, Calcs!$AC$5:$AC$51, 0), MATCH('Rotation Assembler'!L$38, Calcs!$AC$5:$AG$5, 0))","v":0},{"$f":"INDEX(Calcs!$AC$5:$AG$51, MATCH('Rotation Assembler'!$A64, Calcs!$AC$5:$AC$51, 0), MATCH('Rotation Assembler'!M$38, Calcs!$AC$5:$AG$5, 0))","v":0},{"$f":"INDEX(Calcs!$AC$5:$AG$51, MATCH('Rotation Assembler'!$A64, Calcs!$AC$5:$AC$51, 0), MATCH('Rotation Assembler'!N$38, Calcs!$AC$5:$AG$5, 0))","v":0},{"$f":"INDEX(Calcs!$AC$5:$AG$51, MATCH('Rotation Assembler'!$A64, Calcs!$AC$5:$AC$51, 0), MATCH('Rotation Assembler'!O$38, Calcs!$AC$5:$AG$5, 0))","v":0},{"$f":"INDEX(Calcs!$AC$5:$AG$51, MATCH('Rotation Assembler'!$A64, Calcs!$AC$5:$AC$51, 0), MATCH('Rotation Assembler'!P$38, Calcs!$AC$5:$AG$5, 0))","v":0},{"$f":"INDEX(Calcs!$AC$5:$AG$51, MATCH('Rotation Assembler'!$A64, Calcs!$AC$5:$AC$51, 0), MATCH('Rotation Assembler'!Q$38, Calcs!$AC$5:$AG$5, 0))","v":0},{"$f":"INDEX(Calcs!$AC$5:$AG$51, MATCH('Rotation Assembler'!$A64, Calcs!$AC$5:$AC$51, 0), MATCH('Rotation Assembler'!R$38, Calcs!$AC$5:$AG$5, 0))","v":0},{"$f":"INDEX(Calcs!$AC$5:$AG$51, MATCH('Rotation Assembler'!$A64, Calcs!$AC$5:$AC$51, 0), MATCH('Rotation Assembler'!S$38, Calcs!$AC$5:$AG$5, 0))","v":0},{"$f":"INDEX(Calcs!$AC$5:$AG$51, MATCH('Rotation Assembler'!$A64, Calcs!$AC$5:$AC$51, 0), MATCH('Rotation Assembler'!T$38, Calcs!$AC$5:$AG$5, 0))","v":0},{"$f":"INDEX(Calcs!$AC$5:$AG$51, MATCH('Rotation Assembler'!$A64, Calcs!$AC$5:$AC$51, 0), MATCH('Rotation Assembler'!U$38, Calcs!$AC$5:$AG$5, 0))","v":0},null,{"$f":"INDEX(Calcs!$AC$5:$AG$51, MATCH('Rotation Assembler'!$A64, Calcs!$AC$5:$AC$51, 0), MATCH('Rotation Assembler'!W$38, Calcs!$AC$5:$AG$5, 0))","v":0},{"$f":"INDEX(Calcs!$AC$5:$AG$51, MATCH('Rotation Assembler'!$A64, Calcs!$AC$5:$AC$51, 0), MATCH('Rotation Assembler'!X$38, Calcs!$AC$5:$AG$5, 0))","v":0},{"$f":"INDEX(Calcs!$AC$5:$AG$51, MATCH('Rotation Assembler'!$A64, Calcs!$AC$5:$AC$51, 0), MATCH('Rotation Assembler'!Y$38, Calcs!$AC$5:$AG$5, 0))","v":0},{"$f":"INDEX(Calcs!$AC$5:$AG$51, MATCH('Rotation Assembler'!$A64, Calcs!$AC$5:$AC$51, 0), MATCH('Rotation Assembler'!Z$38, Calcs!$AC$5:$AG$5, 0))","v":0},{"$f":"INDEX(Calcs!$AC$5:$AG$51, MATCH('Rotation Assembler'!$A64, Calcs!$AC$5:$AC$51, 0), MATCH('Rotation Assembler'!AA$38, Calcs!$AC$5:$AG$5, 0))","v":0},{"$f":"INDEX(Calcs!$AC$5:$AG$51, MATCH('Rotation Assembler'!$A64, Calcs!$AC$5:$AC$51, 0), MATCH('Rotation Assembler'!AB$38, Calcs!$AC$5:$AG$5, 0))","v":0},{"$f":"INDEX(Calcs!$AC$5:$AG$51, MATCH('Rotation Assembler'!$A64, Calcs!$AC$5:$AC$51, 0), MATCH('Rotation Assembler'!AC$38, Calcs!$AC$5:$AG$5, 0))","v":0},{"$f":"INDEX(Calcs!$AC$5:$AG$51, MATCH('Rotation Assembler'!$A64, Calcs!$AC$5:$AC$51, 0), MATCH('Rotation Assembler'!AD$38, Calcs!$AC$5:$AG$5, 0))","v":0},{"$f":"INDEX(Calcs!$AC$5:$AG$51, MATCH('Rotation Assembler'!$A64, Calcs!$AC$5:$AC$51, 0), MATCH('Rotation Assembler'!AE$38, Calcs!$AC$5:$AG$5, 0))","v":0},{"$f":"INDEX(Calcs!$AC$5:$AG$51, MATCH('Rotation Assembler'!$A64, Calcs!$AC$5:$AC$51, 0), MATCH('Rotation Assembler'!AF$38, Calcs!$AC$5:$AG$5, 0))","v":{"$error":"#N/A"}},{"$f":"INDEX(Calcs!$AC$5:$AG$51, MATCH('Rotation Assembler'!$A64, Calcs!$AC$5:$AC$51, 0), MATCH('Rotation Assembler'!AG$38, Calcs!$AC$5:$AG$5, 0))","v":{"$error":"#N/A"}},{"$f":"INDEX(Calcs!$AC$5:$AG$51, MATCH('Rotation Assembler'!$A64, Calcs!$AC$5:$AC$51, 0), MATCH('Rotation Assembler'!AH$38, Calcs!$AC$5:$AG$5, 0))","v":{"$error":"#N/A"}},{"$f":"INDEX(Calcs!$AC$5:$AG$51, MATCH('Rotation Assembler'!$A64, Calcs!$AC$5:$AC$51, 0), MATCH('Rotation Assembler'!AI$38, Calcs!$AC$5:$AG$5, 0))","v":{"$error":"#N/A"}},{"$f":"INDEX(Calcs!$AC$5:$AG$51, MATCH('Rotation Assembler'!$A64, Calcs!$AC$5:$AC$51, 0), MATCH('Rotation Assembler'!AJ$38, Calcs!$AC$5:$AG$5, 0))","v":{"$error":"#N/A"}},{"$f":"INDEX(Calcs!$AC$5:$AG$51, MATCH('Rotation Assembler'!$A64, Calcs!$AC$5:$AC$51, 0), MATCH('Rotation Assembler'!AK$38, Calcs!$AC$5:$AG$5, 0))","v":{"$error":"#N/A"}},{"$f":"INDEX(Calcs!$AC$5:$AG$51, MATCH('Rotation Assembler'!$A64, Calcs!$AC$5:$AC$51, 0), MATCH('Rotation Assembler'!AL$38, Calcs!$AC$5:$AG$5, 0))","v":{"$error":"#N/A"}},{"$f":"INDEX(Calcs!$AC$5:$AG$51, MATCH('Rotation Assembler'!$A64, Calcs!$AC$5:$AC$51, 0), MATCH('Rotation Assembler'!AM$38, Calcs!$AC$5:$AG$5, 0))","v":{"$error":"#N/A"}},{"$f":"INDEX(Calcs!$AC$5:$AG$51, MATCH('Rotation Assembler'!$A64, Calcs!$AC$5:$AC$51, 0), MATCH('Rotation Assembler'!AN$38, Calcs!$AC$5:$AG$5, 0))","v":{"$error":"#N/A"}},{"$f":"INDEX(Calcs!$AC$5:$AG$51, MATCH('Rotation Assembler'!$A64, Calcs!$AC$5:$AC$51, 0), MATCH('Rotation Assembler'!AO$38, Calcs!$AC$5:$AG$5, 0))","v":{"$error":"#N/A"}},{"$f":"INDEX(Calcs!$AC$5:$AG$51, MATCH('Rotation Assembler'!$A64, Calcs!$AC$5:$AC$51, 0), MATCH('Rotation Assembler'!AP$38, Calcs!$AC$5:$AG$5, 0))","v":{"$error":"#N/A"}},{"$f":"INDEX(Calcs!$AC$5:$AG$51, MATCH('Rotation Assembler'!$A64, Calcs!$AC$5:$AC$51, 0), MATCH('Rotation Assembler'!AQ$38, Calcs!$AC$5:$AG$5, 0))","v":{"$error":"#N/A"}},{"$f":"INDEX(Calcs!$AC$5:$AG$51, MATCH('Rotation Assembler'!$A64, Calcs!$AC$5:$AC$51, 0), MATCH('Rotation Assembler'!AR$38, Calcs!$AC$5:$AG$5, 0))","v":{"$error":"#N/A"}},{"$f":"INDEX(Calcs!$AC$5:$AG$51, MATCH('Rotation Assembler'!$A64, Calcs!$AC$5:$AC$51, 0), MATCH('Rotation Assembler'!AS$38, Calcs!$AC$5:$AG$5, 0))","v":{"$error":"#N/A"}},{"$f":"INDEX(Calcs!$AC$5:$AG$51, MATCH('Rotation Assembler'!$A64, Calcs!$AC$5:$AC$51, 0), MATCH('Rotation Assembler'!AT$38, Calcs!$AC$5:$AG$5, 0))","v":{"$error":"#N/A"}},{"$f":"INDEX(Calcs!$AC$5:$AG$51, MATCH('Rotation Assembler'!$A64, Calcs!$AC$5:$AC$51, 0), MATCH('Rotation Assembler'!AU$38, Calcs!$AC$5:$AG$5, 0))","v":{"$error":"#N/A"}},{"$f":"INDEX(Calcs!$AC$5:$AG$51, MATCH('Rotation Assembler'!$A64, Calcs!$AC$5:$AC$51, 0), MATCH('Rotation Assembler'!AV$38, Calcs!$AC$5:$AG$5, 0))","v":{"$error":"#N/A"}},{"$f":"INDEX(Calcs!$AC$5:$AG$51, MATCH('Rotation Assembler'!$A64, Calcs!$AC$5:$AC$51, 0), MATCH('Rotation Assembler'!AW$38, Calcs!$AC$5:$AG$5, 0))","v":{"$error":"#N/A"}},{"$f":"INDEX(Calcs!$AC$5:$AG$51, MATCH('Rotation Assembler'!$A64, Calcs!$AC$5:$AC$51, 0), MATCH('Rotation Assembler'!AX$38, Calcs!$AC$5:$AG$5, 0))","v":{"$error":"#N/A"}},{"$f":"INDEX(Calcs!$AC$5:$AG$51, MATCH('Rotation Assembler'!$A64, Calcs!$AC$5:$AC$51, 0), MATCH('Rotation Assembler'!AY$38, Calcs!$AC$5:$AG$5, 0))","v":{"$error":"#N/A"}},{"$f":"INDEX(Calcs!$AC$5:$AG$51, MATCH('Rotation Assembler'!$A64, Calcs!$AC$5:$AC$51, 0), MATCH('Rotation Assembler'!AZ$38, Calcs!$AC$5:$AG$5, 0))","v":{"$error":"#N/A"}},{"$f":"INDEX(Calcs!$AC$5:$AG$51, MATCH('Rotation Assembler'!$A64, Calcs!$AC$5:$AC$51, 0), MATCH('Rotation Assembler'!BA$38, Calcs!$AC$5:$AG$5, 0))","v":{"$error":"#N/A"}},{"$f":"INDEX(Calcs!$AC$5:$AG$51, MATCH('Rotation Assembler'!$A64, Calcs!$AC$5:$AC$51, 0), MATCH('Rotation Assembler'!BB$38, Calcs!$AC$5:$AG$5, 0))","v":{"$error":"#N/A"}},{"$f":"INDEX(Calcs!$AC$5:$AG$51, MATCH('Rotation Assembler'!$A64, Calcs!$AC$5:$AC$51, 0), MATCH('Rotation Assembler'!BC$38, Calcs!$AC$5:$AG$5, 0))","v":{"$error":"#N/A"}},{"$f":"INDEX(Calcs!$AC$5:$AG$51, MATCH('Rotation Assembler'!$A64, Calcs!$AC$5:$AC$51, 0), MATCH('Rotation Assembler'!BD$38, Calcs!$AC$5:$AG$5, 0))","v":{"$error":"#N/A"}},{"$f":"INDEX(Calcs!$AC$5:$AG$51, MATCH('Rotation Assembler'!$A64, Calcs!$AC$5:$AC$51, 0), MATCH('Rotation Assembler'!BE$38, Calcs!$AC$5:$AG$5, 0))","v":{"$error":"#N/A"}},{"$f":"INDEX(Calcs!$AC$5:$AG$51, MATCH('Rotation Assembler'!$A64, Calcs!$AC$5:$AC$51, 0), MATCH('Rotation Assembler'!BF$38, Calcs!$AC$5:$AG$5, 0))","v":{"$error":"#N/A"}}]
["Electrocharged%",{"$f":"INDEX(Calcs!$AC$5:$AG$51, MATCH('Rotation Assembler'!$A65, Calcs!$AC$5:$AC$51, 0), MATCH('Rotation Assembler'!B$38, Calcs!$AC$5:$AG$5, 0))","v":0},{"$f":"INDEX(Calcs!$AC$5:$AG$51, MATCH('Rotation Assembler'!$A65, Calcs!$AC$5:$AC$51, 0), MATCH('Rotation Assembler'!C$38, Calcs!$AC$5:$AG$5, 0))","v":0},{"$f":"INDEX(Calcs!$AC$5:$AG$51, MATCH('Rotation Assembler'!$A65, Calcs!$AC$5:$AC$51, 0), MATCH('Rotation Assembler'!D$38, Calcs!$AC$5:$AG$5, 0))","v":0},{"$f":"INDEX(Calcs!$AC$5:$AG$51, MATCH('Rotation Assembler'!$A65, Calcs!$AC$5:$AC$51, 0), MATCH('Rotation Assembler'!E$38, Calcs!$AC$5:$AG$5, 0))","v":0},{"$f":"INDEX(Calcs!$AC$5:$AG$51, MATCH('Rotation Assembler'!$A65, Calcs!$AC$5:$AC$51, 0), MATCH('Rotation Assembler'!F$38, Calcs!$AC$5:$AG$5, 0))","v":0},{"$f":"INDEX(Calcs!$AC$5:$AG$51, MATCH('Rotation Assembler'!$A65, Calcs!$AC$5:$AC$51, 0), MATCH('Rotation Assembler'!G$38, Calcs!$AC$5:$AG$5, 0))","v":0},{"$f":"INDEX(Calcs!$AC$5:$AG$51, MATCH('Rotation Assembler'!$A65, Calcs!$AC$5:$AC$51, 0), MATCH('Rotation Assembler'!H$38, Calcs!$AC$5:$AG$5, 0))","v":0},{"$f":"INDEX(Calcs!$AC$5:$AG$51, MATCH('Rotation Assembler'!$A65, Calcs!$AC$5:$AC$51, 0), MATCH('Rotation Assembler'!I$38, Calcs!$AC$5:$AG$5, 0))","v":0},{"$f":"INDEX(Calcs!$AC$5:$AG$51, MATCH('Rotation Assembler'!$A65, Calcs!$AC$5:$AC$51, 0), MATCH('Rotation Assembler'!J$38, Calcs!$AC$5:$AG$5, 0))","v":0},{"$f":"INDEX(Calcs!$AC$5:$AG$51, MATCH('Rotation Assembler'!$A65, Calcs!$AC$5:$AC$51, 0), MATCH('Rotation Assembler'!K$38, Calcs!$AC$5:$AG$5, 0))","v":0},{"$f":"INDEX(Calcs!$AC$5:$AG$51, MATCH('Rotation Assembler'!$A65, Calcs!$AC$5:$AC$51, 0), MATCH('Rotation Assembler'!L$38, Calcs!$AC$5:$AG$5, 0))","v":0},{"$f":"INDEX(Calcs!$AC$5:$AG$51, MATCH('Rotation Assembler'!$A65, Calcs!$AC$5:$AC$51, 0), MATCH('Rotation Assembler'!M$38, Calcs!$AC$5:$AG$5, 0))","v":0},{"$f":"INDEX(Calcs!$AC$5:$AG$51, MATCH('Rotation Assembler'!$A65, Calcs!$AC$5:$AC$51, 0), MATCH('Rotation Assembler'!N$38, Calcs!$AC$5:$AG$5, 0))","v":0},{"$f":"INDEX(Calcs!$AC$5:$AG$51, MATCH('Rotation Assembler'!$A65, Calcs!$AC$5:$AC$51, 0), MATCH('Rotation Assembler'!O$38, Calcs!$AC$5:$AG$5, 0))","v":0},{"$f":"INDEX(Calcs!$AC$5:$AG$51, MATCH('Rotation Assembler'!$A65, Calcs!$AC$5:$AC$51, 0), MATCH('Rotation Assembler'!P$38, Calcs!$AC$5:$AG$5, 0))","v":0},{"$f":"INDEX(Calcs!$AC$5:$AG$51, MATCH('Rotation Assembler'!$A65, Calcs!$AC$5:$AC$51, 0), MATCH('Rotation Assembler'!Q$38, Calcs!$AC$5:$AG$5, 0))","v":0},{"$f":"INDEX(Calcs!$AC$5:$AG$51, MATCH('Rotation Assembler'!$A65, Calcs!$AC$5:$AC$51, 0), MATCH('Rotation Assembler'!R$38, Calcs!$AC$5:$AG$5, 0))","v":0},{"$f":"INDEX(Calcs!$AC$5:$AG$51, MATCH('Rotation Assembler'!$A65, Calcs!$AC$5:$AC$51, 0), MATCH('Rotation Assembler'!S$38, Calcs!$AC$5:$AG$5, 0))","v":0},{"$f":"INDEX(Calcs!$AC$5:$AG$51, MATCH('Rotation Assembler'!$A65, Calcs!$AC$5:$AC$51, 0), MATCH('Rotation Assembler'!T$38, Calcs!$AC$5:$AG$5, 0))","v":0},{"$f":"INDEX(Calcs!$AC$5:$AG$51, MATCH('Rotation Assembler'!$A65, Calcs!$AC$5:$AC$51, 0), MATCH('Rotation Assembler'!U$38, Calcs!$AC$5:$AG$5, 0))","v":0},null,{"$f":"INDEX(Calcs!$AC$5:$AG$51, MATCH('Rotation Assembler'!$A65, Calcs!$AC$5:$AC$51, 0), MATCH('Rotation Assembler'!W$38, Calcs!$AC$5:$AG$5, 0))","v":0},{"$f":"INDEX(Calcs!$AC$5:$AG$51, MATCH('Rotation Assembler'!$A65, Calcs!$AC$5:$AC$51, 0), MATCH('Rotation Assembler'!X$38, Calcs!$AC$5:$AG$5, 0))","v":0},{"$f":"INDEX(Calcs!$AC$5:$AG$51, MATCH('Rotation Assembler'!$A65, Calcs!$AC$5:$AC$51, 0), MATCH('Rotation Assembler'!Y$38, Calcs!$AC$5:$AG$5, 0))","v":0},{"$f":"INDEX(Calcs!$AC$5:$AG$51, MATCH('Rotation Assembler'!$A65, Calcs!$AC$5:$AC$51, 0), MATCH('Rotation Assembler'!Z$38, Calcs!$AC$5:$AG$5, 0))","v":0},{"$f":"INDEX(Calcs!$AC$5:$AG$51, MATCH('Rotation Assembler'!$A65, Calcs!$AC$5:$AC$51, 0), MATCH('Rotation Assembler'!AA$38, Calcs!$AC$5:$AG$5, 0))","v":0},{"$f":"INDEX(Calcs!$AC$5:$AG$51, MATCH('Rotation Assembler'!$A65, Calcs!$AC$5:$AC$51, 0), MATCH('Rotation Assembler'!AB$38, Calcs!$AC$5:$AG$5, 0))","v":0},{"$f":"INDEX(Calcs!$AC$5:$AG$51, MATCH('Rotation Assembler'!$A65, Calcs!$AC$5:$AC$51, 0), MATCH('Rotation Assembler'!AC$38, Calcs!$AC$5:$AG$5, 0))","v":0},{"$f":"INDEX(Calcs!$AC$5:$AG$51, MATCH('Rotation Assembler'!$A65, Calcs!$AC$5:$AC$51, 0), MATCH('Rotation Assembler'!AD$38, Calcs!$AC$5:$AG$5, 0))","v":0},{"$f":"INDEX(Calcs!$AC$5:$AG$51, MATCH('Rotation Assembler'!$A65, Calcs!$AC$5:$AC$51, 0), MATCH('Rotation Assembler'!AE$38, Calcs!$AC$5:$AG$5, 0))","v":0},{"$f":"INDEX(Calcs!$AC$5:$AG$51, MATCH('Rotation Assembler'!$A65, Calcs!$AC$5:$AC$51, 0), MATCH('Rotation Assembler'!AF$38, Calcs!$AC$5:$AG$5, 0))","v":{"$error":"#N/A"}},{"$f":"INDEX(Calcs!$AC$5:$AG$51, MATCH('Rotation Assembler'!$A65, Calcs!$AC$5:$AC$51, 0), MATCH('Rotation Assembler'!AG$38, Calcs!$AC$5:$AG$5, 0))","v":{"$error":"#N/A"}},{"$f":"INDEX(Calcs!$AC$5:$AG$51, MATCH('Rotation Assembler'!$A65, Calcs!$AC$5:$AC$51, 0), MATCH('Rotation Assembler'!AH$38, Calcs!$AC$5:$AG$5, 0))","v":{"$error":"#N/A"}},{"$f":"INDEX(Calcs!$AC$5:$AG$51, MATCH('Rotation Assembler'!$A65, Calcs!$AC$5:$AC$51, 0), MATCH('Rotation Assembler'!AI$38, Calcs!$AC$5:$AG$5, 0))","v":{"$error":"#N/A"}},{"$f":"INDEX(Calcs!$AC$5:$AG$51, MATCH('Rotation Assembler'!$A65, Calcs!$AC$5:$AC$51, 0), MATCH('Rotation Assembler'!AJ$38, Calcs!$AC$5:$AG$5, 0))","v":{"$error":"#N/A"}},{"$f":"INDEX(Calcs!$AC$5:$AG$51, MATCH('Rotation Assembler'!$A65, Calcs!$AC$5:$AC$51, 0), MATCH('Rotation Assembler'!AK$38, Calcs!$AC$5:$AG$5, 0))","v":{"$error":"#N/A"}},{"$f":"INDEX(Calcs!$AC$5:$AG$51, MATCH('Rotation Assembler'!$A65, Calcs!$AC$5:$AC$51, 0), MATCH('Rotation Assembler'!AL$38, Calcs!$AC$5:$AG$5, 0))","v":{"$error":"#N/A"}},{"$f":"INDEX(Calcs!$AC$5:$AG$51, MATCH('Rotation Assembler'!$A65, Calcs!$AC$5:$AC$51, 0), MATCH('Rotation Assembler'!AM$38, Calcs!$AC$5:$AG$5, 0))","v":{"$error":"#N/A"}},{"$f":"INDEX(Calcs!$AC$5:$AG$51, MATCH('Rotation Assembler'!$A65, Calcs!$AC$5:$AC$51, 0), MATCH('Rotation Assembler'!AN$38, Calcs!$AC$5:$AG$5, 0))","v":{"$error":"#N/A"}},{"$f":"INDEX(Calcs!$AC$5:$AG$51, MATCH('Rotation Assembler'!$A65, Calcs!$AC$5:$AC$51, 0), MATCH('Rotation Assembler'!AO$38, Calcs!$AC$5:$AG$5, 0))","v":{"$error":"#N/A"}},{"$f":"INDEX(Calcs!$AC$5:$AG$51, MATCH('Rotation Assembler'!$A65, Calcs!$AC$5:$AC$51, 0), MATCH('Rotation Assembler'!AP$38, Calcs!$AC$5:$AG$5, 0))","v":{"$error":"#N/A"}},{"$f":"INDEX(Calcs!$AC$5:$AG$51, MATCH('Rotation Assembler'!$A65, Calcs!$AC$5:$AC$51, 0), MATCH('Rotation Assembler'!AQ$38, Calcs!$AC$5:$AG$5, 0))","v":{"$error":"#N/A"}},{"$f":"INDEX(Calcs!$AC$5:$AG$51, MATCH('Rotation Assembler'!$A65, Calcs!$AC$5:$AC$51, 0), MATCH('Rotation Assembler'!AR$38, Calcs!$AC$5:$AG$5, 0))","v":{"$error":"#N/A"}},{"$f":"INDEX(Calcs!$AC$5:$AG$51, MATCH('Rotation Assembler'!$A65, Calcs!$AC$5:$AC$51, 0), MATCH('Rotation Assembler'!AS$38, Calcs!$AC$5:$AG$5, 0))","v":{"$error":"#N/A"}},{"$f":"INDEX(Calcs!$AC$5:$AG$51, MATCH('Rotation Assembler'!$A65, Calcs!$AC$5:$AC$51, 0), MATCH('Rotation Assembler'!AT$38, Calcs!$AC$5:$AG$5, 0))","v":{"$error":"#N/A"}},{"$f":"INDEX(Calcs!$AC$5:$AG$51, MATCH('Rotation Assembler'!$A65, Calcs!$AC$5:$AC$51, 0), MATCH('Rotation Assembler'!AU$38, Calcs!$AC$5:$AG$5, 0))","v":{"$error":"#N/A"}},{"$f":"INDEX(Calcs!$AC$5:$AG$51, MATCH('Rotation Assembler'!$A65, Calcs!$AC$5:$AC$51, 0), MATCH('Rotation Assembler'!AV$38, Calcs!$AC$5:$AG$5, 0))","v":{"$error":"#N/A"}},{"$f":"INDEX(Calcs!$AC$5:$AG$51, MATCH('Rotation Assembler'!$A65, Calcs!$AC$5:$AC$51, 0), MATCH('Rotation Assembler'!AW$38, Calcs!$AC$5:$AG$5, 0))","v":{"$error":"#N/A"}},{"$f":"INDEX(Calcs!$AC$5:$AG$51, MATCH('Rotation Assembler'!$A65, Calcs!$AC$5:$AC$51, 0), MATCH('Rotation Assembler'!AX$38, Calcs!$AC$5:$AG$5, 0))","v":{"$error":"#N/A"}},{"$f":"INDEX(Calcs!$AC$5:$AG$51, MATCH('Rotation Assembler'!$A65, Calcs!$AC$5:$AC$51, 0), MATCH('Rotation Assembler'!AY$38, Calcs!$AC$5:$AG$5, 0))","v":{"$error":"#N/A"}},{"$f":"INDEX(Calcs!$AC$5:$AG$51, MATCH('Rotation Assembler'!$A65, Calcs!$AC$5:$AC$51, 0), MATCH('Rotation Assembler'!AZ$38, Calcs!$AC$5:$AG$5, 0))","v":{"$error":"#N/A"}},{"$f":"INDEX(Calcs!$AC$5:$AG$51, MATCH('Rotation Assembler'!$A65, Calcs!$AC$5:$AC$51, 0), MATCH('Rotation Assembler'!BA$38, Calcs!$AC$5:$AG$5, 0))","v":{"$error":"#N/A"}},{"$f":"INDEX(Calcs!$AC$5:$AG$51, MATCH('Rotation Assembler'!$A65, Calcs!$AC$5:$AC$51, 0), MATCH('Rotation Assembler'!BB$38, Calcs!$AC$5:$AG$5, 0))","v":{"$error":"#N/A"}},{"$f":"INDEX(Calcs!$AC$5:$AG$51, MATCH('Rotation Assembler'!$A65, Calcs!$AC$5:$AC$51, 0), MATCH('Rotation Assembler'!BC$38, Calcs!$AC$5:$AG$5, 0))","v":{"$error":"#N/A"}},{"$f":"INDEX(Calcs!$AC$5:$AG$51, MATCH('Rotation Assembler'!$A65, Calcs!$AC$5:$AC$51, 0), MATCH('Rotation Assembler'!BD$38, Calcs!$AC$5:$AG$5, 0))","v":{"$error":"#N/A"}},{"$f":"INDEX(Calcs!$AC$5:$AG$51, MATCH('Rotation Assembler'!$A65, Calcs!$AC$5:$AC$51, 0), MATCH('Rotation Assembler'!BE$38, Calcs!$AC$5:$AG$5, 0))","v":{"$error":"#N/A"}},{"$f":"INDEX(Calcs!$AC$5:$AG$51, MATCH('Rotation Assembler'!$A65, Calcs!$AC$5:$AC$51, 0), MATCH('Rotation Assembler'!BF$38, Calcs!$AC$5:$AG$5, 0))","v":{"$error":"#N/A"}}]
["Superconduct%",{"$f":"INDEX(Calcs!$AC$5:$AG$51, MATCH('Rotation Assembler'!$A66, Calcs!$AC$5:$AC$51, 0), MATCH('Rotation Assembler'!B$38, Calcs!$AC$5:$AG$5, 0))","v":0},{"$f":"INDEX(Calcs!$AC$5:$AG$51, MATCH('Rotation Assembler'!$A66, Calcs!$AC$5:$AC$51, 0), MATCH('Rotation Assembler'!C$38, Calcs!$AC$5:$AG$5, 0))","v":0},{"$f":"INDEX(Calcs!$AC$5:$AG$51, MATCH('Rotation Assembler'!$A66, Calcs!$AC$5:$AC$51, 0), MATCH('Rotation Assembler'!D$38, Calcs!$AC$5:$AG$5, 0))","v":0},{"$f":"INDEX(Calcs!$AC$5:$AG$51, MATCH('Rotation Assembler'!$A66, Calcs!$AC$5:$AC$51, 0), MATCH('Rotation Assembler'!E$38, Calcs!$AC$5:$AG$5, 0))","v":0},{"$f":"INDEX(Calcs!$AC$5:$AG$51, MATCH('Rotation Assembler'!$A66, Calcs!$AC$5:$AC$51, 0), MATCH('Rotation Assembler'!F$38, Calcs!$AC$5:$AG$5, 0))","v":0},{"$f":"INDEX(Calcs!$AC$5:$AG$51, MATCH('Rotation Assembler'!$A66, Calcs!$AC$5:$AC$51, 0), MATCH('Rotation Assembler'!G$38, Calcs!$AC$5:$AG$5, 0))","v":0},{"$f":"INDEX(Calcs!$AC$5:$AG$51, MATCH('Rotation Assembler'!$A66, Calcs!$AC$5:$AC$51, 0), MATCH('Rotation Assembler'!H$38, Calcs!$AC$5:$AG$5, 0))","v":0},{"$f":"INDEX(Calcs!$AC$5:$AG$51, MATCH('Rotation Assembler'!$A66, Calcs!$AC$5:$AC$51, 0), MATCH('Rotation Assembler'!I$38, Calcs!$AC$5:$AG$5, 0))","v":0},{"$f":"INDEX(Calcs!$AC$5:$AG$51, MATCH('Rotation Assembler'!$A66, Calcs!$AC$5:$AC$51, 0), MATCH('Rotation Assembler'!J$38, Calcs!$AC$5:$AG$5, 0))","v":0},{"$f":"INDEX(Calcs!$AC$5:$AG$51, MATCH('Rotation Assembler'!$A66, Calcs!$AC$5:$AC$51, 0), MATCH('Rotation Assembler'!K$38, Calcs!$AC$5:$AG$5, 0))","v":0},{"$f":"INDEX(Calcs!$AC$5:$AG$51, MATCH('Rotation Assembler'!$A66, Calcs!$AC$5:$AC$51, 0), MATCH('Rotation Assembler'!L$38, Calcs!$AC$5:$AG$5, 0))","v":0},{"$f":"INDEX(Calcs!$AC$5:$AG$51, MATCH('Rotation Assembler'!$A66, Calcs!$AC$5:$AC$51, 0), MATCH('Rotation Assembler'!M$38, Calcs!$AC$5:$AG$5, 0))","v":0},{"$f":"INDEX(Calcs!$AC$5:$AG$51, MATCH('Rotation Assembler'!$A66, Calcs!$AC$5:$AC$51, 0), MATCH('Rotation Assembler'!N$38, Calcs!$AC$5:$AG$5, 0))","v":0},{"$f":"INDEX(Calcs!$AC$5:$AG$51, MATCH('Rotation Assembler'!$A66, Calcs!$AC$5:$AC$51, 0), MATCH('Rotation Assembler'!O$38, Calcs!$AC$5:$AG$5, 0))","v":0},{"$f":"INDEX(Calcs!$AC$5:$AG$51, MATCH('Rotation Assembler'!$A66, Calcs!$AC$5:$AC$51, 0), MATCH('Rotation Assembler'!P$38, Calcs!$AC$5:$AG$5, 0))","v":0},{"$f":"INDEX(Calcs!$AC$5:$AG$51, MATCH('Rotation Assembler'!$A66, Calcs!$AC$5:$AC$51, 0), MATCH('Rotation Assembler'!Q$38, Calcs!$AC$5:$AG$5, 0))","v":0},{"$f":"INDEX(Calcs!$AC$5:$AG$51, MATCH('Rotation Assembler'!$A66, Calcs!$AC$5:$AC$51, 0), MATCH('Rotation Assembler'!R$38, Calcs!$AC$5:$AG$5, 0))","v":0},{"$f":"INDEX(Calcs!$AC$5:$AG$51, MATCH('Rotation Assembler'!$A66, Calcs!$AC$5:$AC$51, 0), MATCH('Rotation Assembler'!S$38, Calcs!$AC$5:$AG$5, 0))","v":0},{"$f":"INDEX(Calcs!$AC$5:$AG$51, MATCH('Rotation Assembler'!$A66, Calcs!$AC$5:$AC$51, 0), MATCH('Rotation Assembler'!T$38, Calcs!$AC$5:$AG$5, 0))","v":0},{"$f":"INDEX(Calcs!$AC$5:$AG$51, MATCH('Rotation Assembler'!$A66, Calcs!$AC$5:$AC$51, 0), MATCH('Rotation Assembler'!U$38, Calcs!$AC$5:$AG$5, 0))","v":0},null,{"$f":"INDEX(Calcs!$AC$5:$AG$51, MATCH('Rotation Assembler'!$A66, Calcs!$AC$5:$AC$51, 0), MATCH('Rotation Assembler'!W$38, Calcs!$AC$5:$AG$5, 0))","v":0},{"$f":"INDEX(Calcs!$AC$5:$AG$51, MATCH('Rotation Assembler'!$A66, Calcs!$AC$5:$AC$51, 0), MATCH('Rotation Assembler'!X$38, Calcs!$AC$5:$AG$5, 0))","v":0},{"$f":"INDEX(Calcs!$AC$5:$AG$51, MATCH('Rotation Assembler'!$A66, Calcs!$AC$5:$AC$51, 0), MATCH('Rotation Assembler'!Y$38, Calcs!$AC$5:$AG$5, 0))","v":0},{"$f":"INDEX(Calcs!$AC$5:$AG$51, MATCH('Rotation Assembler'!$A66, Calcs!$AC$5:$AC$51, 0), MATCH('Rotation Assembler'!Z$38, Calcs!$AC$5:$AG$5, 0))","v":0},{"$f":"INDEX(Calcs!$AC$5:$AG$51, MATCH('Rotation Assembler'!$A66, Calcs!$AC$5:$AC$51, 0), MATCH('Rotation Assembler'!AA$38, Calcs!$AC$5:$AG$5, 0))","v":0},{"$f":"INDEX(Calcs!$AC$5:$AG$51, MATCH('Rotation Assembler'!$A66, Calcs!$AC$5:$AC$51, 0), MATCH('Rotation Assembler'!AB$38, Calcs!$AC$5:$AG$5, 0))","v":0},{"$f":"INDEX(Calcs!$AC$5:$AG$51, MATCH('Rotation Assembler'!$A66, Calcs!$AC$5:$AC$51, 0), MATCH('Rotation Assembler'!AC$38, Calcs!$AC$5:$AG$5, 0))","v":0},{"$f":"INDEX(Calcs!$AC$5:$AG$51, MATCH('Rotation Assembler'!$A66, Calcs!$AC$5:$AC$51, 0), MATCH('Rotation Assembler'!AD$38, Calcs!$AC$5:$AG$5, 0))","v":0},{"$f":"INDEX(Calcs!$AC$5:$AG$51, MATCH('Rotation Assembler'!$A66, Calcs!$AC$5:$AC$51, 0), MATCH('Rotation Assembler'!AE$38, Calcs!$AC$5:$AG$5, 0))","v":0},{"$f":"INDEX(Calcs!$AC$5:$AG$51, MATCH('Rotation Assembler'!$A66, Calcs!$AC$5:$AC$51, 0), MATCH('Rotation Assembler'!AF$38, Calcs!$AC$5:$AG$5, 0))","v":{"$error":"#N/A"}},{"$f":"INDEX(Calcs!$AC$5:$AG$51, MATCH('Rotation Assembler'!$A66, Calcs!$AC$5:$AC$51, 0), MATCH('Rotation Assembler'!AG$38, Calcs!$AC$5:$AG$5, 0))","v":{"$error":"#N/A"}},{"$f":"INDEX(Calcs!$AC$5:$AG$51, MATCH('Rotation Assembler'!$A66, Calcs!$AC$5:$AC$51, 0), MATCH('Rotation Assembler'!AH$38, Calcs!$AC$5:$AG$5, 0))","v":{"$error":"#N/A"}},{"$f":"INDEX(Calcs!$AC$5:$AG$51, MATCH('Rotation Assembler'!$A66, Calcs!$AC$5:$AC$51, 0), MATCH('Rotation Assembler'!AI$38, Calcs!$AC$5:$AG$5, 0))","v":{"$error":"#N/A"}},{"$f":"INDEX(Calcs!$AC$5:$AG$51, MATCH('Rotation Assembler'!$A66, Calcs!$AC$5:$AC$51, 0), MATCH('Rotation Assembler'!AJ$38, Calcs!$AC$5:$AG$5, 0))","v":{"$error":"#N/A"}},{"$f":"INDEX(Calcs!$AC$5:$AG$51, MATCH('Rotation Assembler'!$A66, Calcs!$AC$5:$AC$51, 0), MATCH('Rotation Assembler'!AK$38, Calcs!$AC$5:$AG$5, 0))","v":{"$error":"#N/A"}},{"$f":"INDEX(Calcs!$AC$5:$AG$51, MATCH('Rotation Assembler'!$A66, Calcs!$AC$5:$AC$51, 0), MATCH('Rotation Assembler'!AL$38, Calcs!$AC$5:$AG$5, 0))","v":{"$error":"#N/A"}},{"$f":"INDEX(Calcs!$AC$5:$AG$51, MATCH('Rotation Assembler'!$A66, Calcs!$AC$5:$AC$51, 0), MATCH('Rotation Assembler'!AM$38, Calcs!$AC$5:$AG$5, 0))","v":{"$error":"#N/A"}},{"$f":"INDEX(Calcs!$AC$5:$AG$51, MATCH('Rotation Assembler'!$A66, Calcs!$AC$5:$AC$51, 0), MATCH('Rotation Assembler'!AN$38, Calcs!$AC$5:$AG$5, 0))","v":{"$error":"#N/A"}},{"$f":"INDEX(Calcs!$AC$5:$AG$51, MATCH('Rotation Assembler'!$A66, Calcs!$AC$5:$AC$51, 0), MATCH('Rotation Assembler'!AO$38, Calcs!$AC$5:$AG$5, 0))","v":{"$error":"#N/A"}},{"$f":"INDEX(Calcs!$AC$5:$AG$51, MATCH('Rotation Assembler'!$A66, Calcs!$AC$5:$AC$51, 0), MATCH('Rotation Assembler'!AP$38, Calcs!$AC$5:$AG$5, 0))","v":{"$error":"#N/A"}},{"$f":"INDEX(Calcs!$AC$5:$AG$51, MATCH('Rotation Assembler'!$A66, Calcs!$AC$5:$AC$51, 0), MATCH('Rotation Assembler'!AQ$38, Calcs!$AC$5:$AG$5, 0))","v":{"$error":"#N/A"}},{"$f":"INDEX(Calcs!$AC$5:$AG$51, MATCH('Rotation Assembler'!$A66, Calcs!$AC$5:$AC$51, 0), MATCH('Rotation Assembler'!AR$38, Calcs!$AC$5:$AG$5, 0))","v":{"$error":"#N/A"}},{"$f":"INDEX(Calcs!$AC$5:$AG$51, MATCH('Rotation Assembler'!$A66, Calcs!$AC$5:$AC$51, 0), MATCH('Rotation Assembler'!AS$38, Calcs!$AC$5:$AG$5, 0))","v":{"$error":"#N/A"}},{"$f":"INDEX(Calcs!$AC$5:$AG$51, MATCH('Rotation Assembler'!$A66, Calcs!$AC$5:$AC$51, 0), MATCH('Rotation Assembler'!AT$38, Calcs!$AC$5:$AG$5, 0))","v":{"$error":"#N/A"}},{"$f":"INDEX(Calcs!$AC$5:$AG$51, MATCH('Rotation Assembler'!$A66, Calcs!$AC$5:$AC$51, 0), MATCH('Rotation Assembler'!AU$38, Calcs!$AC$5:$AG$5, 0))","v":{"$error":"#N/A"}},{"$f":"INDEX(Calcs!$AC$5:$AG$51, MATCH('Rotation Assembler'!$A66, Calcs!$AC$5:$AC$51, 0), MATCH('Rotation Assembler'!AV$38, Calcs!$AC$5:$AG$5, 0))","v":{"$error":"#N/A"}},{"$f":"INDEX(Calcs!$AC$5:$AG$51, MATCH('Rotation Assembler'!$A66, Calcs!$AC$5:$AC$51, 0), MATCH('Rotation Assembler'!AW$38, Calcs!$AC$5:$AG$5, 0))","v":{"$error":"#N/A"}},{"$f":"INDEX(Calcs!$AC$5:$AG$51, MATCH('Rotation Assembler'!$A66, Calcs!$AC$5:$AC$51, 0), MATCH('Rotation Assembler'!AX$38, Calcs!$AC$5:$AG$5, 0))","v":{"$error":"#N/A"}},{"$f":"INDEX(Calcs!$AC$5:$AG$51, MATCH('Rotation Assembler'!$A66, Calcs!$AC$5:$AC$51, 0), MATCH('Rotation Assembler'!AY$38, Calcs!$AC$5:$AG$5, 0))","v":{"$error":"#N/A"}},{"$f":"INDEX(Calcs!$AC$5:$AG$51, MATCH('Rotation Assembler'!$A66, Calcs!$AC$5:$AC$51, 0), MATCH('Rotation Assembler'!AZ$38, Calcs!$AC$5:$AG$5, 0))","v":{"$error":"#N/A"}},{"$f":"INDEX(Calcs!$AC$5:$AG$51, MATCH('Rotation Assembler'!$A66, Calcs!$AC$5:$AC$51, 0), MATCH('Rotation Assembler'!BA$38, Calcs!$AC$5:$AG$5, 0))","v":{"$error":"#N/A"}},{"$f":"INDEX(Calcs!$AC$5:$AG$51, MATCH('Rotation Assembler'!$A66, Calcs!$AC$5:$AC$51, 0), MATCH('Rotation Assembler'!BB$38, Calcs!$AC$5:$AG$5, 0))","v":{"$error":"#N/A"}},{"$f":"INDEX(Calcs!$AC$5:$AG$51, MATCH('Rotation Assembler'!$A66, Calcs!$AC$5:$AC$51, 0), MATCH('Rotation Assembler'!BC$38, Calcs!$AC$5:$AG$5, 0))","v":{"$error":"#N/A"}},{"$f":"INDEX(Calcs!$AC$5:$AG$51, MATCH('Rotation Assembler'!$A66, Calcs!$AC$5:$AC$51, 0), MATCH('Rotation Assembler'!BD$38, Calcs!$AC$5:$AG$5, 0))","v":{"$error":"#N/A"}},{"$f":"INDEX(Calcs!$AC$5:$AG$51, MATCH('Rotation Assembler'!$A66, Calcs!$AC$5:$AC$51, 0), MATCH('Rotation Assembler'!BE$38, Calcs!$AC$5:$AG$5, 0))","v":{"$error":"#N/A"}},{"$f":"INDEX(Calcs!$AC$5:$AG$51, MATCH('Rotation Assembler'!$A66, Calcs!$AC$5:$AC$51, 0), MATCH('Rotation Assembler'!BF$38, Calcs!$AC$5:$AG$5, 0))","v":{"$error":"#N/A"}}]
["Shatter%",{"$f":"INDEX(Calcs!$AC$5:$AG$51, MATCH('Rotation Assembler'!$A67, Calcs!$AC$5:$AC$51, 0), MATCH('Rotation Assembler'!B$38, Calcs!$AC$5:$AG$5, 0))","v":0},{"$f":"INDEX(Calcs!$AC$5:$AG$51, MATCH('Rotation Assembler'!$A67, Calcs!$AC$5:$AC$51, 0), MATCH('Rotation Assembler'!C$38, Calcs!$AC$5:$AG$5, 0))","v":0},{"$f":"INDEX(Calcs!$AC$5:$AG$51, MATCH('Rotation Assembler'!$A67, Calcs!$AC$5:$AC$51, 0), MATCH('Rotation Assembler'!D$38, Calcs!$AC$5:$AG$5, 0))","v":0},{"$f":"INDEX(Calcs!$AC$5:$AG$51, MATCH('Rotation Assembler'!$A67, Calcs!$AC$5:$AC$51, 0), MATCH('Rotation Assembler'!E$38, Calcs!$AC$5:$AG$5, 0))","v":0},{"$f":"INDEX(Calcs!$AC$5:$AG$51, MATCH('Rotation Assembler'!$A67, Calcs!$AC$5:$AC$51, 0), MATCH('Rotation Assembler'!F$38, Calcs!$AC$5:$AG$5, 0))","v":0},{"$f":"INDEX(Calcs!$AC$5:$AG$51, MATCH('Rotation Assembler'!$A67, Calcs!$AC$5:$AC$51, 0), MATCH('Rotation Assembler'!G$38, Calcs!$AC$5:$AG$5, 0))","v":0},{"$f":"INDEX(Calcs!$AC$5:$AG$51, MATCH('Rotation Assembler'!$A67, Calcs!$AC$5:$AC$51, 0), MATCH('Rotation Assembler'!H$38, Calcs!$AC$5:$AG$5, 0))","v":0},{"$f":"INDEX(Calcs!$AC$5:$AG$51, MATCH('Rotation Assembler'!$A67, Calcs!$AC$5:$AC$51, 0), MATCH('Rotation Assembler'!I$38, Calcs!$AC$5:$AG$5, 0))","v":0},{"$f":"INDEX(Calcs!$AC$5:$AG$51, MATCH('Rotation Assembler'!$A67, Calcs!$AC$5:$AC$51, 0), MATCH('Rotation Assembler'!J$38, Calcs!$AC$5:$AG$5, 0))","v":0},{"$f":"INDEX(Calcs!$AC$5:$AG$51, MATCH('Rotation Assembler'!$A67, Calcs!$AC$5:$AC$51, 0), MATCH('Rotation Assembler'!K$38, Calcs!$AC$5:$AG$5, 0))","v":0},{"$f":"INDEX(Calcs!$AC$5:$AG$51, MATCH('Rotation Assembler'!$A67, Calcs!$AC$5:$AC$51, 0), MATCH('Rotation Assembler'!L$38, Calcs!$AC$5:$AG$5, 0))","v":0},{"$f":"INDEX(Calcs!$AC$5:$AG$51, MATCH('Rotation Assembler'!$A67, Calcs!$AC$5:$AC$51, 0), MATCH('Rotation Assembler'!M$38, Calcs!$AC$5:$AG$5, 0))","v":0},{"$f":"INDEX(Calcs!$AC$5:$AG$51, MATCH('Rotation Assembler'!$A67, Calcs!$AC$5:$AC$51, 0), MATCH('Rotation Assembler'!N$38, Calcs!$AC$5:$AG$5, 0))","v":0},{"$f":"INDEX(Calcs!$AC$5:$AG$51, MATCH('Rotation Assembler'!$A67, Calcs!$AC$5:$AC$51, 0), MATCH('Rotation Assembler'!O$38, Calcs!$AC$5:$AG$5, 0))","v":0},{"$f":"INDEX(Calcs!$AC$5:$AG$51, MATCH('Rotation Assembler'!$A67, Calcs!$AC$5:$AC$51, 0), MATCH('Rotation Assembler'!P$38, Calcs!$AC$5:$AG$5, 0))","v":0},{"$f":"INDEX(Calcs!$AC$5:$AG$51, MATCH('Rotation Assembler'!$A67, Calcs!$AC$5:$AC$51, 0), MATCH('Rotation Assembler'!Q$38, Calcs!$AC$5:$AG$5, 0))","v":0},{"$f":"INDEX(Calcs!$AC$5:$AG$51, MATCH('Rotation Assembler'!$A67, Calcs!$AC$5:$AC$51, 0), MATCH('Rotation Assembler'!R$38, Calcs!$AC$5:$AG$5, 0))","v":0},{"$f":"INDEX(Calcs!$AC$5:$AG$51, MATCH('Rotation Assembler'!$A67, Calcs!$AC$5:$AC$51, 0), MATCH('Rotation Assembler'!S$38, Calcs!$AC$5:$AG$5, 0))","v":0},{"$f":"INDEX(Calcs!$AC$5:$AG$51, MATCH('Rotation Assembler'!$A67, Calcs!$AC$5:$AC$51, 0), MATCH('Rotation Assembler'!T$38, Calcs!$AC$5:$AG$5, 0))","v":0},{"$f":"INDEX(Calcs!$AC$5:$AG$51, MATCH('Rotation Assembler'!$A67, Calcs!$AC$5:$AC$51, 0), MATCH('Rotation Assembler'!U$38, Calcs!$AC$5:$AG$5, 0))","v":0},null,{"$f":"INDEX(Calcs!$AC$5:$AG$51, MATCH('Rotation Assembler'!$A67, Calcs!$AC$5:$AC$51, 0), MATCH('Rotation Assembler'!W$38, Calcs!$AC$5:$AG$5, 0))","v":0},{"$f":"INDEX(Calcs!$AC$5:$AG$51, MATCH('Rotation Assembler'!$A67, Calcs!$AC$5:$AC$51, 0), MATCH('Rotation Assembler'!X$38, Calcs!$AC$5:$AG$5, 0))","v":0},{"$f":"INDEX(Calcs!$AC$5:$AG$51, MATCH('Rotation Assembler'!$A67, Calcs!$AC$5:$AC$51, 0), MATCH('Rotation Assembler'!Y$38, Calcs!$AC$5:$AG$5, 0))","v":0},{"$f":"INDEX(Calcs!$AC$5:$AG$51, MATCH('Rotation Assembler'!$A67, Calcs!$AC$5:$AC$51, 0), MATCH('Rotation Assembler'!Z$38, Calcs!$AC$5:$AG$5, 0))","v":0},{"$f":"INDEX(Calcs!$AC$5:$AG$51, MATCH('Rotation Assembler'!$A67, Calcs!$AC$5:$AC$51, 0), MATCH('Rotation Assembler'!AA$38, Calcs!$AC$5:$AG$5, 0))","v":0},{"$f":"INDEX(Calcs!$AC$5:$AG$51, MATCH('Rotation Assembler'!$A67, Calcs!$AC$5:$AC$51, 0), MATCH('Rotation Assembler'!AB$38, Calcs!$AC$5:$AG$5, 0))","v":0},{"$f":"INDEX(Calcs!$AC$5:$AG$51, MATCH('Rotation Assembler'!$A67, Calcs!$AC$5:$AC$51, 0), MATCH('Rotation Assembler'!AC$38, Calcs!$AC$5:$AG$5, 0))","v":0},{"$f":"INDEX(Calcs!$AC$5:$AG$51, MATCH('Rotation Assembler'!$A67, Calcs!$AC$5:$AC$51, 0), MATCH('Rotation Assembler'!AD$38, Calcs!$AC$5:$AG$5, 0))","v":0},{"$f":"INDEX(Calcs!$AC$5:$AG$51, MATCH('Rotation Assembler'!$A67, Calcs!$AC$5:$AC$51, 0), MATCH('Rotation Assembler'!AE$38, Calcs!$AC$5:$AG$5, 0))","v":0},{"$f":"INDEX(Calcs!$AC$5:$AG$51, MATCH('Rotation Assembler'!$A67, Calcs!$AC$5:$AC$51, 0), MATCH('Rotation Assembler'!AF$38, Calcs!$AC$5:$AG$5, 0))","v":{"$error":"#N/A"}},{"$f":"INDEX(Calcs!$AC$5:$AG$51, MATCH('Rotation Assembler'!$A67, Calcs!$AC$5:$AC$51, 0), MATCH('Rotation Assembler'!AG$38, Calcs!$AC$5:$AG$5, 0))","v":{"$error":"#N/A"}},{"$f":"INDEX(Calcs!$AC$5:$AG$51, MATCH('Rotation Assembler'!$A67, Calcs!$AC$5:$AC$51, 0), MATCH('Rotation Assembler'!AH$38, Calcs!$AC$5:$AG$5, 0))","v":{"$error":"#N/A"}},{"$f":"INDEX(Calcs!$AC$5:$AG$51, MATCH('Rotation Assembler'!$A67, Calcs!$AC$5:$AC$51, 0), MATCH('Rotation Assembler'!AI$38, Calcs!$AC$5:$AG$5, 0))","v":{"$error":"#N/A"}},{"$f":"INDEX(Calcs!$AC$5:$AG$51, MATCH('Rotation Assembler'!$A67, Calcs!$AC$5:$AC$51, 0), MATCH('Rotation Assembler'!AJ$38, Calcs!$AC$5:$AG$5, 0))","v":{"$error":"#N/A"}},{"$f":"INDEX(Calcs!$AC$5:$AG$51, MATCH('Rotation Assembler'!$A67, Calcs!$AC$5:$AC$51, 0), MATCH('Rotation Assembler'!AK$38, Calcs!$AC$5:$AG$5, 0))","v":{"$error":"#N/A"}},{"$f":"INDEX(Calcs!$AC$5:$AG$51, MATCH('Rotation Assembler'!$A67, Calcs!$AC$5:$AC$51, 0), MATCH('Rotation Assembler'!AL$38, Calcs!$AC$5:$AG$5, 0))","v":{"$error":"#N/A"}},{"$f":"INDEX(Calcs!$AC$5:$AG$51, MATCH('Rotation Assembler'!$A67, Calcs!$AC$5:$AC$51, 0), MATCH('Rotation Assembler'!AM$38, Calcs!$AC$5:$AG$5, 0))","v":{"$error":"#N/A"}},{"$f":"INDEX(Calcs!$AC$5:$AG$51, MATCH('Rotation Assembler'!$A67, Calcs!$AC$5:$AC$51, 0), MATCH('Rotation Assembler'!AN$38, Calcs!$AC$5:$AG$5, 0))","v":{"$error":"#N/A"}},{"$f":"INDEX(Calcs!$AC$5:$AG$51, MATCH('Rotation Assembler'!$A67, Calcs!$AC$5:$AC$51, 0), MATCH('Rotation Assembler'!AO$38, Calcs!$AC$5:$AG$5, 0))","v":{"$error":"#N/A"}},{"$f":"INDEX(Calcs!$AC$5:$AG$51, MATCH('Rotation Assembler'!$A67, Calcs!$AC$5:$AC$51, 0), MATCH('Rotation Assembler'!AP$38, Calcs!$AC$5:$AG$5, 0))","v":{"$error":"#N/A"}},{"$f":"INDEX(Calcs!$AC$5:$AG$51, MATCH('Rotation Assembler'!$A67, Calcs!$AC$5:$AC$51, 0), MATCH('Rotation Assembler'!AQ$38, Calcs!$AC$5:$AG$5, 0))","v":{"$error":"#N/A"}},{"$f":"INDEX(Calcs!$AC$5:$AG$51, MATCH('Rotation Assembler'!$A67, Calcs!$AC$5:$AC$51, 0), MATCH('Rotation Assembler'!AR$38, Calcs!$AC$5:$AG$5, 0))","v":{"$error":"#N/A"}},{"$f":"INDEX(Calcs!$AC$5:$AG$51, MATCH('Rotation Assembler'!$A67, Calcs!$AC$5:$AC$51, 0), MATCH('Rotation Assembler'!AS$38, Calcs!$AC$5:$AG$5, 0))","v":{"$error":"#N/A"}},{"$f":"INDEX(Calcs!$AC$5:$AG$51, MATCH('Rotation Assembler'!$A67, Calcs!$AC$5:$AC$51, 0), MATCH('Rotation Assembler'!AT$38, Calcs!$AC$5:$AG$5, 0))","v":{"$error":"#N/A"}},{"$f":"INDEX(Calcs!$AC$5:$AG$51, MATCH('Rotation Assembler'!$A67, Calcs!$AC$5:$AC$51, 0), MATCH('Rotation Assembler'!AU$38, Calcs!$AC$5:$AG$5, 0))","v":{"$error":"#N/A"}},{"$f":"INDEX(Calcs!$AC$5:$AG$51, MATCH('Rotation Assembler'!$A67, Calcs!$AC$5:$AC$51, 0), MATCH('Rotation Assembler'!AV$38, Calcs!$AC$5:$AG$5, 0))","v":{"$error":"#N/A"}},{"$f":"INDEX(Calcs!$AC$5:$AG$51, MATCH('Rotation Assembler'!$A67, Calcs!$AC$5:$AC$51, 0), MATCH('Rotation Assembler'!AW$38, Calcs!$AC$5:$AG$5, 0))","v":{"$error":"#N/A"}},{"$f":"INDEX(Calcs!$AC$5:$AG$51, MATCH('Rotation Assembler'!$A67, Calcs!$AC$5:$AC$51, 0), MATCH('Rotation Assembler'!AX$38, Calcs!$AC$5:$AG$5, 0))","v":{"$error":"#N/A"}},{"$f":"INDEX(Calcs!$AC$5:$AG$51, MATCH('Rotation Assembler'!$A67, Calcs!$AC$5:$AC$51, 0), MATCH('Rotation Assembler'!AY$38, Calcs!$AC$5:$AG$5, 0))","v":{"$error":"#N/A"}},{"$f":"INDEX(Calcs!$AC$5:$AG$51, MATCH('Rotation Assembler'!$A67, Calcs!$AC$5:$AC$51, 0), MATCH('Rotation Assembler'!AZ$38, Calcs!$AC$5:$AG$5, 0))","v":{"$error":"#N/A"}},{"$f":"INDEX(Calcs!$AC$5:$AG$51, MATCH('Rotation Assembler'!$A67, Calcs!$AC$5:$AC$51, 0), MATCH('Rotation Assembler'!BA$38, Calcs!$AC$5:$AG$5, 0))","v":{"$error":"#N/A"}},{"$f":"INDEX(Calcs!$AC$5:$AG$51, MATCH('Rotation Assembler'!$A67, Calcs!$AC$5:$AC$51, 0), MATCH('Rotation Assembler'!BB$38, Calcs!$AC$5:$AG$5, 0))","v":{"$error":"#N/A"}},{"$f":"INDEX(Calcs!$AC$5:$AG$51, MATCH('Rotation Assembler'!$A67, Calcs!$AC$5:$AC$51, 0), MATCH('Rotation Assembler'!BC$38, Calcs!$AC$5:$AG$5, 0))","v":{"$error":"#N/A"}},{"$f":"INDEX(Calcs!$AC$5:$AG$51, MATCH('Rotation Assembler'!$A67, Calcs!$AC$5:$AC$51, 0), MATCH('Rotation Assembler'!BD$38, Calcs!$AC$5:$AG$5, 0))","v":{"$error":"#N/A"}},{"$f":"INDEX(Calcs!$AC$5:$AG$51, MATCH('Rotation Assembler'!$A67, Calcs!$AC$5:$AC$51, 0), MATCH('Rotation Assembler'!BE$38, Calcs!$AC$5:$AG$5, 0))","v":{"$error":"#N/A"}},{"$f":"INDEX(Calcs!$AC$5:$AG$51, MATCH('Rotation Assembler'!$A67, Calcs!$AC$5:$AC$51, 0), MATCH('Rotation Assembler'!BF$38, Calcs!$AC$5:$AG$5, 0))","v":{"$error":"#N/A"}}]
["Melt%",{"$f":"INDEX(Calcs!$AC$5:$AG$51, MATCH('Rotation Assembler'!$A68, Calcs!$AC$5:$AC$51, 0), MATCH('Rotation Assembler'!B$38, Calcs!$AC$5:$AG$5, 0))","v":0},{"$f":"INDEX(Calcs!$AC$5:$AG$51, MATCH('Rotation Assembler'!$A68, Calcs!$AC$5:$AC$51, 0), MATCH('Rotation Assembler'!C$38, Calcs!$AC$5:$AG$5, 0))","v":0},{"$f":"INDEX(Calcs!$AC$5:$AG$51, MATCH('Rotation Assembler'!$A68, Calcs!$AC$5:$AC$51, 0), MATCH('Rotation Assembler'!D$38, Calcs!$AC$5:$AG$5, 0))","v":0},{"$f":"INDEX(Calcs!$AC$5:$AG$51, MATCH('Rotation Assembler'!$A68, Calcs!$AC$5:$AC$51, 0), MATCH('Rotation Assembler'!E$38, Calcs!$AC$5:$AG$5, 0))","v":0},{"$f":"INDEX(Calcs!$AC$5:$AG$51, MATCH('Rotation Assembler'!$A68, Calcs!$AC$5:$AC$51, 0), MATCH('Rotation Assembler'!F$38, Calcs!$AC$5:$AG$5, 0))","v":0},{"$f":"INDEX(Calcs!$AC$5:$AG$51, MATCH('Rotation Assembler'!$A68, Calcs!$AC$5:$AC$51, 0), MATCH('Rotation Assembler'!G$38, Calcs!$AC$5:$AG$5, 0))","v":0},{"$f":"INDEX(Calcs!$AC$5:$AG$51, MATCH('Rotation Assembler'!$A68, Calcs!$AC$5:$AC$51, 0), MATCH('Rotation Assembler'!H$38, Calcs!$AC$5:$AG$5, 0))","v":0.15},{"$f":"INDEX(Calcs!$AC$5:$AG$51, MATCH('Rotation Assembler'!$A68, Calcs!$AC$5:$AC$51, 0), MATCH('Rotation Assembler'!I$38, Calcs!$AC$5:$AG$5, 0))","v":0.15},{"$f":"INDEX(Calcs!$AC$5:$AG$51, MATCH('Rotation Assembler'!$A68, Calcs!$AC$5:$AC$51, 0), MATCH('Rotation Assembler'!J$38, Calcs!$AC$5:$AG$5, 0))","v":0.15},{"$f":"INDEX(Calcs!$AC$5:$AG$51, MATCH('Rotation Assembler'!$A68, Calcs!$AC$5:$AC$51, 0), MATCH('Rotation Assembler'!K$38, Calcs!$AC$5:$AG$5, 0))","v":0.15},{"$f":"INDEX(Calcs!$AC$5:$AG$51, MATCH('Rotation Assembler'!$A68, Calcs!$AC$5:$AC$51, 0), MATCH('Rotation Assembler'!L$38, Calcs!$AC$5:$AG$5, 0))","v":0.15},{"$f":"INDEX(Calcs!$AC$5:$AG$51, MATCH('Rotation Assembler'!$A68, Calcs!$AC$5:$AC$51, 0), MATCH('Rotation Assembler'!M$38, Calcs!$AC$5:$AG$5, 0))","v":0.15},{"$f":"INDEX(Calcs!$AC$5:$AG$51, MATCH('Rotation Assembler'!$A68, Calcs!$AC$5:$AC$51, 0), MATCH('Rotation Assembler'!N$38, Calcs!$AC$5:$AG$5, 0))","v":0.15},{"$f":"INDEX(Calcs!$AC$5:$AG$51, MATCH('Rotation Assembler'!$A68, Calcs!$AC$5:$AC$51, 0), MATCH('Rotation Assembler'!O$38, Calcs!$AC$5:$AG$5, 0))","v":0.15},{"$f":"INDEX(Calcs!$AC$5:$AG$51, MATCH('Rotation Assembler'!$A68, Calcs!$AC$5:$AC$51, 0), MATCH('Rotation Assembler'!P$38, Calcs!$AC$5:$AG$5, 0))","v":0.15},{"$f":"INDEX(Calcs!$AC$5:$AG$51, MATCH('Rotation Assembler'!$A68, Calcs!$AC$5:$AC$51, 0), MATCH('Rotation Assembler'!Q$38, Calcs!$AC$5:$AG$5, 0))","v":0.15},{"$f":"INDEX(Calcs!$AC$5:$AG$51, MATCH('Rotation Assembler'!$A68, Calcs!$AC$5:$AC$51, 0), MATCH('Rotation Assembler'!R$38, Calcs!$AC$5:$AG$5, 0))","v":0.15},{"$f":"INDEX(Calcs!$AC$5:$AG$51, MATCH('Rotation Assembler'!$A68, Calcs!$AC$5:$AC$51, 0), MATCH('Rotation Assembler'!S$38, Calcs!$AC$5:$AG$5, 0))","v":0.15},{"$f":"INDEX(Calcs!$AC$5:$AG$51, MATCH('Rotation Assembler'!$A68, Calcs!$AC$5:$AC$51, 0), MATCH('Rotation Assembler'!T$38, Calcs!$AC$5:$AG$5, 0))","v":0.15},{"$f":"INDEX(Calcs!$AC$5:$AG$51, MATCH('Rotation Assembler'!$A68, Calcs!$AC$5:$AC$51, 0), MATCH('Rotation Assembler'!U$38, Calcs!$AC$5:$AG$5, 0))","v":0.15},null,{"$f":"INDEX(Calcs!$AC$5:$AG$51, MATCH('Rotation Assembler'!$A68, Calcs!$AC$5:$AC$51, 0), MATCH('Rotation Assembler'!W$38, Calcs!$AC$5:$AG$5, 0))","v":0},{"$f":"INDEX(Calcs!$AC$5:$AG$51, MATCH('Rotation Assembler'!$A68, Calcs!$AC$5:$AC$51, 0), MATCH('Rotation Assembler'!X$38, Calcs!$AC$5:$AG$5, 0))","v":0},{"$f":"INDEX(Calcs!$AC$5:$AG$51, MATCH('Rotation Assembler'!$A68, Calcs!$AC$5:$AC$51, 0), MATCH('Rotation Assembler'!Y$38, Calcs!$AC$5:$AG$5, 0))","v":0},{"$f":"INDEX(Calcs!$AC$5:$AG$51, MATCH('Rotation Assembler'!$A68, Calcs!$AC$5:$AC$51, 0), MATCH('Rotation Assembler'!Z$38, Calcs!$AC$5:$AG$5, 0))","v":0},{"$f":"INDEX(Calcs!$AC$5:$AG$51, MATCH('Rotation Assembler'!$A68, Calcs!$AC$5:$AC$51, 0), MATCH('Rotation Assembler'!AA$38, Calcs!$AC$5:$AG$5, 0))","v":0},{"$f":"INDEX(Calcs!$AC$5:$AG$51, MATCH('Rotation Assembler'!$A68, Calcs!$AC$5:$AC$51, 0), MATCH('Rotation Assembler'!AB$38, Calcs!$AC$5:$AG$5, 0))","v":0.15},{"$f":"INDEX(Calcs!$AC$5:$AG$51, MATCH('Rotation Assembler'!$A68, Calcs!$AC$5:$AC$51, 0), MATCH('Rotation Assembler'!AC$38, Calcs!$AC$5:$AG$5, 0))","v":0.15},{"$f":"INDEX(Calcs!$AC$5:$AG$51, MATCH('Rotation Assembler'!$A68, Calcs!$AC$5:$AC$51, 0), MATCH('Rotation Assembler'!AD$38, Calcs!$AC$5:$AG$5, 0))","v":0},{"$f":"INDEX(Calcs!$AC$5:$AG$51, MATCH('Rotation Assembler'!$A68, Calcs!$AC$5:$AC$51, 0), MATCH('Rotation Assembler'!AE$38, Calcs!$AC$5:$AG$5, 0))","v":0.15},{"$f":"INDEX(Calcs!$AC$5:$AG$51, MATCH('Rotation Assembler'!$A68, Calcs!$AC$5:$AC$51, 0), MATCH('Rotation Assembler'!AF$38, Calcs!$AC$5:$AG$5, 0))","v":{"$error":"#N/A"}},{"$f":"INDEX(Calcs!$AC$5:$AG$51, MATCH('Rotation Assembler'!$A68, Calcs!$AC$5:$AC$51, 0), MATCH('Rotation Assembler'!AG$38, Calcs!$AC$5:$AG$5, 0))","v":{"$error":"#N/A"}},{"$f":"INDEX(Calcs!$AC$5:$AG$51, MATCH('Rotation Assembler'!$A68, Calcs!$AC$5:$AC$51, 0), MATCH('Rotation Assembler'!AH$38, Calcs!$AC$5:$AG$5, 0))","v":{"$error":"#N/A"}},{"$f":"INDEX(Calcs!$AC$5:$AG$51, MATCH('Rotation Assembler'!$A68, Calcs!$AC$5:$AC$51, 0), MATCH('Rotation Assembler'!AI$38, Calcs!$AC$5:$AG$5, 0))","v":{"$error":"#N/A"}},{"$f":"INDEX(Calcs!$AC$5:$AG$51, MATCH('Rotation Assembler'!$A68, Calcs!$AC$5:$AC$51, 0), MATCH('Rotation Assembler'!AJ$38, Calcs!$AC$5:$AG$5, 0))","v":{"$error":"#N/A"}},{"$f":"INDEX(Calcs!$AC$5:$AG$51, MATCH('Rotation Assembler'!$A68, Calcs!$AC$5:$AC$51, 0), MATCH('Rotation Assembler'!AK$38, Calcs!$AC$5:$AG$5, 0))","v":{"$error":"#N/A"}},{"$f":"INDEX(Calcs!$AC$5:$AG$51, MATCH('Rotation Assembler'!$A68, Calcs!$AC$5:$AC$51, 0), MATCH('Rotation Assembler'!AL$38, Calcs!$AC$5:$AG$5, 0))","v":{"$error":"#N/A"}},{"$f":"INDEX(Calcs!$AC$5:$AG$51, MATCH('Rotation Assembler'!$A68, Calcs!$AC$5:$AC$51, 0), MATCH('Rotation Assembler'!AM$38, Calcs!$AC$5:$AG$5, 0))","v":{"$error":"#N/A"}},{"$f":"INDEX(Calcs!$AC$5:$AG$51, MATCH('Rotation Assembler'!$A68, Calcs!$AC$5:$AC$51, 0), MATCH('Rotation Assembler'!AN$38, Calcs!$AC$5:$AG$5, 0))","v":{"$error":"#N/A"}},{"$f":"INDEX(Calcs!$AC$5:$AG$51, MATCH('Rotation Assembler'!$A68, Calcs!$AC$5:$AC$51, 0), MATCH('Rotation Assembler'!AO$38, Calcs!$AC$5:$AG$5, 0))","v":{"$error":"#N/A"}},{"$f":"INDEX(Calcs!$AC$5:$AG$51, MATCH('Rotation Assembler'!$A68, Calcs!$AC$5:$AC$51, 0), MATCH('Rotation Assembler'!AP$38, Calcs!$AC$5:$AG$5, 0))","v":{"$error":"#N/A"}},{"$f":"INDEX(Calcs!$AC$5:$AG$51, MATCH('Rotation Assembler'!$A68, Calcs!$AC$5:$AC$51, 0), MATCH('Rotation Assembler'!AQ$38, Calcs!$AC$5:$AG$5, 0))","v":{"$error":"#N/A"}},{"$f":"INDEX(Calcs!$AC$5:$AG$51, MATCH('Rotation Assembler'!$A68, Calcs!$AC$5:$AC$51, 0), MATCH('Rotation Assembler'!AR$38, Calcs!$AC$5:$AG$5, 0))","v":{"$error":"#N/A"}},{"$f":"INDEX(Calcs!$AC$5:$AG$51, MATCH('Rotation Assembler'!$A68, Calcs!$AC$5:$AC$51, 0), MATCH('Rotation Assembler'!AS$38, Calcs!$AC$5:$AG$5, 0))","v":{"$error":"#N/A"}},{"$f":"INDEX(Calcs!$AC$5:$AG$51, MATCH('Rotation Assembler'!$A68, Calcs!$AC$5:$AC$51, 0), MATCH('Rotation Assembler'!AT$38, Calcs!$AC$5:$AG$5, 0))","v":{"$error":"#N/A"}},{"$f":"INDEX(Calcs!$AC$5:$AG$51, MATCH('Rotation Assembler'!$A68, Calcs!$AC$5:$AC$51, 0), MATCH('Rotation Assembler'!AU$38, Calcs!$AC$5:$AG$5, 0))","v":{"$error":"#N/A"}},{"$f":"INDEX(Calcs!$AC$5:$AG$51, MATCH('Rotation Assembler'!$A68, Calcs!$AC$5:$AC$51, 0), MATCH('Rotation Assembler'!AV$38, Calcs!$AC$5:$AG$5, 0))","v":{"$error":"#N/A"}},{"$f":"INDEX(Calcs!$AC$5:$AG$51, MATCH('Rotation Assembler'!$A68, Calcs!$AC$5:$AC$51, 0), MATCH('Rotation Assembler'!AW$38, Calcs!$AC$5:$AG$5, 0))","v":{"$error":"#N/A"}},{"$f":"INDEX(Calcs!$AC$5:$AG$51, MATCH('Rotation Assembler'!$A68, Calcs!$AC$5:$AC$51, 0), MATCH('Rotation Assembler'!AX$38, Calcs!$AC$5:$AG$5, 0))","v":{"$error":"#N/A"}},{"$f":"INDEX(Calcs!$AC$5:$AG$51, MATCH('Rotation Assembler'!$A68, Calcs!$AC$5:$AC$51, 0), MATCH('Rotation Assembler'!AY$38, Calcs!$AC$5:$AG$5, 0))","v":{"$error":"#N/A"}},{"$f":"INDEX(Calcs!$AC$5:$AG$51, MATCH('Rotation Assembler'!$A68, Calcs!$AC$5:$AC$51, 0), MATCH('Rotation Assembler'!AZ$38, Calcs!$AC$5:$AG$5, 0))","v":{"$error":"#N/A"}},{"$f":"INDEX(Calcs!$AC$5:$AG$51, MATCH('Rotation Assembler'!$A68, Calcs!$AC$5:$AC$51, 0), MATCH('Rotation Assembler'!BA$38, Calcs!$AC$5:$AG$5, 0))","v":{"$error":"#N/A"}},{"$f":"INDEX(Calcs!$AC$5:$AG$51, MATCH('Rotation Assembler'!$A68, Calcs!$AC$5:$AC$51, 0), MATCH('Rotation Assembler'!BB$38, Calcs!$AC$5:$AG$5, 0))","v":{"$error":"#N/A"}},{"$f":"INDEX(Calcs!$AC$5:$AG$51, MATCH('Rotation Assembler'!$A68, Calcs!$AC$5:$AC$51, 0), MATCH('Rotation Assembler'!BC$38, Calcs!$AC$5:$AG$5, 0))","v":{"$error":"#N/A"}},{"$f":"INDEX(Calcs!$AC$5:$AG$51, MATCH('Rotation Assembler'!$A68, Calcs!$AC$5:$AC$51, 0), MATCH('Rotation Assembler'!BD$38, Calcs!$AC$5:$AG$5, 0))","v":{"$error":"#N/A"}},{"$f":"INDEX(Calcs!$AC$5:$AG$51, MATCH('Rotation Assembler'!$A68, Calcs!$AC$5:$AC$51, 0), MATCH('Rotation Assembler'!BE$38, Calcs!$AC$5:$AG$5, 0))","v":{"$error":"#N/A"}},{"$f":"INDEX(Calcs!$AC$5:$AG$51, MATCH('Rotation Assembler'!$A68, Calcs!$AC$5:$AC$51, 0), MATCH('Rotation Assembler'!BF$38, Calcs!$AC$5:$AG$5, 0))","v":{"$error":"#N/A"}}]
["Vaporize%",{"$f":"INDEX(Calcs!$AC$5:$AG$51, MATCH('Rotation Assembler'!$A69, Calcs!$AC$5:$AC$51, 0), MATCH('Rotation Assembler'!B$38, Calcs!$AC$5:$AG$5, 0))","v":0},{"$f":"INDEX(Calcs!$AC$5:$AG$51, MATCH('Rotation Assembler'!$A69, Calcs!$AC$5:$AC$51, 0), MATCH('Rotation Assembler'!C$38, Calcs!$AC$5:$AG$5, 0))","v":0},{"$f":"INDEX(Calcs!$AC$5:$AG$51, MATCH('Rotation Assembler'!$A69, Calcs!$AC$5:$AC$51, 0), MATCH('Rotation Assembler'!D$38, Calcs!$AC$5:$AG$5, 0))","v":0},{"$f":"INDEX(Calcs!$AC$5:$AG$51, MATCH('Rotation Assembler'!$A69, Calcs!$AC$5:$AC$51, 0), MATCH('Rotation Assembler'!E$38, Calcs!$AC$5:$AG$5, 0))","v":0},{"$f":"INDEX(Calcs!$AC$5:$AG$51, MATCH('Rotation Assembler'!$A69, Calcs!$AC$5:$AC$51, 0), MATCH('Rotation Assembler'!F$38, Calcs!$AC$5:$AG$5, 0))","v":0},{"$f":"INDEX(Calcs!$AC$5:$AG$51, MATCH('Rotation Assembler'!$A69, Calcs!$AC$5:$AC$51, 0), MATCH('Rotation Assembler'!G$38, Calcs!$AC$5:$AG$5, 0))","v":0},{"$f":"INDEX(Calcs!$AC$5:$AG$51, MATCH('Rotation Assembler'!$A69, Calcs!$AC$5:$AC$51, 0), MATCH('Rotation Assembler'!H$38, Calcs!$AC$5:$AG$5, 0))","v":0.15},{"$f":"INDEX(Calcs!$AC$5:$AG$51, MATCH('Rotation Assembler'!$A69, Calcs!$AC$5:$AC$51, 0), MATCH('Rotation Assembler'!I$38, Calcs!$AC$5:$AG$5, 0))","v":0.15},{"$f":"INDEX(Calcs!$AC$5:$AG$51, MATCH('Rotation Assembler'!$A69, Calcs!$AC$5:$AC$51, 0), MATCH('Rotation Assembler'!J$38, Calcs!$AC$5:$AG$5, 0))","v":0.15},{"$f":"INDEX(Calcs!$AC$5:$AG$51, MATCH('Rotation Assembler'!$A69, Calcs!$AC$5:$AC$51, 0), MATCH('Rotation Assembler'!K$38, Calcs!$AC$5:$AG$5, 0))","v":0.15},{"$f":"INDEX(Calcs!$AC$5:$AG$51, MATCH('Rotation Assembler'!$A69, Calcs!$AC$5:$AC$51, 0), MATCH('Rotation Assembler'!L$38, Calcs!$AC$5:$AG$5, 0))","v":0.15},{"$f":"INDEX(Calcs!$AC$5:$AG$51, MATCH('Rotation Assembler'!$A69, Calcs!$AC$5:$AC$51, 0), MATCH('Rotation Assembler'!M$38, Calcs!$AC$5:$AG$5, 0))","v":0.15},{"$f":"INDEX(Calcs!$AC$5:$AG$51, MATCH('Rotation Assembler'!$A69, Calcs!$AC$5:$AC$51, 0), MATCH('Rotation Assembler'!N$38, Calcs!$AC$5:$AG$5, 0))","v":0.15},{"$f":"INDEX(Calcs!$AC$5:$AG$51, MATCH('Rotation Assembler'!$A69, Calcs!$AC$5:$AC$51, 0), MATCH('Rotation Assembler'!O$38, Calcs!$AC$5:$AG$5, 0))","v":0.15},{"$f":"INDEX(Calcs!$AC$5:$AG$51, MATCH('Rotation Assembler'!$A69, Calcs!$AC$5:$AC$51, 0), MATCH('Rotation Assembler'!P$38, Calcs!$AC$5:$AG$5, 0))","v":0.15},{"$f":"INDEX(Calcs!$AC$5:$AG$51, MATCH('Rotation Assembler'!$A69, Calcs!$AC$5:$AC$51, 0), MATCH('Rotation Assembler'!Q$38, Calcs!$AC$5:$AG$5, 0))","v":0.15},{"$f":"INDEX(Calcs!$AC$5:$AG$51, MATCH('Rotation Assembler'!$A69, Calcs!$AC$5:$AC$51, 0), MATCH('Rotation Assembler'!R$38, Calcs!$AC$5:$AG$5, 0))","v":0.15},{"$f":"INDEX(Calcs!$AC$5:$AG$51, MATCH('Rotation Assembler'!$A69, Calcs!$AC$5:$AC$51, 0), MATCH('Rotation Assembler'!S$38, Calcs!$AC$5:$AG$5, 0))","v":0.15},{"$f":"INDEX(Calcs!$AC$5:$AG$51, MATCH('Rotation Assembler'!$A69, Calcs!$AC$5:$AC$51, 0), MATCH('Rotation Assembler'!T$38, Calcs!$AC$5:$AG$5, 0))","v":0.15},{"$f":"INDEX(Calcs!$AC$5:$AG$51, MATCH('Rotation Assembler'!$A69, Calcs!$AC$5:$AC$51, 0), MATCH('Rotation Assembler'!U$38, Calcs!$AC$5:$AG$5, 0))","v":0.15},null,{"$f":"INDEX(Calcs!$AC$5:$AG$51, MATCH('Rotation Assembler'!$A69, Calcs!$AC$5:$AC$51, 0), MATCH('Rotation Assembler'!W$38, Calcs!$AC$5:$AG$5, 0))","v":0},{"$f":"INDEX(Calcs!$AC$5:$AG$51, MATCH('Rotation Assembler'!$A69, Calcs!$AC$5:$AC$51, 0), MATCH('Rotation Assembler'!X$38, Calcs!$AC$5:$AG$5, 0))","v":0},{"$f":"INDEX(Calcs!$AC$5:$AG$51, MATCH('Rotation Assembler'!$A69, Calcs!$AC$5:$AC$51, 0), MATCH('Rotation Assembler'!Y$38, Calcs!$AC$5:$AG$5, 0))","v":0},{"$f":"INDEX(Calcs!$AC$5:$AG$51, MATCH('Rotation Assembler'!$A69, Calcs!$AC$5:$AC$51, 0), MATCH('Rotation Assembler'!Z$38, Calcs!$AC$5:$AG$5, 0))","v":0},{"$f":"INDEX(Calcs!$AC$5:$AG$51, MATCH('Rotation Assembler'!$A69, Calcs!$AC$5:$AC$51, 0), MATCH('Rotation Assembler'!AA$38, Calcs!$AC$5:$AG$5, 0))","v":0},{"$f":"INDEX(Calcs!$AC$5:$AG$51, MATCH('Rotation Assembler'!$A69, Calcs!$AC$5:$AC$51, 0), MATCH('Rotation Assembler'!AB$38, Calcs!$AC$5:$AG$5, 0))","v":0.15},{"$f":"INDEX(Calcs!$AC$5:$AG$51, MATCH('Rotation Assembler'!$A69, Calcs!$AC$5:$AC$51, 0), MATCH('Rotation Assembler'!AC$38, Calcs!$AC$5:$AG$5, 0))","v":0.15},{"$f":"INDEX(Calcs!$AC$5:$AG$51, MATCH('Rotation Assembler'!$A69, Calcs!$AC$5:$AC$51, 0), MATCH('Rotation Assembler'!AD$38, Calcs!$AC$5:$AG$5, 0))","v":0},{"$f":"INDEX(Calcs!$AC$5:$AG$51, MATCH('Rotation Assembler'!$A69, Calcs!$AC$5:$AC$51, 0), MATCH('Rotation Assembler'!AE$38, Calcs!$AC$5:$AG$5, 0))","v":0.15},{"$f":"INDEX(Calcs!$AC$5:$AG$51, MATCH('Rotation Assembler'!$A69, Calcs!$AC$5:$AC$51, 0), MATCH('Rotation Assembler'!AF$38, Calcs!$AC$5:$AG$5, 0))","v":{"$error":"#N/A"}},{"$f":"INDEX(Calcs!$AC$5:$AG$51, MATCH('Rotation Assembler'!$A69, Calcs!$AC$5:$AC$51, 0), MATCH('Rotation Assembler'!AG$38, Calcs!$AC$5:$AG$5, 0))","v":{"$error":"#N/A"}},{"$f":"INDEX(Calcs!$AC$5:$AG$51, MATCH('Rotation Assembler'!$A69, Calcs!$AC$5:$AC$51, 0), MATCH('Rotation Assembler'!AH$38, Calcs!$AC$5:$AG$5, 0))","v":{"$error":"#N/A"}},{"$f":"INDEX(Calcs!$AC$5:$AG$51, MATCH('Rotation Assembler'!$A69, Calcs!$AC$5:$AC$51, 0), MATCH('Rotation Assembler'!AI$38, Calcs!$AC$5:$AG$5, 0))","v":{"$error":"#N/A"}},{"$f":"INDEX(Calcs!$AC$5:$AG$51, MATCH('Rotation Assembler'!$A69, Calcs!$AC$5:$AC$51, 0), MATCH('Rotation Assembler'!AJ$38, Calcs!$AC$5:$AG$5, 0))","v":{"$error":"#N/A"}},{"$f":"INDEX(Calcs!$AC$5:$AG$51, MATCH('Rotation Assembler'!$A69, Calcs!$AC$5:$AC$51, 0), MATCH('Rotation Assembler'!AK$38, Calcs!$AC$5:$AG$5, 0))","v":{"$error":"#N/A"}},{"$f":"INDEX(Calcs!$AC$5:$AG$51, MATCH('Rotation Assembler'!$A69, Calcs!$AC$5:$AC$51, 0), MATCH('Rotation Assembler'!AL$38, Calcs!$AC$5:$AG$5, 0))","v":{"$error":"#N/A"}},{"$f":"INDEX(Calcs!$AC$5:$AG$51, MATCH('Rotation Assembler'!$A69, Calcs!$AC$5:$AC$51, 0), MATCH('Rotation Assembler'!AM$38, Calcs!$AC$5:$AG$5, 0))","v":{"$error":"#N/A"}},{"$f":"INDEX(Calcs!$AC$5:$AG$51, MATCH('Rotation Assembler'!$A69, Calcs!$AC$5:$AC$51, 0), MATCH('Rotation Assembler'!AN$38, Calcs!$AC$5:$AG$5, 0))","v":{"$error":"#N/A"}},{"$f":"INDEX(Calcs!$AC$5:$AG$51, MATCH('Rotation Assembler'!$A69, Calcs!$AC$5:$AC$51, 0), MATCH('Rotation Assembler'!AO$38, Calcs!$AC$5:$AG$5, 0))","v":{"$error":"#N/A"}},{"$f":"INDEX(Calcs!$AC$5:$AG$51, MATCH('Rotation Assembler'!$A69, Calcs!$AC$5:$AC$51, 0), MATCH('Rotation Assembler'!AP$38, Calcs!$AC$5:$AG$5, 0))","v":{"$error":"#N/A"}},{"$f":"INDEX(Calcs!$AC$5:$AG$51, MATCH('Rotation Assembler'!$A69, Calcs!$AC$5:$AC$51, 0), MATCH('Rotation Assembler'!AQ$38, Calcs!$AC$5:$AG$5, 0))","v":{"$error":"#N/A"}},{"$f":"INDEX(Calcs!$AC$5:$AG$51, MATCH('Rotation Assembler'!$A69, Calcs!$AC$5:$AC$51, 0), MATCH('Rotation Assembler'!AR$38, Calcs!$AC$5:$AG$5, 0))","v":{"$error":"#N/A"}},{"$f":"INDEX(Calcs!$AC$5:$AG$51, MATCH('Rotation Assembler'!$A69, Calcs!$AC$5:$AC$51, 0), MATCH('Rotation Assembler'!AS$38, Calcs!$AC$5:$AG$5, 0))","v":{"$error":"#N/A"}},{"$f":"INDEX(Calcs!$AC$5:$AG$51, MATCH('Rotation Assembler'!$A69, Calcs!$AC$5:$AC$51, 0), MATCH('Rotation Assembler'!AT$38, Calcs!$AC$5:$AG$5, 0))","v":{"$error":"#N/A"}},{"$f":"INDEX(Calcs!$AC$5:$AG$51, MATCH('Rotation Assembler'!$A69, Calcs!$AC$5:$AC$51, 0), MATCH('Rotation Assembler'!AU$38, Calcs!$AC$5:$AG$5, 0))","v":{"$error":"#N/A"}},{"$f":"INDEX(Calcs!$AC$5:$AG$51, MATCH('Rotation Assembler'!$A69, Calcs!$AC$5:$AC$51, 0), MATCH('Rotation Assembler'!AV$38, Calcs!$AC$5:$AG$5, 0))","v":{"$error":"#N/A"}},{"$f":"INDEX(Calcs!$AC$5:$AG$51, MATCH('Rotation Assembler'!$A69, Calcs!$AC$5:$AC$51, 0), MATCH('Rotation Assembler'!AW$38, Calcs!$AC$5:$AG$5, 0))","v":{"$error":"#N/A"}},{"$f":"INDEX(Calcs!$AC$5:$AG$51, MATCH('Rotation Assembler'!$A69, Calcs!$AC$5:$AC$51, 0), MATCH('Rotation Assembler'!AX$38, Calcs!$AC$5:$AG$5, 0))","v":{"$error":"#N/A"}},{"$f":"INDEX(Calcs!$AC$5:$AG$51, MATCH('Rotation Assembler'!$A69, Calcs!$AC$5:$AC$51, 0), MATCH('Rotation Assembler'!AY$38, Calcs!$AC$5:$AG$5, 0))","v":{"$error":"#N/A"}},{"$f":"INDEX(Calcs!$AC$5:$AG$51, MATCH('Rotation Assembler'!$A69, Calcs!$AC$5:$AC$51, 0), MATCH('Rotation Assembler'!AZ$38, Calcs!$AC$5:$AG$5, 0))","v":{"$error":"#N/A"}},{"$f":"INDEX(Calcs!$AC$5:$AG$51, MATCH('Rotation Assembler'!$A69, Calcs!$AC$5:$AC$51, 0), MATCH('Rotation Assembler'!BA$38, Calcs!$AC$5:$AG$5, 0))","v":{"$error":"#N/A"}},{"$f":"INDEX(Calcs!$AC$5:$AG$51, MATCH('Rotation Assembler'!$A69, Calcs!$AC$5:$AC$51, 0), MATCH('Rotation Assembler'!BB$38, Calcs!$AC$5:$AG$5, 0))","v":{"$error":"#N/A"}},{"$f":"INDEX(Calcs!$AC$5:$AG$51, MATCH('Rotation Assembler'!$A69, Calcs!$AC$5:$AC$51, 0), MATCH('Rotation Assembler'!BC$38, Calcs!$AC$5:$AG$5, 0))","v":{"$error":"#N/A"}},{"$f":"INDEX(Calcs!$AC$5:$AG$51, MATCH('Rotation Assembler'!$A69, Calcs!$AC$5:$AC$51, 0), MATCH('Rotation Assembler'!BD$38, Calcs!$AC$5:$AG$5, 0))","v":{"$error":"#N/A"}},{"$f":"INDEX(Calcs!$AC$5:$AG$51, MATCH('Rotation Assembler'!$A69, Calcs!$AC$5:$AC$51, 0), MATCH('Rotation Assembler'!BE$38, Calcs!$AC$5:$AG$5, 0))","v":{"$error":"#N/A"}},{"$f":"INDEX(Calcs!$AC$5:$AG$51, MATCH('Rotation Assembler'!$A69, Calcs!$AC$5:$AC$51, 0), MATCH('Rotation Assembler'!BF$38, Calcs!$AC$5:$AG$5, 0))","v":{"$error":"#N/A"}}]
["DEF Shred",{"$f":"INDEX(Calcs!$AC$5:$AG$51, MATCH('Rotation Assembler'!$A70, Calcs!$AC$5:$AC$51, 0), MATCH('Rotation Assembler'!B$38, Calcs!$AC$5:$AG$5, 0))","v":0},{"$f":"INDEX(Calcs!$AC$5:$AG$51, MATCH('Rotation Assembler'!$A70, Calcs!$AC$5:$AC$51, 0), MATCH('Rotation Assembler'!C$38, Calcs!$AC$5:$AG$5, 0))","v":0},{"$f":"INDEX(Calcs!$AC$5:$AG$51, MATCH('Rotation Assembler'!$A70, Calcs!$AC$5:$AC$51, 0), MATCH('Rotation Assembler'!D$38, Calcs!$AC$5:$AG$5, 0))","v":0},{"$f":"INDEX(Calcs!$AC$5:$AG$51, MATCH('Rotation Assembler'!$A70, Calcs!$AC$5:$AC$51, 0), MATCH('Rotation Assembler'!E$38, Calcs!$AC$5:$AG$5, 0))","v":0},{"$f":"INDEX(Calcs!$AC$5:$AG$51, MATCH('Rotation Assembler'!$A70, Calcs!$AC$5:$AC$51, 0), MATCH('Rotation Assembler'!F$38, Calcs!$AC$5:$AG$5, 0))","v":0},{"$f":"INDEX(Calcs!$AC$5:$AG$51, MATCH('Rotation Assembler'!$A70, Calcs!$AC$5:$AC$51, 0), MATCH('Rotation Assembler'!G$38, Calcs!$AC$5:$AG$5, 0))","v":0},{"$f":"INDEX(Calcs!$AC$5:$AG$51, MATCH('Rotation Assembler'!$A70, Calcs!$AC$5:$AC$51, 0), MATCH('Rotation Assembler'!H$38, Calcs!$AC$5:$AG$5, 0))","v":0},{"$f":"INDEX(Calcs!$AC$5:$AG$51, MATCH('Rotation Assembler'!$A70, Calcs!$AC$5:$AC$51, 0), MATCH('Rotation Assembler'!I$38, Calcs!$AC$5:$AG$5, 0))","v":0},{"$f":"INDEX(Calcs!$AC$5:$AG$51, MATCH('Rotation Assembler'!$A70, Calcs!$AC$5:$AC$51, 0), MATCH('Rotation Assembler'!J$38, Calcs!$AC$5:$AG$5, 0))","v":0},{"$f":"INDEX(Calcs!$AC$5:$AG$51, MATCH('Rotation Assembler'!$A70, Calcs!$AC$5:$AC$51, 0), MATCH('Rotation Assembler'!K$38, Calcs!$AC$5:$AG$5, 0))","v":0},{"$f":"INDEX(Calcs!$AC$5:$AG$51, MATCH('Rotation Assembler'!$A70, Calcs!$AC$5:$AC$51, 0), MATCH('Rotation Assembler'!L$38, Calcs!$AC$5:$AG$5, 0))","v":0},{"$f":"INDEX(Calcs!$AC$5:$AG$51, MATCH('Rotation Assembler'!$A70, Calcs!$AC$5:$AC$51, 0), MATCH('Rotation Assembler'!M$38, Calcs!$AC$5:$AG$5, 0))","v":0},{"$f":"INDEX(Calcs!$AC$5:$AG$51, MATCH('Rotation Assembler'!$A70, Calcs!$AC$5:$AC$51, 0), MATCH('Rotation Assembler'!N$38, Calcs!$AC$5:$AG$5, 0))","v":0},{"$f":"INDEX(Calcs!$AC$5:$AG$51, MATCH('Rotation Assembler'!$A70, Calcs!$AC$5:$AC$51, 0), MATCH('Rotation Assembler'!O$38, Calcs!$AC$5:$AG$5, 0))","v":0},{"$f":"INDEX(Calcs!$AC$5:$AG$51, MATCH('Rotation Assembler'!$A70, Calcs!$AC$5:$AC$51, 0), MATCH('Rotation Assembler'!P$38, Calcs!$AC$5:$AG$5, 0))","v":0},{"$f":"INDEX(Calcs!$AC$5:$AG$51, MATCH('Rotation Assembler'!$A70, Calcs!$AC$5:$AC$51, 0), MATCH('Rotation Assembler'!Q$38, Calcs!$AC$5:$AG$5, 0))","v":0},{"$f":"INDEX(Calcs!$AC$5:$AG$51, MATCH('Rotation Assembler'!$A70, Calcs!$AC$5:$AC$51, 0), MATCH('Rotation Assembler'!R$38, Calcs!$AC$5:$AG$5, 0))","v":0},{"$f":"INDEX(Calcs!$AC$5:$AG$51, MATCH('Rotation Assembler'!$A70, Calcs!$AC$5:$AC$51, 0), MATCH('Rotation Assembler'!S$38, Calcs!$AC$5:$AG$5, 0))","v":0},{"$f":"INDEX(Calcs!$AC$5:$AG$51, MATCH('Rotation Assembler'!$A70, Calcs!$AC$5:$AC$51, 0), MATCH('Rotation Assembler'!T$38, Calcs!$AC$5:$AG$5, 0))","v":0},{"$f":"INDEX(Calcs!$AC$5:$AG$51, MATCH('Rotation Assembler'!$A70, Calcs!$AC$5:$AC$51, 0), MATCH('Rotation Assembler'!U$38, Calcs!$AC$5:$AG$5, 0))","v":0},null,{"$f":"INDEX(Calcs!$AC$5:$AG$51, MATCH('Rotation Assembler'!$A70, Calcs!$AC$5:$AC$51, 0), MATCH('Rotation Assembler'!W$38, Calcs!$AC$5:$AG$5, 0))","v":0},{"$f":"INDEX(Calcs!$AC$5:$AG$51, MATCH('Rotation Assembler'!$A70, Calcs!$AC$5:$AC$51, 0), MATCH('Rotation Assembler'!X$38, Calcs!$AC$5:$AG$5, 0))","v":0},{"$f":"INDEX(Calcs!$AC$5:$AG$51, MATCH('Rotation Assembler'!$A70, Calcs!$AC$5:$AC$51, 0), MATCH('Rotation Assembler'!Y$38, Calcs!$AC$5:$AG$5, 0))","v":0},{"$f":"INDEX(Calcs!$AC$5:$AG$51, MATCH('Rotation Assembler'!$A70, Calcs!$AC$5:$AC$51, 0), MATCH('Rotation Assembler'!Z$38, Calcs!$AC$5:$AG$5, 0))","v":0},{"$f":"INDEX(Calcs!$AC$5:$AG$51, MATCH('Rotation Assembler'!$A70, Calcs!$AC$5:$AC$51, 0), MATCH('Rotation Assembler'!AA$38, Calcs!$AC$5:$AG$5, 0))","v":0},{"$f":"INDEX(Calcs!$AC$5:$AG$51, MATCH('Rotation Assembler'!$A70, Calcs!$AC$5:$AC$51, 0), MATCH('Rotation Assembler'!AB$38, Calcs!$AC$5:$AG$5, 0))","v":0},{"$f":"INDEX(Calcs!$AC$5:$AG$51, MATCH('Rotation Assembler'!$A70, Calcs!$AC$5:$AC$51, 0), MATCH('Rotation Assembler'!AC$38, Calcs!$AC$5:$AG$5, 0))","v":0},{"$f":"INDEX(Calcs!$AC$5:$AG$51, MATCH('Rotation Assembler'!$A70, Calcs!$AC$5:$AC$51, 0), MATCH('Rotation Assembler'!AD$38, Calcs!$AC$5:$AG$5, 0))","v":0},{"$f":"INDEX(Calcs!$AC$5:$AG$51, MATCH('Rotation Assembler'!$A70, Calcs!$AC$5:$AC$51, 0), MATCH('Rotation Assembler'!AE$38, Calcs!$AC$5:$AG$5, 0))","v":0},{"$f":"INDEX(Calcs!$AC$5:$AG$51, MATCH('Rotation Assembler'!$A70, Calcs!$AC$5:$AC$51, 0), MATCH('Rotation Assembler'!AF$38, Calcs!$AC$5:$AG$5, 0))","v":{"$error":"#N/A"}},{"$f":"INDEX(Calcs!$AC$5:$AG$51, MATCH('Rotation Assembler'!$A70, Calcs!$AC$5:$AC$51, 0), MATCH('Rotation Assembler'!AG$38, Calcs!$AC$5:$AG$5, 0))","v":{"$error":"#N/A"}},{"$f":"INDEX(Calcs!$AC$5:$AG$51, MATCH('Rotation Assembler'!$A70, Calcs!$AC$5:$AC$51, 0), MATCH('Rotation Assembler'!AH$38, Calcs!$AC$5:$AG$5, 0))","v":{"$error":"#N/A"}},{"$f":"INDEX(Calcs!$AC$5:$AG$51, MATCH('Rotation Assembler'!$A70, Calcs!$AC$5:$AC$51, 0), MATCH('Rotation Assembler'!AI$38, Calcs!$AC$5:$AG$5, 0))","v":{"$error":"#N/A"}},{"$f":"INDEX(Calcs!$AC$5:$AG$51, MATCH('Rotation Assembler'!$A70, Calcs!$AC$5:$AC$51, 0), MATCH('Rotation Assembler'!AJ$38, Calcs!$AC$5:$AG$5, 0))","v":{"$error":"#N/A"}},{"$f":"INDEX(Calcs!$AC$5:$AG$51, MATCH('Rotation Assembler'!$A70, Calcs!$AC$5:$AC$51, 0), MATCH('Rotation Assembler'!AK$38, Calcs!$AC$5:$AG$5, 0))","v":{"$error":"#N/A"}},{"$f":"INDEX(Calcs!$AC$5:$AG$51, MATCH('Rotation Assembler'!$A70, Calcs!$AC$5:$AC$51, 0), MATCH('Rotation Assembler'!AL$38, Calcs!$AC$5:$AG$5, 0))","v":{"$error":"#N/A"}},{"$f":"INDEX(Calcs!$AC$5:$AG$51, MATCH('Rotation Assembler'!$A70, Calcs!$AC$5:$AC$51, 0), MATCH('Rotation Assembler'!AM$38, Calcs!$AC$5:$AG$5, 0))","v":{"$error":"#N/A"}},{"$f":"INDEX(Calcs!$AC$5:$AG$51, MATCH('Rotation Assembler'!$A70, Calcs!$AC$5:$AC$51, 0), MATCH('Rotation Assembler'!AN$38, Calcs!$AC$5:$AG$5, 0))","v":{"$error":"#N/A"}},{"$f":"INDEX(Calcs!$AC$5:$AG$51, MATCH('Rotation Assembler'!$A70, Calcs!$AC$5:$AC$51, 0), MATCH('Rotation Assembler'!AO$38, Calcs!$AC$5:$AG$5, 0))","v":{"$error":"#N/A"}},{"$f":"INDEX(Calcs!$AC$5:$AG$51, MATCH('Rotation Assembler'!$A70, Calcs!$AC$5:$AC$51, 0), MATCH('Rotation Assembler'!AP$38, Calcs!$AC$5:$AG$5, 0))","v":{"$error":"#N/A"}},{"$f":"INDEX(Calcs!$AC$5:$AG$51, MATCH('Rotation Assembler'!$A70, Calcs!$AC$5:$AC$51, 0), MATCH('Rotation Assembler'!AQ$38, Calcs!$AC$5:$AG$5, 0))","v":{"$error":"#N/A"}},{"$f":"INDEX(Calcs!$AC$5:$AG$51, MATCH('Rotation Assembler'!$A70, Calcs!$AC$5:$AC$51, 0), MATCH('Rotation Assembler'!AR$38, Calcs!$AC$5:$AG$5, 0))","v":{"$error":"#N/A"}},{"$f":"INDEX(Calcs!$AC$5:$AG$51, MATCH('Rotation Assembler'!$A70, Calcs!$AC$5:$AC$51, 0), MATCH('Rotation Assembler'!AS$38, Calcs!$AC$5:$AG$5, 0))","v":{"$error":"#N/A"}},{"$f":"INDEX(Calcs!$AC$5:$AG$51, MATCH('Rotation Assembler'!$A70, Calcs!$AC$5:$AC$51, 0), MATCH('Rotation Assembler'!AT$38, Calcs!$AC$5:$AG$5, 0))","v":{"$error":"#N/A"}},{"$f":"INDEX(Calcs!$AC$5:$AG$51, MATCH('Rotation Assembler'!$A70, Calcs!$AC$5:$AC$51, 0), MATCH('Rotation Assembler'!AU$38, Calcs!$AC$5:$AG$5, 0))","v":{"$error":"#N/A"}},{"$f":"INDEX(Calcs!$AC$5:$AG$51, MATCH('Rotation Assembler'!$A70, Calcs!$AC$5:$AC$51, 0), MATCH('Rotation Assembler'!AV$38, Calcs!$AC$5:$AG$5, 0))","v":{"$error":"#N/A"}},{"$f":"INDEX(Calcs!$AC$5:$AG$51, MATCH('Rotation Assembler'!$A70, Calcs!$AC$5:$AC$51, 0), MATCH('Rotation Assembler'!AW$38, Calcs!$AC$5:$AG$5, 0))","v":{"$error":"#N/A"}},{"$f":"INDEX(Calcs!$AC$5:$AG$51, MATCH('Rotation Assembler'!$A70, Calcs!$AC$5:$AC$51, 0), MATCH('Rotation Assembler'!AX$38, Calcs!$AC$5:$AG$5, 0))","v":{"$error":"#N/A"}},{"$f":"INDEX(Calcs!$AC$5:$AG$51, MATCH('Rotation Assembler'!$A70, Calcs!$AC$5:$AC$51, 0), MATCH('Rotation Assembler'!AY$38, Calcs!$AC$5:$AG$5, 0))","v":{"$error":"#N/A"}},{"$f":"INDEX(Calcs!$AC$5:$AG$51, MATCH('Rotation Assembler'!$A70, Calcs!$AC$5:$AC$51, 0), MATCH('Rotation Assembler'!AZ$38, Calcs!$AC$5:$AG$5, 0))","v":{"$error":"#N/A"}},{"$f":"INDEX(Calcs!$AC$5:$AG$51, MATCH('Rotation Assembler'!$A70, Calcs!$AC$5:$AC$51, 0), MATCH('Rotation Assembler'!BA$38, Calcs!$AC$5:$AG$5, 0))","v":{"$error":"#N/A"}},{"$f":"INDEX(Calcs!$AC$5:$AG$51, MATCH('Rotation Assembler'!$A70, Calcs!$AC$5:$AC$51, 0), MATCH('Rotation Assembler'!BB$38, Calcs!$AC$5:$AG$5, 0))","v":{"$error":"#N/A"}},{"$f":"INDEX(Calcs!$AC$5:$AG$51, MATCH('Rotation Assembler'!$A70, Calcs!$AC$5:$AC$51, 0), MATCH('Rotation Assembler'!BC$38, Calcs!$AC$5:$AG$5, 0))","v":{"$error":"#N/A"}},{"$f":"INDEX(Calcs!$AC$5:$AG$51, MATCH('Rotation Assembler'!$A70, Calcs!$AC$5:$AC$51, 0), MATCH('Rotation Assembler'!BD$38, Calcs!$AC$5:$AG$5, 0))","v":{"$error":"#N/A"}},{"$f":"INDEX(Calcs!$AC$5:$AG$51, MATCH('Rotation Assembler'!$A70, Calcs!$AC$5:$AC$51, 0), MATCH('Rotation Assembler'!BE$38, Calcs!$AC$5:$AG$5, 0))","v":{"$error":"#N/A"}},{"$f":"INDEX(Calcs!$AC$5:$AG$51, MATCH('Rotation Assembler'!$A70, Calcs!$AC$5:$AC$51, 0), MATCH('Rotation Assembler'!BF$38, Calcs!$AC$5:$AG$5, 0))","v":{"$error":"#N/A"}}]
["Shield Strength%",{"$f":"INDEX(Calcs!$AC$5:$AG$51, MATCH('Rotation Assembler'!$A71, Calcs!$AC$5:$AC$51, 0), MATCH('Rotation Assembler'!B$38, Calcs!$AC$5:$AG$5, 0))","v":0},{"$f":"INDEX(Calcs!$AC$5:$AG$51, MATCH('Rotation Assembler'!$A71, Calcs!$AC$5:$AC$51, 0), MATCH('Rotation Assembler'!C$38, Calcs!$AC$5:$AG$5, 0))","v":0},{"$f":"INDEX(Calcs!$AC$5:$AG$51, MATCH('Rotation Assembler'!$A71, Calcs!$AC$5:$AC$51, 0), MATCH('Rotation Assembler'!D$38, Calcs!$AC$5:$AG$5, 0))","v":0},{"$f":"INDEX(Calcs!$AC$5:$AG$51, MATCH('Rotation Assembler'!$A71, Calcs!$AC$5:$AC$51, 0), MATCH('Rotation Assembler'!E$38, Calcs!$AC$5:$AG$5, 0))","v":0},{"$f":"INDEX(Calcs!$AC$5:$AG$51, MATCH('Rotation Assembler'!$A71, Calcs!$AC$5:$AC$51, 0), MATCH('Rotation Assembler'!F$38, Calcs!$AC$5:$AG$5, 0))","v":0},{"$f":"INDEX(Calcs!$AC$5:$AG$51, MATCH('Rotation Assembler'!$A71, Calcs!$AC$5:$AC$51, 0), MATCH('Rotation Assembler'!G$38, Calcs!$AC$5:$AG$5, 0))","v":0},{"$f":"INDEX(Calcs!$AC$5:$AG$51, MATCH('Rotation Assembler'!$A71, Calcs!$AC$5:$AC$51, 0), MATCH('Rotation Assembler'!H$38, Calcs!$AC$5:$AG$5, 0))","v":0},{"$f":"INDEX(Calcs!$AC$5:$AG$51, MATCH('Rotation Assembler'!$A71, Calcs!$AC$5:$AC$51, 0), MATCH('Rotation Assembler'!I$38, Calcs!$AC$5:$AG$5, 0))","v":0},{"$f":"INDEX(Calcs!$AC$5:$AG$51, MATCH('Rotation Assembler'!$A71, Calcs!$AC$5:$AC$51, 0), MATCH('Rotation Assembler'!J$38, Calcs!$AC$5:$AG$5, 0))","v":0},{"$f":"INDEX(Calcs!$AC$5:$AG$51, MATCH('Rotation Assembler'!$A71, Calcs!$AC$5:$AC$51, 0), MATCH('Rotation Assembler'!K$38, Calcs!$AC$5:$AG$5, 0))","v":0},{"$f":"INDEX(Calcs!$AC$5:$AG$51, MATCH('Rotation Assembler'!$A71, Calcs!$AC$5:$AC$51, 0), MATCH('Rotation Assembler'!L$38, Calcs!$AC$5:$AG$5, 0))","v":0},{"$f":"INDEX(Calcs!$AC$5:$AG$51, MATCH('Rotation Assembler'!$A71, Calcs!$AC$5:$AC$51, 0), MATCH('Rotation Assembler'!M$38, Calcs!$AC$5:$AG$5, 0))","v":0},{"$f":"INDEX(Calcs!$AC$5:$AG$51, MATCH('Rotation Assembler'!$A71, Calcs!$AC$5:$AC$51, 0), MATCH('Rotation Assembler'!N$38, Calcs!$AC$5:$AG$5, 0))","v":0},{"$f":"INDEX(Calcs!$AC$5:$AG$51, MATCH('Rotation Assembler'!$A71, Calcs!$AC$5:$AC$51, 0), MATCH('Rotation Assembler'!O$38, Calcs!$AC$5:$AG$5, 0))","v":0},{"$f":"INDEX(Calcs!$AC$5:$AG$51, MATCH('Rotation Assembler'!$A71, Calcs!$AC$5:$AC$51, 0), MATCH('Rotation Assembler'!P$38, Calcs!$AC$5:$AG$5, 0))","v":0},{"$f":"INDEX(Calcs!$AC$5:$AG$51, MATCH('Rotation Assembler'!$A71, Calcs!$AC$5:$AC$51, 0), MATCH('Rotation Assembler'!Q$38, Calcs!$AC$5:$AG$5, 0))","v":0},{"$f":"INDEX(Calcs!$AC$5:$AG$51, MATCH('Rotation Assembler'!$A71, Calcs!$AC$5:$AC$51, 0), MATCH('Rotation Assembler'!R$38, Calcs!$AC$5:$AG$5, 0))","v":0},{"$f":"INDEX(Calcs!$AC$5:$AG$51, MATCH('Rotation Assembler'!$A71, Calcs!$AC$5:$AC$51, 0), MATCH('Rotation Assembler'!S$38, Calcs!$AC$5:$AG$5, 0))","v":0},{"$f":"INDEX(Calcs!$AC$5:$AG$51, MATCH('Rotation Assembler'!$A71, Calcs!$AC$5:$AC$51, 0), MATCH('Rotation Assembler'!T$38, Calcs!$AC$5:$AG$5, 0))","v":0},{"$f":"INDEX(Calcs!$AC$5:$AG$51, MATCH('Rotation Assembler'!$A71, Calcs!$AC$5:$AC$51, 0), MATCH('Rotation Assembler'!U$38, Calcs!$AC$5:$AG$5, 0))","v":0},null,{"$f":"INDEX(Calcs!$AC$5:$AG$51, MATCH('Rotation Assembler'!$A71, Calcs!$AC$5:$AC$51, 0), MATCH('Rotation Assembler'!W$38, Calcs!$AC$5:$AG$5, 0))","v":0},{"$f":"INDEX(Calcs!$AC$5:$AG$51, MATCH('Rotation Assembler'!$A71, Calcs!$AC$5:$AC$51, 0), MATCH('Rotation Assembler'!X$38, Calcs!$AC$5:$AG$5, 0))","v":0},{"$f":"INDEX(Calcs!$AC$5:$AG$51, MATCH('Rotation Assembler'!$A71, Calcs!$AC$5:$AC$51, 0), MATCH('Rotation Assembler'!Y$38, Calcs!$AC$5:$AG$5, 0))","v":0},{"$f":"INDEX(Calcs!$AC$5:$AG$51, MATCH('Rotation Assembler'!$A71, Calcs!$AC$5:$AC$51, 0), MATCH('Rotation Assembler'!Z$38, Calcs!$AC$5:$AG$5, 0))","v":0},{"$f":"INDEX(Calcs!$AC$5:$AG$51, MATCH('Rotation Assembler'!$A71, Calcs!$AC$5:$AC$51, 0), MATCH('Rotation Assembler'!AA$38, Calcs!$AC$5:$AG$5, 0))","v":0},{"$f":"INDEX(Calcs!$AC$5:$AG$51, MATCH('Rotation Assembler'!$A71, Calcs!$AC$5:$AC$51, 0), MATCH('Rotation Assembler'!AB$38, Calcs!$AC$5:$AG$5, 0))","v":0},{"$f":"INDEX(Calcs!$AC$5:$AG$51, MATCH('Rotation Assembler'!$A71, Calcs!$AC$5:$AC$51, 0), MATCH('Rotation Assembler'!AC$38, Calcs!$AC$5:$AG$5, 0))","v":0},{"$f":"INDEX(Calcs!$AC$5:$AG$51, MATCH('Rotation Assembler'!$A71, Calcs!$AC$5:$AC$51, 0), MATCH('Rotation Assembler'!AD$38, Calcs!$AC$5:$AG$5, 0))","v":0},{"$f":"INDEX(Calcs!$AC$5:$AG$51, MATCH('Rotation Assembler'!$A71, Calcs!$AC$5:$AC$51, 0), MATCH('Rotation Assembler'!AE$38, Calcs!$AC$5:$AG$5, 0))","v":0},{"$f":"INDEX(Calcs!$AC$5:$AG$51, MATCH('Rotation Assembler'!$A71, Calcs!$AC$5:$AC$51, 0), MATCH('Rotation Assembler'!AF$38, Calcs!$AC$5:$AG$5, 0))","v":{"$error":"#N/A"}},{"$f":"INDEX(Calcs!$AC$5:$AG$51, MATCH('Rotation Assembler'!$A71, Calcs!$AC$5:$AC$51, 0), MATCH('Rotation Assembler'!AG$38, Calcs!$AC$5:$AG$5, 0))","v":{"$error":"#N/A"}},{"$f":"INDEX(Calcs!$AC$5:$AG$51, MATCH('Rotation Assembler'!$A71, Calcs!$AC$5:$AC$51, 0), MATCH('Rotation Assembler'!AH$38, Calcs!$AC$5:$AG$5, 0))","v":{"$error":"#N/A"}},{"$f":"INDEX(Calcs!$AC$5:$AG$51, MATCH('Rotation Assembler'!$A71, Calcs!$AC$5:$AC$51, 0), MATCH('Rotation Assembler'!AI$38, Calcs!$AC$5:$AG$5, 0))","v":{"$error":"#N/A"}},{"$f":"INDEX(Calcs!$AC$5:$AG$51, MATCH('Rotation Assembler'!$A71, Calcs!$AC$5:$AC$51, 0), MATCH('Rotation Assembler'!AJ$38, Calcs!$AC$5:$AG$5, 0))","v":{"$error":"#N/A"}},{"$f":"INDEX(Calcs!$AC$5:$AG$51, MATCH('Rotation Assembler'!$A71, Calcs!$AC$5:$AC$51, 0), MATCH('Rotation Assembler'!AK$38, Calcs!$AC$5:$AG$5, 0))","v":{"$error":"#N/A"}},{"$f":"INDEX(Calcs!$AC$5:$AG$51, MATCH('Rotation Assembler'!$A71, Calcs!$AC$5:$AC$51, 0), MATCH('Rotation Assembler'!AL$38, Calcs!$AC$5:$AG$5, 0))","v":{"$error":"#N/A"}},{"$f":"INDEX(Calcs!$AC$5:$AG$51, MATCH('Rotation Assembler'!$A71, Calcs!$AC$5:$AC$51, 0), MATCH('Rotation Assembler'!AM$38, Calcs!$AC$5:$AG$5, 0))","v":{"$error":"#N/A"}},{"$f":"INDEX(Calcs!$AC$5:$AG$51, MATCH('Rotation Assembler'!$A71, Calcs!$AC$5:$AC$51, 0), MATCH('Rotation Assembler'!AN$38, Calcs!$AC$5:$AG$5, 0))","v":{"$error":"#N/A"}},{"$f":"INDEX(Calcs!$AC$5:$AG$51, MATCH('Rotation Assembler'!$A71, Calcs!$AC$5:$AC$51, 0), MATCH('Rotation Assembler'!AO$38, Calcs!$AC$5:$AG$5, 0))","v":{"$error":"#N/A"}},{"$f":"INDEX(Calcs!$AC$5:$AG$51, MATCH('Rotation Assembler'!$A71, Calcs!$AC$5:$AC$51, 0), MATCH('Rotation Assembler'!AP$38, Calcs!$AC$5:$AG$5, 0))","v":{"$error":"#N/A"}},{"$f":"INDEX(Calcs!$AC$5:$AG$51, MATCH('Rotation Assembler'!$A71, Calcs!$AC$5:$AC$51, 0), MATCH('Rotation Assembler'!AQ$38, Calcs!$AC$5:$AG$5, 0))","v":{"$error":"#N/A"}},{"$f":"INDEX(Calcs!$AC$5:$AG$51, MATCH('Rotation Assembler'!$A71, Calcs!$AC$5:$AC$51, 0), MATCH('Rotation Assembler'!AR$38, Calcs!$AC$5:$AG$5, 0))","v":{"$error":"#N/A"}},{"$f":"INDEX(Calcs!$AC$5:$AG$51, MATCH('Rotation Assembler'!$A71, Calcs!$AC$5:$AC$51, 0), MATCH('Rotation Assembler'!AS$38, Calcs!$AC$5:$AG$5, 0))","v":{"$error":"#N/A"}},{"$f":"INDEX(Calcs!$AC$5:$AG$51, MATCH('Rotation Assembler'!$A71, Calcs!$AC$5:$AC$51, 0), MATCH('Rotation Assembler'!AT$38, Calcs!$AC$5:$AG$5, 0))","v":{"$error":"#N/A"}},{"$f":"INDEX(Calcs!$AC$5:$AG$51, MATCH('Rotation Assembler'!$A71, Calcs!$AC$5:$AC$51, 0), MATCH('Rotation Assembler'!AU$38, Calcs!$AC$5:$AG$5, 0))","v":{"$error":"#N/A"}},{"$f":"INDEX(Calcs!$AC$5:$AG$51, MATCH('Rotation Assembler'!$A71, Calcs!$AC$5:$AC$51, 0), MATCH('Rotation Assembler'!AV$38, Calcs!$AC$5:$AG$5, 0))","v":{"$error":"#N/A"}},{"$f":"INDEX(Calcs!$AC$5:$AG$51, MATCH('Rotation Assembler'!$A71, Calcs!$AC$5:$AC$51, 0), MATCH('Rotation Assembler'!AW$38, Calcs!$AC$5:$AG$5, 0))","v":{"$error":"#N/A"}},{"$f":"INDEX(Calcs!$AC$5:$AG$51, MATCH('Rotation Assembler'!$A71, Calcs!$AC$5:$AC$51, 0), MATCH('Rotation Assembler'!AX$38, Calcs!$AC$5:$AG$5, 0))","v":{"$error":"#N/A"}},{"$f":"INDEX(Calcs!$AC$5:$AG$51, MATCH('Rotation Assembler'!$A71, Calcs!$AC$5:$AC$51, 0), MATCH('Rotation Assembler'!AY$38, Calcs!$AC$5:$AG$5, 0))","v":{"$error":"#N/A"}},{"$f":"INDEX(Calcs!$AC$5:$AG$51, MATCH('Rotation Assembler'!$A71, Calcs!$AC$5:$AC$51, 0), MATCH('Rotation Assembler'!AZ$38, Calcs!$AC$5:$AG$5, 0))","v":{"$error":"#N/A"}},{"$f":"INDEX(Calcs!$AC$5:$AG$51, MATCH('Rotation Assembler'!$A71, Calcs!$AC$5:$AC$51, 0), MATCH('Rotation Assembler'!BA$38, Calcs!$AC$5:$AG$5, 0))","v":{"$error":"#N/A"}},{"$f":"INDEX(Calcs!$AC$5:$AG$51, MATCH('Rotation Assembler'!$A71, Calcs!$AC$5:$AC$51, 0), MATCH('Rotation Assembler'!BB$38, Calcs!$AC$5:$AG$5, 0))","v":{"$error":"#N/A"}},{"$f":"INDEX(Calcs!$AC$5:$AG$51, MATCH('Rotation Assembler'!$A71, Calcs!$AC$5:$AC$51, 0), MATCH('Rotation Assembler'!BC$38, Calcs!$AC$5:$AG$5, 0))","v":{"$error":"#N/A"}},{"$f":"INDEX(Calcs!$AC$5:$AG$51, MATCH('Rotation Assembler'!$A71, Calcs!$AC$5:$AC$51, 0), MATCH('Rotation Assembler'!BD$38, Calcs!$AC$5:$AG$5, 0))","v":{"$error":"#N/A"}},{"$f":"INDEX(Calcs!$AC$5:$AG$51, MATCH('Rotation Assembler'!$A71, Calcs!$AC$5:$AC$51, 0), MATCH('Rotation Assembler'!BE$38, Calcs!$AC$5:$AG$5, 0))","v":{"$error":"#N/A"}},{"$f":"INDEX(Calcs!$AC$5:$AG$51, MATCH('Rotation Assembler'!$A71, Calcs!$AC$5:$AC$51, 0), MATCH('Rotation Assembler'!BF$38, Calcs!$AC$5:$AG$5, 0))","v":{"$error":"#N/A"}}]
["Phys RES%",{"$f":"INDEX(Calcs!$AC$5:$AG$51, MATCH('Rotation Assembler'!$A72, Calcs!$AC$5:$AC$51, 0), MATCH('Rotation Assembler'!B$38, Calcs!$AC$5:$AG$5, 0))","v":0},{"$f":"INDEX(Calcs!$AC$5:$AG$51, MATCH('Rotation Assembler'!$A72, Calcs!$AC$5:$AC$51, 0), MATCH('Rotation Assembler'!C$38, Calcs!$AC$5:$AG$5, 0))","v":0},{"$f":"INDEX(Calcs!$AC$5:$AG$51, MATCH('Rotation Assembler'!$A72, Calcs!$AC$5:$AC$51, 0), MATCH('Rotation Assembler'!D$38, Calcs!$AC$5:$AG$5, 0))","v":0},{"$f":"INDEX(Calcs!$AC$5:$AG$51, MATCH('Rotation Assembler'!$A72, Calcs!$AC$5:$AC$51, 0), MATCH('Rotation Assembler'!E$38, Calcs!$AC$5:$AG$5, 0))","v":0},{"$f":"INDEX(Calcs!$AC$5:$AG$51, MATCH('Rotation Assembler'!$A72, Calcs!$AC$5:$AC$51, 0), MATCH('Rotation Assembler'!F$38, Calcs!$AC$5:$AG$5, 0))","v":0},{"$f":"INDEX(Calcs!$AC$5:$AG$51, MATCH('Rotation Assembler'!$A72, Calcs!$AC$5:$AC$51, 0), MATCH('Rotation Assembler'!G$38, Calcs!$AC$5:$AG$5, 0))","v":0},{"$f":"INDEX(Calcs!$AC$5:$AG$51, MATCH('Rotation Assembler'!$A72, Calcs!$AC$5:$AC$51, 0), MATCH('Rotation Assembler'!H$38, Calcs!$AC$5:$AG$5, 0))","v":0},{"$f":"INDEX(Calcs!$AC$5:$AG$51, MATCH('Rotation Assembler'!$A72, Calcs!$AC$5:$AC$51, 0), MATCH('Rotation Assembler'!I$38, Calcs!$AC$5:$AG$5, 0))","v":0},{"$f":"INDEX(Calcs!$AC$5:$AG$51, MATCH('Rotation Assembler'!$A72, Calcs!$AC$5:$AC$51, 0), MATCH('Rotation Assembler'!J$38, Calcs!$AC$5:$AG$5, 0))","v":0},{"$f":"INDEX(Calcs!$AC$5:$AG$51, MATCH('Rotation Assembler'!$A72, Calcs!$AC$5:$AC$51, 0), MATCH('Rotation Assembler'!K$38, Calcs!$AC$5:$AG$5, 0))","v":0},{"$f":"INDEX(Calcs!$AC$5:$AG$51, MATCH('Rotation Assembler'!$A72, Calcs!$AC$5:$AC$51, 0), MATCH('Rotation Assembler'!L$38, Calcs!$AC$5:$AG$5, 0))","v":0},{"$f":"INDEX(Calcs!$AC$5:$AG$51, MATCH('Rotation Assembler'!$A72, Calcs!$AC$5:$AC$51, 0), MATCH('Rotation Assembler'!M$38, Calcs!$AC$5:$AG$5, 0))","v":0},{"$f":"INDEX(Calcs!$AC$5:$AG$51, MATCH('Rotation Assembler'!$A72, Calcs!$AC$5:$AC$51, 0), MATCH('Rotation Assembler'!N$38, Calcs!$AC$5:$AG$5, 0))","v":0},{"$f":"INDEX(Calcs!$AC$5:$AG$51, MATCH('Rotation Assembler'!$A72, Calcs!$AC$5:$AC$51, 0), MATCH('Rotation Assembler'!O$38, Calcs!$AC$5:$AG$5, 0))","v":0},{"$f":"INDEX(Calcs!$AC$5:$AG$51, MATCH('Rotation Assembler'!$A72, Calcs!$AC$5:$AC$51, 0), MATCH('Rotation Assembler'!P$38, Calcs!$AC$5:$AG$5, 0))","v":0},{"$f":"INDEX(Calcs!$AC$5:$AG$51, MATCH('Rotation Assembler'!$A72, Calcs!$AC$5:$AC$51, 0), MATCH('Rotation Assembler'!Q$38, Calcs!$AC$5:$AG$5, 0))","v":0},{"$f":"INDEX(Calcs!$AC$5:$AG$51, MATCH('Rotation Assembler'!$A72, Calcs!$AC$5:$AC$51, 0), MATCH('Rotation Assembler'!R$38, Calcs!$AC$5:$AG$5, 0))","v":0},{"$f":"INDEX(Calcs!$AC$5:$AG$51, MATCH('Rotation Assembler'!$A72, Calcs!$AC$5:$AC$51, 0), MATCH('Rotation Assembler'!S$38, Calcs!$AC$5:$AG$5, 0))","v":0},{"$f":"INDEX(Calcs!$AC$5:$AG$51, MATCH('Rotation Assembler'!$A72, Calcs!$AC$5:$AC$51, 0), MATCH('Rotation Assembler'!T$38, Calcs!$AC$5:$AG$5, 0))","v":0},{"$f":"INDEX(Calcs!$AC$5:$AG$51, MATCH('Rotation Assembler'!$A72, Calcs!$AC$5:$AC$51, 0), MATCH('Rotation Assembler'!U$38, Calcs!$AC$5:$AG$5, 0))","v":0},null,{"$f":"INDEX(Calcs!$AC$5:$AG$51, MATCH('Rotation Assembler'!$A72, Calcs!$AC$5:$AC$51, 0), MATCH('Rotation Assembler'!W$38, Calcs!$AC$5:$AG$5, 0))","v":0},{"$f":"INDEX(Calcs!$AC$5:$AG$51, MATCH('Rotation Assembler'!$A72, Calcs!$AC$5:$AC$51, 0), MATCH('Rotation Assembler'!X$38, Calcs!$AC$5:$AG$5, 0))","v":0},{"$f":"INDEX(Calcs!$AC$5:$AG$51, MATCH('Rotation Assembler'!$A72, Calcs!$AC$5:$AC$51, 0), MATCH('Rotation Assembler'!Y$38, Calcs!$AC$5:$AG$5, 0))","v":0},{"$f":"INDEX(Calcs!$AC$5:$AG$51, MATCH('Rotation Assembler'!$A72, Calcs!$AC$5:$AC$51, 0), MATCH('Rotation Assembler'!Z$38, Calcs!$AC$5:$AG$5, 0))","v":0},{"$f":"INDEX(Calcs!$AC$5:$AG$51, MATCH('Rotation Assembler'!$A72, Calcs!$AC$5:$AC$51, 0), MATCH('Rotation Assembler'!AA$38, Calcs!$AC$5:$AG$5, 0))","v":0},{"$f":"INDEX(Calcs!$AC$5:$AG$51, MATCH('Rotation Assembler'!$A72, Calcs!$AC$5:$AC$51, 0), MATCH('Rotation Assembler'!AB$38, Calcs!$AC$5:$AG$5, 0))","v":0},{"$f":"INDEX(Calcs!$AC$5:$AG$51, MATCH('Rotation Assembler'!$A72, Calcs!$AC$5:$AC$51, 0), MATCH('Rotation Assembler'!AC$38, Calcs!$AC$5:$AG$5, 0))","v":0},{"$f":"INDEX(Calcs!$AC$5:$AG$51, MATCH('Rotation Assembler'!$A72, Calcs!$AC$5:$AC$51, 0), MATCH('Rotation Assembler'!AD$38, Calcs!$AC$5:$AG$5, 0))","v":0},{"$f":"INDEX(Calcs!$AC$5:$AG$51, MATCH('Rotation Assembler'!$A72, Calcs!$AC$5:$AC$51, 0), MATCH('Rotation Assembler'!AE$38, Calcs!$AC$5:$AG$5, 0))","v":0},{"$f":"INDEX(Calcs!$AC$5:$AG$51, MATCH('Rotation Assembler'!$A72, Calcs!$AC$5:$AC$51, 0), MATCH('Rotation Assembler'!AF$38, Calcs!$AC$5:$AG$5, 0))","v":{"$error":"#N/A"}},{"$f":"INDEX(Calcs!$AC$5:$AG$51, MATCH('Rotation Assembler'!$A72, Calcs!$AC$5:$AC$51, 0), MATCH('Rotation Assembler'!AG$38, Calcs!$AC$5:$AG$5, 0))","v":{"$error":"#N/A"}},{"$f":"INDEX(Calcs!$AC$5:$AG$51, MATCH('Rotation Assembler'!$A72, Calcs!$AC$5:$AC$51, 0), MATCH('Rotation Assembler'!AH$38, Calcs!$AC$5:$AG$5, 0))","v":{"$error":"#N/A"}},{"$f":"INDEX(Calcs!$AC$5:$AG$51, MATCH('Rotation Assembler'!$A72, Calcs!$AC$5:$AC$51, 0), MATCH('Rotation Assembler'!AI$38, Calcs!$AC$5:$AG$5, 0))","v":{"$error":"#N/A"}},{"$f":"INDEX(Calcs!$AC$5:$AG$51, MATCH('Rotation Assembler'!$A72, Calcs!$AC$5:$AC$51, 0), MATCH('Rotation Assembler'!AJ$38, Calcs!$AC$5:$AG$5, 0))","v":{"$error":"#N/A"}},{"$f":"INDEX(Calcs!$AC$5:$AG$51, MATCH('Rotation Assembler'!$A72, Calcs!$AC$5:$AC$51, 0), MATCH('Rotation Assembler'!AK$38, Calcs!$AC$5:$AG$5, 0))","v":{"$error":"#N/A"}},{"$f":"INDEX(Calcs!$AC$5:$AG$51, MATCH('Rotation Assembler'!$A72, Calcs!$AC$5:$AC$51, 0), MATCH('Rotation Assembler'!AL$38, Calcs!$AC$5:$AG$5, 0))","v":{"$error":"#N/A"}},{"$f":"INDEX(Calcs!$AC$5:$AG$51, MATCH('Rotation Assembler'!$A72, Calcs!$AC$5:$AC$51, 0), MATCH('Rotation Assembler'!AM$38, Calcs!$AC$5:$AG$5, 0))","v":{"$error":"#N/A"}},{"$f":"INDEX(Calcs!$AC$5:$AG$51, MATCH('Rotation Assembler'!$A72, Calcs!$AC$5:$AC$51, 0), MATCH('Rotation Assembler'!AN$38, Calcs!$AC$5:$AG$5, 0))","v":{"$error":"#N/A"}},{"$f":"INDEX(Calcs!$AC$5:$AG$51, MATCH('Rotation Assembler'!$A72, Calcs!$AC$5:$AC$51, 0), MATCH('Rotation Assembler'!AO$38, Calcs!$AC$5:$AG$5, 0))","v":{"$error":"#N/A"}},{"$f":"INDEX(Calcs!$AC$5:$AG$51, MATCH('Rotation Assembler'!$A72, Calcs!$AC$5:$AC$51, 0), MATCH('Rotation Assembler'!AP$38, Calcs!$AC$5:$AG$5, 0))","v":{"$error":"#N/A"}},{"$f":"INDEX(Calcs!$AC$5:$AG$51, MATCH('Rotation Assembler'!$A72, Calcs!$AC$5:$AC$51, 0), MATCH('Rotation Assembler'!AQ$38, Calcs!$AC$5:$AG$5, 0))","v":{"$error":"#N/A"}},{"$f":"INDEX(Calcs!$AC$5:$AG$51, MATCH('Rotation Assembler'!$A72, Calcs!$AC$5:$AC$51, 0), MATCH('Rotation Assembler'!AR$38, Calcs!$AC$5:$AG$5, 0))","v":{"$error":"#N/A"}},{"$f":"INDEX(Calcs!$AC$5:$AG$51, MATCH('Rotation Assembler'!$A72, Calcs!$AC$5:$AC$51, 0), MATCH('Rotation Assembler'!AS$38, Calcs!$AC$5:$AG$5, 0))","v":{"$error":"#N/A"}},{"$f":"INDEX(Calcs!$AC$5:$AG$51, MATCH('Rotation Assembler'!$A72, Calcs!$AC$5:$AC$51, 0), MATCH('Rotation Assembler'!AT$38, Calcs!$AC$5:$AG$5, 0))","v":{"$error":"#N/A"}},{"$f":"INDEX(Calcs!$AC$5:$AG$51, MATCH('Rotation Assembler'!$A72, Calcs!$AC$5:$AC$51, 0), MATCH('Rotation Assembler'!AU$38, Calcs!$AC$5:$AG$5, 0))","v":{"$error":"#N/A"}},{"$f":"INDEX(Calcs!$AC$5:$AG$51, MATCH('Rotation Assembler'!$A72, Calcs!$AC$5:$AC$51, 0), MATCH('Rotation Assembler'!AV$38, Calcs!$AC$5:$AG$5, 0))","v":{"$error":"#N/A"}},{"$f":"INDEX(Calcs!$AC$5:$AG$51, MATCH('Rotation Assembler'!$A72, Calcs!$AC$5:$AC$51, 0), MATCH('Rotation Assembler'!AW$38, Calcs!$AC$5:$AG$5, 0))","v":{"$error":"#N/A"}},{"$f":"INDEX(Calcs!$AC$5:$AG$51, MATCH('Rotation Assembler'!$A72, Calcs!$AC$5:$AC$51, 0), MATCH('Rotation Assembler'!AX$38, Calcs!$AC$5:$AG$5, 0))","v":{"$error":"#N/A"}},{"$f":"INDEX(Calcs!$AC$5:$AG$51, MATCH('Rotation Assembler'!$A72, Calcs!$AC$5:$AC$51, 0), MATCH('Rotation Assembler'!AY$38, Calcs!$AC$5:$AG$5, 0))","v":{"$error":"#N/A"}},{"$f":"INDEX(Calcs!$AC$5:$AG$51, MATCH('Rotation Assembler'!$A72, Calcs!$AC$5:$AC$51, 0), MATCH('Rotation Assembler'!AZ$38, Calcs!$AC$5:$AG$5, 0))","v":{"$error":"#N/A"}},{"$f":"INDEX(Calcs!$AC$5:$AG$51, MATCH('Rotation Assembler'!$A72, Calcs!$AC$5:$AC$51, 0), MATCH('Rotation Assembler'!BA$38, Calcs!$AC$5:$AG$5, 0))","v":{"$error":"#N/A"}},{"$f":"INDEX(Calcs!$AC$5:$AG$51, MATCH('Rotation Assembler'!$A72, Calcs!$AC$5:$AC$51, 0), MATCH('Rotation Assembler'!BB$38, Calcs!$AC$5:$AG$5, 0))","v":{"$error":"#N/A"}},{"$f":"INDEX(Calcs!$AC$5:$AG$51, MATCH('Rotation Assembler'!$A72, Calcs!$AC$5:$AC$51, 0), MATCH('Rotation Assembler'!BC$38, Calcs!$AC$5:$AG$5, 0))","v":{"$error":"#N/A"}},{"$f":"INDEX(Calcs!$AC$5:$AG$51, MATCH('Rotation Assembler'!$A72, Calcs!$AC$5:$AC$51, 0), MATCH('Rotation Assembler'!BD$38, Calcs!$AC$5:$AG$5, 0))","v":{"$error":"#N/A"}},{"$f":"INDEX(Calcs!$AC$5:$AG$51, MATCH('Rotation Assembler'!$A72, Calcs!$AC$5:$AC$51, 0), MATCH('Rotation Assembler'!BE$38, Calcs!$AC$5:$AG$5, 0))","v":{"$error":"#N/A"}},{"$f":"INDEX(Calcs!$AC$5:$AG$51, MATCH('Rotation Assembler'!$A72, Calcs!$AC$5:$AC$51, 0), MATCH('Rotation Assembler'!BF$38, Calcs!$AC$5:$AG$5, 0))","v":{"$error":"#N/A"}}]
["Healing Bonus%",{"$f":"INDEX(Calcs!$AC$5:$AG$51, MATCH('Rotation Assembler'!$A73, Calcs!$AC$5:$AC$51, 0), MATCH('Rotation Assembler'!B$38, Calcs!$AC$5:$AG$5, 0))","v":0},{"$f":"INDEX(Calcs!$AC$5:$AG$51, MATCH('Rotation Assembler'!$A73, Calcs!$AC$5:$AC$51, 0), MATCH('Rotation Assembler'!C$38, Calcs!$AC$5:$AG$5, 0))","v":0},{"$f":"INDEX(Calcs!$AC$5:$AG$51, MATCH('Rotation Assembler'!$A73, Calcs!$AC$5:$AC$51, 0), MATCH('Rotation Assembler'!D$38, Calcs!$AC$5:$AG$5, 0))","v":0},{"$f":"INDEX(Calcs!$AC$5:$AG$51, MATCH('Rotation Assembler'!$A73, Calcs!$AC$5:$AC$51, 0), MATCH('Rotation Assembler'!E$38, Calcs!$AC$5:$AG$5, 0))","v":0},{"$f":"INDEX(Calcs!$AC$5:$AG$51, MATCH('Rotation Assembler'!$A73, Calcs!$AC$5:$AC$51, 0), MATCH('Rotation Assembler'!F$38, Calcs!$AC$5:$AG$5, 0))","v":0},{"$f":"INDEX(Calcs!$AC$5:$AG$51, MATCH('Rotation Assembler'!$A73, Calcs!$AC$5:$AC$51, 0), MATCH('Rotation Assembler'!G$38, Calcs!$AC$5:$AG$5, 0))","v":0},{"$f":"INDEX(Calcs!$AC$5:$AG$51, MATCH('Rotation Assembler'!$A73, Calcs!$AC$5:$AC$51, 0), MATCH('Rotation Assembler'!H$38, Calcs!$AC$5:$AG$5, 0))","v":0},{"$f":"INDEX(Calcs!$AC$5:$AG$51, MATCH('Rotation Assembler'!$A73, Calcs!$AC$5:$AC$51, 0), MATCH('Rotation Assembler'!I$38, Calcs!$AC$5:$AG$5, 0))","v":0},{"$f":"INDEX(Calcs!$AC$5:$AG$51, MATCH('Rotation Assembler'!$A73, Calcs!$AC$5:$AC$51, 0), MATCH('Rotation Assembler'!J$38, Calcs!$AC$5:$AG$5, 0))","v":0},{"$f":"INDEX(Calcs!$AC$5:$AG$51, MATCH('Rotation Assembler'!$A73, Calcs!$AC$5:$AC$51, 0), MATCH('Rotation Assembler'!K$38, Calcs!$AC$5:$AG$5, 0))","v":0},{"$f":"INDEX(Calcs!$AC$5:$AG$51, MATCH('Rotation Assembler'!$A73, Calcs!$AC$5:$AC$51, 0), MATCH('Rotation Assembler'!L$38, Calcs!$AC$5:$AG$5, 0))","v":0},{"$f":"INDEX(Calcs!$AC$5:$AG$51, MATCH('Rotation Assembler'!$A73, Calcs!$AC$5:$AC$51, 0), MATCH('Rotation Assembler'!M$38, Calcs!$AC$5:$AG$5, 0))","v":0},{"$f":"INDEX(Calcs!$AC$5:$AG$51, MATCH('Rotation Assembler'!$A73, Calcs!$AC$5:$AC$51, 0), MATCH('Rotation Assembler'!N$38, Calcs!$AC$5:$AG$5, 0))","v":0},{"$f":"INDEX(Calcs!$AC$5:$AG$51, MATCH('Rotation Assembler'!$A73, Calcs!$AC$5:$AC$51, 0), MATCH('Rotation Assembler'!O$38, Calcs!$AC$5:$AG$5, 0))","v":0},{"$f":"INDEX(Calcs!$AC$5:$AG$51, MATCH('Rotation Assembler'!$A73, Calcs!$AC$5:$AC$51, 0), MATCH('Rotation Assembler'!P$38, Calcs!$AC$5:$AG$5, 0))","v":0},{"$f":"INDEX(Calcs!$AC$5:$AG$51, MATCH('Rotation Assembler'!$A73, Calcs!$AC$5:$AC$51, 0), MATCH('Rotation Assembler'!Q$38, Calcs!$AC$5:$AG$5, 0))","v":0},{"$f":"INDEX(Calcs!$AC$5:$AG$51, MATCH('Rotation Assembler'!$A73, Calcs!$AC$5:$AC$51, 0), MATCH('Rotation Assembler'!R$38, Calcs!$AC$5:$AG$5, 0))","v":0},{"$f":"INDEX(Calcs!$AC$5:$AG$51, MATCH('Rotation Assembler'!$A73, Calcs!$AC$5:$AC$51, 0), MATCH('Rotation Assembler'!S$38, Calcs!$AC$5:$AG$5, 0))","v":0},{"$f":"INDEX(Calcs!$AC$5:$AG$51, MATCH('Rotation Assembler'!$A73, Calcs!$AC$5:$AC$51, 0), MATCH('Rotation Assembler'!T$38, Calcs!$AC$5:$AG$5, 0))","v":0},{"$f":"INDEX(Calcs!$AC$5:$AG$51, MATCH('Rotation Assembler'!$A73, Calcs!$AC$5:$AC$51, 0), MATCH('Rotation Assembler'!U$38, Calcs!$AC$5:$AG$5, 0))","v":0},null,{"$f":"INDEX(Calcs!$AC$5:$AG$51, MATCH('Rotation Assembler'!$A73, Calcs!$AC$5:$AC$51, 0), MATCH('Rotation Assembler'!W$38, Calcs!$AC$5:$AG$5, 0))","v":0},{"$f":"INDEX(Calcs!$AC$5:$AG$51, MATCH('Rotation Assembler'!$A73, Calcs!$AC$5:$AC$51, 0), MATCH('Rotation Assembler'!X$38, Calcs!$AC$5:$AG$5, 0))","v":0},{"$f":"INDEX(Calcs!$AC$5:$AG$51, MATCH('Rotation Assembler'!$A73, Calcs!$AC$5:$AC$51, 0), MATCH('Rotation Assembler'!Y$38, Calcs!$AC$5:$AG$5, 0))","v":0},{"$f":"INDEX(Calcs!$AC$5:$AG$51, MATCH('Rotation Assembler'!$A73, Calcs!$AC$5:$AC$51, 0), MATCH('Rotation Assembler'!Z$38, Calcs!$AC$5:$AG$5, 0))","v":0},{"$f":"INDEX(Calcs!$AC$5:$AG$51, MATCH('Rotation Assembler'!$A73, Calcs!$AC$5:$AC$51, 0), MATCH('Rotation Assembler'!AA$38, Calcs!$AC$5:$AG$5, 0))","v":0},{"$f":"INDEX(Calcs!$AC$5:$AG$51, MATCH('Rotation Assembler'!$A73, Calcs!$AC$5:$AC$51, 0), MATCH('Rotation Assembler'!AB$38, Calcs!$AC$5:$AG$5, 0))","v":0},{"$f":"INDEX(Calcs!$AC$5:$AG$51, MATCH('Rotation Assembler'!$A73, Calcs!$AC$5:$AC$51, 0), MATCH('Rotation Assembler'!AC$38, Calcs!$AC$5:$AG$5, 0))","v":0},{"$f":"INDEX(Calcs!$AC$5:$AG$51, MATCH('Rotation Assembler'!$A73, Calcs!$AC$5:$AC$51, 0), MATCH('Rotation Assembler'!AD$38, Calcs!$AC$5:$AG$5, 0))","v":0},{"$f":"INDEX(Calcs!$AC$5:$AG$51, MATCH('Rotation Assembler'!$A73, Calcs!$AC$5:$AC$51, 0), MATCH('Rotation Assembler'!AE$38, Calcs!$AC$5:$AG$5, 0))","v":0},{"$f":"INDEX(Calcs!$AC$5:$AG$51, MATCH('Rotation Assembler'!$A73, Calcs!$AC$5:$AC$51, 0), MATCH('Rotation Assembler'!AF$38, Calcs!$AC$5:$AG$5, 0))","v":{"$error":"#N/A"}},{"$f":"INDEX(Calcs!$AC$5:$AG$51, MATCH('Rotation Assembler'!$A73, Calcs!$AC$5:$AC$51, 0), MATCH('Rotation Assembler'!AG$38, Calcs!$AC$5:$AG$5, 0))","v":{"$error":"#N/A"}},{"$f":"INDEX(Calcs!$AC$5:$AG$51, MATCH('Rotation Assembler'!$A73, Calcs!$AC$5:$AC$51, 0), MATCH('Rotation Assembler'!AH$38, Calcs!$AC$5:$AG$5, 0))","v":{"$error":"#N/A"}},{"$f":"INDEX(Calcs!$AC$5:$AG$51, MATCH('Rotation Assembler'!$A73, Calcs!$AC$5:$AC$51, 0), MATCH('Rotation Assembler'!AI$38, Calcs!$AC$5:$AG$5, 0))","v":{"$error":"#N/A"}},{"$f":"INDEX(Calcs!$AC$5:$AG$51, MATCH('Rotation Assembler'!$A73, Calcs!$AC$5:$AC$51, 0), MATCH('Rotation Assembler'!AJ$38, Calcs!$AC$5:$AG$5, 0))","v":{"$error":"#N/A"}},{"$f":"INDEX(Calcs!$AC$5:$AG$51, MATCH('Rotation Assembler'!$A73, Calcs!$AC$5:$AC$51, 0), MATCH('Rotation Assembler'!AK$38, Calcs!$AC$5:$AG$5, 0))","v":{"$error":"#N/A"}},{"$f":"INDEX(Calcs!$AC$5:$AG$51, MATCH('Rotation Assembler'!$A73, Calcs!$AC$5:$AC$51, 0), MATCH('Rotation Assembler'!AL$38, Calcs!$AC$5:$AG$5, 0))","v":{"$error":"#N/A"}},{"$f":"INDEX(Calcs!$AC$5:$AG$51, MATCH('Rotation Assembler'!$A73, Calcs!$AC$5:$AC$51, 0), MATCH('Rotation Assembler'!AM$38, Calcs!$AC$5:$AG$5, 0))","v":{"$error":"#N/A"}},{"$f":"INDEX(Calcs!$AC$5:$AG$51, MATCH('Rotation Assembler'!$A73, Calcs!$AC$5:$AC$51, 0), MATCH('Rotation Assembler'!AN$38, Calcs!$AC$5:$AG$5, 0))","v":{"$error":"#N/A"}},{"$f":"INDEX(Calcs!$AC$5:$AG$51, MATCH('Rotation Assembler'!$A73, Calcs!$AC$5:$AC$51, 0), MATCH('Rotation Assembler'!AO$38, Calcs!$AC$5:$AG$5, 0))","v":{"$error":"#N/A"}},{"$f":"INDEX(Calcs!$AC$5:$AG$51, MATCH('Rotation Assembler'!$A73, Calcs!$AC$5:$AC$51, 0), MATCH('Rotation Assembler'!AP$38, Calcs!$AC$5:$AG$5, 0))","v":{"$error":"#N/A"}},{"$f":"INDEX(Calcs!$AC$5:$AG$51, MATCH('Rotation Assembler'!$A73, Calcs!$AC$5:$AC$51, 0), MATCH('Rotation Assembler'!AQ$38, Calcs!$AC$5:$AG$5, 0))","v":{"$error":"#N/A"}},{"$f":"INDEX(Calcs!$AC$5:$AG$51, MATCH('Rotation Assembler'!$A73, Calcs!$AC$5:$AC$51, 0), MATCH('Rotation Assembler'!AR$38, Calcs!$AC$5:$AG$5, 0))","v":{"$error":"#N/A"}},{"$f":"INDEX(Calcs!$AC$5:$AG$51, MATCH('Rotation Assembler'!$A73, Calcs!$AC$5:$AC$51, 0), MATCH('Rotation Assembler'!AS$38, Calcs!$AC$5:$AG$5, 0))","v":{"$error":"#N/A"}},{"$f":"INDEX(Calcs!$AC$5:$AG$51, MATCH('Rotation Assembler'!$A73, Calcs!$AC$5:$AC$51, 0), MATCH('Rotation Assembler'!AT$38, Calcs!$AC$5:$AG$5, 0))","v":{"$error":"#N/A"}},{"$f":"INDEX(Calcs!$AC$5:$AG$51, MATCH('Rotation Assembler'!$A73, Calcs!$AC$5:$AC$51, 0), MATCH('Rotation Assembler'!AU$38, Calcs!$AC$5:$AG$5, 0))","v":{"$error":"#N/A"}},{"$f":"INDEX(Calcs!$AC$5:$AG$51, MATCH('Rotation Assembler'!$A73, Calcs!$AC$5:$AC$51, 0), MATCH('Rotation Assembler'!AV$38, Calcs!$AC$5:$AG$5, 0))","v":{"$error":"#N/A"}},{"$f":"INDEX(Calcs!$AC$5:$AG$51, MATCH('Rotation Assembler'!$A73, Calcs!$AC$5:$AC$51, 0), MATCH('Rotation Assembler'!AW$38, Calcs!$AC$5:$AG$5, 0))","v":{"$error":"#N/A"}},{"$f":"INDEX(Calcs!$AC$5:$AG$51, MATCH('Rotation Assembler'!$A73, Calcs!$AC$5:$AC$51, 0), MATCH('Rotation Assembler'!AX$38, Calcs!$AC$5:$AG$5, 0))","v":{"$error":"#N/A"}},{"$f":"INDEX(Calcs!$AC$5:$AG$51, MATCH('Rotation Assembler'!$A73, Calcs!$AC$5:$AC$51, 0), MATCH('Rotation Assembler'!AY$38, Calcs!$AC$5:$AG$5, 0))","v":{"$error":"#N/A"}},{"$f":"INDEX(Calcs!$AC$5:$AG$51, MATCH('Rotation Assembler'!$A73, Calcs!$AC$5:$AC$51, 0), MATCH('Rotation Assembler'!AZ$38, Calcs!$AC$5:$AG$5, 0))","v":{"$error":"#N/A"}},{"$f":"INDEX(Calcs!$AC$5:$AG$51, MATCH('Rotation Assembler'!$A73, Calcs!$AC$5:$AC$51, 0), MATCH('Rotation Assembler'!BA$38, Calcs!$AC$5:$AG$5, 0))","v":{"$error":"#N/A"}},{"$f":"INDEX(Calcs!$AC$5:$AG$51, MATCH('Rotation Assembler'!$A73, Calcs!$AC$5:$AC$51, 0), MATCH('Rotation Assembler'!BB$38, Calcs!$AC$5:$AG$5, 0))","v":{"$error":"#N/A"}},{"$f":"INDEX(Calcs!$AC$5:$AG$51, MATCH('Rotation Assembler'!$A73, Calcs!$AC$5:$AC$51, 0), MATCH('Rotation Assembler'!BC$38, Calcs!$AC$5:$AG$5, 0))","v":{"$error":"#N/A"}},{"$f":"INDEX(Calcs!$AC$5:$AG$51, MATCH('Rotation Assembler'!$A73, Calcs!$AC$5:$AC$51, 0), MATCH('Rotation Assembler'!BD$38, Calcs!$AC$5:$AG$5, 0))","v":{"$error":"#N/A"}},{"$f":"INDEX(Calcs!$AC$5:$AG$51, MATCH('Rotation Assembler'!$A73, Calcs!$AC$5:$AC$51, 0), MATCH('Rotation Assembler'!BE$38, Calcs!$AC$5:$AG$5, 0))","v":{"$error":"#N/A"}},{"$f":"INDEX(Calcs!$AC$5:$AG$51, MATCH('Rotation Assembler'!$A73, Calcs!$AC$5:$AC$51, 0), MATCH('Rotation Assembler'!BF$38, Calcs!$AC$5:$AG$5, 0))","v":{"$error":"#N/A"}}]
["Healing Received%",{"$f":"INDEX(Calcs!$AC$5:$AG$51, MATCH('Rotation Assembler'!$A74, Calcs!$AC$5:$AC$51, 0), MATCH('Rotation Assembler'!B$38, Calcs!$AC$5:$AG$5, 0))","v":0},{"$f":"INDEX(Calcs!$AC$5:$AG$51, MATCH('Rotation Assembler'!$A74, Calcs!$AC$5:$AC$51, 0), MATCH('Rotation Assembler'!C$38, Calcs!$AC$5:$AG$5, 0))","v":0},{"$f":"INDEX(Calcs!$AC$5:$AG$51, MATCH('Rotation Assembler'!$A74, Calcs!$AC$5:$AC$51, 0), MATCH('Rotation Assembler'!D$38, Calcs!$AC$5:$AG$5, 0))","v":0},{"$f":"INDEX(Calcs!$AC$5:$AG$51, MATCH('Rotation Assembler'!$A74, Calcs!$AC$5:$AC$51, 0), MATCH('Rotation Assembler'!E$38, Calcs!$AC$5:$AG$5, 0))","v":0},{"$f":"INDEX(Calcs!$AC$5:$AG$51, MATCH('Rotation Assembler'!$A74, Calcs!$AC$5:$AC$51, 0), MATCH('Rotation Assembler'!F$38, Calcs!$AC$5:$AG$5, 0))","v":0},{"$f":"INDEX(Calcs!$AC$5:$AG$51, MATCH('Rotation Assembler'!$A74, Calcs!$AC$5:$AC$51, 0), MATCH('Rotation Assembler'!G$38, Calcs!$AC$5:$AG$5, 0))","v":0},{"$f":"INDEX(Calcs!$AC$5:$AG$51, MATCH('Rotation Assembler'!$A74, Calcs!$AC$5:$AC$51, 0), MATCH('Rotation Assembler'!H$38, Calcs!$AC$5:$AG$5, 0))","v":0},{"$f":"INDEX(Calcs!$AC$5:$AG$51, MATCH('Rotation Assembler'!$A74, Calcs!$AC$5:$AC$51, 0), MATCH('Rotation Assembler'!I$38, Calcs!$AC$5:$AG$5, 0))","v":0},{"$f":"INDEX(Calcs!$AC$5:$AG$51, MATCH('Rotation Assembler'!$A74, Calcs!$AC$5:$AC$51, 0), MATCH('Rotation Assembler'!J$38, Calcs!$AC$5:$AG$5, 0))","v":0},{"$f":"INDEX(Calcs!$AC$5:$AG$51, MATCH('Rotation Assembler'!$A74, Calcs!$AC$5:$AC$51, 0), MATCH('Rotation Assembler'!K$38, Calcs!$AC$5:$AG$5, 0))","v":0},{"$f":"INDEX(Calcs!$AC$5:$AG$51, MATCH('Rotation Assembler'!$A74, Calcs!$AC$5:$AC$51, 0), MATCH('Rotation Assembler'!L$38, Calcs!$AC$5:$AG$5, 0))","v":0},{"$f":"INDEX(Calcs!$AC$5:$AG$51, MATCH('Rotation Assembler'!$A74, Calcs!$AC$5:$AC$51, 0), MATCH('Rotation Assembler'!M$38, Calcs!$AC$5:$AG$5, 0))","v":0},{"$f":"INDEX(Calcs!$AC$5:$AG$51, MATCH('Rotation Assembler'!$A74, Calcs!$AC$5:$AC$51, 0), MATCH('Rotation Assembler'!N$38, Calcs!$AC$5:$AG$5, 0))","v":0},{"$f":"INDEX(Calcs!$AC$5:$AG$51, MATCH('Rotation Assembler'!$A74, Calcs!$AC$5:$AC$51, 0), MATCH('Rotation Assembler'!O$38, Calcs!$AC$5:$AG$5, 0))","v":0},{"$f":"INDEX(Calcs!$AC$5:$AG$51, MATCH('Rotation Assembler'!$A74, Calcs!$AC$5:$AC$51, 0), MATCH('Rotation Assembler'!P$38, Calcs!$AC$5:$AG$5, 0))","v":0},{"$f":"INDEX(Calcs!$AC$5:$AG$51, MATCH('Rotation Assembler'!$A74, Calcs!$AC$5:$AC$51, 0), MATCH('Rotation Assembler'!Q$38, Calcs!$AC$5:$AG$5, 0))","v":0},{"$f":"INDEX(Calcs!$AC$5:$AG$51, MATCH('Rotation Assembler'!$A74, Calcs!$AC$5:$AC$51, 0), MATCH('Rotation Assembler'!R$38, Calcs!$AC$5:$AG$5, 0))","v":0},{"$f":"INDEX(Calcs!$AC$5:$AG$51, MATCH('Rotation Assembler'!$A74, Calcs!$AC$5:$AC$51, 0), MATCH('Rotation Assembler'!S$38, Calcs!$AC$5:$AG$5, 0))","v":0},{"$f":"INDEX(Calcs!$AC$5:$AG$51, MATCH('Rotation Assembler'!$A74, Calcs!$AC$5:$AC$51, 0), MATCH('Rotation Assembler'!T$38, Calcs!$AC$5:$AG$5, 0))","v":0},{"$f":"INDEX(Calcs!$AC$5:$AG$51, MATCH('Rotation Assembler'!$A74, Calcs!$AC$5:$AC$51, 0), MATCH('Rotation Assembler'!U$38, Calcs!$AC$5:$AG$5, 0))","v":0},null,{"$f":"INDEX(Calcs!$AC$5:$AG$51, MATCH('Rotation Assembler'!$A74, Calcs!$AC$5:$AC$51, 0), MATCH('Rotation Assembler'!W$38, Calcs!$AC$5:$AG$5, 0))","v":0},{"$f":"INDEX(Calcs!$AC$5:$AG$51, MATCH('Rotation Assembler'!$A74, Calcs!$AC$5:$AC$51, 0), MATCH('Rotation Assembler'!X$38, Calcs!$AC$5:$AG$5, 0))","v":0},{"$f":"INDEX(Calcs!$AC$5:$AG$51, MATCH('Rotation Assembler'!$A74, Calcs!$AC$5:$AC$51, 0), MATCH('Rotation Assembler'!Y$38, Calcs!$AC$5:$AG$5, 0))","v":0},{"$f":"INDEX(Calcs!$AC$5:$AG$51, MATCH('Rotation Assembler'!$A74, Calcs!$AC$5:$AC$51, 0), MATCH('Rotation Assembler'!Z$38, Calcs!$AC$5:$AG$5, 0))","v":0},{"$f":"INDEX(Calcs!$AC$5:$AG$51, MATCH('Rotation Assembler'!$A74, Calcs!$AC$5:$AC$51, 0), MATCH('Rotation Assembler'!AA$38, Calcs!$AC$5:$AG$5, 0))","v":0},{"$f":"INDEX(Calcs!$AC$5:$AG$51, MATCH('Rotation Assembler'!$A74, Calcs!$AC$5:$AC$51, 0), MATCH('Rotation Assembler'!AB$38, Calcs!$AC$5:$AG$5, 0))","v":0},{"$f":"INDEX(Calcs!$AC$5:$AG$51, MATCH('Rotation Assembler'!$A74, Calcs!$AC$5:$AC$51, 0), MATCH('Rotation Assembler'!AC$38, Calcs!$AC$5:$AG$5, 0))","v":0},{"$f":"INDEX(Calcs!$AC$5:$AG$51, MATCH('Rotation Assembler'!$A74, Calcs!$AC$5:$AC$51, 0), MATCH('Rotation Assembler'!AD$38, Calcs!$AC$5:$AG$5, 0))","v":0},{"$f":"INDEX(Calcs!$AC$5:$AG$51, MATCH('Rotation Assembler'!$A74, Calcs!$AC$5:$AC$51, 0), MATCH('Rotation Assembler'!AE$38, Calcs!$AC$5:$AG$5, 0))","v":0},{"$f":"INDEX(Calcs!$AC$5:$AG$51, MATCH('Rotation Assembler'!$A74, Calcs!$AC$5:$AC$51, 0), MATCH('Rotation Assembler'!AF$38, Calcs!$AC$5:$AG$5, 0))","v":{"$error":"#N/A"}},{"$f":"INDEX(Calcs!$AC$5:$AG$51, MATCH('Rotation Assembler'!$A74, Calcs!$AC$5:$AC$51, 0), MATCH('Rotation Assembler'!AG$38, Calcs!$AC$5:$AG$5, 0))","v":{"$error":"#N/A"}},{"$f":"INDEX(Calcs!$AC$5:$AG$51, MATCH('Rotation Assembler'!$A74, Calcs!$AC$5:$AC$51, 0), MATCH('Rotation Assembler'!AH$38, Calcs!$AC$5:$AG$5, 0))","v":{"$error":"#N/A"}},{"$f":"INDEX(Calcs!$AC$5:$AG$51, MATCH('Rotation Assembler'!$A74, Calcs!$AC$5:$AC$51, 0), MATCH('Rotation Assembler'!AI$38, Calcs!$AC$5:$AG$5, 0))","v":{"$error":"#N/A"}},{"$f":"INDEX(Calcs!$AC$5:$AG$51, MATCH('Rotation Assembler'!$A74, Calcs!$AC$5:$AC$51, 0), MATCH('Rotation Assembler'!AJ$38, Calcs!$AC$5:$AG$5, 0))","v":{"$error":"#N/A"}},{"$f":"INDEX(Calcs!$AC$5:$AG$51, MATCH('Rotation Assembler'!$A74, Calcs!$AC$5:$AC$51, 0), MATCH('Rotation Assembler'!AK$38, Calcs!$AC$5:$AG$5, 0))","v":{"$error":"#N/A"}},{"$f":"INDEX(Calcs!$AC$5:$AG$51, MATCH('Rotation Assembler'!$A74, Calcs!$AC$5:$AC$51, 0), MATCH('Rotation Assembler'!AL$38, Calcs!$AC$5:$AG$5, 0))","v":{"$error":"#N/A"}},{"$f":"INDEX(Calcs!$AC$5:$AG$51, MATCH('Rotation Assembler'!$A74, Calcs!$AC$5:$AC$51, 0), MATCH('Rotation Assembler'!AM$38, Calcs!$AC$5:$AG$5, 0))","v":{"$error":"#N/A"}},{"$f":"INDEX(Calcs!$AC$5:$AG$51, MATCH('Rotation Assembler'!$A74, Calcs!$AC$5:$AC$51, 0), MATCH('Rotation Assembler'!AN$38, Calcs!$AC$5:$AG$5, 0))","v":{"$error":"#N/A"}},{"$f":"INDEX(Calcs!$AC$5:$AG$51, MATCH('Rotation Assembler'!$A74, Calcs!$AC$5:$AC$51, 0), MATCH('Rotation Assembler'!AO$38, Calcs!$AC$5:$AG$5, 0))","v":{"$error":"#N/A"}},{"$f":"INDEX(Calcs!$AC$5:$AG$51, MATCH('Rotation Assembler'!$A74, Calcs!$AC$5:$AC$51, 0), MATCH('Rotation Assembler'!AP$38, Calcs!$AC$5:$AG$5, 0))","v":{"$error":"#N/A"}},{"$f":"INDEX(Calcs!$AC$5:$AG$51, MATCH('Rotation Assembler'!$A74, Calcs!$AC$5:$AC$51, 0), MATCH('Rotation Assembler'!AQ$38, Calcs!$AC$5:$AG$5, 0))","v":{"$error":"#N/A"}},{"$f":"INDEX(Calcs!$AC$5:$AG$51, MATCH('Rotation Assembler'!$A74, Calcs!$AC$5:$AC$51, 0), MATCH('Rotation Assembler'!AR$38, Calcs!$AC$5:$AG$5, 0))","v":{"$error":"#N/A"}},{"$f":"INDEX(Calcs!$AC$5:$AG$51, MATCH('Rotation Assembler'!$A74, Calcs!$AC$5:$AC$51, 0), MATCH('Rotation Assembler'!AS$38, Calcs!$AC$5:$AG$5, 0))","v":{"$error":"#N/A"}},{"$f":"INDEX(Calcs!$AC$5:$AG$51, MATCH('Rotation Assembler'!$A74, Calcs!$AC$5:$AC$51, 0), MATCH('Rotation Assembler'!AT$38, Calcs!$AC$5:$AG$5, 0))","v":{"$error":"#N/A"}},{"$f":"INDEX(Calcs!$AC$5:$AG$51, MATCH('Rotation Assembler'!$A74, Calcs!$AC$5:$AC$51, 0), MATCH('Rotation Assembler'!AU$38, Calcs!$AC$5:$AG$5, 0))","v":{"$error":"#N/A"}},{"$f":"INDEX(Calcs!$AC$5:$AG$51, MATCH('Rotation Assembler'!$A74, Calcs!$AC$5:$AC$51, 0), MATCH('Rotation Assembler'!AV$38, Calcs!$AC$5:$AG$5, 0))","v":{"$error":"#N/A"}},{"$f":"INDEX(Calcs!$AC$5:$AG$51, MATCH('Rotation Assembler'!$A74, Calcs!$AC$5:$AC$51, 0), MATCH('Rotation Assembler'!AW$38, Calcs!$AC$5:$AG$5, 0))","v":{"$error":"#N/A"}},{"$f":"INDEX(Calcs!$AC$5:$AG$51, MATCH('Rotation Assembler'!$A74, Calcs!$AC$5:$AC$51, 0), MATCH('Rotation Assembler'!AX$38, Calcs!$AC$5:$AG$5, 0))","v":{"$error":"#N/A"}},{"$f":"INDEX(Calcs!$AC$5:$AG$51, MATCH('Rotation Assembler'!$A74, Calcs!$AC$5:$AC$51, 0), MATCH('Rotation Assembler'!AY$38, Calcs!$AC$5:$AG$5, 0))","v":{"$error":"#N/A"}},{"$f":"INDEX(Calcs!$AC$5:$AG$51, MATCH('Rotation Assembler'!$A74, Calcs!$AC$5:$AC$51, 0), MATCH('Rotation Assembler'!AZ$38, Calcs!$AC$5:$AG$5, 0))","v":{"$error":"#N/A"}},{"$f":"INDEX(Calcs!$AC$5:$AG$51, MATCH('Rotation Assembler'!$A74, Calcs!$AC$5:$AC$51, 0), MATCH('Rotation Assembler'!BA$38, Calcs!$AC$5:$AG$5, 0))","v":{"$error":"#N/A"}},{"$f":"INDEX(Calcs!$AC$5:$AG$51, MATCH('Rotation Assembler'!$A74, Calcs!$AC$5:$AC$51, 0), MATCH('Rotation Assembler'!BB$38, Calcs!$AC$5:$AG$5, 0))","v":{"$error":"#N/A"}},{"$f":"INDEX(Calcs!$AC$5:$AG$51, MATCH('Rotation Assembler'!$A74, Calcs!$AC$5:$AC$51, 0), MATCH('Rotation Assembler'!BC$38, Calcs!$AC$5:$AG$5, 0))","v":{"$error":"#N/A"}},{"$f":"INDEX(Calcs!$AC$5:$AG$51, MATCH('Rotation Assembler'!$A74, Calcs!$AC$5:$AC$51, 0), MATCH('Rotation Assembler'!BD$38, Calcs!$AC$5:$AG$5, 0))","v":{"$error":"#N/A"}},{"$f":"INDEX(Calcs!$AC$5:$AG$51, MATCH('Rotation Assembler'!$A74, Calcs!$AC$5:$AC$51, 0), MATCH('Rotation Assembler'!BE$38, Calcs!$AC$5:$AG$5, 0))","v":{"$error":"#N/A"}},{"$f":"INDEX(Calcs!$AC$5:$AG$51, MATCH('Rotation Assembler'!$A74, Calcs!$AC$5:$AC$51, 0), MATCH('Rotation Assembler'!BF$38, Calcs!$AC$5:$AG$5, 0))","v":{"$error":"#N/A"}}]
["Anemo RES%",{"$f":"INDEX(Calcs!$AC$5:$AG$51, MATCH('Rotation Assembler'!$A75, Calcs!$AC$5:$AC$51, 0), MATCH('Rotation Assembler'!B$38, Calcs!$AC$5:$AG$5, 0))","v":0},{"$f":"INDEX(Calcs!$AC$5:$AG$51, MATCH('Rotation Assembler'!$A75, Calcs!$AC$5:$AC$51, 0), MATCH('Rotation Assembler'!C$38, Calcs!$AC$5:$AG$5, 0))","v":0},{"$f":"INDEX(Calcs!$AC$5:$AG$51, MATCH('Rotation Assembler'!$A75, Calcs!$AC$5:$AC$51, 0), MATCH('Rotation Assembler'!D$38, Calcs!$AC$5:$AG$5, 0))","v":0},{"$f":"INDEX(Calcs!$AC$5:$AG$51, MATCH('Rotation Assembler'!$A75, Calcs!$AC$5:$AC$51, 0), MATCH('Rotation Assembler'!E$38, Calcs!$AC$5:$AG$5, 0))","v":0},{"$f":"INDEX(Calcs!$AC$5:$AG$51, MATCH('Rotation Assembler'!$A75, Calcs!$AC$5:$AC$51, 0), MATCH('Rotation Assembler'!F$38, Calcs!$AC$5:$AG$5, 0))","v":0},{"$f":"INDEX(Calcs!$AC$5:$AG$51, MATCH('Rotation Assembler'!$A75, Calcs!$AC$5:$AC$51, 0), MATCH('Rotation Assembler'!G$38, Calcs!$AC$5:$AG$5, 0))","v":0},{"$f":"INDEX(Calcs!$AC$5:$AG$51, MATCH('Rotation Assembler'!$A75, Calcs!$AC$5:$AC$51, 0), MATCH('Rotation Assembler'!H$38, Calcs!$AC$5:$AG$5, 0))","v":0},{"$f":"INDEX(Calcs!$AC$5:$AG$51, MATCH('Rotation Assembler'!$A75, Calcs!$AC$5:$AC$51, 0), MATCH('Rotation Assembler'!I$38, Calcs!$AC$5:$AG$5, 0))","v":0},{"$f":"INDEX(Calcs!$AC$5:$AG$51, MATCH('Rotation Assembler'!$A75, Calcs!$AC$5:$AC$51, 0), MATCH('Rotation Assembler'!J$38, Calcs!$AC$5:$AG$5, 0))","v":0},{"$f":"INDEX(Calcs!$AC$5:$AG$51, MATCH('Rotation Assembler'!$A75, Calcs!$AC$5:$AC$51, 0), MATCH('Rotation Assembler'!K$38, Calcs!$AC$5:$AG$5, 0))","v":0},{"$f":"INDEX(Calcs!$AC$5:$AG$51, MATCH('Rotation Assembler'!$A75, Calcs!$AC$5:$AC$51, 0), MATCH('Rotation Assembler'!L$38, Calcs!$AC$5:$AG$5, 0))","v":0},{"$f":"INDEX(Calcs!$AC$5:$AG$51, MATCH('Rotation Assembler'!$A75, Calcs!$AC$5:$AC$51, 0), MATCH('Rotation Assembler'!M$38, Calcs!$AC$5:$AG$5, 0))","v":0},{"$f":"INDEX(Calcs!$AC$5:$AG$51, MATCH('Rotation Assembler'!$A75, Calcs!$AC$5:$AC$51, 0), MATCH('Rotation Assembler'!N$38, Calcs!$AC$5:$AG$5, 0))","v":0},{"$f":"INDEX(Calcs!$AC$5:$AG$51, MATCH('Rotation Assembler'!$A75, Calcs!$AC$5:$AC$51, 0), MATCH('Rotation Assembler'!O$38, Calcs!$AC$5:$AG$5, 0))","v":0},{"$f":"INDEX(Calcs!$AC$5:$AG$51, MATCH('Rotation Assembler'!$A75, Calcs!$AC$5:$AC$51, 0), MATCH('Rotation Assembler'!P$38, Calcs!$AC$5:$AG$5, 0))","v":0},{"$f":"INDEX(Calcs!$AC$5:$AG$51, MATCH('Rotation Assembler'!$A75, Calcs!$AC$5:$AC$51, 0), MATCH('Rotation Assembler'!Q$38, Calcs!$AC$5:$AG$5, 0))","v":0},{"$f":"INDEX(Calcs!$AC$5:$AG$51, MATCH('Rotation Assembler'!$A75, Calcs!$AC$5:$AC$51, 0), MATCH('Rotation Assembler'!R$38, Calcs!$AC$5:$AG$5, 0))","v":0},{"$f":"INDEX(Calcs!$AC$5:$AG$51, MATCH('Rotation Assembler'!$A75, Calcs!$AC$5:$AC$51, 0), MATCH('Rotation Assembler'!S$38, Calcs!$AC$5:$AG$5, 0))","v":0},{"$f":"INDEX(Calcs!$AC$5:$AG$51, MATCH('Rotation Assembler'!$A75, Calcs!$AC$5:$AC$51, 0), MATCH('Rotation Assembler'!T$38, Calcs!$AC$5:$AG$5, 0))","v":0},{"$f":"INDEX(Calcs!$AC$5:$AG$51, MATCH('Rotation Assembler'!$A75, Calcs!$AC$5:$AC$51, 0), MATCH('Rotation Assembler'!U$38, Calcs!$AC$5:$AG$5, 0))","v":0},null,{"$f":"INDEX(Calcs!$AC$5:$AG$51, MATCH('Rotation Assembler'!$A75, Calcs!$AC$5:$AC$51, 0), MATCH('Rotation Assembler'!W$38, Calcs!$AC$5:$AG$5, 0))","v":0},{"$f":"INDEX(Calcs!$AC$5:$AG$51, MATCH('Rotation Assembler'!$A75, Calcs!$AC$5:$AC$51, 0), MATCH('Rotation Assembler'!X$38, Calcs!$AC$5:$AG$5, 0))","v":0},{"$f":"INDEX(Calcs!$AC$5:$AG$51, MATCH('Rotation Assembler'!$A75, Calcs!$AC$5:$AC$51, 0), MATCH('Rotation Assembler'!Y$38, Calcs!$AC$5:$AG$5, 0))","v":0},{"$f":"INDEX(Calcs!$AC$5:$AG$51, MATCH('Rotation Assembler'!$A75, Calcs!$AC$5:$AC$51, 0), MATCH('Rotation Assembler'!Z$38, Calcs!$AC$5:$AG$5, 0))","v":0},{"$f":"INDEX(Calcs!$AC$5:$AG$51, MATCH('Rotation Assembler'!$A75, Calcs!$AC$5:$AC$51, 0), MATCH('Rotation Assembler'!AA$38, Calcs!$AC$5:$AG$5, 0))","v":0},{"$f":"INDEX(Calcs!$AC$5:$AG$51, MATCH('Rotation Assembler'!$A75, Calcs!$AC$5:$AC$51, 0), MATCH('Rotation Assembler'!AB$38, Calcs!$AC$5:$AG$5, 0))","v":0},{"$f":"INDEX(Calcs!$AC$5:$AG$51, MATCH('Rotation Assembler'!$A75, Calcs!$AC$5:$AC$51, 0), MATCH('Rotation Assembler'!AC$38, Calcs!$AC$5:$AG$5, 0))","v":0},{"$f":"INDEX(Calcs!$AC$5:$AG$51, MATCH('Rotation Assembler'!$A75, Calcs!$AC$5:$AC$51, 0), MATCH('Rotation Assembler'!AD$38, Calcs!$AC$5:$AG$5, 0))","v":0},{"$f":"INDEX(Calcs!$AC$5:$AG$51, MATCH('Rotation Assembler'!$A75, Calcs!$AC$5:$AC$51, 0), MATCH('Rotation Assembler'!AE$38, Calcs!$AC$5:$AG$5, 0))","v":0},{"$f":"INDEX(Calcs!$AC$5:$AG$51, MATCH('Rotation Assembler'!$A75, Calcs!$AC$5:$AC$51, 0), MATCH('Rotation Assembler'!AF$38, Calcs!$AC$5:$AG$5, 0))","v":{"$error":"#N/A"}},{"$f":"INDEX(Calcs!$AC$5:$AG$51, MATCH('Rotation Assembler'!$A75, Calcs!$AC$5:$AC$51, 0), MATCH('Rotation Assembler'!AG$38, Calcs!$AC$5:$AG$5, 0))","v":{"$error":"#N/A"}},{"$f":"INDEX(Calcs!$AC$5:$AG$51, MATCH('Rotation Assembler'!$A75, Calcs!$AC$5:$AC$51, 0), MATCH('Rotation Assembler'!AH$38, Calcs!$AC$5:$AG$5, 0))","v":{"$error":"#N/A"}},{"$f":"INDEX(Calcs!$AC$5:$AG$51, MATCH('Rotation Assembler'!$A75, Calcs!$AC$5:$AC$51, 0), MATCH('Rotation Assembler'!AI$38, Calcs!$AC$5:$AG$5, 0))","v":{"$error":"#N/A"}},{"$f":"INDEX(Calcs!$AC$5:$AG$51, MATCH('Rotation Assembler'!$A75, Calcs!$AC$5:$AC$51, 0), MATCH('Rotation Assembler'!AJ$38, Calcs!$AC$5:$AG$5, 0))","v":{"$error":"#N/A"}},{"$f":"INDEX(Calcs!$AC$5:$AG$51, MATCH('Rotation Assembler'!$A75, Calcs!$AC$5:$AC$51, 0), MATCH('Rotation Assembler'!AK$38, Calcs!$AC$5:$AG$5, 0))","v":{"$error":"#N/A"}},{"$f":"INDEX(Calcs!$AC$5:$AG$51, MATCH('Rotation Assembler'!$A75, Calcs!$AC$5:$AC$51, 0), MATCH('Rotation Assembler'!AL$38, Calcs!$AC$5:$AG$5, 0))","v":{"$error":"#N/A"}},{"$f":"INDEX(Calcs!$AC$5:$AG$51, MATCH('Rotation Assembler'!$A75, Calcs!$AC$5:$AC$51, 0), MATCH('Rotation Assembler'!AM$38, Calcs!$AC$5:$AG$5, 0))","v":{"$error":"#N/A"}},{"$f":"INDEX(Calcs!$AC$5:$AG$51, MATCH('Rotation Assembler'!$A75, Calcs!$AC$5:$AC$51, 0), MATCH('Rotation Assembler'!AN$38, Calcs!$AC$5:$AG$5, 0))","v":{"$error":"#N/A"}},{"$f":"INDEX(Calcs!$AC$5:$AG$51, MATCH('Rotation Assembler'!$A75, Calcs!$AC$5:$AC$51, 0), MATCH('Rotation Assembler'!AO$38, Calcs!$AC$5:$AG$5, 0))","v":{"$error":"#N/A"}},{"$f":"INDEX(Calcs!$AC$5:$AG$51, MATCH('Rotation Assembler'!$A75, Calcs!$AC$5:$AC$51, 0), MATCH('Rotation Assembler'!AP$38, Calcs!$AC$5:$AG$5, 0))","v":{"$error":"#N/A"}},{"$f":"INDEX(Calcs!$AC$5:$AG$51, MATCH('Rotation Assembler'!$A75, Calcs!$AC$5:$AC$51, 0), MATCH('Rotation Assembler'!AQ$38, Calcs!$AC$5:$AG$5, 0))","v":{"$error":"#N/A"}},{"$f":"INDEX(Calcs!$AC$5:$AG$51, MATCH('Rotation Assembler'!$A75, Calcs!$AC$5:$AC$51, 0), MATCH('Rotation Assembler'!AR$38, Calcs!$AC$5:$AG$5, 0))","v":{"$error":"#N/A"}},{"$f":"INDEX(Calcs!$AC$5:$AG$51, MATCH('Rotation Assembler'!$A75, Calcs!$AC$5:$AC$51, 0), MATCH('Rotation Assembler'!AS$38, Calcs!$AC$5:$AG$5, 0))","v":{"$error":"#N/A"}},{"$f":"INDEX(Calcs!$AC$5:$AG$51, MATCH('Rotation Assembler'!$A75, Calcs!$AC$5:$AC$51, 0), MATCH('Rotation Assembler'!AT$38, Calcs!$AC$5:$AG$5, 0))","v":{"$error":"#N/A"}},{"$f":"INDEX(Calcs!$AC$5:$AG$51, MATCH('Rotation Assembler'!$A75, Calcs!$AC$5:$AC$51, 0), MATCH('Rotation Assembler'!AU$38, Calcs!$AC$5:$AG$5, 0))","v":{"$error":"#N/A"}},{"$f":"INDEX(Calcs!$AC$5:$AG$51, MATCH('Rotation Assembler'!$A75, Calcs!$AC$5:$AC$51, 0), MATCH('Rotation Assembler'!AV$38, Calcs!$AC$5:$AG$5, 0))","v":{"$error":"#N/A"}},{"$f":"INDEX(Calcs!$AC$5:$AG$51, MATCH('Rotation Assembler'!$A75, Calcs!$AC$5:$AC$51, 0), MATCH('Rotation Assembler'!AW$38, Calcs!$AC$5:$AG$5, 0))","v":{"$error":"#N/A"}},{"$f":"INDEX(Calcs!$AC$5:$AG$51, MATCH('Rotation Assembler'!$A75, Calcs!$AC$5:$AC$51, 0), MATCH('Rotation Assembler'!AX$38, Calcs!$AC$5:$AG$5, 0))","v":{"$error":"#N/A"}},{"$f":"INDEX(Calcs!$AC$5:$AG$51, MATCH('Rotation Assembler'!$A75, Calcs!$AC$5:$AC$51, 0), MATCH('Rotation Assembler'!AY$38, Calcs!$AC$5:$AG$5, 0))","v":{"$error":"#N/A"}},{"$f":"INDEX(Calcs!$AC$5:$AG$51, MATCH('Rotation Assembler'!$A75, Calcs!$AC$5:$AC$51, 0), MATCH('Rotation Assembler'!AZ$38, Calcs!$AC$5:$AG$5, 0))","v":{"$error":"#N/A"}},{"$f":"INDEX(Calcs!$AC$5:$AG$51, MATCH('Rotation Assembler'!$A75, Calcs!$AC$5:$AC$51, 0), MATCH('Rotation Assembler'!BA$38, Calcs!$AC$5:$AG$5, 0))","v":{"$error":"#N/A"}},{"$f":"INDEX(Calcs!$AC$5:$AG$51, MATCH('Rotation Assembler'!$A75, Calcs!$AC$5:$AC$51, 0), MATCH('Rotation Assembler'!BB$38, Calcs!$AC$5:$AG$5, 0))","v":{"$error":"#N/A"}},{"$f":"INDEX(Calcs!$AC$5:$AG$51, MATCH('Rotation Assembler'!$A75, Calcs!$AC$5:$AC$51, 0), MATCH('Rotation Assembler'!BC$38, Calcs!$AC$5:$AG$5, 0))","v":{"$error":"#N/A"}},{"$f":"INDEX(Calcs!$AC$5:$AG$51, MATCH('Rotation Assembler'!$A75, Calcs!$AC$5:$AC$51, 0), MATCH('Rotation Assembler'!BD$38, Calcs!$AC$5:$AG$5, 0))","v":{"$error":"#N/A"}},{"$f":"INDEX(Calcs!$AC$5:$AG$51, MATCH('Rotation Assembler'!$A75, Calcs!$AC$5:$AC$51, 0), MATCH('Rotation Assembler'!BE$38, Calcs!$AC$5:$AG$5, 0))","v":{"$error":"#N/A"}},{"$f":"INDEX(Calcs!$AC$5:$AG$51, MATCH('Rotation Assembler'!$A75, Calcs!$AC$5:$AC$51, 0), MATCH('Rotation Assembler'!BF$38, Calcs!$AC$5:$AG$5, 0))","v":{"$error":"#N/A"}}]
["Geo RES%",{"$f":"INDEX(Calcs!$AC$5:$AG$51, MATCH('Rotation Assembler'!$A76, Calcs!$AC$5:$AC$51, 0), MATCH('Rotation Assembler'!B$38, Calcs!$AC$5:$AG$5, 0))","v":0},{"$f":"INDEX(Calcs!$AC$5:$AG$51, MATCH('Rotation Assembler'!$A76, Calcs!$AC$5:$AC$51, 0), MATCH('Rotation Assembler'!C$38, Calcs!$AC$5:$AG$5, 0))","v":0},{"$f":"INDEX(Calcs!$AC$5:$AG$51, MATCH('Rotation Assembler'!$A76, Calcs!$AC$5:$AC$51, 0), MATCH('Rotation Assembler'!D$38, Calcs!$AC$5:$AG$5, 0))","v":0},{"$f":"INDEX(Calcs!$AC$5:$AG$51, MATCH('Rotation Assembler'!$A76, Calcs!$AC$5:$AC$51, 0), MATCH('Rotation Assembler'!E$38, Calcs!$AC$5:$AG$5, 0))","v":0},{"$f":"INDEX(Calcs!$AC$5:$AG$51, MATCH('Rotation Assembler'!$A76, Calcs!$AC$5:$AC$51, 0), MATCH('Rotation Assembler'!F$38, Calcs!$AC$5:$AG$5, 0))","v":0},{"$f":"INDEX(Calcs!$AC$5:$AG$51, MATCH('Rotation Assembler'!$A76, Calcs!$AC$5:$AC$51, 0), MATCH('Rotation Assembler'!G$38, Calcs!$AC$5:$AG$5, 0))","v":0},{"$f":"INDEX(Calcs!$AC$5:$AG$51, MATCH('Rotation Assembler'!$A76, Calcs!$AC$5:$AC$51, 0), MATCH('Rotation Assembler'!H$38, Calcs!$AC$5:$AG$5, 0))","v":0},{"$f":"INDEX(Calcs!$AC$5:$AG$51, MATCH('Rotation Assembler'!$A76, Calcs!$AC$5:$AC$51, 0), MATCH('Rotation Assembler'!I$38, Calcs!$AC$5:$AG$5, 0))","v":0},{"$f":"INDEX(Calcs!$AC$5:$AG$51, MATCH('Rotation Assembler'!$A76, Calcs!$AC$5:$AC$51, 0), MATCH('Rotation Assembler'!J$38, Calcs!$AC$5:$AG$5, 0))","v":0},{"$f":"INDEX(Calcs!$AC$5:$AG$51, MATCH('Rotation Assembler'!$A76, Calcs!$AC$5:$AC$51, 0), MATCH('Rotation Assembler'!K$38, Calcs!$AC$5:$AG$5, 0))","v":0},{"$f":"INDEX(Calcs!$AC$5:$AG$51, MATCH('Rotation Assembler'!$A76, Calcs!$AC$5:$AC$51, 0), MATCH('Rotation Assembler'!L$38, Calcs!$AC$5:$AG$5, 0))","v":0},{"$f":"INDEX(Calcs!$AC$5:$AG$51, MATCH('Rotation Assembler'!$A76, Calcs!$AC$5:$AC$51, 0), MATCH('Rotation Assembler'!M$38, Calcs!$AC$5:$AG$5, 0))","v":0},{"$f":"INDEX(Calcs!$AC$5:$AG$51, MATCH('Rotation Assembler'!$A76, Calcs!$AC$5:$AC$51, 0), MATCH('Rotation Assembler'!N$38, Calcs!$AC$5:$AG$5, 0))","v":0},{"$f":"INDEX(Calcs!$AC$5:$AG$51, MATCH('Rotation Assembler'!$A76, Calcs!$AC$5:$AC$51, 0), MATCH('Rotation Assembler'!O$38, Calcs!$AC$5:$AG$5, 0))","v":0},{"$f":"INDEX(Calcs!$AC$5:$AG$51, MATCH('Rotation Assembler'!$A76, Calcs!$AC$5:$AC$51, 0), MATCH('Rotation Assembler'!P$38, Calcs!$AC$5:$AG$5, 0))","v":0},{"$f":"INDEX(Calcs!$AC$5:$AG$51, MATCH('Rotation Assembler'!$A76, Calcs!$AC$5:$AC$51, 0), MATCH('Rotation Assembler'!Q$38, Calcs!$AC$5:$AG$5, 0))","v":0},{"$f":"INDEX(Calcs!$AC$5:$AG$51, MATCH('Rotation Assembler'!$A76, Calcs!$AC$5:$AC$51, 0), MATCH('Rotation Assembler'!R$38, Calcs!$AC$5:$AG$5, 0))","v":0},{"$f":"INDEX(Calcs!$AC$5:$AG$51, MATCH('Rotation Assembler'!$A76, Calcs!$AC$5:$AC$51, 0), MATCH('Rotation Assembler'!S$38, Calcs!$AC$5:$AG$5, 0))","v":0},{"$f":"INDEX(Calcs!$AC$5:$AG$51, MATCH('Rotation Assembler'!$A76, Calcs!$AC$5:$AC$51, 0), MATCH('Rotation Assembler'!T$38, Calcs!$AC$5:$AG$5, 0))","v":0},{"$f":"INDEX(Calcs!$AC$5:$AG$51, MATCH('Rotation Assembler'!$A76, Calcs!$AC$5:$AC$51, 0), MATCH('Rotation Assembler'!U$38, Calcs!$AC$5:$AG$5, 0))","v":0},null,{"$f":"INDEX(Calcs!$AC$5:$AG$51, MATCH('Rotation Assembler'!$A76, Calcs!$AC$5:$AC$51, 0), MATCH('Rotation Assembler'!W$38, Calcs!$AC$5:$AG$5, 0))","v":0},{"$f":"INDEX(Calcs!$AC$5:$AG$51, MATCH('Rotation Assembler'!$A76, Calcs!$AC$5:$AC$51, 0), MATCH('Rotation Assembler'!X$38, Calcs!$AC$5:$AG$5, 0))","v":0},{"$f":"INDEX(Calcs!$AC$5:$AG$51, MATCH('Rotation Assembler'!$A76, Calcs!$AC$5:$AC$51, 0), MATCH('Rotation Assembler'!Y$38, Calcs!$AC$5:$AG$5, 0))","v":0},{"$f":"INDEX(Calcs!$AC$5:$AG$51, MATCH('Rotation Assembler'!$A76, Calcs!$AC$5:$AC$51, 0), MATCH('Rotation Assembler'!Z$38, Calcs!$AC$5:$AG$5, 0))","v":0},{"$f":"INDEX(Calcs!$AC$5:$AG$51, MATCH('Rotation Assembler'!$A76, Calcs!$AC$5:$AC$51, 0), MATCH('Rotation Assembler'!AA$38, Calcs!$AC$5:$AG$5, 0))","v":0},{"$f":"INDEX(Calcs!$AC$5:$AG$51, MATCH('Rotation Assembler'!$A76, Calcs!$AC$5:$AC$51, 0), MATCH('Rotation Assembler'!AB$38, Calcs!$AC$5:$AG$5, 0))","v":0},{"$f":"INDEX(Calcs!$AC$5:$AG$51, MATCH('Rotation Assembler'!$A76, Calcs!$AC$5:$AC$51, 0), MATCH('Rotation Assembler'!AC$38, Calcs!$AC$5:$AG$5, 0))","v":0},{"$f":"INDEX(Calcs!$AC$5:$AG$51, MATCH('Rotation Assembler'!$A76, Calcs!$AC$5:$AC$51, 0), MATCH('Rotation Assembler'!AD$38, Calcs!$AC$5:$AG$5, 0))","v":0},{"$f":"INDEX(Calcs!$AC$5:$AG$51, MATCH('Rotation Assembler'!$A76, Calcs!$AC$5:$AC$51, 0), MATCH('Rotation Assembler'!AE$38, Calcs!$AC$5:$AG$5, 0))","v":0},{"$f":"INDEX(Calcs!$AC$5:$AG$51, MATCH('Rotation Assembler'!$A76, Calcs!$AC$5:$AC$51, 0), MATCH('Rotation Assembler'!AF$38, Calcs!$AC$5:$AG$5, 0))","v":{"$error":"#N/A"}},{"$f":"INDEX(Calcs!$AC$5:$AG$51, MATCH('Rotation Assembler'!$A76, Calcs!$AC$5:$AC$51, 0), MATCH('Rotation Assembler'!AG$38, Calcs!$AC$5:$AG$5, 0))","v":{"$error":"#N/A"}},{"$f":"INDEX(Calcs!$AC$5:$AG$51, MATCH('Rotation Assembler'!$A76, Calcs!$AC$5:$AC$51, 0), MATCH('Rotation Assembler'!AH$38, Calcs!$AC$5:$AG$5, 0))","v":{"$error":"#N/A"}},{"$f":"INDEX(Calcs!$AC$5:$AG$51, MATCH('Rotation Assembler'!$A76, Calcs!$AC$5:$AC$51, 0), MATCH('Rotation Assembler'!AI$38, Calcs!$AC$5:$AG$5, 0))","v":{"$error":"#N/A"}},{"$f":"INDEX(Calcs!$AC$5:$AG$51, MATCH('Rotation Assembler'!$A76, Calcs!$AC$5:$AC$51, 0), MATCH('Rotation Assembler'!AJ$38, Calcs!$AC$5:$AG$5, 0))","v":{"$error":"#N/A"}},{"$f":"INDEX(Calcs!$AC$5:$AG$51, MATCH('Rotation Assembler'!$A76, Calcs!$AC$5:$AC$51, 0), MATCH('Rotation Assembler'!AK$38, Calcs!$AC$5:$AG$5, 0))","v":{"$error":"#N/A"}},{"$f":"INDEX(Calcs!$AC$5:$AG$51, MATCH('Rotation Assembler'!$A76, Calcs!$AC$5:$AC$51, 0), MATCH('Rotation Assembler'!AL$38, Calcs!$AC$5:$AG$5, 0))","v":{"$error":"#N/A"}},{"$f":"INDEX(Calcs!$AC$5:$AG$51, MATCH('Rotation Assembler'!$A76, Calcs!$AC$5:$AC$51, 0), MATCH('Rotation Assembler'!AM$38, Calcs!$AC$5:$AG$5, 0))","v":{"$error":"#N/A"}},{"$f":"INDEX(Calcs!$AC$5:$AG$51, MATCH('Rotation Assembler'!$A76, Calcs!$AC$5:$AC$51, 0), MATCH('Rotation Assembler'!AN$38, Calcs!$AC$5:$AG$5, 0))","v":{"$error":"#N/A"}},{"$f":"INDEX(Calcs!$AC$5:$AG$51, MATCH('Rotation Assembler'!$A76, Calcs!$AC$5:$AC$51, 0), MATCH('Rotation Assembler'!AO$38, Calcs!$AC$5:$AG$5, 0))","v":{"$error":"#N/A"}},{"$f":"INDEX(Calcs!$AC$5:$AG$51, MATCH('Rotation Assembler'!$A76, Calcs!$AC$5:$AC$51, 0), MATCH('Rotation Assembler'!AP$38, Calcs!$AC$5:$AG$5, 0))","v":{"$error":"#N/A"}},{"$f":"INDEX(Calcs!$AC$5:$AG$51, MATCH('Rotation Assembler'!$A76, Calcs!$AC$5:$AC$51, 0), MATCH('Rotation Assembler'!AQ$38, Calcs!$AC$5:$AG$5, 0))","v":{"$error":"#N/A"}},{"$f":"INDEX(Calcs!$AC$5:$AG$51, MATCH('Rotation Assembler'!$A76, Calcs!$AC$5:$AC$51, 0), MATCH('Rotation Assembler'!AR$38, Calcs!$AC$5:$AG$5, 0))","v":{"$error":"#N/A"}},{"$f":"INDEX(Calcs!$AC$5:$AG$51, MATCH('Rotation Assembler'!$A76, Calcs!$AC$5:$AC$51, 0), MATCH('Rotation Assembler'!AS$38, Calcs!$AC$5:$AG$5, 0))","v":{"$error":"#N/A"}},{"$f":"INDEX(Calcs!$AC$5:$AG$51, MATCH('Rotation Assembler'!$A76, Calcs!$AC$5:$AC$51, 0), MATCH('Rotation Assembler'!AT$38, Calcs!$AC$5:$AG$5, 0))","v":{"$error":"#N/A"}},{"$f":"INDEX(Calcs!$AC$5:$AG$51, MATCH('Rotation Assembler'!$A76, Calcs!$AC$5:$AC$51, 0), MATCH('Rotation Assembler'!AU$38, Calcs!$AC$5:$AG$5, 0))","v":{"$error":"#N/A"}},{"$f":"INDEX(Calcs!$AC$5:$AG$51, MATCH('Rotation Assembler'!$A76, Calcs!$AC$5:$AC$51, 0), MATCH('Rotation Assembler'!AV$38, Calcs!$AC$5:$AG$5, 0))","v":{"$error":"#N/A"}},{"$f":"INDEX(Calcs!$AC$5:$AG$51, MATCH('Rotation Assembler'!$A76, Calcs!$AC$5:$AC$51, 0), MATCH('Rotation Assembler'!AW$38, Calcs!$AC$5:$AG$5, 0))","v":{"$error":"#N/A"}},{"$f":"INDEX(Calcs!$AC$5:$AG$51, MATCH('Rotation Assembler'!$A76, Calcs!$AC$5:$AC$51, 0), MATCH('Rotation Assembler'!AX$38, Calcs!$AC$5:$AG$5, 0))","v":{"$error":"#N/A"}},{"$f":"INDEX(Calcs!$AC$5:$AG$51, MATCH('Rotation Assembler'!$A76, Calcs!$AC$5:$AC$51, 0), MATCH('Rotation Assembler'!AY$38, Calcs!$AC$5:$AG$5, 0))","v":{"$error":"#N/A"}},{"$f":"INDEX(Calcs!$AC$5:$AG$51, MATCH('Rotation Assembler'!$A76, Calcs!$AC$5:$AC$51, 0), MATCH('Rotation Assembler'!AZ$38, Calcs!$AC$5:$AG$5, 0))","v":{"$error":"#N/A"}},{"$f":"INDEX(Calcs!$AC$5:$AG$51, MATCH('Rotation Assembler'!$A76, Calcs!$AC$5:$AC$51, 0), MATCH('Rotation Assembler'!BA$38, Calcs!$AC$5:$AG$5, 0))","v":{"$error":"#N/A"}},{"$f":"INDEX(Calcs!$AC$5:$AG$51, MATCH('Rotation Assembler'!$A76, Calcs!$AC$5:$AC$51, 0), MATCH('Rotation Assembler'!BB$38, Calcs!$AC$5:$AG$5, 0))","v":{"$error":"#N/A"}},{"$f":"INDEX(Calcs!$AC$5:$AG$51, MATCH('Rotation Assembler'!$A76, Calcs!$AC$5:$AC$51, 0), MATCH('Rotation Assembler'!BC$38, Calcs!$AC$5:$AG$5, 0))","v":{"$error":"#N/A"}},{"$f":"INDEX(Calcs!$AC$5:$AG$51, MATCH('Rotation Assembler'!$A76, Calcs!$AC$5:$AC$51, 0), MATCH('Rotation Assembler'!BD$38, Calcs!$AC$5:$AG$5, 0))","v":{"$error":"#N/A"}},{"$f":"INDEX(Calcs!$AC$5:$AG$51, MATCH('Rotation Assembler'!$A76, Calcs!$AC$5:$AC$51, 0), MATCH('Rotation Assembler'!BE$38, Calcs!$AC$5:$AG$5, 0))","v":{"$error":"#N/A"}},{"$f":"INDEX(Calcs!$AC$5:$AG$51, MATCH('Rotation Assembler'!$A76, Calcs!$AC$5:$AC$51, 0), MATCH('Rotation Assembler'!BF$38, Calcs!$AC$5:$AG$5, 0))","v":{"$error":"#N/A"}}]
["Pyro RES%",{"$f":"INDEX(Calcs!$AC$5:$AG$51, MATCH('Rotation Assembler'!$A77, Calcs!$AC$5:$AC$51, 0), MATCH('Rotation Assembler'!B$38, Calcs!$AC$5:$AG$5, 0))","v":0},{"$f":"INDEX(Calcs!$AC$5:$AG$51, MATCH('Rotation Assembler'!$A77, Calcs!$AC$5:$AC$51, 0), MATCH('Rotation Assembler'!C$38, Calcs!$AC$5:$AG$5, 0))","v":0},{"$f":"INDEX(Calcs!$AC$5:$AG$51, MATCH('Rotation Assembler'!$A77, Calcs!$AC$5:$AC$51, 0), MATCH('Rotation Assembler'!D$38, Calcs!$AC$5:$AG$5, 0))","v":0},{"$f":"INDEX(Calcs!$AC$5:$AG$51, MATCH('Rotation Assembler'!$A77, Calcs!$AC$5:$AC$51, 0), MATCH('Rotation Assembler'!E$38, Calcs!$AC$5:$AG$5, 0))","v":0},{"$f":"INDEX(Calcs!$AC$5:$AG$51, MATCH('Rotation Assembler'!$A77, Calcs!$AC$5:$AC$51, 0), MATCH('Rotation Assembler'!F$38, Calcs!$AC$5:$AG$5, 0))","v":0},{"$f":"INDEX(Calcs!$AC$5:$AG$51, MATCH('Rotation Assembler'!$A77, Calcs!$AC$5:$AC$51, 0), MATCH('Rotation Assembler'!G$38, Calcs!$AC$5:$AG$5, 0))","v":0},{"$f":"INDEX(Calcs!$AC$5:$AG$51, MATCH('Rotation Assembler'!$A77, Calcs!$AC$5:$AC$51, 0), MATCH('Rotation Assembler'!H$38, Calcs!$AC$5:$AG$5, 0))","v":0},{"$f":"INDEX(Calcs!$AC$5:$AG$51, MATCH('Rotation Assembler'!$A77, Calcs!$AC$5:$AC$51, 0), MATCH('Rotation Assembler'!I$38, Calcs!$AC$5:$AG$5, 0))","v":0},{"$f":"INDEX(Calcs!$AC$5:$AG$51, MATCH('Rotation Assembler'!$A77, Calcs!$AC$5:$AC$51, 0), MATCH('Rotation Assembler'!J$38, Calcs!$AC$5:$AG$5, 0))","v":0},{"$f":"INDEX(Calcs!$AC$5:$AG$51, MATCH('Rotation Assembler'!$A77, Calcs!$AC$5:$AC$51, 0), MATCH('Rotation Assembler'!K$38, Calcs!$AC$5:$AG$5, 0))","v":0},{"$f":"INDEX(Calcs!$AC$5:$AG$51, MATCH('Rotation Assembler'!$A77, Calcs!$AC$5:$AC$51, 0), MATCH('Rotation Assembler'!L$38, Calcs!$AC$5:$AG$5, 0))","v":0},{"$f":"INDEX(Calcs!$AC$5:$AG$51, MATCH('Rotation Assembler'!$A77, Calcs!$AC$5:$AC$51, 0), MATCH('Rotation Assembler'!M$38, Calcs!$AC$5:$AG$5, 0))","v":0},{"$f":"INDEX(Calcs!$AC$5:$AG$51, MATCH('Rotation Assembler'!$A77, Calcs!$AC$5:$AC$51, 0), MATCH('Rotation Assembler'!N$38, Calcs!$AC$5:$AG$5, 0))","v":0},{"$f":"INDEX(Calcs!$AC$5:$AG$51, MATCH('Rotation Assembler'!$A77, Calcs!$AC$5:$AC$51, 0), MATCH('Rotation Assembler'!O$38, Calcs!$AC$5:$AG$5, 0))","v":0},{"$f":"INDEX(Calcs!$AC$5:$AG$51, MATCH('Rotation Assembler'!$A77, Calcs!$AC$5:$AC$51, 0), MATCH('Rotation Assembler'!P$38, Calcs!$AC$5:$AG$5, 0))","v":0},{"$f":"INDEX(Calcs!$AC$5:$AG$51, MATCH('Rotation Assembler'!$A77, Calcs!$AC$5:$AC$51, 0), MATCH('Rotation Assembler'!Q$38, Calcs!$AC$5:$AG$5, 0))","v":0},{"$f":"INDEX(Calcs!$AC$5:$AG$51, MATCH('Rotation Assembler'!$A77, Calcs!$AC$5:$AC$51, 0), MATCH('Rotation Assembler'!R$38, Calcs!$AC$5:$AG$5, 0))","v":0},{"$f":"INDEX(Calcs!$AC$5:$AG$51, MATCH('Rotation Assembler'!$A77, Calcs!$AC$5:$AC$51, 0), MATCH('Rotation Assembler'!S$38, Calcs!$AC$5:$AG$5, 0))","v":0},{"$f":"INDEX(Calcs!$AC$5:$AG$51, MATCH('Rotation Assembler'!$A77, Calcs!$AC$5:$AC$51, 0), MATCH('Rotation Assembler'!T$38, Calcs!$AC$5:$AG$5, 0))","v":0},{"$f":"INDEX(Calcs!$AC$5:$AG$51, MATCH('Rotation Assembler'!$A77, Calcs!$AC$5:$AC$51, 0), MATCH('Rotation Assembler'!U$38, Calcs!$AC$5:$AG$5, 0))","v":0},null,{"$f":"INDEX(Calcs!$AC$5:$AG$51, MATCH('Rotation Assembler'!$A77, Calcs!$AC$5:$AC$51, 0), MATCH('Rotation Assembler'!W$38, Calcs!$AC$5:$AG$5, 0))","v":0},{"$f":"INDEX(Calcs!$AC$5:$AG$51, MATCH('Rotation Assembler'!$A77, Calcs!$AC$5:$AC$51, 0), MATCH('Rotation Assembler'!X$38, Calcs!$AC$5:$AG$5, 0))","v":0},{"$f":"INDEX(Calcs!$AC$5:$AG$51, MATCH('Rotation Assembler'!$A77, Calcs!$AC$5:$AC$51, 0), MATCH('Rotation Assembler'!Y$38, Calcs!$AC$5:$AG$5, 0))","v":0},{"$f":"INDEX(Calcs!$AC$5:$AG$51, MATCH('Rotation Assembler'!$A77, Calcs!$AC$5:$AC$51, 0), MATCH('Rotation Assembler'!Z$38, Calcs!$AC$5:$AG$5, 0))","v":0},{"$f":"INDEX(Calcs!$AC$5:$AG$51, MATCH('Rotation Assembler'!$A77, Calcs!$AC$5:$AC$51, 0), MATCH('Rotation Assembler'!AA$38, Calcs!$AC$5:$AG$5, 0))","v":0},{"$f":"INDEX(Calcs!$AC$5:$AG$51, MATCH('Rotation Assembler'!$A77, Calcs!$AC$5:$AC$51, 0), MATCH('Rotation Assembler'!AB$38, Calcs!$AC$5:$AG$5, 0))","v":0},{"$f":"INDEX(Calcs!$AC$5:$AG$51, MATCH('Rotation Assembler'!$A77, Calcs!$AC$5:$AC$51, 0), MATCH('Rotation Assembler'!AC$38, Calcs!$AC$5:$AG$5, 0))","v":0},{"$f":"INDEX(Calcs!$AC$5:$AG$51, MATCH('Rotation Assembler'!$A77, Calcs!$AC$5:$AC$51, 0), MATCH('Rotation Assembler'!AD$38, Calcs!$AC$5:$AG$5, 0))","v":0},{"$f":"INDEX(Calcs!$AC$5:$AG$51, MATCH('Rotation Assembler'!$A77, Calcs!$AC$5:$AC$51, 0), MATCH('Rotation Assembler'!AE$38, Calcs!$AC$5:$AG$5, 0))","v":0},{"$f":"INDEX(Calcs!$AC$5:$AG$51, MATCH('Rotation Assembler'!$A77, Calcs!$AC$5:$AC$51, 0), MATCH('Rotation Assembler'!AF$38, Calcs!$AC$5:$AG$5, 0))","v":{"$error":"#N/A"}},{"$f":"INDEX(Calcs!$AC$5:$AG$51, MATCH('Rotation Assembler'!$A77, Calcs!$AC$5:$AC$51, 0), MATCH('Rotation Assembler'!AG$38, Calcs!$AC$5:$AG$5, 0))","v":{"$error":"#N/A"}},{"$f":"INDEX(Calcs!$AC$5:$AG$51, MATCH('Rotation Assembler'!$A77, Calcs!$AC$5:$AC$51, 0), MATCH('Rotation Assembler'!AH$38, Calcs!$AC$5:$AG$5, 0))","v":{"$error":"#N/A"}},{"$f":"INDEX(Calcs!$AC$5:$AG$51, MATCH('Rotation Assembler'!$A77, Calcs!$AC$5:$AC$51, 0), MATCH('Rotation Assembler'!AI$38, Calcs!$AC$5:$AG$5, 0))","v":{"$error":"#N/A"}},{"$f":"INDEX(Calcs!$AC$5:$AG$51, MATCH('Rotation Assembler'!$A77, Calcs!$AC$5:$AC$51, 0), MATCH('Rotation Assembler'!AJ$38, Calcs!$AC$5:$AG$5, 0))","v":{"$error":"#N/A"}},{"$f":"INDEX(Calcs!$AC$5:$AG$51, MATCH('Rotation Assembler'!$A77, Calcs!$AC$5:$AC$51, 0), MATCH('Rotation Assembler'!AK$38, Calcs!$AC$5:$AG$5, 0))","v":{"$error":"#N/A"}},{"$f":"INDEX(Calcs!$AC$5:$AG$51, MATCH('Rotation Assembler'!$A77, Calcs!$AC$5:$AC$51, 0), MATCH('Rotation Assembler'!AL$38, Calcs!$AC$5:$AG$5, 0))","v":{"$error":"#N/A"}},{"$f":"INDEX(Calcs!$AC$5:$AG$51, MATCH('Rotation Assembler'!$A77, Calcs!$AC$5:$AC$51, 0), MATCH('Rotation Assembler'!AM$38, Calcs!$AC$5:$AG$5, 0))","v":{"$error":"#N/A"}},{"$f":"INDEX(Calcs!$AC$5:$AG$51, MATCH('Rotation Assembler'!$A77, Calcs!$AC$5:$AC$51, 0), MATCH('Rotation Assembler'!AN$38, Calcs!$AC$5:$AG$5, 0))","v":{"$error":"#N/A"}},{"$f":"INDEX(Calcs!$AC$5:$AG$51, MATCH('Rotation Assembler'!$A77, Calcs!$AC$5:$AC$51, 0), MATCH('Rotation Assembler'!AO$38, Calcs!$AC$5:$AG$5, 0))","v":{"$error":"#N/A"}},{"$f":"INDEX(Calcs!$AC$5:$AG$51, MATCH('Rotation Assembler'!$A77, Calcs!$AC$5:$AC$51, 0), MATCH('Rotation Assembler'!AP$38, Calcs!$AC$5:$AG$5, 0))","v":{"$error":"#N/A"}},{"$f":"INDEX(Calcs!$AC$5:$AG$51, MATCH('Rotation Assembler'!$A77, Calcs!$AC$5:$AC$51, 0), MATCH('Rotation Assembler'!AQ$38, Calcs!$AC$5:$AG$5, 0))","v":{"$error":"#N/A"}},{"$f":"INDEX(Calcs!$AC$5:$AG$51, MATCH('Rotation Assembler'!$A77, Calcs!$AC$5:$AC$51, 0), MATCH('Rotation Assembler'!AR$38, Calcs!$AC$5:$AG$5, 0))","v":{"$error":"#N/A"}},{"$f":"INDEX(Calcs!$AC$5:$AG$51, MATCH('Rotation Assembler'!$A77, Calcs!$AC$5:$AC$51, 0), MATCH('Rotation Assembler'!AS$38, Calcs!$AC$5:$AG$5, 0))","v":{"$error":"#N/A"}},{"$f":"INDEX(Calcs!$AC$5:$AG$51, MATCH('Rotation Assembler'!$A77, Calcs!$AC$5:$AC$51, 0), MATCH('Rotation Assembler'!AT$38, Calcs!$AC$5:$AG$5, 0))","v":{"$error":"#N/A"}},{"$f":"INDEX(Calcs!$AC$5:$AG$51, MATCH('Rotation Assembler'!$A77, Calcs!$AC$5:$AC$51, 0), MATCH('Rotation Assembler'!AU$38, Calcs!$AC$5:$AG$5, 0))","v":{"$error":"#N/A"}},{"$f":"INDEX(Calcs!$AC$5:$AG$51, MATCH('Rotation Assembler'!$A77, Calcs!$AC$5:$AC$51, 0), MATCH('Rotation Assembler'!AV$38, Calcs!$AC$5:$AG$5, 0))","v":{"$error":"#N/A"}},{"$f":"INDEX(Calcs!$AC$5:$AG$51, MATCH('Rotation Assembler'!$A77, Calcs!$AC$5:$AC$51, 0), MATCH('Rotation Assembler'!AW$38, Calcs!$AC$5:$AG$5, 0))","v":{"$error":"#N/A"}},{"$f":"INDEX(Calcs!$AC$5:$AG$51, MATCH('Rotation Assembler'!$A77, Calcs!$AC$5:$AC$51, 0), MATCH('Rotation Assembler'!AX$38, Calcs!$AC$5:$AG$5, 0))","v":{"$error":"#N/A"}},{"$f":"INDEX(Calcs!$AC$5:$AG$51, MATCH('Rotation Assembler'!$A77, Calcs!$AC$5:$AC$51, 0), MATCH('Rotation Assembler'!AY$38, Calcs!$AC$5:$AG$5, 0))","v":{"$error":"#N/A"}},{"$f":"INDEX(Calcs!$AC$5:$AG$51, MATCH('Rotation Assembler'!$A77, Calcs!$AC$5:$AC$51, 0), MATCH('Rotation Assembler'!AZ$38, Calcs!$AC$5:$AG$5, 0))","v":{"$error":"#N/A"}},{"$f":"INDEX(Calcs!$AC$5:$AG$51, MATCH('Rotation Assembler'!$A77, Calcs!$AC$5:$AC$51, 0), MATCH('Rotation Assembler'!BA$38, Calcs!$AC$5:$AG$5, 0))","v":{"$error":"#N/A"}},{"$f":"INDEX(Calcs!$AC$5:$AG$51, MATCH('Rotation Assembler'!$A77, Calcs!$AC$5:$AC$51, 0), MATCH('Rotation Assembler'!BB$38, Calcs!$AC$5:$AG$5, 0))","v":{"$error":"#N/A"}},{"$f":"INDEX(Calcs!$AC$5:$AG$51, MATCH('Rotation Assembler'!$A77, Calcs!$AC$5:$AC$51, 0), MATCH('Rotation Assembler'!BC$38, Calcs!$AC$5:$AG$5, 0))","v":{"$error":"#N/A"}},{"$f":"INDEX(Calcs!$AC$5:$AG$51, MATCH('Rotation Assembler'!$A77, Calcs!$AC$5:$AC$51, 0), MATCH('Rotation Assembler'!BD$38, Calcs!$AC$5:$AG$5, 0))","v":{"$error":"#N/A"}},{"$f":"INDEX(Calcs!$AC$5:$AG$51, MATCH('Rotation Assembler'!$A77, Calcs!$AC$5:$AC$51, 0), MATCH('Rotation Assembler'!BE$38, Calcs!$AC$5:$AG$5, 0))","v":{"$error":"#N/A"}},{"$f":"INDEX(Calcs!$AC$5:$AG$51, MATCH('Rotation Assembler'!$A77, Calcs!$AC$5:$AC$51, 0), MATCH('Rotation Assembler'!BF$38, Calcs!$AC$5:$AG$5, 0))","v":{"$error":"#N/A"}}]
["Cryo RES%",{"$f":"INDEX(Calcs!$AC$5:$AG$51, MATCH('Rotation Assembler'!$A78, Calcs!$AC$5:$AC$51, 0), MATCH('Rotation Assembler'!B$38, Calcs!$AC$5:$AG$5, 0))","v":0},{"$f":"INDEX(Calcs!$AC$5:$AG$51, MATCH('Rotation Assembler'!$A78, Calcs!$AC$5:$AC$51, 0), MATCH('Rotation Assembler'!C$38, Calcs!$AC$5:$AG$5, 0))","v":0},{"$f":"INDEX(Calcs!$AC$5:$AG$51, MATCH('Rotation Assembler'!$A78, Calcs!$AC$5:$AC$51, 0), MATCH('Rotation Assembler'!D$38, Calcs!$AC$5:$AG$5, 0))","v":0},{"$f":"INDEX(Calcs!$AC$5:$AG$51, MATCH('Rotation Assembler'!$A78, Calcs!$AC$5:$AC$51, 0), MATCH('Rotation Assembler'!E$38, Calcs!$AC$5:$AG$5, 0))","v":0},{"$f":"INDEX(Calcs!$AC$5:$AG$51, MATCH('Rotation Assembler'!$A78, Calcs!$AC$5:$AC$51, 0), MATCH('Rotation Assembler'!F$38, Calcs!$AC$5:$AG$5, 0))","v":0},{"$f":"INDEX(Calcs!$AC$5:$AG$51, MATCH('Rotation Assembler'!$A78, Calcs!$AC$5:$AC$51, 0), MATCH('Rotation Assembler'!G$38, Calcs!$AC$5:$AG$5, 0))","v":0},{"$f":"INDEX(Calcs!$AC$5:$AG$51, MATCH('Rotation Assembler'!$A78, Calcs!$AC$5:$AC$51, 0), MATCH('Rotation Assembler'!H$38, Calcs!$AC$5:$AG$5, 0))","v":0},{"$f":"INDEX(Calcs!$AC$5:$AG$51, MATCH('Rotation Assembler'!$A78, Calcs!$AC$5:$AC$51, 0), MATCH('Rotation Assembler'!I$38, Calcs!$AC$5:$AG$5, 0))","v":0},{"$f":"INDEX(Calcs!$AC$5:$AG$51, MATCH('Rotation Assembler'!$A78, Calcs!$AC$5:$AC$51, 0), MATCH('Rotation Assembler'!J$38, Calcs!$AC$5:$AG$5, 0))","v":0},{"$f":"INDEX(Calcs!$AC$5:$AG$51, MATCH('Rotation Assembler'!$A78, Calcs!$AC$5:$AC$51, 0), MATCH('Rotation Assembler'!K$38, Calcs!$AC$5:$AG$5, 0))","v":0},{"$f":"INDEX(Calcs!$AC$5:$AG$51, MATCH('Rotation Assembler'!$A78, Calcs!$AC$5:$AC$51, 0), MATCH('Rotation Assembler'!L$38, Calcs!$AC$5:$AG$5, 0))","v":0},{"$f":"INDEX(Calcs!$AC$5:$AG$51, MATCH('Rotation Assembler'!$A78, Calcs!$AC$5:$AC$51, 0), MATCH('Rotation Assembler'!M$38, Calcs!$AC$5:$AG$5, 0))","v":0},{"$f":"INDEX(Calcs!$AC$5:$AG$51, MATCH('Rotation Assembler'!$A78, Calcs!$AC$5:$AC$51, 0), MATCH('Rotation Assembler'!N$38, Calcs!$AC$5:$AG$5, 0))","v":0},{"$f":"INDEX(Calcs!$AC$5:$AG$51, MATCH('Rotation Assembler'!$A78, Calcs!$AC$5:$AC$51, 0), MATCH('Rotation Assembler'!O$38, Calcs!$AC$5:$AG$5, 0))","v":0},{"$f":"INDEX(Calcs!$AC$5:$AG$51, MATCH('Rotation Assembler'!$A78, Calcs!$AC$5:$AC$51, 0), MATCH('Rotation Assembler'!P$38, Calcs!$AC$5:$AG$5, 0))","v":0},{"$f":"INDEX(Calcs!$AC$5:$AG$51, MATCH('Rotation Assembler'!$A78, Calcs!$AC$5:$AC$51, 0), MATCH('Rotation Assembler'!Q$38, Calcs!$AC$5:$AG$5, 0))","v":0},{"$f":"INDEX(Calcs!$AC$5:$AG$51, MATCH('Rotation Assembler'!$A78, Calcs!$AC$5:$AC$51, 0), MATCH('Rotation Assembler'!R$38, Calcs!$AC$5:$AG$5, 0))","v":0},{"$f":"INDEX(Calcs!$AC$5:$AG$51, MATCH('Rotation Assembler'!$A78, Calcs!$AC$5:$AC$51, 0), MATCH('Rotation Assembler'!S$38, Calcs!$AC$5:$AG$5, 0))","v":0},{"$f":"INDEX(Calcs!$AC$5:$AG$51, MATCH('Rotation Assembler'!$A78, Calcs!$AC$5:$AC$51, 0), MATCH('Rotation Assembler'!T$38, Calcs!$AC$5:$AG$5, 0))","v":0},{"$f":"INDEX(Calcs!$AC$5:$AG$51, MATCH('Rotation Assembler'!$A78, Calcs!$AC$5:$AC$51, 0), MATCH('Rotation Assembler'!U$38, Calcs!$AC$5:$AG$5, 0))","v":0},null,{"$f":"INDEX(Calcs!$AC$5:$AG$51, MATCH('Rotation Assembler'!$A78, Calcs!$AC$5:$AC$51, 0), MATCH('Rotation Assembler'!W$38, Calcs!$AC$5:$AG$5, 0))","v":0},{"$f":"INDEX(Calcs!$AC$5:$AG$51, MATCH('Rotation Assembler'!$A78, Calcs!$AC$5:$AC$51, 0), MATCH('Rotation Assembler'!X$38, Calcs!$AC$5:$AG$5, 0))","v":0},{"$f":"INDEX(Calcs!$AC$5:$AG$51, MATCH('Rotation Assembler'!$A78, Calcs!$AC$5:$AC$51, 0), MATCH('Rotation Assembler'!Y$38, Calcs!$AC$5:$AG$5, 0))","v":0},{"$f":"INDEX(Calcs!$AC$5:$AG$51, MATCH('Rotation Assembler'!$A78, Calcs!$AC$5:$AC$51, 0), MATCH('Rotation Assembler'!Z$38, Calcs!$AC$5:$AG$5, 0))","v":0},{"$f":"INDEX(Calcs!$AC$5:$AG$51, MATCH('Rotation Assembler'!$A78, Calcs!$AC$5:$AC$51, 0), MATCH('Rotation Assembler'!AA$38, Calcs!$AC$5:$AG$5, 0))","v":0},{"$f":"INDEX(Calcs!$AC$5:$AG$51, MATCH('Rotation Assembler'!$A78, Calcs!$AC$5:$AC$51, 0), MATCH('Rotation Assembler'!AB$38, Calcs!$AC$5:$AG$5, 0))","v":0},{"$f":"INDEX(Calcs!$AC$5:$AG$51, MATCH('Rotation Assembler'!$A78, Calcs!$AC$5:$AC$51, 0), MATCH('Rotation Assembler'!AC$38, Calcs!$AC$5:$AG$5, 0))","v":0},{"$f":"INDEX(Calcs!$AC$5:$AG$51, MATCH('Rotation Assembler'!$A78, Calcs!$AC$5:$AC$51, 0), MATCH('Rotation Assembler'!AD$38, Calcs!$AC$5:$AG$5, 0))","v":0},{"$f":"INDEX(Calcs!$AC$5:$AG$51, MATCH('Rotation Assembler'!$A78, Calcs!$AC$5:$AC$51, 0), MATCH('Rotation Assembler'!AE$38, Calcs!$AC$5:$AG$5, 0))","v":0},{"$f":"INDEX(Calcs!$AC$5:$AG$51, MATCH('Rotation Assembler'!$A78, Calcs!$AC$5:$AC$51, 0), MATCH('Rotation Assembler'!AF$38, Calcs!$AC$5:$AG$5, 0))","v":{"$error":"#N/A"}},{"$f":"INDEX(Calcs!$AC$5:$AG$51, MATCH('Rotation Assembler'!$A78, Calcs!$AC$5:$AC$51, 0), MATCH('Rotation Assembler'!AG$38, Calcs!$AC$5:$AG$5, 0))","v":{"$error":"#N/A"}},{"$f":"INDEX(Calcs!$AC$5:$AG$51, MATCH('Rotation Assembler'!$A78, Calcs!$AC$5:$AC$51, 0), MATCH('Rotation Assembler'!AH$38, Calcs!$AC$5:$AG$5, 0))","v":{"$error":"#N/A"}},{"$f":"INDEX(Calcs!$AC$5:$AG$51, MATCH('Rotation Assembler'!$A78, Calcs!$AC$5:$AC$51, 0), MATCH('Rotation Assembler'!AI$38, Calcs!$AC$5:$AG$5, 0))","v":{"$error":"#N/A"}},{"$f":"INDEX(Calcs!$AC$5:$AG$51, MATCH('Rotation Assembler'!$A78, Calcs!$AC$5:$AC$51, 0), MATCH('Rotation Assembler'!AJ$38, Calcs!$AC$5:$AG$5, 0))","v":{"$error":"#N/A"}},{"$f":"INDEX(Calcs!$AC$5:$AG$51, MATCH('Rotation Assembler'!$A78, Calcs!$AC$5:$AC$51, 0), MATCH('Rotation Assembler'!AK$38, Calcs!$AC$5:$AG$5, 0))","v":{"$error":"#N/A"}},{"$f":"INDEX(Calcs!$AC$5:$AG$51, MATCH('Rotation Assembler'!$A78, Calcs!$AC$5:$AC$51, 0), MATCH('Rotation Assembler'!AL$38, Calcs!$AC$5:$AG$5, 0))","v":{"$error":"#N/A"}},{"$f":"INDEX(Calcs!$AC$5:$AG$51, MATCH('Rotation Assembler'!$A78, Calcs!$AC$5:$AC$51, 0), MATCH('Rotation Assembler'!AM$38, Calcs!$AC$5:$AG$5, 0))","v":{"$error":"#N/A"}},{"$f":"INDEX(Calcs!$AC$5:$AG$51, MATCH('Rotation Assembler'!$A78, Calcs!$AC$5:$AC$51, 0), MATCH('Rotation Assembler'!AN$38, Calcs!$AC$5:$AG$5, 0))","v":{"$error":"#N/A"}},{"$f":"INDEX(Calcs!$AC$5:$AG$51, MATCH('Rotation Assembler'!$A78, Calcs!$AC$5:$AC$51, 0), MATCH('Rotation Assembler'!AO$38, Calcs!$AC$5:$AG$5, 0))","v":{"$error":"#N/A"}},{"$f":"INDEX(Calcs!$AC$5:$AG$51, MATCH('Rotation Assembler'!$A78, Calcs!$AC$5:$AC$51, 0), MATCH('Rotation Assembler'!AP$38, Calcs!$AC$5:$AG$5, 0))","v":{"$error":"#N/A"}},{"$f":"INDEX(Calcs!$AC$5:$AG$51, MATCH('Rotation Assembler'!$A78, Calcs!$AC$5:$AC$51, 0), MATCH('Rotation Assembler'!AQ$38, Calcs!$AC$5:$AG$5, 0))","v":{"$error":"#N/A"}},{"$f":"INDEX(Calcs!$AC$5:$AG$51, MATCH('Rotation Assembler'!$A78, Calcs!$AC$5:$AC$51, 0), MATCH('Rotation Assembler'!AR$38, Calcs!$AC$5:$AG$5, 0))","v":{"$error":"#N/A"}},{"$f":"INDEX(Calcs!$AC$5:$AG$51, MATCH('Rotation Assembler'!$A78, Calcs!$AC$5:$AC$51, 0), MATCH('Rotation Assembler'!AS$38, Calcs!$AC$5:$AG$5, 0))","v":{"$error":"#N/A"}},{"$f":"INDEX(Calcs!$AC$5:$AG$51, MATCH('Rotation Assembler'!$A78, Calcs!$AC$5:$AC$51, 0), MATCH('Rotation Assembler'!AT$38, Calcs!$AC$5:$AG$5, 0))","v":{"$error":"#N/A"}},{"$f":"INDEX(Calcs!$AC$5:$AG$51, MATCH('Rotation Assembler'!$A78, Calcs!$AC$5:$AC$51, 0), MATCH('Rotation Assembler'!AU$38, Calcs!$AC$5:$AG$5, 0))","v":{"$error":"#N/A"}},{"$f":"INDEX(Calcs!$AC$5:$AG$51, MATCH('Rotation Assembler'!$A78, Calcs!$AC$5:$AC$51, 0), MATCH('Rotation Assembler'!AV$38, Calcs!$AC$5:$AG$5, 0))","v":{"$error":"#N/A"}},{"$f":"INDEX(Calcs!$AC$5:$AG$51, MATCH('Rotation Assembler'!$A78, Calcs!$AC$5:$AC$51, 0), MATCH('Rotation Assembler'!AW$38, Calcs!$AC$5:$AG$5, 0))","v":{"$error":"#N/A"}},{"$f":"INDEX(Calcs!$AC$5:$AG$51, MATCH('Rotation Assembler'!$A78, Calcs!$AC$5:$AC$51, 0), MATCH('Rotation Assembler'!AX$38, Calcs!$AC$5:$AG$5, 0))","v":{"$error":"#N/A"}},{"$f":"INDEX(Calcs!$AC$5:$AG$51, MATCH('Rotation Assembler'!$A78, Calcs!$AC$5:$AC$51, 0), MATCH('Rotation Assembler'!AY$38, Calcs!$AC$5:$AG$5, 0))","v":{"$error":"#N/A"}},{"$f":"INDEX(Calcs!$AC$5:$AG$51, MATCH('Rotation Assembler'!$A78, Calcs!$AC$5:$AC$51, 0), MATCH('Rotation Assembler'!AZ$38, Calcs!$AC$5:$AG$5, 0))","v":{"$error":"#N/A"}},{"$f":"INDEX(Calcs!$AC$5:$AG$51, MATCH('Rotation Assembler'!$A78, Calcs!$AC$5:$AC$51, 0), MATCH('Rotation Assembler'!BA$38, Calcs!$AC$5:$AG$5, 0))","v":{"$error":"#N/A"}},{"$f":"INDEX(Calcs!$AC$5:$AG$51, MATCH('Rotation Assembler'!$A78, Calcs!$AC$5:$AC$51, 0), MATCH('Rotation Assembler'!BB$38, Calcs!$AC$5:$AG$5, 0))","v":{"$error":"#N/A"}},{"$f":"INDEX(Calcs!$AC$5:$AG$51, MATCH('Rotation Assembler'!$A78, Calcs!$AC$5:$AC$51, 0), MATCH('Rotation Assembler'!BC$38, Calcs!$AC$5:$AG$5, 0))","v":{"$error":"#N/A"}},{"$f":"INDEX(Calcs!$AC$5:$AG$51, MATCH('Rotation Assembler'!$A78, Calcs!$AC$5:$AC$51, 0), MATCH('Rotation Assembler'!BD$38, Calcs!$AC$5:$AG$5, 0))","v":{"$error":"#N/A"}},{"$f":"INDEX(Calcs!$AC$5:$AG$51, MATCH('Rotation Assembler'!$A78, Calcs!$AC$5:$AC$51, 0), MATCH('Rotation Assembler'!BE$38, Calcs!$AC$5:$AG$5, 0))","v":{"$error":"#N/A"}},{"$f":"INDEX(Calcs!$AC$5:$AG$51, MATCH('Rotation Assembler'!$A78, Calcs!$AC$5:$AC$51, 0), MATCH('Rotation Assembler'!BF$38, Calcs!$AC$5:$AG$5, 0))","v":{"$error":"#N/A"}}]
["Hydro RES%",{"$f":"INDEX(Calcs!$AC$5:$AG$51, MATCH('Rotation Assembler'!$A79, Calcs!$AC$5:$AC$51, 0), MATCH('Rotation Assembler'!B$38, Calcs!$AC$5:$AG$5, 0))","v":0},{"$f":"INDEX(Calcs!$AC$5:$AG$51, MATCH('Rotation Assembler'!$A79, Calcs!$AC$5:$AC$51, 0), MATCH('Rotation Assembler'!C$38, Calcs!$AC$5:$AG$5, 0))","v":0},{"$f":"INDEX(Calcs!$AC$5:$AG$51, MATCH('Rotation Assembler'!$A79, Calcs!$AC$5:$AC$51, 0), MATCH('Rotation Assembler'!D$38, Calcs!$AC$5:$AG$5, 0))","v":0},{"$f":"INDEX(Calcs!$AC$5:$AG$51, MATCH('Rotation Assembler'!$A79, Calcs!$AC$5:$AC$51, 0), MATCH('Rotation Assembler'!E$38, Calcs!$AC$5:$AG$5, 0))","v":0},{"$f":"INDEX(Calcs!$AC$5:$AG$51, MATCH('Rotation Assembler'!$A79, Calcs!$AC$5:$AC$51, 0), MATCH('Rotation Assembler'!F$38, Calcs!$AC$5:$AG$5, 0))","v":0},{"$f":"INDEX(Calcs!$AC$5:$AG$51, MATCH('Rotation Assembler'!$A79, Calcs!$AC$5:$AC$51, 0), MATCH('Rotation Assembler'!G$38, Calcs!$AC$5:$AG$5, 0))","v":0},{"$f":"INDEX(Calcs!$AC$5:$AG$51, MATCH('Rotation Assembler'!$A79, Calcs!$AC$5:$AC$51, 0), MATCH('Rotation Assembler'!H$38, Calcs!$AC$5:$AG$5, 0))","v":0},{"$f":"INDEX(Calcs!$AC$5:$AG$51, MATCH('Rotation Assembler'!$A79, Calcs!$AC$5:$AC$51, 0), MATCH('Rotation Assembler'!I$38, Calcs!$AC$5:$AG$5, 0))","v":0},{"$f":"INDEX(Calcs!$AC$5:$AG$51, MATCH('Rotation Assembler'!$A79, Calcs!$AC$5:$AC$51, 0), MATCH('Rotation Assembler'!J$38, Calcs!$AC$5:$AG$5, 0))","v":0},{"$f":"INDEX(Calcs!$AC$5:$AG$51, MATCH('Rotation Assembler'!$A79, Calcs!$AC$5:$AC$51, 0), MATCH('Rotation Assembler'!K$38, Calcs!$AC$5:$AG$5, 0))","v":0},{"$f":"INDEX(Calcs!$AC$5:$AG$51, MATCH('Rotation Assembler'!$A79, Calcs!$AC$5:$AC$51, 0), MATCH('Rotation Assembler'!L$38, Calcs!$AC$5:$AG$5, 0))","v":0},{"$f":"INDEX(Calcs!$AC$5:$AG$51, MATCH('Rotation Assembler'!$A79, Calcs!$AC$5:$AC$51, 0), MATCH('Rotation Assembler'!M$38, Calcs!$AC$5:$AG$5, 0))","v":0},{"$f":"INDEX(Calcs!$AC$5:$AG$51, MATCH('Rotation Assembler'!$A79, Calcs!$AC$5:$AC$51, 0), MATCH('Rotation Assembler'!N$38, Calcs!$AC$5:$AG$5, 0))","v":0},{"$f":"INDEX(Calcs!$AC$5:$AG$51, MATCH('Rotation Assembler'!$A79, Calcs!$AC$5:$AC$51, 0), MATCH('Rotation Assembler'!O$38, Calcs!$AC$5:$AG$5, 0))","v":0},{"$f":"INDEX(Calcs!$AC$5:$AG$51, MATCH('Rotation Assembler'!$A79, Calcs!$AC$5:$AC$51, 0), MATCH('Rotation Assembler'!P$38, Calcs!$AC$5:$AG$5, 0))","v":0},{"$f":"INDEX(Calcs!$AC$5:$AG$51, MATCH('Rotation Assembler'!$A79, Calcs!$AC$5:$AC$51, 0), MATCH('Rotation Assembler'!Q$38, Calcs!$AC$5:$AG$5, 0))","v":0},{"$f":"INDEX(Calcs!$AC$5:$AG$51, MATCH('Rotation Assembler'!$A79, Calcs!$AC$5:$AC$51, 0), MATCH('Rotation Assembler'!R$38, Calcs!$AC$5:$AG$5, 0))","v":0},{"$f":"INDEX(Calcs!$AC$5:$AG$51, MATCH('Rotation Assembler'!$A79, Calcs!$AC$5:$AC$51, 0), MATCH('Rotation Assembler'!S$38, Calcs!$AC$5:$AG$5, 0))","v":0},{"$f":"INDEX(Calcs!$AC$5:$AG$51, MATCH('Rotation Assembler'!$A79, Calcs!$AC$5:$AC$51, 0), MATCH('Rotation Assembler'!T$38, Calcs!$AC$5:$AG$5, 0))","v":0},{"$f":"INDEX(Calcs!$AC$5:$AG$51, MATCH('Rotation Assembler'!$A79, Calcs!$AC$5:$AC$51, 0), MATCH('Rotation Assembler'!U$38, Calcs!$AC$5:$AG$5, 0))","v":0},null,{"$f":"INDEX(Calcs!$AC$5:$AG$51, MATCH('Rotation Assembler'!$A79, Calcs!$AC$5:$AC$51, 0), MATCH('Rotation Assembler'!W$38, Calcs!$AC$5:$AG$5, 0))","v":0},{"$f":"INDEX(Calcs!$AC$5:$AG$51, MATCH('Rotation Assembler'!$A79, Calcs!$AC$5:$AC$51, 0), MATCH('Rotation Assembler'!X$38, Calcs!$AC$5:$AG$5, 0))","v":0},{"$f":"INDEX(Calcs!$AC$5:$AG$51, MATCH('Rotation Assembler'!$A79, Calcs!$AC$5:$AC$51, 0), MATCH('Rotation Assembler'!Y$38, Calcs!$AC$5:$AG$5, 0))","v":0},{"$f":"INDEX(Calcs!$AC$5:$AG$51, MATCH('Rotation Assembler'!$A79, Calcs!$AC$5:$AC$51, 0), MATCH('Rotation Assembler'!Z$38, Calcs!$AC$5:$AG$5, 0))","v":0},{"$f":"INDEX(Calcs!$AC$5:$AG$51, MATCH('Rotation Assembler'!$A79, Calcs!$AC$5:$AC$51, 0), MATCH('Rotation Assembler'!AA$38, Calcs!$AC$5:$AG$5, 0))","v":0},{"$f":"INDEX(Calcs!$AC$5:$AG$51, MATCH('Rotation Assembler'!$A79, Calcs!$AC$5:$AC$51, 0), MATCH('Rotation Assembler'!AB$38, Calcs!$AC$5:$AG$5, 0))","v":0},{"$f":"INDEX(Calcs!$AC$5:$AG$51, MATCH('Rotation Assembler'!$A79, Calcs!$AC$5:$AC$51, 0), MATCH('Rotation Assembler'!AC$38, Calcs!$AC$5:$AG$5, 0))","v":0},{"$f":"INDEX(Calcs!$AC$5:$AG$51, MATCH('Rotation Assembler'!$A79, Calcs!$AC$5:$AC$51, 0), MATCH('Rotation Assembler'!AD$38, Calcs!$AC$5:$AG$5, 0))","v":0},{"$f":"INDEX(Calcs!$AC$5:$AG$51, MATCH('Rotation Assembler'!$A79, Calcs!$AC$5:$AC$51, 0), MATCH('Rotation Assembler'!AE$38, Calcs!$AC$5:$AG$5, 0))","v":0},{"$f":"INDEX(Calcs!$AC$5:$AG$51, MATCH('Rotation Assembler'!$A79, Calcs!$AC$5:$AC$51, 0), MATCH('Rotation Assembler'!AF$38, Calcs!$AC$5:$AG$5, 0))","v":{"$error":"#N/A"}},{"$f":"INDEX(Calcs!$AC$5:$AG$51, MATCH('Rotation Assembler'!$A79, Calcs!$AC$5:$AC$51, 0), MATCH('Rotation Assembler'!AG$38, Calcs!$AC$5:$AG$5, 0))","v":{"$error":"#N/A"}},{"$f":"INDEX(Calcs!$AC$5:$AG$51, MATCH('Rotation Assembler'!$A79, Calcs!$AC$5:$AC$51, 0), MATCH('Rotation Assembler'!AH$38, Calcs!$AC$5:$AG$5, 0))","v":{"$error":"#N/A"}},{"$f":"INDEX(Calcs!$AC$5:$AG$51, MATCH('Rotation Assembler'!$A79, Calcs!$AC$5:$AC$51, 0), MATCH('Rotation Assembler'!AI$38, Calcs!$AC$5:$AG$5, 0))","v":{"$error":"#N/A"}},{"$f":"INDEX(Calcs!$AC$5:$AG$51, MATCH('Rotation Assembler'!$A79, Calcs!$AC$5:$AC$51, 0), MATCH('Rotation Assembler'!AJ$38, Calcs!$AC$5:$AG$5, 0))","v":{"$error":"#N/A"}},{"$f":"INDEX(Calcs!$AC$5:$AG$51, MATCH('Rotation Assembler'!$A79, Calcs!$AC$5:$AC$51, 0), MATCH('Rotation Assembler'!AK$38, Calcs!$AC$5:$AG$5, 0))","v":{"$error":"#N/A"}},{"$f":"INDEX(Calcs!$AC$5:$AG$51, MATCH('Rotation Assembler'!$A79, Calcs!$AC$5:$AC$51, 0), MATCH('Rotation Assembler'!AL$38, Calcs!$AC$5:$AG$5, 0))","v":{"$error":"#N/A"}},{"$f":"INDEX(Calcs!$AC$5:$AG$51, MATCH('Rotation Assembler'!$A79, Calcs!$AC$5:$AC$51, 0), MATCH('Rotation Assembler'!AM$38, Calcs!$AC$5:$AG$5, 0))","v":{"$error":"#N/A"}},{"$f":"INDEX(Calcs!$AC$5:$AG$51, MATCH('Rotation Assembler'!$A79, Calcs!$AC$5:$AC$51, 0), MATCH('Rotation Assembler'!AN$38, Calcs!$AC$5:$AG$5, 0))","v":{"$error":"#N/A"}},{"$f":"INDEX(Calcs!$AC$5:$AG$51, MATCH('Rotation Assembler'!$A79, Calcs!$AC$5:$AC$51, 0), MATCH('Rotation Assembler'!AO$38, Calcs!$AC$5:$AG$5, 0))","v":{"$error":"#N/A"}},{"$f":"INDEX(Calcs!$AC$5:$AG$51, MATCH('Rotation Assembler'!$A79, Calcs!$AC$5:$AC$51, 0), MATCH('Rotation Assembler'!AP$38, Calcs!$AC$5:$AG$5, 0))","v":{"$error":"#N/A"}},{"$f":"INDEX(Calcs!$AC$5:$AG$51, MATCH('Rotation Assembler'!$A79, Calcs!$AC$5:$AC$51, 0), MATCH('Rotation Assembler'!AQ$38, Calcs!$AC$5:$AG$5, 0))","v":{"$error":"#N/A"}},{"$f":"INDEX(Calcs!$AC$5:$AG$51, MATCH('Rotation Assembler'!$A79, Calcs!$AC$5:$AC$51, 0), MATCH('Rotation Assembler'!AR$38, Calcs!$AC$5:$AG$5, 0))","v":{"$error":"#N/A"}},{"$f":"INDEX(Calcs!$AC$5:$AG$51, MATCH('Rotation Assembler'!$A79, Calcs!$AC$5:$AC$51, 0), MATCH('Rotation Assembler'!AS$38, Calcs!$AC$5:$AG$5, 0))","v":{"$error":"#N/A"}},{"$f":"INDEX(Calcs!$AC$5:$AG$51, MATCH('Rotation Assembler'!$A79, Calcs!$AC$5:$AC$51, 0), MATCH('Rotation Assembler'!AT$38, Calcs!$AC$5:$AG$5, 0))","v":{"$error":"#N/A"}},{"$f":"INDEX(Calcs!$AC$5:$AG$51, MATCH('Rotation Assembler'!$A79, Calcs!$AC$5:$AC$51, 0), MATCH('Rotation Assembler'!AU$38, Calcs!$AC$5:$AG$5, 0))","v":{"$error":"#N/A"}},{"$f":"INDEX(Calcs!$AC$5:$AG$51, MATCH('Rotation Assembler'!$A79, Calcs!$AC$5:$AC$51, 0), MATCH('Rotation Assembler'!AV$38, Calcs!$AC$5:$AG$5, 0))","v":{"$error":"#N/A"}},{"$f":"INDEX(Calcs!$AC$5:$AG$51, MATCH('Rotation Assembler'!$A79, Calcs!$AC$5:$AC$51, 0), MATCH('Rotation Assembler'!AW$38, Calcs!$AC$5:$AG$5, 0))","v":{"$error":"#N/A"}},{"$f":"INDEX(Calcs!$AC$5:$AG$51, MATCH('Rotation Assembler'!$A79, Calcs!$AC$5:$AC$51, 0), MATCH('Rotation Assembler'!AX$38, Calcs!$AC$5:$AG$5, 0))","v":{"$error":"#N/A"}},{"$f":"INDEX(Calcs!$AC$5:$AG$51, MATCH('Rotation Assembler'!$A79, Calcs!$AC$5:$AC$51, 0), MATCH('Rotation Assembler'!AY$38, Calcs!$AC$5:$AG$5, 0))","v":{"$error":"#N/A"}},{"$f":"INDEX(Calcs!$AC$5:$AG$51, MATCH('Rotation Assembler'!$A79, Calcs!$AC$5:$AC$51, 0), MATCH('Rotation Assembler'!AZ$38, Calcs!$AC$5:$AG$5, 0))","v":{"$error":"#N/A"}},{"$f":"INDEX(Calcs!$AC$5:$AG$51, MATCH('Rotation Assembler'!$A79, Calcs!$AC$5:$AC$51, 0), MATCH('Rotation Assembler'!BA$38, Calcs!$AC$5:$AG$5, 0))","v":{"$error":"#N/A"}},{"$f":"INDEX(Calcs!$AC$5:$AG$51, MATCH('Rotation Assembler'!$A79, Calcs!$AC$5:$AC$51, 0), MATCH('Rotation Assembler'!BB$38, Calcs!$AC$5:$AG$5, 0))","v":{"$error":"#N/A"}},{"$f":"INDEX(Calcs!$AC$5:$AG$51, MATCH('Rotation Assembler'!$A79, Calcs!$AC$5:$AC$51, 0), MATCH('Rotation Assembler'!BC$38, Calcs!$AC$5:$AG$5, 0))","v":{"$error":"#N/A"}},{"$f":"INDEX(Calcs!$AC$5:$AG$51, MATCH('Rotation Assembler'!$A79, Calcs!$AC$5:$AC$51, 0), MATCH('Rotation Assembler'!BD$38, Calcs!$AC$5:$AG$5, 0))","v":{"$error":"#N/A"}},{"$f":"INDEX(Calcs!$AC$5:$AG$51, MATCH('Rotation Assembler'!$A79, Calcs!$AC$5:$AC$51, 0), MATCH('Rotation Assembler'!BE$38, Calcs!$AC$5:$AG$5, 0))","v":{"$error":"#N/A"}},{"$f":"INDEX(Calcs!$AC$5:$AG$51, MATCH('Rotation Assembler'!$A79, Calcs!$AC$5:$AC$51, 0), MATCH('Rotation Assembler'!BF$38, Calcs!$AC$5:$AG$5, 0))","v":{"$error":"#N/A"}}]
["Electro RES%",{"$f":"INDEX(Calcs!$AC$5:$AG$51, MATCH('Rotation Assembler'!$A80, Calcs!$AC$5:$AC$51, 0), MATCH('Rotation Assembler'!B$38, Calcs!$AC$5:$AG$5, 0))","v":0},{"$f":"INDEX(Calcs!$AC$5:$AG$51, MATCH('Rotation Assembler'!$A80, Calcs!$AC$5:$AC$51, 0), MATCH('Rotation Assembler'!C$38, Calcs!$AC$5:$AG$5, 0))","v":0},{"$f":"INDEX(Calcs!$AC$5:$AG$51, MATCH('Rotation Assembler'!$A80, Calcs!$AC$5:$AC$51, 0), MATCH('Rotation Assembler'!D$38, Calcs!$AC$5:$AG$5, 0))","v":0},{"$f":"INDEX(Calcs!$AC$5:$AG$51, MATCH('Rotation Assembler'!$A80, Calcs!$AC$5:$AC$51, 0), MATCH('Rotation Assembler'!E$38, Calcs!$AC$5:$AG$5, 0))","v":0},{"$f":"INDEX(Calcs!$AC$5:$AG$51, MATCH('Rotation Assembler'!$A80, Calcs!$AC$5:$AC$51, 0), MATCH('Rotation Assembler'!F$38, Calcs!$AC$5:$AG$5, 0))","v":0},{"$f":"INDEX(Calcs!$AC$5:$AG$51, MATCH('Rotation Assembler'!$A80, Calcs!$AC$5:$AC$51, 0), MATCH('Rotation Assembler'!G$38, Calcs!$AC$5:$AG$5, 0))","v":0},{"$f":"INDEX(Calcs!$AC$5:$AG$51, MATCH('Rotation Assembler'!$A80, Calcs!$AC$5:$AC$51, 0), MATCH('Rotation Assembler'!H$38, Calcs!$AC$5:$AG$5, 0))","v":0},{"$f":"INDEX(Calcs!$AC$5:$AG$51, MATCH('Rotation Assembler'!$A80, Calcs!$AC$5:$AC$51, 0), MATCH('Rotation Assembler'!I$38, Calcs!$AC$5:$AG$5, 0))","v":0},{"$f":"INDEX(Calcs!$AC$5:$AG$51, MATCH('Rotation Assembler'!$A80, Calcs!$AC$5:$AC$51, 0), MATCH('Rotation Assembler'!J$38, Calcs!$AC$5:$AG$5, 0))","v":0},{"$f":"INDEX(Calcs!$AC$5:$AG$51, MATCH('Rotation Assembler'!$A80, Calcs!$AC$5:$AC$51, 0), MATCH('Rotation Assembler'!K$38, Calcs!$AC$5:$AG$5, 0))","v":0},{"$f":"INDEX(Calcs!$AC$5:$AG$51, MATCH('Rotation Assembler'!$A80, Calcs!$AC$5:$AC$51, 0), MATCH('Rotation Assembler'!L$38, Calcs!$AC$5:$AG$5, 0))","v":0},{"$f":"INDEX(Calcs!$AC$5:$AG$51, MATCH('Rotation Assembler'!$A80, Calcs!$AC$5:$AC$51, 0), MATCH('Rotation Assembler'!M$38, Calcs!$AC$5:$AG$5, 0))","v":0},{"$f":"INDEX(Calcs!$AC$5:$AG$51, MATCH('Rotation Assembler'!$A80, Calcs!$AC$5:$AC$51, 0), MATCH('Rotation Assembler'!N$38, Calcs!$AC$5:$AG$5, 0))","v":0},{"$f":"INDEX(Calcs!$AC$5:$AG$51, MATCH('Rotation Assembler'!$A80, Calcs!$AC$5:$AC$51, 0), MATCH('Rotation Assembler'!O$38, Calcs!$AC$5:$AG$5, 0))","v":0},{"$f":"INDEX(Calcs!$AC$5:$AG$51, MATCH('Rotation Assembler'!$A80, Calcs!$AC$5:$AC$51, 0), MATCH('Rotation Assembler'!P$38, Calcs!$AC$5:$AG$5, 0))","v":0},{"$f":"INDEX(Calcs!$AC$5:$AG$51, MATCH('Rotation Assembler'!$A80, Calcs!$AC$5:$AC$51, 0), MATCH('Rotation Assembler'!Q$38, Calcs!$AC$5:$AG$5, 0))","v":0},{"$f":"INDEX(Calcs!$AC$5:$AG$51, MATCH('Rotation Assembler'!$A80, Calcs!$AC$5:$AC$51, 0), MATCH('Rotation Assembler'!R$38, Calcs!$AC$5:$AG$5, 0))","v":0},{"$f":"INDEX(Calcs!$AC$5:$AG$51, MATCH('Rotation Assembler'!$A80, Calcs!$AC$5:$AC$51, 0), MATCH('Rotation Assembler'!S$38, Calcs!$AC$5:$AG$5, 0))","v":0},{"$f":"INDEX(Calcs!$AC$5:$AG$51, MATCH('Rotation Assembler'!$A80, Calcs!$AC$5:$AC$51, 0), MATCH('Rotation Assembler'!T$38, Calcs!$AC$5:$AG$5, 0))","v":0},{"$f":"INDEX(Calcs!$AC$5:$AG$51, MATCH('Rotation Assembler'!$A80, Calcs!$AC$5:$AC$51, 0), MATCH('Rotation Assembler'!U$38, Calcs!$AC$5:$AG$5, 0))","v":0},null,{"$f":"INDEX(Calcs!$AC$5:$AG$51, MATCH('Rotation Assembler'!$A80, Calcs!$AC$5:$AC$51, 0), MATCH('Rotation Assembler'!W$38, Calcs!$AC$5:$AG$5, 0))","v":0},{"$f":"INDEX(Calcs!$AC$5:$AG$51, MATCH('Rotation Assembler'!$A80, Calcs!$AC$5:$AC$51, 0), MATCH('Rotation Assembler'!X$38, Calcs!$AC$5:$AG$5, 0))","v":0},{"$f":"INDEX(Calcs!$AC$5:$AG$51, MATCH('Rotation Assembler'!$A80, Calcs!$AC$5:$AC$51, 0), MATCH('Rotation Assembler'!Y$38, Calcs!$AC$5:$AG$5, 0))","v":0},{"$f":"INDEX(Calcs!$AC$5:$AG$51, MATCH('Rotation Assembler'!$A80, Calcs!$AC$5:$AC$51, 0), MATCH('Rotation Assembler'!Z$38, Calcs!$AC$5:$AG$5, 0))","v":0},{"$f":"INDEX(Calcs!$AC$5:$AG$51, MATCH('Rotation Assembler'!$A80, Calcs!$AC$5:$AC$51, 0), MATCH('Rotation Assembler'!AA$38, Calcs!$AC$5:$AG$5, 0))","v":0},{"$f":"INDEX(Calcs!$AC$5:$AG$51, MATCH('Rotation Assembler'!$A80, Calcs!$AC$5:$AC$51, 0), MATCH('Rotation Assembler'!AB$38, Calcs!$AC$5:$AG$5, 0))","v":0},{"$f":"INDEX(Calcs!$AC$5:$AG$51, MATCH('Rotation Assembler'!$A80, Calcs!$AC$5:$AC$51, 0), MATCH('Rotation Assembler'!AC$38, Calcs!$AC$5:$AG$5, 0))","v":0},{"$f":"INDEX(Calcs!$AC$5:$AG$51, MATCH('Rotation Assembler'!$A80, Calcs!$AC$5:$AC$51, 0), MATCH('Rotation Assembler'!AD$38, Calcs!$AC$5:$AG$5, 0))","v":0},{"$f":"INDEX(Calcs!$AC$5:$AG$51, MATCH('Rotation Assembler'!$A80, Calcs!$AC$5:$AC$51, 0), MATCH('Rotation Assembler'!AE$38, Calcs!$AC$5:$AG$5, 0))","v":0},{"$f":"INDEX(Calcs!$AC$5:$AG$51, MATCH('Rotation Assembler'!$A80, Calcs!$AC$5:$AC$51, 0), MATCH('Rotation Assembler'!AF$38, Calcs!$AC$5:$AG$5, 0))","v":{"$error":"#N/A"}},{"$f":"INDEX(Calcs!$AC$5:$AG$51, MATCH('Rotation Assembler'!$A80, Calcs!$AC$5:$AC$51, 0), MATCH('Rotation Assembler'!AG$38, Calcs!$AC$5:$AG$5, 0))","v":{"$error":"#N/A"}},{"$f":"INDEX(Calcs!$AC$5:$AG$51, MATCH('Rotation Assembler'!$A80, Calcs!$AC$5:$AC$51, 0), MATCH('Rotation Assembler'!AH$38, Calcs!$AC$5:$AG$5, 0))","v":{"$error":"#N/A"}},{"$f":"INDEX(Calcs!$AC$5:$AG$51, MATCH('Rotation Assembler'!$A80, Calcs!$AC$5:$AC$51, 0), MATCH('Rotation Assembler'!AI$38, Calcs!$AC$5:$AG$5, 0))","v":{"$error":"#N/A"}},{"$f":"INDEX(Calcs!$AC$5:$AG$51, MATCH('Rotation Assembler'!$A80, Calcs!$AC$5:$AC$51, 0), MATCH('Rotation Assembler'!AJ$38, Calcs!$AC$5:$AG$5, 0))","v":{"$error":"#N/A"}},{"$f":"INDEX(Calcs!$AC$5:$AG$51, MATCH('Rotation Assembler'!$A80, Calcs!$AC$5:$AC$51, 0), MATCH('Rotation Assembler'!AK$38, Calcs!$AC$5:$AG$5, 0))","v":{"$error":"#N/A"}},{"$f":"INDEX(Calcs!$AC$5:$AG$51, MATCH('Rotation Assembler'!$A80, Calcs!$AC$5:$AC$51, 0), MATCH('Rotation Assembler'!AL$38, Calcs!$AC$5:$AG$5, 0))","v":{"$error":"#N/A"}},{"$f":"INDEX(Calcs!$AC$5:$AG$51, MATCH('Rotation Assembler'!$A80, Calcs!$AC$5:$AC$51, 0), MATCH('Rotation Assembler'!AM$38, Calcs!$AC$5:$AG$5, 0))","v":{"$error":"#N/A"}},{"$f":"INDEX(Calcs!$AC$5:$AG$51, MATCH('Rotation Assembler'!$A80, Calcs!$AC$5:$AC$51, 0), MATCH('Rotation Assembler'!AN$38, Calcs!$AC$5:$AG$5, 0))","v":{"$error":"#N/A"}},{"$f":"INDEX(Calcs!$AC$5:$AG$51, MATCH('Rotation Assembler'!$A80, Calcs!$AC$5:$AC$51, 0), MATCH('Rotation Assembler'!AO$38, Calcs!$AC$5:$AG$5, 0))","v":{"$error":"#N/A"}},{"$f":"INDEX(Calcs!$AC$5:$AG$51, MATCH('Rotation Assembler'!$A80, Calcs!$AC$5:$AC$51, 0), MATCH('Rotation Assembler'!AP$38, Calcs!$AC$5:$AG$5, 0))","v":{"$error":"#N/A"}},{"$f":"INDEX(Calcs!$AC$5:$AG$51, MATCH('Rotation Assembler'!$A80, Calcs!$AC$5:$AC$51, 0), MATCH('Rotation Assembler'!AQ$38, Calcs!$AC$5:$AG$5, 0))","v":{"$error":"#N/A"}},{"$f":"INDEX(Calcs!$AC$5:$AG$51, MATCH('Rotation Assembler'!$A80, Calcs!$AC$5:$AC$51, 0), MATCH('Rotation Assembler'!AR$38, Calcs!$AC$5:$AG$5, 0))","v":{"$error":"#N/A"}},{"$f":"INDEX(Calcs!$AC$5:$AG$51, MATCH('Rotation Assembler'!$A80, Calcs!$AC$5:$AC$51, 0), MATCH('Rotation Assembler'!AS$38, Calcs!$AC$5:$AG$5, 0))","v":{"$error":"#N/A"}},{"$f":"INDEX(Calcs!$AC$5:$AG$51, MATCH('Rotation Assembler'!$A80, Calcs!$AC$5:$AC$51, 0), MATCH('Rotation Assembler'!AT$38, Calcs!$AC$5:$AG$5, 0))","v":{"$error":"#N/A"}},{"$f":"INDEX(Calcs!$AC$5:$AG$51, MATCH('Rotation Assembler'!$A80, Calcs!$AC$5:$AC$51, 0), MATCH('Rotation Assembler'!AU$38, Calcs!$AC$5:$AG$5, 0))","v":{"$error":"#N/A"}},{"$f":"INDEX(Calcs!$AC$5:$AG$51, MATCH('Rotation Assembler'!$A80, Calcs!$AC$5:$AC$51, 0), MATCH('Rotation Assembler'!AV$38, Calcs!$AC$5:$AG$5, 0))","v":{"$error":"#N/A"}},{"$f":"INDEX(Calcs!$AC$5:$AG$51, MATCH('Rotation Assembler'!$A80, Calcs!$AC$5:$AC$51, 0), MATCH('Rotation Assembler'!AW$38, Calcs!$AC$5:$AG$5, 0))","v":{"$error":"#N/A"}},{"$f":"INDEX(Calcs!$AC$5:$AG$51, MATCH('Rotation Assembler'!$A80, Calcs!$AC$5:$AC$51, 0), MATCH('Rotation Assembler'!AX$38, Calcs!$AC$5:$AG$5, 0))","v":{"$error":"#N/A"}},{"$f":"INDEX(Calcs!$AC$5:$AG$51, MATCH('Rotation Assembler'!$A80, Calcs!$AC$5:$AC$51, 0), MATCH('Rotation Assembler'!AY$38, Calcs!$AC$5:$AG$5, 0))","v":{"$error":"#N/A"}},{"$f":"INDEX(Calcs!$AC$5:$AG$51, MATCH('Rotation Assembler'!$A80, Calcs!$AC$5:$AC$51, 0), MATCH('Rotation Assembler'!AZ$38, Calcs!$AC$5:$AG$5, 0))","v":{"$error":"#N/A"}},{"$f":"INDEX(Calcs!$AC$5:$AG$51, MATCH('Rotation Assembler'!$A80, Calcs!$AC$5:$AC$51, 0), MATCH('Rotation Assembler'!BA$38, Calcs!$AC$5:$AG$5, 0))","v":{"$error":"#N/A"}},{"$f":"INDEX(Calcs!$AC$5:$AG$51, MATCH('Rotation Assembler'!$A80, Calcs!$AC$5:$AC$51, 0), MATCH('Rotation Assembler'!BB$38, Calcs!$AC$5:$AG$5, 0))","v":{"$error":"#N/A"}},{"$f":"INDEX(Calcs!$AC$5:$AG$51, MATCH('Rotation Assembler'!$A80, Calcs!$AC$5:$AC$51, 0), MATCH('Rotation Assembler'!BC$38, Calcs!$AC$5:$AG$5, 0))","v":{"$error":"#N/A"}},{"$f":"INDEX(Calcs!$AC$5:$AG$51, MATCH('Rotation Assembler'!$A80, Calcs!$AC$5:$AC$51, 0), MATCH('Rotation Assembler'!BD$38, Calcs!$AC$5:$AG$5, 0))","v":{"$error":"#N/A"}},{"$f":"INDEX(Calcs!$AC$5:$AG$51, MATCH('Rotation Assembler'!$A80, Calcs!$AC$5:$AC$51, 0), MATCH('Rotation Assembler'!BE$38, Calcs!$AC$5:$AG$5, 0))","v":{"$error":"#N/A"}},{"$f":"INDEX(Calcs!$AC$5:$AG$51, MATCH('Rotation Assembler'!$A80, Calcs!$AC$5:$AC$51, 0), MATCH('Rotation Assembler'!BF$38, Calcs!$AC$5:$AG$5, 0))","v":{"$error":"#N/A"}}]
["Burst CR%",{"$f":"INDEX(Calcs!$AC$5:$AG$51, MATCH('Rotation Assembler'!$A81, Calcs!$AC$5:$AC$51, 0), MATCH('Rotation Assembler'!B$38, Calcs!$AC$5:$AG$5, 0))","v":0},{"$f":"INDEX(Calcs!$AC$5:$AG$51, MATCH('Rotation Assembler'!$A81, Calcs!$AC$5:$AC$51, 0), MATCH('Rotation Assembler'!C$38, Calcs!$AC$5:$AG$5, 0))","v":0},{"$f":"INDEX(Calcs!$AC$5:$AG$51, MATCH('Rotation Assembler'!$A81, Calcs!$AC$5:$AC$51, 0), MATCH('Rotation Assembler'!D$38, Calcs!$AC$5:$AG$5, 0))","v":0},{"$f":"INDEX(Calcs!$AC$5:$AG$51, MATCH('Rotation Assembler'!$A81, Calcs!$AC$5:$AC$51, 0), MATCH('Rotation Assembler'!E$38, Calcs!$AC$5:$AG$5, 0))","v":0},{"$f":"INDEX(Calcs!$AC$5:$AG$51, MATCH('Rotation Assembler'!$A81, Calcs!$AC$5:$AC$51, 0), MATCH('Rotation Assembler'!F$38, Calcs!$AC$5:$AG$5, 0))","v":0},{"$f":"INDEX(Calcs!$AC$5:$AG$51, MATCH('Rotation Assembler'!$A81, Calcs!$AC$5:$AC$51, 0), MATCH('Rotation Assembler'!G$38, Calcs!$AC$5:$AG$5, 0))","v":0},{"$f":"INDEX(Calcs!$AC$5:$AG$51, MATCH('Rotation Assembler'!$A81, Calcs!$AC$5:$AC$51, 0), MATCH('Rotation Assembler'!H$38, Calcs!$AC$5:$AG$5, 0))","v":0},{"$f":"INDEX(Calcs!$AC$5:$AG$51, MATCH('Rotation Assembler'!$A81, Calcs!$AC$5:$AC$51, 0), MATCH('Rotation Assembler'!I$38, Calcs!$AC$5:$AG$5, 0))","v":0},{"$f":"INDEX(Calcs!$AC$5:$AG$51, MATCH('Rotation Assembler'!$A81, Calcs!$AC$5:$AC$51, 0), MATCH('Rotation Assembler'!J$38, Calcs!$AC$5:$AG$5, 0))","v":0},{"$f":"INDEX(Calcs!$AC$5:$AG$51, MATCH('Rotation Assembler'!$A81, Calcs!$AC$5:$AC$51, 0), MATCH('Rotation Assembler'!K$38, Calcs!$AC$5:$AG$5, 0))","v":0},{"$f":"INDEX(Calcs!$AC$5:$AG$51, MATCH('Rotation Assembler'!$A81, Calcs!$AC$5:$AC$51, 0), MATCH('Rotation Assembler'!L$38, Calcs!$AC$5:$AG$5, 0))","v":0},{"$f":"INDEX(Calcs!$AC$5:$AG$51, MATCH('Rotation Assembler'!$A81, Calcs!$AC$5:$AC$51, 0), MATCH('Rotation Assembler'!M$38, Calcs!$AC$5:$AG$5, 0))","v":0},{"$f":"INDEX(Calcs!$AC$5:$AG$51, MATCH('Rotation Assembler'!$A81, Calcs!$AC$5:$AC$51, 0), MATCH('Rotation Assembler'!N$38, Calcs!$AC$5:$AG$5, 0))","v":0},{"$f":"INDEX(Calcs!$AC$5:$AG$51, MATCH('Rotation Assembler'!$A81, Calcs!$AC$5:$AC$51, 0), MATCH('Rotation Assembler'!O$38, Calcs!$AC$5:$AG$5, 0))","v":0},{"$f":"INDEX(Calcs!$AC$5:$AG$51, MATCH('Rotation Assembler'!$A81, Calcs!$AC$5:$AC$51, 0), MATCH('Rotation Assembler'!P$38, Calcs!$AC$5:$AG$5, 0))","v":0},{"$f":"INDEX(Calcs!$AC$5:$AG$51, MATCH('Rotation Assembler'!$A81, Calcs!$AC$5:$AC$51, 0), MATCH('Rotation Assembler'!Q$38, Calcs!$AC$5:$AG$5, 0))","v":0},{"$f":"INDEX(Calcs!$AC$5:$AG$51, MATCH('Rotation Assembler'!$A81, Calcs!$AC$5:$AC$51, 0), MATCH('Rotation Assembler'!R$38, Calcs!$AC$5:$AG$5, 0))","v":0},{"$f":"INDEX(Calcs!$AC$5:$AG$51, MATCH('Rotation Assembler'!$A81, Calcs!$AC$5:$AC$51, 0), MATCH('Rotation Assembler'!S$38, Calcs!$AC$5:$AG$5, 0))","v":0},{"$f":"INDEX(Calcs!$AC$5:$AG$51, MATCH('Rotation Assembler'!$A81, Calcs!$AC$5:$AC$51, 0), MATCH('Rotation Assembler'!T$38, Calcs!$AC$5:$AG$5, 0))","v":0},{"$f":"INDEX(Calcs!$AC$5:$AG$51, MATCH('Rotation Assembler'!$A81, Calcs!$AC$5:$AC$51, 0), MATCH('Rotation Assembler'!U$38, Calcs!$AC$5:$AG$5, 0))","v":0},null,{"$f":"INDEX(Calcs!$AC$5:$AG$51, MATCH('Rotation Assembler'!$A81, Calcs!$AC$5:$AC$51, 0), MATCH('Rotation Assembler'!W$38, Calcs!$AC$5:$AG$5, 0))","v":0},{"$f":"INDEX(Calcs!$AC$5:$AG$51, MATCH('Rotation Assembler'!$A81, Calcs!$AC$5:$AC$51, 0), MATCH('Rotation Assembler'!X$38, Calcs!$AC$5:$AG$5, 0))","v":0},{"$f":"INDEX(Calcs!$AC$5:$AG$51, MATCH('Rotation Assembler'!$A81, Calcs!$AC$5:$AC$51, 0), MATCH('Rotation Assembler'!Y$38, Calcs!$AC$5:$AG$5, 0))","v":0},{"$f":"INDEX(Calcs!$AC$5:$AG$51, MATCH('Rotation Assembler'!$A81, Calcs!$AC$5:$AC$51, 0), MATCH('Rotation Assembler'!Z$38, Calcs!$AC$5:$AG$5, 0))","v":0},{"$f":"INDEX(Calcs!$AC$5:$AG$51, MATCH('Rotation Assembler'!$A81, Calcs!$AC$5:$AC$51, 0), MATCH('Rotation Assembler'!AA$38, Calcs!$AC$5:$AG$5, 0))","v":0},{"$f":"INDEX(Calcs!$AC$5:$AG$51, MATCH('Rotation Assembler'!$A81, Calcs!$AC$5:$AC$51, 0), MATCH('Rotation Assembler'!AB$38, Calcs!$AC$5:$AG$5, 0))","v":0},{"$f":"INDEX(Calcs!$AC$5:$AG$51, MATCH('Rotation Assembler'!$A81, Calcs!$AC$5:$AC$51, 0), MATCH('Rotation Assembler'!AC$38, Calcs!$AC$5:$AG$5, 0))","v":0},{"$f":"INDEX(Calcs!$AC$5:$AG$51, MATCH('Rotation Assembler'!$A81, Calcs!$AC$5:$AC$51, 0), MATCH('Rotation Assembler'!AD$38, Calcs!$AC$5:$AG$5, 0))","v":0},{"$f":"INDEX(Calcs!$AC$5:$AG$51, MATCH('Rotation Assembler'!$A81, Calcs!$AC$5:$AC$51, 0), MATCH('Rotation Assembler'!AE$38, Calcs!$AC$5:$AG$5, 0))","v":0},{"$f":"INDEX(Calcs!$AC$5:$AG$51, MATCH('Rotation Assembler'!$A81, Calcs!$AC$5:$AC$51, 0), MATCH('Rotation Assembler'!AF$38, Calcs!$AC$5:$AG$5, 0))","v":{"$error":"#N/A"}},{"$f":"INDEX(Calcs!$AC$5:$AG$51, MATCH('Rotation Assembler'!$A81, Calcs!$AC$5:$AC$51, 0), MATCH('Rotation Assembler'!AG$38, Calcs!$AC$5:$AG$5, 0))","v":{"$error":"#N/A"}},{"$f":"INDEX(Calcs!$AC$5:$AG$51, MATCH('Rotation Assembler'!$A81, Calcs!$AC$5:$AC$51, 0), MATCH('Rotation Assembler'!AH$38, Calcs!$AC$5:$AG$5, 0))","v":{"$error":"#N/A"}},{"$f":"INDEX(Calcs!$AC$5:$AG$51, MATCH('Rotation Assembler'!$A81, Calcs!$AC$5:$AC$51, 0), MATCH('Rotation Assembler'!AI$38, Calcs!$AC$5:$AG$5, 0))","v":{"$error":"#N/A"}},{"$f":"INDEX(Calcs!$AC$5:$AG$51, MATCH('Rotation Assembler'!$A81, Calcs!$AC$5:$AC$51, 0), MATCH('Rotation Assembler'!AJ$38, Calcs!$AC$5:$AG$5, 0))","v":{"$error":"#N/A"}},{"$f":"INDEX(Calcs!$AC$5:$AG$51, MATCH('Rotation Assembler'!$A81, Calcs!$AC$5:$AC$51, 0), MATCH('Rotation Assembler'!AK$38, Calcs!$AC$5:$AG$5, 0))","v":{"$error":"#N/A"}},{"$f":"INDEX(Calcs!$AC$5:$AG$51, MATCH('Rotation Assembler'!$A81, Calcs!$AC$5:$AC$51, 0), MATCH('Rotation Assembler'!AL$38, Calcs!$AC$5:$AG$5, 0))","v":{"$error":"#N/A"}},{"$f":"INDEX(Calcs!$AC$5:$AG$51, MATCH('Rotation Assembler'!$A81, Calcs!$AC$5:$AC$51, 0), MATCH('Rotation Assembler'!AM$38, Calcs!$AC$5:$AG$5, 0))","v":{"$error":"#N/A"}},{"$f":"INDEX(Calcs!$AC$5:$AG$51, MATCH('Rotation Assembler'!$A81, Calcs!$AC$5:$AC$51, 0), MATCH('Rotation Assembler'!AN$38, Calcs!$AC$5:$AG$5, 0))","v":{"$error":"#N/A"}},{"$f":"INDEX(Calcs!$AC$5:$AG$51, MATCH('Rotation Assembler'!$A81, Calcs!$AC$5:$AC$51, 0), MATCH('Rotation Assembler'!AO$38, Calcs!$AC$5:$AG$5, 0))","v":{"$error":"#N/A"}},{"$f":"INDEX(Calcs!$AC$5:$AG$51, MATCH('Rotation Assembler'!$A81, Calcs!$AC$5:$AC$51, 0), MATCH('Rotation Assembler'!AP$38, Calcs!$AC$5:$AG$5, 0))","v":{"$error":"#N/A"}},{"$f":"INDEX(Calcs!$AC$5:$AG$51, MATCH('Rotation Assembler'!$A81, Calcs!$AC$5:$AC$51, 0), MATCH('Rotation Assembler'!AQ$38, Calcs!$AC$5:$AG$5, 0))","v":{"$error":"#N/A"}},{"$f":"INDEX(Calcs!$AC$5:$AG$51, MATCH('Rotation Assembler'!$A81, Calcs!$AC$5:$AC$51, 0), MATCH('Rotation Assembler'!AR$38, Calcs!$AC$5:$AG$5, 0))","v":{"$error":"#N/A"}},{"$f":"INDEX(Calcs!$AC$5:$AG$51, MATCH('Rotation Assembler'!$A81, Calcs!$AC$5:$AC$51, 0), MATCH('Rotation Assembler'!AS$38, Calcs!$AC$5:$AG$5, 0))","v":{"$error":"#N/A"}},{"$f":"INDEX(Calcs!$AC$5:$AG$51, MATCH('Rotation Assembler'!$A81, Calcs!$AC$5:$AC$51, 0), MATCH('Rotation Assembler'!AT$38, Calcs!$AC$5:$AG$5, 0))","v":{"$error":"#N/A"}},{"$f":"INDEX(Calcs!$AC$5:$AG$51, MATCH('Rotation Assembler'!$A81, Calcs!$AC$5:$AC$51, 0), MATCH('Rotation Assembler'!AU$38, Calcs!$AC$5:$AG$5, 0))","v":{"$error":"#N/A"}},{"$f":"INDEX(Calcs!$AC$5:$AG$51, MATCH('Rotation Assembler'!$A81, Calcs!$AC$5:$AC$51, 0), MATCH('Rotation Assembler'!AV$38, Calcs!$AC$5:$AG$5, 0))","v":{"$error":"#N/A"}},{"$f":"INDEX(Calcs!$AC$5:$AG$51, MATCH('Rotation Assembler'!$A81, Calcs!$AC$5:$AC$51, 0), MATCH('Rotation Assembler'!AW$38, Calcs!$AC$5:$AG$5, 0))","v":{"$error":"#N/A"}},{"$f":"INDEX(Calcs!$AC$5:$AG$51, MATCH('Rotation Assembler'!$A81, Calcs!$AC$5:$AC$51, 0), MATCH('Rotation Assembler'!AX$38, Calcs!$AC$5:$AG$5, 0))","v":{"$error":"#N/A"}},{"$f":"INDEX(Calcs!$AC$5:$AG$51, MATCH('Rotation Assembler'!$A81, Calcs!$AC$5:$AC$51, 0), MATCH('Rotation Assembler'!AY$38, Calcs!$AC$5:$AG$5, 0))","v":{"$error":"#N/A"}},{"$f":"INDEX(Calcs!$AC$5:$AG$51, MATCH('Rotation Assembler'!$A81, Calcs!$AC$5:$AC$51, 0), MATCH('Rotation Assembler'!AZ$38, Calcs!$AC$5:$AG$5, 0))","v":{"$error":"#N/A"}},{"$f":"INDEX(Calcs!$AC$5:$AG$51, MATCH('Rotation Assembler'!$A81, Calcs!$AC$5:$AC$51, 0), MATCH('Rotation Assembler'!BA$38, Calcs!$AC$5:$AG$5, 0))","v":{"$error":"#N/A"}},{"$f":"INDEX(Calcs!$AC$5:$AG$51, MATCH('Rotation Assembler'!$A81, Calcs!$AC$5:$AC$51, 0), MATCH('Rotation Assembler'!BB$38, Calcs!$AC$5:$AG$5, 0))","v":{"$error":"#N/A"}},{"$f":"INDEX(Calcs!$AC$5:$AG$51, MATCH('Rotation Assembler'!$A81, Calcs!$AC$5:$AC$51, 0), MATCH('Rotation Assembler'!BC$38, Calcs!$AC$5:$AG$5, 0))","v":{"$error":"#N/A"}},{"$f":"INDEX(Calcs!$AC$5:$AG$51, MATCH('Rotation Assembler'!$A81, Calcs!$AC$5:$AC$51, 0), MATCH('Rotation Assembler'!BD$38, Calcs!$AC$5:$AG$5, 0))","v":{"$error":"#N/A"}},{"$f":"INDEX(Calcs!$AC$5:$AG$51, MATCH('Rotation Assembler'!$A81, Calcs!$AC$5:$AC$51, 0), MATCH('Rotation Assembler'!BE$38, Calcs!$AC$5:$AG$5, 0))","v":{"$error":"#N/A"}},{"$f":"INDEX(Calcs!$AC$5:$AG$51, MATCH('Rotation Assembler'!$A81, Calcs!$AC$5:$AC$51, 0), MATCH('Rotation Assembler'!BF$38, Calcs!$AC$5:$AG$5, 0))","v":{"$error":"#N/A"}}]
["Skill CR%",{"$f":"INDEX(Calcs!$AC$5:$AG$51, MATCH('Rotation Assembler'!$A82, Calcs!$AC$5:$AC$51, 0), MATCH('Rotation Assembler'!B$38, Calcs!$AC$5:$AG$5, 0))","v":0},{"$f":"INDEX(Calcs!$AC$5:$AG$51, MATCH('Rotation Assembler'!$A82, Calcs!$AC$5:$AC$51, 0), MATCH('Rotation Assembler'!C$38, Calcs!$AC$5:$AG$5, 0))","v":0},{"$f":"INDEX(Calcs!$AC$5:$AG$51, MATCH('Rotation Assembler'!$A82, Calcs!$AC$5:$AC$51, 0), MATCH('Rotation Assembler'!D$38, Calcs!$AC$5:$AG$5, 0))","v":0},{"$f":"INDEX(Calcs!$AC$5:$AG$51, MATCH('Rotation Assembler'!$A82, Calcs!$AC$5:$AC$51, 0), MATCH('Rotation Assembler'!E$38, Calcs!$AC$5:$AG$5, 0))","v":0},{"$f":"INDEX(Calcs!$AC$5:$AG$51, MATCH('Rotation Assembler'!$A82, Calcs!$AC$5:$AC$51, 0), MATCH('Rotation Assembler'!F$38, Calcs!$AC$5:$AG$5, 0))","v":0},{"$f":"INDEX(Calcs!$AC$5:$AG$51, MATCH('Rotation Assembler'!$A82, Calcs!$AC$5:$AC$51, 0), MATCH('Rotation Assembler'!G$38, Calcs!$AC$5:$AG$5, 0))","v":0},{"$f":"INDEX(Calcs!$AC$5:$AG$51, MATCH('Rotation Assembler'!$A82, Calcs!$AC$5:$AC$51, 0), MATCH('Rotation Assembler'!H$38, Calcs!$AC$5:$AG$5, 0))","v":0},{"$f":"INDEX(Calcs!$AC$5:$AG$51, MATCH('Rotation Assembler'!$A82, Calcs!$AC$5:$AC$51, 0), MATCH('Rotation Assembler'!I$38, Calcs!$AC$5:$AG$5, 0))","v":0},{"$f":"INDEX(Calcs!$AC$5:$AG$51, MATCH('Rotation Assembler'!$A82, Calcs!$AC$5:$AC$51, 0), MATCH('Rotation Assembler'!J$38, Calcs!$AC$5:$AG$5, 0))","v":0},{"$f":"INDEX(Calcs!$AC$5:$AG$51, MATCH('Rotation Assembler'!$A82, Calcs!$AC$5:$AC$51, 0), MATCH('Rotation Assembler'!K$38, Calcs!$AC$5:$AG$5, 0))","v":0},{"$f":"INDEX(Calcs!$AC$5:$AG$51, MATCH('Rotation Assembler'!$A82, Calcs!$AC$5:$AC$51, 0), MATCH('Rotation Assembler'!L$38, Calcs!$AC$5:$AG$5, 0))","v":0},{"$f":"INDEX(Calcs!$AC$5:$AG$51, MATCH('Rotation Assembler'!$A82, Calcs!$AC$5:$AC$51, 0), MATCH('Rotation Assembler'!M$38, Calcs!$AC$5:$AG$5, 0))","v":0},{"$f":"INDEX(Calcs!$AC$5:$AG$51, MATCH('Rotation Assembler'!$A82, Calcs!$AC$5:$AC$51, 0), MATCH('Rotation Assembler'!N$38, Calcs!$AC$5:$AG$5, 0))","v":0},{"$f":"INDEX(Calcs!$AC$5:$AG$51, MATCH('Rotation Assembler'!$A82, Calcs!$AC$5:$AC$51, 0), MATCH('Rotation Assembler'!O$38, Calcs!$AC$5:$AG$5, 0))","v":0},{"$f":"INDEX(Calcs!$AC$5:$AG$51, MATCH('Rotation Assembler'!$A82, Calcs!$AC$5:$AC$51, 0), MATCH('Rotation Assembler'!P$38, Calcs!$AC$5:$AG$5, 0))","v":0},{"$f":"INDEX(Calcs!$AC$5:$AG$51, MATCH('Rotation Assembler'!$A82, Calcs!$AC$5:$AC$51, 0), MATCH('Rotation Assembler'!Q$38, Calcs!$AC$5:$AG$5, 0))","v":0},{"$f":"INDEX(Calcs!$AC$5:$AG$51, MATCH('Rotation Assembler'!$A82, Calcs!$AC$5:$AC$51, 0), MATCH('Rotation Assembler'!R$38, Calcs!$AC$5:$AG$5, 0))","v":0},{"$f":"INDEX(Calcs!$AC$5:$AG$51, MATCH('Rotation Assembler'!$A82, Calcs!$AC$5:$AC$51, 0), MATCH('Rotation Assembler'!S$38, Calcs!$AC$5:$AG$5, 0))","v":0},{"$f":"INDEX(Calcs!$AC$5:$AG$51, MATCH('Rotation Assembler'!$A82, Calcs!$AC$5:$AC$51, 0), MATCH('Rotation Assembler'!T$38, Calcs!$AC$5:$AG$5, 0))","v":0},{"$f":"INDEX(Calcs!$AC$5:$AG$51, MATCH('Rotation Assembler'!$A82, Calcs!$AC$5:$AC$51, 0), MATCH('Rotation Assembler'!U$38, Calcs!$AC$5:$AG$5, 0))","v":0},null,{"$f":"INDEX(Calcs!$AC$5:$AG$51, MATCH('Rotation Assembler'!$A82, Calcs!$AC$5:$AC$51, 0), MATCH('Rotation Assembler'!W$38, Calcs!$AC$5:$AG$5, 0))","v":0},{"$f":"INDEX(Calcs!$AC$5:$AG$51, MATCH('Rotation Assembler'!$A82, Calcs!$AC$5:$AC$51, 0), MATCH('Rotation Assembler'!X$38, Calcs!$AC$5:$AG$5, 0))","v":0},{"$f":"INDEX(Calcs!$AC$5:$AG$51, MATCH('Rotation Assembler'!$A82, Calcs!$AC$5:$AC$51, 0), MATCH('Rotation Assembler'!Y$38, Calcs!$AC$5:$AG$5, 0))","v":0},{"$f":"INDEX(Calcs!$AC$5:$AG$51, MATCH('Rotation Assembler'!$A82, Calcs!$AC$5:$AC$51, 0), MATCH('Rotation Assembler'!Z$38, Calcs!$AC$5:$AG$5, 0))","v":0},{"$f":"INDEX(Calcs!$AC$5:$AG$51, MATCH('Rotation Assembler'!$A82, Calcs!$AC$5:$AC$51, 0), MATCH('Rotation Assembler'!AA$38, Calcs!$AC$5:$AG$5, 0))","v":0},{"$f":"INDEX(Calcs!$AC$5:$AG$51, MATCH('Rotation Assembler'!$A82, Calcs!$AC$5:$AC$51, 0), MATCH('Rotation Assembler'!AB$38, Calcs!$AC$5:$AG$5, 0))","v":0},{"$f":"INDEX(Calcs!$AC$5:$AG$51, MATCH('Rotation Assembler'!$A82, Calcs!$AC$5:$AC$51, 0), MATCH('Rotation Assembler'!AC$38, Calcs!$AC$5:$AG$5, 0))","v":0},{"$f":"INDEX(Calcs!$AC$5:$AG$51, MATCH('Rotation Assembler'!$A82, Calcs!$AC$5:$AC$51, 0), MATCH('Rotation Assembler'!AD$38, Calcs!$AC$5:$AG$5, 0))","v":0},{"$f":"INDEX(Calcs!$AC$5:$AG$51, MATCH('Rotation Assembler'!$A82, Calcs!$AC$5:$AC$51, 0), MATCH('Rotation Assembler'!AE$38, Calcs!$AC$5:$AG$5, 0))","v":0},{"$f":"INDEX(Calcs!$AC$5:$AG$51, MATCH('Rotation Assembler'!$A82, Calcs!$AC$5:$AC$51, 0), MATCH('Rotation Assembler'!AF$38, Calcs!$AC$5:$AG$5, 0))","v":{"$error":"#N/A"}},{"$f":"INDEX(Calcs!$AC$5:$AG$51, MATCH('Rotation Assembler'!$A82, Calcs!$AC$5:$AC$51, 0), MATCH('Rotation Assembler'!AG$38, Calcs!$AC$5:$AG$5, 0))","v":{"$error":"#N/A"}},{"$f":"INDEX(Calcs!$AC$5:$AG$51, MATCH('Rotation Assembler'!$A82, Calcs!$AC$5:$AC$51, 0), MATCH('Rotation Assembler'!AH$38, Calcs!$AC$5:$AG$5, 0))","v":{"$error":"#N/A"}},{"$f":"INDEX(Calcs!$AC$5:$AG$51, MATCH('Rotation Assembler'!$A82, Calcs!$AC$5:$AC$51, 0), MATCH('Rotation Assembler'!AI$38, Calcs!$AC$5:$AG$5, 0))","v":{"$error":"#N/A"}},{"$f":"INDEX(Calcs!$AC$5:$AG$51, MATCH('Rotation Assembler'!$A82, Calcs!$AC$5:$AC$51, 0), MATCH('Rotation Assembler'!AJ$38, Calcs!$AC$5:$AG$5, 0))","v":{"$error":"#N/A"}},{"$f":"INDEX(Calcs!$AC$5:$AG$51, MATCH('Rotation Assembler'!$A82, Calcs!$AC$5:$AC$51, 0), MATCH('Rotation Assembler'!AK$38, Calcs!$AC$5:$AG$5, 0))","v":{"$error":"#N/A"}},{"$f":"INDEX(Calcs!$AC$5:$AG$51, MATCH('Rotation Assembler'!$A82, Calcs!$AC$5:$AC$51, 0), MATCH('Rotation Assembler'!AL$38, Calcs!$AC$5:$AG$5, 0))","v":{"$error":"#N/A"}},{"$f":"INDEX(Calcs!$AC$5:$AG$51, MATCH('Rotation Assembler'!$A82, Calcs!$AC$5:$AC$51, 0), MATCH('Rotation Assembler'!AM$38, Calcs!$AC$5:$AG$5, 0))","v":{"$error":"#N/A"}},{"$f":"INDEX(Calcs!$AC$5:$AG$51, MATCH('Rotation Assembler'!$A82, Calcs!$AC$5:$AC$51, 0), MATCH('Rotation Assembler'!AN$38, Calcs!$AC$5:$AG$5, 0))","v":{"$error":"#N/A"}},{"$f":"INDEX(Calcs!$AC$5:$AG$51, MATCH('Rotation Assembler'!$A82, Calcs!$AC$5:$AC$51, 0), MATCH('Rotation Assembler'!AO$38, Calcs!$AC$5:$AG$5, 0))","v":{"$error":"#N/A"}},{"$f":"INDEX(Calcs!$AC$5:$AG$51, MATCH('Rotation Assembler'!$A82, Calcs!$AC$5:$AC$51, 0), MATCH('Rotation Assembler'!AP$38, Calcs!$AC$5:$AG$5, 0))","v":{"$error":"#N/A"}},{"$f":"INDEX(Calcs!$AC$5:$AG$51, MATCH('Rotation Assembler'!$A82, Calcs!$AC$5:$AC$51, 0), MATCH('Rotation Assembler'!AQ$38, Calcs!$AC$5:$AG$5, 0))","v":{"$error":"#N/A"}},{"$f":"INDEX(Calcs!$AC$5:$AG$51, MATCH('Rotation Assembler'!$A82, Calcs!$AC$5:$AC$51, 0), MATCH('Rotation Assembler'!AR$38, Calcs!$AC$5:$AG$5, 0))","v":{"$error":"#N/A"}},{"$f":"INDEX(Calcs!$AC$5:$AG$51, MATCH('Rotation Assembler'!$A82, Calcs!$AC$5:$AC$51, 0), MATCH('Rotation Assembler'!AS$38, Calcs!$AC$5:$AG$5, 0))","v":{"$error":"#N/A"}},{"$f":"INDEX(Calcs!$AC$5:$AG$51, MATCH('Rotation Assembler'!$A82, Calcs!$AC$5:$AC$51, 0), MATCH('Rotation Assembler'!AT$38, Calcs!$AC$5:$AG$5, 0))","v":{"$error":"#N/A"}},{"$f":"INDEX(Calcs!$AC$5:$AG$51, MATCH('Rotation Assembler'!$A82, Calcs!$AC$5:$AC$51, 0), MATCH('Rotation Assembler'!AU$38, Calcs!$AC$5:$AG$5, 0))","v":{"$error":"#N/A"}},{"$f":"INDEX(Calcs!$AC$5:$AG$51, MATCH('Rotation Assembler'!$A82, Calcs!$AC$5:$AC$51, 0), MATCH('Rotation Assembler'!AV$38, Calcs!$AC$5:$AG$5, 0))","v":{"$error":"#N/A"}},{"$f":"INDEX(Calcs!$AC$5:$AG$51, MATCH('Rotation Assembler'!$A82, Calcs!$AC$5:$AC$51, 0), MATCH('Rotation Assembler'!AW$38, Calcs!$AC$5:$AG$5, 0))","v":{"$error":"#N/A"}},{"$f":"INDEX(Calcs!$AC$5:$AG$51, MATCH('Rotation Assembler'!$A82, Calcs!$AC$5:$AC$51, 0), MATCH('Rotation Assembler'!AX$38, Calcs!$AC$5:$AG$5, 0))","v":{"$error":"#N/A"}},{"$f":"INDEX(Calcs!$AC$5:$AG$51, MATCH('Rotation Assembler'!$A82, Calcs!$AC$5:$AC$51, 0), MATCH('Rotation Assembler'!AY$38, Calcs!$AC$5:$AG$5, 0))","v":{"$error":"#N/A"}},{"$f":"INDEX(Calcs!$AC$5:$AG$51, MATCH('Rotation Assembler'!$A82, Calcs!$AC$5:$AC$51, 0), MATCH('Rotation Assembler'!AZ$38, Calcs!$AC$5:$AG$5, 0))","v":{"$error":"#N/A"}},{"$f":"INDEX(Calcs!$AC$5:$AG$51, MATCH('Rotation Assembler'!$A82, Calcs!$AC$5:$AC$51, 0), MATCH('Rotation Assembler'!BA$38, Calcs!$AC$5:$AG$5, 0))","v":{"$error":"#N/A"}},{"$f":"INDEX(Calcs!$AC$5:$AG$51, MATCH('Rotation Assembler'!$A82, Calcs!$AC$5:$AC$51, 0), MATCH('Rotation Assembler'!BB$38, Calcs!$AC$5:$AG$5, 0))","v":{"$error":"#N/A"}},{"$f":"INDEX(Calcs!$AC$5:$AG$51, MATCH('Rotation Assembler'!$A82, Calcs!$AC$5:$AC$51, 0), MATCH('Rotation Assembler'!BC$38, Calcs!$AC$5:$AG$5, 0))","v":{"$error":"#N/A"}},{"$f":"INDEX(Calcs!$AC$5:$AG$51, MATCH('Rotation Assembler'!$A82, Calcs!$AC$5:$AC$51, 0), MATCH('Rotation Assembler'!BD$38, Calcs!$AC$5:$AG$5, 0))","v":{"$error":"#N/A"}},{"$f":"INDEX(Calcs!$AC$5:$AG$51, MATCH('Rotation Assembler'!$A82, Calcs!$AC$5:$AC$51, 0), MATCH('Rotation Assembler'!BE$38, Calcs!$AC$5:$AG$5, 0))","v":{"$error":"#N/A"}},{"$f":"INDEX(Calcs!$AC$5:$AG$51, MATCH('Rotation Assembler'!$A82, Calcs!$AC$5:$AC$51, 0), MATCH('Rotation Assembler'!BF$38, Calcs!$AC$5:$AG$5, 0))","v":{"$error":"#N/A"}}]
["Burst CDMG%",{"$f":"INDEX(Calcs!$AC$5:$AG$51, MATCH('Rotation Assembler'!$A83, Calcs!$AC$5:$AC$51, 0), MATCH('Rotation Assembler'!B$38, Calcs!$AC$5:$AG$5, 0))","v":0},{"$f":"INDEX(Calcs!$AC$5:$AG$51, MATCH('Rotation Assembler'!$A83, Calcs!$AC$5:$AC$51, 0), MATCH('Rotation Assembler'!C$38, Calcs!$AC$5:$AG$5, 0))","v":0},{"$f":"INDEX(Calcs!$AC$5:$AG$51, MATCH('Rotation Assembler'!$A83, Calcs!$AC$5:$AC$51, 0), MATCH('Rotation Assembler'!D$38, Calcs!$AC$5:$AG$5, 0))","v":0},{"$f":"INDEX(Calcs!$AC$5:$AG$51, MATCH('Rotation Assembler'!$A83, Calcs!$AC$5:$AC$51, 0), MATCH('Rotation Assembler'!E$38, Calcs!$AC$5:$AG$5, 0))","v":0},{"$f":"INDEX(Calcs!$AC$5:$AG$51, MATCH('Rotation Assembler'!$A83, Calcs!$AC$5:$AC$51, 0), MATCH('Rotation Assembler'!F$38, Calcs!$AC$5:$AG$5, 0))","v":0},{"$f":"INDEX(Calcs!$AC$5:$AG$51, MATCH('Rotation Assembler'!$A83, Calcs!$AC$5:$AC$51, 0), MATCH('Rotation Assembler'!G$38, Calcs!$AC$5:$AG$5, 0))","v":0},{"$f":"INDEX(Calcs!$AC$5:$AG$51, MATCH('Rotation Assembler'!$A83, Calcs!$AC$5:$AC$51, 0), MATCH('Rotation Assembler'!H$38, Calcs!$AC$5:$AG$5, 0))","v":0},{"$f":"INDEX(Calcs!$AC$5:$AG$51, MATCH('Rotation Assembler'!$A83, Calcs!$AC$5:$AC$51, 0), MATCH('Rotation Assembler'!I$38, Calcs!$AC$5:$AG$5, 0))","v":0},{"$f":"INDEX(Calcs!$AC$5:$AG$51, MATCH('Rotation Assembler'!$A83, Calcs!$AC$5:$AC$51, 0), MATCH('Rotation Assembler'!J$38, Calcs!$AC$5:$AG$5, 0))","v":0},{"$f":"INDEX(Calcs!$AC$5:$AG$51, MATCH('Rotation Assembler'!$A83, Calcs!$AC$5:$AC$51, 0), MATCH('Rotation Assembler'!K$38, Calcs!$AC$5:$AG$5, 0))","v":0},{"$f":"INDEX(Calcs!$AC$5:$AG$51, MATCH('Rotation Assembler'!$A83, Calcs!$AC$5:$AC$51, 0), MATCH('Rotation Assembler'!L$38, Calcs!$AC$5:$AG$5, 0))","v":0},{"$f":"INDEX(Calcs!$AC$5:$AG$51, MATCH('Rotation Assembler'!$A83, Calcs!$AC$5:$AC$51, 0), MATCH('Rotation Assembler'!M$38, Calcs!$AC$5:$AG$5, 0))","v":0},{"$f":"INDEX(Calcs!$AC$5:$AG$51, MATCH('Rotation Assembler'!$A83, Calcs!$AC$5:$AC$51, 0), MATCH('Rotation Assembler'!N$38, Calcs!$AC$5:$AG$5, 0))","v":0},{"$f":"INDEX(Calcs!$AC$5:$AG$51, MATCH('Rotation Assembler'!$A83, Calcs!$AC$5:$AC$51, 0), MATCH('Rotation Assembler'!O$38, Calcs!$AC$5:$AG$5, 0))","v":0},{"$f":"INDEX(Calcs!$AC$5:$AG$51, MATCH('Rotation Assembler'!$A83, Calcs!$AC$5:$AC$51, 0), MATCH('Rotation Assembler'!P$38, Calcs!$AC$5:$AG$5, 0))","v":0},{"$f":"INDEX(Calcs!$AC$5:$AG$51, MATCH('Rotation Assembler'!$A83, Calcs!$AC$5:$AC$51, 0), MATCH('Rotation Assembler'!Q$38, Calcs!$AC$5:$AG$5, 0))","v":0},{"$f":"INDEX(Calcs!$AC$5:$AG$51, MATCH('Rotation Assembler'!$A83, Calcs!$AC$5:$AC$51, 0), MATCH('Rotation Assembler'!R$38, Calcs!$AC$5:$AG$5, 0))","v":0},{"$f":"INDEX(Calcs!$AC$5:$AG$51, MATCH('Rotation Assembler'!$A83, Calcs!$AC$5:$AC$51, 0), MATCH('Rotation Assembler'!S$38, Calcs!$AC$5:$AG$5, 0))","v":0},{"$f":"INDEX(Calcs!$AC$5:$AG$51, MATCH('Rotation Assembler'!$A83, Calcs!$AC$5:$AC$51, 0), MATCH('Rotation Assembler'!T$38, Calcs!$AC$5:$AG$5, 0))","v":0},{"$f":"INDEX(Calcs!$AC$5:$AG$51, MATCH('Rotation Assembler'!$A83, Calcs!$AC$5:$AC$51, 0), MATCH('Rotation Assembler'!U$38, Calcs!$AC$5:$AG$5, 0))","v":0},null,{"$f":"INDEX(Calcs!$AC$5:$AG$51, MATCH('Rotation Assembler'!$A83, Calcs!$AC$5:$AC$51, 0), MATCH('Rotation Assembler'!W$38, Calcs!$AC$5:$AG$5, 0))","v":0},{"$f":"INDEX(Calcs!$AC$5:$AG$51, MATCH('Rotation Assembler'!$A83, Calcs!$AC$5:$AC$51, 0), MATCH('Rotation Assembler'!X$38, Calcs!$AC$5:$AG$5, 0))","v":0},{"$f":"INDEX(Calcs!$AC$5:$AG$51, MATCH('Rotation Assembler'!$A83, Calcs!$AC$5:$AC$51, 0), MATCH('Rotation Assembler'!Y$38, Calcs!$AC$5:$AG$5, 0))","v":0},{"$f":"INDEX(Calcs!$AC$5:$AG$51, MATCH('Rotation Assembler'!$A83, Calcs!$AC$5:$AC$51, 0), MATCH('Rotation Assembler'!Z$38, Calcs!$AC$5:$AG$5, 0))","v":0},{"$f":"INDEX(Calcs!$AC$5:$AG$51, MATCH('Rotation Assembler'!$A83, Calcs!$AC$5:$AC$51, 0), MATCH('Rotation Assembler'!AA$38, Calcs!$AC$5:$AG$5, 0))","v":0},{"$f":"INDEX(Calcs!$AC$5:$AG$51, MATCH('Rotation Assembler'!$A83, Calcs!$AC$5:$AC$51, 0), MATCH('Rotation Assembler'!AB$38, Calcs!$AC$5:$AG$5, 0))","v":0},{"$f":"INDEX(Calcs!$AC$5:$AG$51, MATCH('Rotation Assembler'!$A83, Calcs!$AC$5:$AC$51, 0), MATCH('Rotation Assembler'!AC$38, Calcs!$AC$5:$AG$5, 0))","v":0},{"$f":"INDEX(Calcs!$AC$5:$AG$51, MATCH('Rotation Assembler'!$A83, Calcs!$AC$5:$AC$51, 0), MATCH('Rotation Assembler'!AD$38, Calcs!$AC$5:$AG$5, 0))","v":0},{"$f":"INDEX(Calcs!$AC$5:$AG$51, MATCH('Rotation Assembler'!$A83, Calcs!$AC$5:$AC$51, 0), MATCH('Rotation Assembler'!AE$38, Calcs!$AC$5:$AG$5, 0))","v":0},{"$f":"INDEX(Calcs!$AC$5:$AG$51, MATCH('Rotation Assembler'!$A83, Calcs!$AC$5:$AC$51, 0), MATCH('Rotation Assembler'!AF$38, Calcs!$AC$5:$AG$5, 0))","v":{"$error":"#N/A"}},{"$f":"INDEX(Calcs!$AC$5:$AG$51, MATCH('Rotation Assembler'!$A83, Calcs!$AC$5:$AC$51, 0), MATCH('Rotation Assembler'!AG$38, Calcs!$AC$5:$AG$5, 0))","v":{"$error":"#N/A"}},{"$f":"INDEX(Calcs!$AC$5:$AG$51, MATCH('Rotation Assembler'!$A83, Calcs!$AC$5:$AC$51, 0), MATCH('Rotation Assembler'!AH$38, Calcs!$AC$5:$AG$5, 0))","v":{"$error":"#N/A"}},{"$f":"INDEX(Calcs!$AC$5:$AG$51, MATCH('Rotation Assembler'!$A83, Calcs!$AC$5:$AC$51, 0), MATCH('Rotation Assembler'!AI$38, Calcs!$AC$5:$AG$5, 0))","v":{"$error":"#N/A"}},{"$f":"INDEX(Calcs!$AC$5:$AG$51, MATCH('Rotation Assembler'!$A83, Calcs!$AC$5:$AC$51, 0), MATCH('Rotation Assembler'!AJ$38, Calcs!$AC$5:$AG$5, 0))","v":{"$error":"#N/A"}},{"$f":"INDEX(Calcs!$AC$5:$AG$51, MATCH('Rotation Assembler'!$A83, Calcs!$AC$5:$AC$51, 0), MATCH('Rotation Assembler'!AK$38, Calcs!$AC$5:$AG$5, 0))","v":{"$error":"#N/A"}},{"$f":"INDEX(Calcs!$AC$5:$AG$51, MATCH('Rotation Assembler'!$A83, Calcs!$AC$5:$AC$51, 0), MATCH('Rotation Assembler'!AL$38, Calcs!$AC$5:$AG$5, 0))","v":{"$error":"#N/A"}},{"$f":"INDEX(Calcs!$AC$5:$AG$51, MATCH('Rotation Assembler'!$A83, Calcs!$AC$5:$AC$51, 0), MATCH('Rotation Assembler'!AM$38, Calcs!$AC$5:$AG$5, 0))","v":{"$error":"#N/A"}},{"$f":"INDEX(Calcs!$AC$5:$AG$51, MATCH('Rotation Assembler'!$A83, Calcs!$AC$5:$AC$51, 0), MATCH('Rotation Assembler'!AN$38, Calcs!$AC$5:$AG$5, 0))","v":{"$error":"#N/A"}},{"$f":"INDEX(Calcs!$AC$5:$AG$51, MATCH('Rotation Assembler'!$A83, Calcs!$AC$5:$AC$51, 0), MATCH('Rotation Assembler'!AO$38, Calcs!$AC$5:$AG$5, 0))","v":{"$error":"#N/A"}},{"$f":"INDEX(Calcs!$AC$5:$AG$51, MATCH('Rotation Assembler'!$A83, Calcs!$AC$5:$AC$51, 0), MATCH('Rotation Assembler'!AP$38, Calcs!$AC$5:$AG$5, 0))","v":{"$error":"#N/A"}},{"$f":"INDEX(Calcs!$AC$5:$AG$51, MATCH('Rotation Assembler'!$A83, Calcs!$AC$5:$AC$51, 0), MATCH('Rotation Assembler'!AQ$38, Calcs!$AC$5:$AG$5, 0))","v":{"$error":"#N/A"}},{"$f":"INDEX(Calcs!$AC$5:$AG$51, MATCH('Rotation Assembler'!$A83, Calcs!$AC$5:$AC$51, 0), MATCH('Rotation Assembler'!AR$38, Calcs!$AC$5:$AG$5, 0))","v":{"$error":"#N/A"}},{"$f":"INDEX(Calcs!$AC$5:$AG$51, MATCH('Rotation Assembler'!$A83, Calcs!$AC$5:$AC$51, 0), MATCH('Rotation Assembler'!AS$38, Calcs!$AC$5:$AG$5, 0))","v":{"$error":"#N/A"}},{"$f":"INDEX(Calcs!$AC$5:$AG$51, MATCH('Rotation Assembler'!$A83, Calcs!$AC$5:$AC$51, 0), MATCH('Rotation Assembler'!AT$38, Calcs!$AC$5:$AG$5, 0))","v":{"$error":"#N/A"}},{"$f":"INDEX(Calcs!$AC$5:$AG$51, MATCH('Rotation Assembler'!$A83, Calcs!$AC$5:$AC$51, 0), MATCH('Rotation Assembler'!AU$38, Calcs!$AC$5:$AG$5, 0))","v":{"$error":"#N/A"}},{"$f":"INDEX(Calcs!$AC$5:$AG$51, MATCH('Rotation Assembler'!$A83, Calcs!$AC$5:$AC$51, 0), MATCH('Rotation Assembler'!AV$38, Calcs!$AC$5:$AG$5, 0))","v":{"$error":"#N/A"}},{"$f":"INDEX(Calcs!$AC$5:$AG$51, MATCH('Rotation Assembler'!$A83, Calcs!$AC$5:$AC$51, 0), MATCH('Rotation Assembler'!AW$38, Calcs!$AC$5:$AG$5, 0))","v":{"$error":"#N/A"}},{"$f":"INDEX(Calcs!$AC$5:$AG$51, MATCH('Rotation Assembler'!$A83, Calcs!$AC$5:$AC$51, 0), MATCH('Rotation Assembler'!AX$38, Calcs!$AC$5:$AG$5, 0))","v":{"$error":"#N/A"}},{"$f":"INDEX(Calcs!$AC$5:$AG$51, MATCH('Rotation Assembler'!$A83, Calcs!$AC$5:$AC$51, 0), MATCH('Rotation Assembler'!AY$38, Calcs!$AC$5:$AG$5, 0))","v":{"$error":"#N/A"}},{"$f":"INDEX(Calcs!$AC$5:$AG$51, MATCH('Rotation Assembler'!$A83, Calcs!$AC$5:$AC$51, 0), MATCH('Rotation Assembler'!AZ$38, Calcs!$AC$5:$AG$5, 0))","v":{"$error":"#N/A"}},{"$f":"INDEX(Calcs!$AC$5:$AG$51, MATCH('Rotation Assembler'!$A83, Calcs!$AC$5:$AC$51, 0), MATCH('Rotation Assembler'!BA$38, Calcs!$AC$5:$AG$5, 0))","v":{"$error":"#N/A"}},{"$f":"INDEX(Calcs!$AC$5:$AG$51, MATCH('Rotation Assembler'!$A83, Calcs!$AC$5:$AC$51, 0), MATCH('Rotation Assembler'!BB$38, Calcs!$AC$5:$AG$5, 0))","v":{"$error":"#N/A"}},{"$f":"INDEX(Calcs!$AC$5:$AG$51, MATCH('Rotation Assembler'!$A83, Calcs!$AC$5:$AC$51, 0), MATCH('Rotation Assembler'!BC$38, Calcs!$AC$5:$AG$5, 0))","v":{"$error":"#N/A"}},{"$f":"INDEX(Calcs!$AC$5:$AG$51, MATCH('Rotation Assembler'!$A83, Calcs!$AC$5:$AC$51, 0), MATCH('Rotation Assembler'!BD$38, Calcs!$AC$5:$AG$5, 0))","v":{"$error":"#N/A"}},{"$f":"INDEX(Calcs!$AC$5:$AG$51, MATCH('Rotation Assembler'!$A83, Calcs!$AC$5:$AC$51, 0), MATCH('Rotation Assembler'!BE$38, Calcs!$AC$5:$AG$5, 0))","v":{"$error":"#N/A"}},{"$f":"INDEX(Calcs!$AC$5:$AG$51, MATCH('Rotation Assembler'!$A83, Calcs!$AC$5:$AC$51, 0), MATCH('Rotation Assembler'!BF$38, Calcs!$AC$5:$AG$5, 0))","v":{"$error":"#N/A"}}]
["Skill CDMG%",{"$f":"INDEX(Calcs!$AC$5:$AG$51, MATCH('Rotation Assembler'!$A84, Calcs!$AC$5:$AC$51, 0), MATCH('Rotation Assembler'!B$38, Calcs!$AC$5:$AG$5, 0))","v":0},{"$f":"INDEX(Calcs!$AC$5:$AG$51, MATCH('Rotation Assembler'!$A84, Calcs!$AC$5:$AC$51, 0), MATCH('Rotation Assembler'!C$38, Calcs!$AC$5:$AG$5, 0))","v":0},{"$f":"INDEX(Calcs!$AC$5:$AG$51, MATCH('Rotation Assembler'!$A84, Calcs!$AC$5:$AC$51, 0), MATCH('Rotation Assembler'!D$38, Calcs!$AC$5:$AG$5, 0))","v":0},{"$f":"INDEX(Calcs!$AC$5:$AG$51, MATCH('Rotation Assembler'!$A84, Calcs!$AC$5:$AC$51, 0), MATCH('Rotation Assembler'!E$38, Calcs!$AC$5:$AG$5, 0))","v":0},{"$f":"INDEX(Calcs!$AC$5:$AG$51, MATCH('Rotation Assembler'!$A84, Calcs!$AC$5:$AC$51, 0), MATCH('Rotation Assembler'!F$38, Calcs!$AC$5:$AG$5, 0))","v":0},{"$f":"INDEX(Calcs!$AC$5:$AG$51, MATCH('Rotation Assembler'!$A84, Calcs!$AC$5:$AC$51, 0), MATCH('Rotation Assembler'!G$38, Calcs!$AC$5:$AG$5, 0))","v":0},{"$f":"INDEX(Calcs!$AC$5:$AG$51, MATCH('Rotation Assembler'!$A84, Calcs!$AC$5:$AC$51, 0), MATCH('Rotation Assembler'!H$38, Calcs!$AC$5:$AG$5, 0))","v":0},{"$f":"INDEX(Calcs!$AC$5:$AG$51, MATCH('Rotation Assembler'!$A84, Calcs!$AC$5:$AC$51, 0), MATCH('Rotation Assembler'!I$38, Calcs!$AC$5:$AG$5, 0))","v":0},{"$f":"INDEX(Calcs!$AC$5:$AG$51, MATCH('Rotation Assembler'!$A84, Calcs!$AC$5:$AC$51, 0), MATCH('Rotation Assembler'!J$38, Calcs!$AC$5:$AG$5, 0))","v":0},{"$f":"INDEX(Calcs!$AC$5:$AG$51, MATCH('Rotation Assembler'!$A84, Calcs!$AC$5:$AC$51, 0), MATCH('Rotation Assembler'!K$38, Calcs!$AC$5:$AG$5, 0))","v":0},{"$f":"INDEX(Calcs!$AC$5:$AG$51, MATCH('Rotation Assembler'!$A84, Calcs!$AC$5:$AC$51, 0), MATCH('Rotation Assembler'!L$38, Calcs!$AC$5:$AG$5, 0))","v":0},{"$f":"INDEX(Calcs!$AC$5:$AG$51, MATCH('Rotation Assembler'!$A84, Calcs!$AC$5:$AC$51, 0), MATCH('Rotation Assembler'!M$38, Calcs!$AC$5:$AG$5, 0))","v":0},{"$f":"INDEX(Calcs!$AC$5:$AG$51, MATCH('Rotation Assembler'!$A84, Calcs!$AC$5:$AC$51, 0), MATCH('Rotation Assembler'!N$38, Calcs!$AC$5:$AG$5, 0))","v":0},{"$f":"INDEX(Calcs!$AC$5:$AG$51, MATCH('Rotation Assembler'!$A84, Calcs!$AC$5:$AC$51, 0), MATCH('Rotation Assembler'!O$38, Calcs!$AC$5:$AG$5, 0))","v":0},{"$f":"INDEX(Calcs!$AC$5:$AG$51, MATCH('Rotation Assembler'!$A84, Calcs!$AC$5:$AC$51, 0), MATCH('Rotation Assembler'!P$38, Calcs!$AC$5:$AG$5, 0))","v":0},{"$f":"INDEX(Calcs!$AC$5:$AG$51, MATCH('Rotation Assembler'!$A84, Calcs!$AC$5:$AC$51, 0), MATCH('Rotation Assembler'!Q$38, Calcs!$AC$5:$AG$5, 0))","v":0},{"$f":"INDEX(Calcs!$AC$5:$AG$51, MATCH('Rotation Assembler'!$A84, Calcs!$AC$5:$AC$51, 0), MATCH('Rotation Assembler'!R$38, Calcs!$AC$5:$AG$5, 0))","v":0},{"$f":"INDEX(Calcs!$AC$5:$AG$51, MATCH('Rotation Assembler'!$A84, Calcs!$AC$5:$AC$51, 0), MATCH('Rotation Assembler'!S$38, Calcs!$AC$5:$AG$5, 0))","v":0},{"$f":"INDEX(Calcs!$AC$5:$AG$51, MATCH('Rotation Assembler'!$A84, Calcs!$AC$5:$AC$51, 0), MATCH('Rotation Assembler'!T$38, Calcs!$AC$5:$AG$5, 0))","v":0},{"$f":"INDEX(Calcs!$AC$5:$AG$51, MATCH('Rotation Assembler'!$A84, Calcs!$AC$5:$AC$51, 0), MATCH('Rotation Assembler'!U$38, Calcs!$AC$5:$AG$5, 0))","v":0},null,{"$f":"INDEX(Calcs!$AC$5:$AG$51, MATCH('Rotation Assembler'!$A84, Calcs!$AC$5:$AC$51, 0), MATCH('Rotation Assembler'!W$38, Calcs!$AC$5:$AG$5, 0))","v":0},{"$f":"INDEX(Calcs!$AC$5:$AG$51, MATCH('Rotation Assembler'!$A84, Calcs!$AC$5:$AC$51, 0), MATCH('Rotation Assembler'!X$38, Calcs!$AC$5:$AG$5, 0))","v":0},{"$f":"INDEX(Calcs!$AC$5:$AG$51, MATCH('Rotation Assembler'!$A84, Calcs!$AC$5:$AC$51, 0), MATCH('Rotation Assembler'!Y$38, Calcs!$AC$5:$AG$5, 0))","v":0},{"$f":"INDEX(Calcs!$AC$5:$AG$51, MATCH('Rotation Assembler'!$A84, Calcs!$AC$5:$AC$51, 0), MATCH('Rotation Assembler'!Z$38, Calcs!$AC$5:$AG$5, 0))","v":0},{"$f":"INDEX(Calcs!$AC$5:$AG$51, MATCH('Rotation Assembler'!$A84, Calcs!$AC$5:$AC$51, 0), MATCH('Rotation Assembler'!AA$38, Calcs!$AC$5:$AG$5, 0))","v":0},{"$f":"INDEX(Calcs!$AC$5:$AG$51, MATCH('Rotation Assembler'!$A84, Calcs!$AC$5:$AC$51, 0), MATCH('Rotation Assembler'!AB$38, Calcs!$AC$5:$AG$5, 0))","v":0},{"$f":"INDEX(Calcs!$AC$5:$AG$51, MATCH('Rotation Assembler'!$A84, Calcs!$AC$5:$AC$51, 0), MATCH('Rotation Assembler'!AC$38, Calcs!$AC$5:$AG$5, 0))","v":0},{"$f":"INDEX(Calcs!$AC$5:$AG$51, MATCH('Rotation Assembler'!$A84, Calcs!$AC$5:$AC$51, 0), MATCH('Rotation Assembler'!AD$38, Calcs!$AC$5:$AG$5, 0))","v":0},{"$f":"INDEX(Calcs!$AC$5:$AG$51, MATCH('Rotation Assembler'!$A84, Calcs!$AC$5:$AC$51, 0), MATCH('Rotation Assembler'!AE$38, Calcs!$AC$5:$AG$5, 0))","v":0},{"$f":"INDEX(Calcs!$AC$5:$AG$51, MATCH('Rotation Assembler'!$A84, Calcs!$AC$5:$AC$51, 0), MATCH('Rotation Assembler'!AF$38, Calcs!$AC$5:$AG$5, 0))","v":{"$error":"#N/A"}},{"$f":"INDEX(Calcs!$AC$5:$AG$51, MATCH('Rotation Assembler'!$A84, Calcs!$AC$5:$AC$51, 0), MATCH('Rotation Assembler'!AG$38, Calcs!$AC$5:$AG$5, 0))","v":{"$error":"#N/A"}},{"$f":"INDEX(Calcs!$AC$5:$AG$51, MATCH('Rotation Assembler'!$A84, Calcs!$AC$5:$AC$51, 0), MATCH('Rotation Assembler'!AH$38, Calcs!$AC$5:$AG$5, 0))","v":{"$error":"#N/A"}},{"$f":"INDEX(Calcs!$AC$5:$AG$51, MATCH('Rotation Assembler'!$A84, Calcs!$AC$5:$AC$51, 0), MATCH('Rotation Assembler'!AI$38, Calcs!$AC$5:$AG$5, 0))","v":{"$error":"#N/A"}},{"$f":"INDEX(Calcs!$AC$5:$AG$51, MATCH('Rotation Assembler'!$A84, Calcs!$AC$5:$AC$51, 0), MATCH('Rotation Assembler'!AJ$38, Calcs!$AC$5:$AG$5, 0))","v":{"$error":"#N/A"}},{"$f":"INDEX(Calcs!$AC$5:$AG$51, MATCH('Rotation Assembler'!$A84, Calcs!$AC$5:$AC$51, 0), MATCH('Rotation Assembler'!AK$38, Calcs!$AC$5:$AG$5, 0))","v":{"$error":"#N/A"}},{"$f":"INDEX(Calcs!$AC$5:$AG$51, MATCH('Rotation Assembler'!$A84, Calcs!$AC$5:$AC$51, 0), MATCH('Rotation Assembler'!AL$38, Calcs!$AC$5:$AG$5, 0))","v":{"$error":"#N/A"}},{"$f":"INDEX(Calcs!$AC$5:$AG$51, MATCH('Rotation Assembler'!$A84, Calcs!$AC$5:$AC$51, 0), MATCH('Rotation Assembler'!AM$38, Calcs!$AC$5:$AG$5, 0))","v":{"$error":"#N/A"}},{"$f":"INDEX(Calcs!$AC$5:$AG$51, MATCH('Rotation Assembler'!$A84, Calcs!$AC$5:$AC$51, 0), MATCH('Rotation Assembler'!AN$38, Calcs!$AC$5:$AG$5, 0))","v":{"$error":"#N/A"}},{"$f":"INDEX(Calcs!$AC$5:$AG$51, MATCH('Rotation Assembler'!$A84, Calcs!$AC$5:$AC$51, 0), MATCH('Rotation Assembler'!AO$38, Calcs!$AC$5:$AG$5, 0))","v":{"$error":"#N/A"}},{"$f":"INDEX(Calcs!$AC$5:$AG$51, MATCH('Rotation Assembler'!$A84, Calcs!$AC$5:$AC$51, 0), MATCH('Rotation Assembler'!AP$38, Calcs!$AC$5:$AG$5, 0))","v":{"$error":"#N/A"}},{"$f":"INDEX(Calcs!$AC$5:$AG$51, MATCH('Rotation Assembler'!$A84, Calcs!$AC$5:$AC$51, 0), MATCH('Rotation Assembler'!AQ$38, Calcs!$AC$5:$AG$5, 0))","v":{"$error":"#N/A"}},{"$f":"INDEX(Calcs!$AC$5:$AG$51, MATCH('Rotation Assembler'!$A84, Calcs!$AC$5:$AC$51, 0), MATCH('Rotation Assembler'!AR$38, Calcs!$AC$5:$AG$5, 0))","v":{"$error":"#N/A"}},{"$f":"INDEX(Calcs!$AC$5:$AG$51, MATCH('Rotation Assembler'!$A84, Calcs!$AC$5:$AC$51, 0), MATCH('Rotation Assembler'!AS$38, Calcs!$AC$5:$AG$5, 0))","v":{"$error":"#N/A"}},{"$f":"INDEX(Calcs!$AC$5:$AG$51, MATCH('Rotation Assembler'!$A84, Calcs!$AC$5:$AC$51, 0), MATCH('Rotation Assembler'!AT$38, Calcs!$AC$5:$AG$5, 0))","v":{"$error":"#N/A"}},{"$f":"INDEX(Calcs!$AC$5:$AG$51, MATCH('Rotation Assembler'!$A84, Calcs!$AC$5:$AC$51, 0), MATCH('Rotation Assembler'!AU$38, Calcs!$AC$5:$AG$5, 0))","v":{"$error":"#N/A"}},{"$f":"INDEX(Calcs!$AC$5:$AG$51, MATCH('Rotation Assembler'!$A84, Calcs!$AC$5:$AC$51, 0), MATCH('Rotation Assembler'!AV$38, Calcs!$AC$5:$AG$5, 0))","v":{"$error":"#N/A"}},{"$f":"INDEX(Calcs!$AC$5:$AG$51, MATCH('Rotation Assembler'!$A84, Calcs!$AC$5:$AC$51, 0), MATCH('Rotation Assembler'!AW$38, Calcs!$AC$5:$AG$5, 0))","v":{"$error":"#N/A"}},{"$f":"INDEX(Calcs!$AC$5:$AG$51, MATCH('Rotation Assembler'!$A84, Calcs!$AC$5:$AC$51, 0), MATCH('Rotation Assembler'!AX$38, Calcs!$AC$5:$AG$5, 0))","v":{"$error":"#N/A"}},{"$f":"INDEX(Calcs!$AC$5:$AG$51, MATCH('Rotation Assembler'!$A84, Calcs!$AC$5:$AC$51, 0), MATCH('Rotation Assembler'!AY$38, Calcs!$AC$5:$AG$5, 0))","v":{"$error":"#N/A"}},{"$f":"INDEX(Calcs!$AC$5:$AG$51, MATCH('Rotation Assembler'!$A84, Calcs!$AC$5:$AC$51, 0), MATCH('Rotation Assembler'!AZ$38, Calcs!$AC$5:$AG$5, 0))","v":{"$error":"#N/A"}},{"$f":"INDEX(Calcs!$AC$5:$AG$51, MATCH('Rotation Assembler'!$A84, Calcs!$AC$5:$AC$51, 0), MATCH('Rotation Assembler'!BA$38, Calcs!$AC$5:$AG$5, 0))","v":{"$error":"#N/A"}},{"$f":"INDEX(Calcs!$AC$5:$AG$51, MATCH('Rotation Assembler'!$A84, Calcs!$AC$5:$AC$51, 0), MATCH('Rotation Assembler'!BB$38, Calcs!$AC$5:$AG$5, 0))","v":{"$error":"#N/A"}},{"$f":"INDEX(Calcs!$AC$5:$AG$51, MATCH('Rotation Assembler'!$A84, Calcs!$AC$5:$AC$51, 0), MATCH('Rotation Assembler'!BC$38, Calcs!$AC$5:$AG$5, 0))","v":{"$error":"#N/A"}},{"$f":"INDEX(Calcs!$AC$5:$AG$51, MATCH('Rotation Assembler'!$A84, Calcs!$AC$5:$AC$51, 0), MATCH('Rotation Assembler'!BD$38, Calcs!$AC$5:$AG$5, 0))","v":{"$error":"#N/A"}},{"$f":"INDEX(Calcs!$AC$5:$AG$51, MATCH('Rotation Assembler'!$A84, Calcs!$AC$5:$AC$51, 0), MATCH('Rotation Assembler'!BE$38, Calcs!$AC$5:$AG$5, 0))","v":{"$error":"#N/A"}},{"$f":"INDEX(Calcs!$AC$5:$AG$51, MATCH('Rotation Assembler'!$A84, Calcs!$AC$5:$AC$51, 0), MATCH('Rotation Assembler'!BF$38, Calcs!$AC$5:$AG$5, 0))","v":{"$error":"#N/A"}}]
["Enemy Phys Res",{"$f":"enemyPhysRes","v":0.1},0.1,0.1,0.1,0.1,0.1,0.1,0.1,0.1,0.1,0.1,0.1,0.1,0.1,0.1,0.1,0.1,0.1,0.1,0.1,null,0.1,0.1,0.1,0.1,0.1,0.1,0.1,0.1,0.1,0.1,0.1,0.1,0.1,0.1,0.1,0.1,0.1,0.1,0.1,0.1,0.1,0.1,0.1,0.1,0.1,0.1,0.1,0.1,0.1,0.1,0.1,0.1,0.1,0.1,0.1,0.1]
["Enemy Anemo Res",{"$f":"enemyAnemoRes","v":0.1},0.1,0.1,0.1,0.1,0.1,0.1,0.1,0.1,0.1,0.1,0.1,0.1,0.1,0.1,0.1,0.1,0.1,0.1,0.1,null,0.1,0.1,0.1,0.1,0.1,0.1,0.1,0.1,0.1,0.1,0.1,0.1,0.1,0.1,0.1,0.1,0.1,0.1,0.1,0.1,0.1,0.1,0.1,0.1,0.1,0.1,0.1,0.1,0.1,0.1,0.1,0.1,0.1,0.1,0.1,0.1]
["Enemy Geo Res",{"$f":"enemyGeoRes","v":0.1},0.1,0.1,0.1,0.1,0.1,0.1,0.1,0.1,0.1,0.1,0.1,0.1,0.1,0.1,0.1,0.1,0.1,0.1,0.1,null,0.1,0.1,0.1,0.1,0.1,0.1,0.1,0.1,0.1,0.1,0.1,0.1,0.1,0.1,0.1,0.1,0.1,0.1,0.1,0.1,0.1,0.1,0.1,0.1,0.1,0.1,0.1,0.1,0.1,0.1,0.1,0.1,0.1,0.1,0.1,0.1]
["Enemy Pyro Res",{"$f":"enemyPyroRes","v":0.1},0.1,0.1,0.1,0.1,0.1,0.1,0.1,0.1,0.1,0.1,0.1,0.1,0.1,0.1,0.1,0.1,0.1,0.1,0.1,null,0.1,0.1,0.1,0.1,0.1,0.1,0.1,0.1,0.1,0.1,0.1,0.1,0.1,0.1,0.1,0.1,0.1,0.1,0.1,0.1,0.1,0.1,0.1,0.1,0.1,0.1,0.1,0.1,0.1,0.1,0.1,0.1,0.1,0.1,0.1,0.1]
["Enemy Hydro Res",{"$f":"enemyHydroRes","v":0.1},0.1,0.1,0.1,0.1,0.1,0.1,0.1,0.1,0.1,0.1,0.1,0.1,0.1,0.1,0.1,0.1,0.1,0.1,0.1,null,0.1,0.1,0.1,0.1,0.1,0.1,0.1,0.1,0.1,0.1,0.1,0.1,0.1,0.1,0.1,0.1,0.1,0.1,0.1,0.1,0.1,0.1,0.1,0.1,0.1,0.1,0.1,0.1,0.1,0.1,0.1,0.1,0.1,0.1,0.1,0.1]
["Enemy Cryo Res",{"$f":"enemyCryoRes","v":0.1},0.1,0.1,0.1,0.1,0.1,0.1,0.1,0.1,0.1,0.1,0.1,0.1,0.1,0.1,0.1,0.1,0.1,0.1,0.1,null,0.1,0.1,0.1,0.1,0.1,0.1,0.1,0.1,0.1,0.1,0.1,0.1,0.1,0.1,0.1,0.1,0.1,0.1,0.1,0.1,0.1,0.1,0.1,0.1,0.1,0.1,0.1,0.1,0.1,0.1,0.1,0.1,0.1,0.1,0.1,0.1]
["Enemy Electro Res",{"$f":"enemyElectroRes","v":0.1},0.1,0.1,0.1,0.1,0.1,0.1,0.1,0.1,0.1,0.1,0.1,0.1,0.1,0.1,0.1,0.1,0.1,0.1,0.1,null,0.1,0.1,0.1,0.1,0.1,0.1,0.1,0.1,0.1,0.1,0.1,0.1,0.1,0.1,0.1,0.1,0.1,0.1,0.1,0.1,0.1,0.1,0.1,0.1,0.1,0.1,0.1,0.1,0.1,0.1,0.1,0.1,0.1,0.1,0.1,0.1]
["Conditional Buffs (Per Attack)"]
["Flat ATK",1000,1000,null,1000,1000,null,1000,1000,1000,1000,1000,1000,1000,1000,1000,1000,1000,1000,1000,1000]
["Flat DEF"]
["Flat HP"]
["EM"]
["ATK%",0.65,0.65,0.45,0.65,0.65,0.65,0.65,0.65,0.65,0.65,0.65,0.65,0.65,0.65,0.65,0.65,0.65,0.65,0.65,0.65,null,0.45,0.45,0.45,0.25,0.25,0.45,0.45,0.45,0.45]
["DEF%"]
["HP%"]
["CR%"]
["CDMG%"]
["ER%"]
["DMG%"]
["Phys DMG%"]
["Anemo DMG%"]
["Geo DMG%"]
["Pyro DMG%",null,null,null,null,null,null,null,null,null,7.4999999999999997E-2,7.4999999999999997E-2,7.4999999999999997E-2,0.15,0.15,0.15,0.22500000000000001,0.22500000000000001,0.22500000000000001,0.22500000000000001,0.22500000000000001,null,null,null,null,null,null,0.22500000000000001,0.22500000000000001,null,-0.81599999999999995]
["Cryo DMG%"]
["Hydro DMG%"]
["Electro DMG%"]
["Normal DMG%"]
["Charged DMG%"]
["Plunging DMG%"]
["Skill DMG%"]
["Burst DMG%"]
["Swirl%"]
["Overload%"]
["Crystallize%"]
["Electrocharged%"]
["Superconduct%"]
["Shatter%"]
["Melt%"]
["Vaporize%"]
["DEF Shred"]
["Shield Strength%"]
["Phys RES%"]
["Healing Bonus%"]
["Healing Received%"]
["Anemo RES%"]
["Geo RES%"]
["Pyro RES%"]
["Cryo RES%"]
["Hydro RES%"]
["Electro RES%"]
["Burst CR%"]
["Skill CR%"]
["Burst CDMG%"]
["Skill CDMG%"]
["Phys Res Shred"]
["Anemo Res Shred"]
["Geo Res Shred"]
["Pyro Res Shred",0.2,0.2,0.2,0.2,0.2,0.2,0.2,0.2,0.2,0.2,0.2,0.2,0.2,0.2,0.2,0.2,0.2,0.2,0.2,0.2,0.2,0.2,0.2,0.2,0.2,0.2,0.2,0.2,0.2,0.2]
["Hydro Res Shred",0.2,0.2,0.2,0.2,0.2,0.35,0.2,0.2,0.2,0.2,0.2,0.2,0.2,0.2,0.2,0.2,0.2,0.2,0.2,0.2,0.2,0.2,0.2,0.2,0.2,0.2,0.2,0.2,0.35,0.2]
["Cryo Res Shred"]
["Electro Res Shred"]
["Final Stats, With Conditional Buffs"]
["ATK",{"$f":"IFERROR((VLOOKUP(B38, Lookups!$J$68:$M$72, 2, 0))*(1+B154)+B150, 0)","v":2987.2287999999999},{"$f":"IFERROR((VLOOKUP(C38, Lookups!$J$68:$M$72, 2, 0))*(1+C154)+C150, 0)","v":2987.2287999999999},{"$f":"IFERROR((VLOOKUP(D38, Lookups!$J$68:$M$72, 2, 0))*(1+D154)+D150, 0)","v":1515.2751999999998},{"$f":"IFERROR((VLOOKUP(E38, Lookups!$J$68:$M$72, 2, 0))*(1+E154)+E150, 0)","v":2666.4751999999999},{"$f":"IFERROR((VLOOKUP(F38, Lookups!$J$68:$M$72, 2, 0))*(1+F154)+F150, 0)","v":2987.2287999999999},{"$f":"IFERROR((VLOOKUP(G38, Lookups!$J$68:$M$72, 2, 0))*(1+G154)+G150, 0)","v":1987.2287999999999},{"$f":"IFERROR((VLOOKUP(H38, Lookups!$J$68:$M$72, 2, 0))*(1+H154)+H150, 0)","v":2822.154},{"$f":"IFERROR((VLOOKUP(I38, Lookups!$J$68:$M$72, 2, 0))*(1+I154)+I150, 0)","v":2822.154},{"$f":"IFERROR((VLOOKUP(J38, Lookups!$J$68:$M$72, 2, 0))*(1+J154)+J150, 0)","v":2822.154},{"$f":"IFERROR((VLOOKUP(K38, Lookups!$J$68:$M$72, 2, 0))*(1+K154)+K150, 0)","v":2822.154},{"$f":"IFERROR((VLOOKUP(L38, Lookups!$J$68:$M$72, 2, 0))*(1+L154)+L150, 0)","v":2822.154},{"$f":"IFERROR((VLOOKUP(M38, Lookups!$J$68:$M$72, 2, 0))*(1+M154)+M150, 0)","v":2822.154},{"$f":"IFERROR((VLOOKUP(N38, Lookups!$J$68:$M$72, 2, 0))*(1+N154)+N150, 0)","v":2822.154},{"$f":"IFERROR((VLOOKUP(O38, Lookups!$J$68:$M$72, 2, 0))*(1+O154)+O150, 0)","v":2822.154},{"$f":"IFERROR((VLOOKUP(P38, Lookups!$J$68:$M$72, 2, 0))*(1+P154)+P150, 0)","v":2822.154},{"$f":"IFERROR((VLOOKUP(Q38, Lookups!$J$68:$M$72, 2, 0))*(1+Q154)+Q150, 0)","v":2822.154},{"$f":"IFERROR((VLOOKUP(R38, Lookups!$J$68:$M$72, 2, 0))*(1+R154)+R150, 0)","v":2822.154},{"$f":"IFERROR((VLOOKUP(S38, Lookups!$J$68:$M$72, 2, 0))*(1+S154)+S150, 0)","v":2822.154},{"$f":"IFERROR((VLOOKUP(T38, Lookups!$J$68:$M$72, 2, 0))*(1+T154)+T150, 0)","v":2822.154},{"$f":"IFERROR((VLOOKUP(U38, Lookups!$J$68:$M$72, 2, 0))*(1+U154)+U150, 0)","v":2822.154},null,{"$f":"IFERROR((VLOOKUP(W38, Lookups!$J$68:$M$72, 2, 0))*(1+W154)+W150, 0)","v":1515.2751999999998},{"$f":"IFERROR((VLOOKUP(X38, Lookups!$J$68:$M$72, 2, 0))*(1+X154)+X150, 0)","v":1515.2751999999998},{"$f":"IFERROR((VLOOKUP(Y38, Lookups!$J$68:$M$72, 2, 0))*(1+Y154)+Y150, 0)","v":1281.346},{"$f":"IFERROR((VLOOKUP(Z38, Lookups!$J$68:$M$72, 2, 0))*(1+Z154)+Z150, 0)","v":1160.346},{"$f":"IFERROR((VLOOKUP(AA38, Lookups!$J$68:$M$72, 2, 0))*(1+AA154)+AA150, 0)","v":1160.346},{"$f":"IFERROR((VLOOKUP(AB38, Lookups!$J$68:$M$72, 2, 0))*(1+AB154)+AB150, 0)","v":1653.1539999999998},{"$f":"IFERROR((VLOOKUP(AC38, Lookups!$J$68:$M$72, 2, 0))*(1+AC154)+AC150, 0)","v":1653.1539999999998},{"$f":"IFERROR((VLOOKUP(AD38, Lookups!$J$68:$M$72, 2, 0))*(1+AD154)+AD150, 0)","v":1856.0288},{"$f":"IFERROR((VLOOKUP(AE38, Lookups!$J$68:$M$72, 2, 0))*(1+AE154)+AE150, 0)","v":1653.1539999999998},{"$f":"IFERROR((VLOOKUP(AF38, Lookups!$J$68:$M$72, 2, 0))*(1+AF154)+AF150, 0)","v":0},{"$f":"IFERROR((VLOOKUP(AG38, Lookups!$J$68:$M$72, 2, 0))*(1+AG154)+AG150, 0)","v":0},{"$f":"IFERROR((VLOOKUP(AH38, Lookups!$J$68:$M$72, 2, 0))*(1+AH154)+AH150, 0)","v":0},{"$f":"IFERROR((VLOOKUP(AI38, Lookups!$J$68:$M$72, 2, 0))*(1+AI154)+AI150, 0)","v":0},{"$f":"IFERROR((VLOOKUP(AJ38, Lookups!$J$68:$M$72, 2, 0))*(1+AJ154)+AJ150, 0)","v":0},{"$f":"IFERROR((VLOOKUP(AK38, Lookups!$J$68:$M$72, 2, 0))*(1+AK154)+AK150, 0)","v":0},{"$f":"IFERROR((VLOOKUP(AL38, Lookups!$J$68:$M$72, 2, 0))*(1+AL154)+AL150, 0)","v":0},{"$f":"IFERROR((VLOOKUP(AM38, Lookups!$J$68:$M$72, 2, 0))*(1+AM154)+AM150, 0)","v":0},{"$f":"IFERROR((VLOOKUP(AN38, Lookups!$J$68:$M$72, 2, 0))*(1+AN154)+AN150, 0)","v":0},{"$f":"IFERROR((VLOOKUP(AO38, Lookups!$J$68:$M$72, 2, 0))*(1+AO154)+AO150, 0)","v":0},{"$f":"IFERROR((VLOOKUP(AP38, Lookups!$J$68:$M$72, 2, 0))*(1+AP154)+AP150, 0)","v":0},{"$f":"IFERROR((VLOOKUP(AQ38, Lookups!$J$68:$M$72, 2, 0))*(1+AQ154)+AQ150, 0)","v":0},{"$f":"IFERROR((VLOOKUP(AR38, Lookups!$J$68:$M$72, 2, 0))*(1+AR154)+AR150, 0)","v":0},{"$f":"IFERROR((VLOOKUP(AS38, Lookups!$J$68:$M$72, 2, 0))*(1+AS154)+AS150, 0)","v":0},{"$f":"IFERROR((VLOOKUP(AT38, Lookups!$J$68:$M$72, 2, 0))*(1+AT154)+AT150, 0)","v":0},{"$f":"IFERROR((VLOOKUP(AU38, Lookups!$J$68:$M$72, 2, 0))*(1+AU154)+AU150, 0)","v":0},{"$f":"IFERROR((VLOOKUP(AV38, Lookups!$J$68:$M$72, 2, 0))*(1+AV154)+AV150, 0)","v":0},{"$f":"IFERROR((VLOOKUP(AW38, Lookups!$J$68:$M$72, 2, 0))*(1+AW154)+AW150, 0)","v":0},{"$f":"IFERROR((VLOOKUP(AX38, Lookups!$J$68:$M$72, 2, 0))*(1+AX154)+AX150, 0)","v":0},{"$f":"IFERROR((VLOOKUP(AY38, Lookups!$J$68:$M$72, 2, 0))*(1+AY154)+AY150, 0)","v":0},{"$f":"IFERROR((VLOOKUP(AZ38, Lookups!$J$68:$M$72, 2, 0))*(1+AZ154)+AZ150, 0)","v":0},{"$f":"IFERROR((VLOOKUP(BA38, Lookups!$J$68:$M$72, 2, 0))*(1+BA154)+BA150, 0)","v":0},{"$f":"IFERROR((VLOOKUP(BB38, Lookups!$J$68:$M$72, 2, 0))*(1+BB154)+BB150, 0)","v":0},{"$f":"IFERROR((VLOOKUP(BC38, Lookups!$J$68:$M$72, 2, 0))*(1+BC154)+BC150, 0)","v":0},{"$f":"IFERROR((VLOOKUP(BD38, Lookups!$J$68:$M$72, 2, 0))*(1+BD154)+BD150, 0)","v":0},{"$f":"IFERROR((VLOOKUP(BE38, Lookups!$J$68:$M$72, 2, 0))*(1+BE154)+BE150, 0)","v":0},{"$f":"IFERROR((VLOOKUP(BF38, Lookups!$J$68:$M$72, 2, 0))*(1+BF154)+BF150, 0)","v":0}]
["DEF",{"$f":"IFERROR((VLOOKUP(B38, Lookups!$J$68:$M$72, 3, 0))*(1+B155)+B151, 0)","v":891.35200000000009},{"$f":"IFERROR((VLOOKUP(C38, Lookups!$J$68:$M$72, 3, 0))*(1+C155)+C151, 0)","v":891.35200000000009},{"$f":"IFERROR((VLOOKUP(D38, Lookups!$J$68:$M$72, 3, 0))*(1+D155)+D151, 0)","v":905.96400000000006},{"$f":"IFERROR((VLOOKUP(E38, Lookups!$J$68:$M$72, 3, 0))*(1+E155)+E151, 0)","v":905.96400000000006},{"$f":"IFERROR((VLOOKUP(F38, Lookups!$J$68:$M$72, 3, 0))*(1+F155)+F151, 0)","v":891.35200000000009},{"$f":"IFERROR((VLOOKUP(G38, Lookups!$J$68:$M$72, 3, 0))*(1+G155)+G151, 0)","v":891.35200000000009},{"$f":"IFERROR((VLOOKUP(H38, Lookups!$J$68:$M$72, 3, 0))*(1+H155)+H151, 0)","v":920.57600000000014},{"$f":"IFERROR((VLOOKUP(I38, Lookups!$J$68:$M$72, 3, 0))*(1+I155)+I151, 0)","v":920.57600000000014},{"$f":"IFERROR((VLOOKUP(J38, Lookups!$J$68:$M$72, 3, 0))*(1+J155)+J151, 0)","v":920.57600000000014},{"$f":"IFERROR((VLOOKUP(K38, Lookups!$J$68:$M$72, 3, 0))*(1+K155)+K151, 0)","v":920.57600000000014},{"$f":"IFERROR((VLOOKUP(L38, Lookups!$J$68:$M$72, 3, 0))*(1+L155)+L151, 0)","v":920.57600000000014},{"$f":"IFERROR((VLOOKUP(M38, Lookups!$J$68:$M$72, 3, 0))*(1+M155)+M151, 0)","v":920.57600000000014},{"$f":"IFERROR((VLOOKUP(N38, Lookups!$J$68:$M$72, 3, 0))*(1+N155)+N151, 0)","v":920.57600000000014},{"$f":"IFERROR((VLOOKUP(O38, Lookups!$J$68:$M$72, 3, 0))*(1+O155)+O151, 0)","v":920.57600000000014},{"$f":"IFERROR((VLOOKUP(P38, Lookups!$J$68:$M$72, 3, 0))*(1+P155)+P151, 0)","v":920.57600000000014},{"$f":"IFERROR((VLOOKUP(Q38, Lookups!$J$68:$M$72, 3, 0))*(1+Q155)+Q151, 0)","v":920.57600000000014},{"$f":"IFERROR((VLOOKUP(R38, Lookups!$J$68:$M$72, 3, 0))*(1+R155)+R151, 0)","v":920.57600000000014},{"$f":"IFERROR((VLOOKUP(S38, Lookups!$J$68:$M$72, 3, 0))*(1+S155)+S151, 0)","v":920.57600000000014},{"$f":"IFERROR((VLOOKUP(T38, Lookups!$J$68:$M$72, 3, 0))*(1+T155)+T151, 0)","v":920.57600000000014},{"$f":"IFERROR((VLOOKUP(U38, Lookups!$J$68:$M$72, 3, 0))*(1+U155)+U151, 0)","v":920.57600000000014},null,{"$f":"IFERROR((VLOOKUP(W38, Lookups!$J$68:$M$72, 3, 0))*(1+W155)+W151, 0)","v":905.96400000000006},{"$f":"IFERROR((VLOOKUP(X38, Lookups!$J$68:$M$72, 3, 0))*(1+X155)+X151, 0)","v":905.96400000000006},{"$f":"IFERROR((VLOOKUP(Y38, Lookups!$J$68:$M$72, 3, 0))*(1+Y155)+Y151, 0)","v":868.87200000000007},{"$f":"IFERROR((VLOOKUP(Z38, Lookups!$J$68:$M$72, 3, 0))*(1+Z155)+Z151, 0)","v":868.87200000000007},{"$f":"IFERROR((VLOOKUP(AA38, Lookups!$J$68:$M$72, 3, 0))*(1+AA155)+AA151, 0)","v":868.87200000000007},{"$f":"IFERROR((VLOOKUP(AB38, Lookups!$J$68:$M$72, 3, 0))*(1+AB155)+AB151, 0)","v":920.57600000000014},{"$f":"IFERROR((VLOOKUP(AC38, Lookups!$J$68:$M$72, 3, 0))*(1+AC155)+AC151, 0)","v":920.57600000000014},{"$f":"IFERROR((VLOOKUP(AD38, Lookups!$J$68:$M$72, 3, 0))*(1+AD155)+AD151, 0)","v":891.35200000000009},{"$f":"IFERROR((VLOOKUP(AE38, Lookups!$J$68:$M$72, 3, 0))*(1+AE155)+AE151, 0)","v":920.57600000000014},{"$f":"IFERROR((VLOOKUP(AF38, Lookups!$J$68:$M$72, 3, 0))*(1+AF155)+AF151, 0)","v":0},{"$f":"IFERROR((VLOOKUP(AG38, Lookups!$J$68:$M$72, 3, 0))*(1+AG155)+AG151, 0)","v":0},{"$f":"IFERROR((VLOOKUP(AH38, Lookups!$J$68:$M$72, 3, 0))*(1+AH155)+AH151, 0)","v":0},{"$f":"IFERROR((VLOOKUP(AI38, Lookups!$J$68:$M$72, 3, 0))*(1+AI155)+AI151, 0)","v":0},{"$f":"IFERROR((VLOOKUP(AJ38, Lookups!$J$68:$M$72, 3, 0))*(1+AJ155)+AJ151, 0)","v":0},{"$f":"IFERROR((VLOOKUP(AK38, Lookups!$J$68:$M$72, 3, 0))*(1+AK155)+AK151, 0)","v":0},{"$f":"IFERROR((VLOOKUP(AL38, Lookups!$J$68:$M$72, 3, 0))*(1+AL155)+AL151, 0)","v":0},{"$f":"IFERROR((VLOOKUP(AM38, Lookups!$J$68:$M$72, 3, 0))*(1+AM155)+AM151, 0)","v":0},{"$f":"IFERROR((VLOOKUP(AN38, Lookups!$J$68:$M$72, 3, 0))*(1+AN155)+AN151, 0)","v":0},{"$f":"IFERROR((VLOOKUP(AO38, Lookups!$J$68:$M$72, 3, 0))*(1+AO155)+AO151, 0)","v":0},{"$f":"IFERROR((VLOOKUP(AP38, Lookups!$J$68:$M$72, 3, 0))*(1+AP155)+AP151, 0)","v":0},{"$f":"IFERROR((VLOOKUP(AQ38, Lookups!$J$68:$M$72, 3, 0))*(1+AQ155)+AQ151, 0)","v":0},{"$f":"IFERROR((VLOOKUP(AR38, Lookups!$J$68:$M$72, 3, 0))*(1+AR155)+AR151, 0)","v":0},{"$f":"IFERROR((VLOOKUP(AS38, Lookups!$J$68:$M$72, 3, 0))*(1+AS155)+AS151, 0)","v":0},{"$f":"IFERROR((VLOOKUP(AT38, Lookups!$J$68:$M$72, 3, 0))*(1+AT155)+AT151, 0)","v":0},{"$f":"IFERROR((VLOOKUP(AU38, Lookups!$J$68:$M$72, 3, 0))*(1+AU155)+AU151, 0)","v":0},{"$f":"IFERROR((VLOOKUP(AV38, Lookups!$J$68:$M$72, 3, 0))*(1+AV155)+AV151, 0)","v":0},{"$f":"IFERROR((VLOOKUP(AW38, Lookups!$J$68:$M$72, 3, 0))*(1+AW155)+AW151, 0)","v":0},{"$f":"IFERROR((VLOOKUP(AX38, Lookups!$J$68:$M$72, 3, 0))*(1+AX155)+AX151, 0)","v":0},{"$f":"IFERROR((VLOOKUP(AY38, Lookups!$J$68:$M$72, 3, 0))*(1+AY155)+AY151, 0)","v":0},{"$f":"IFERROR((VLOOKUP(AZ38, Lookups!$J$68:$M$72, 3, 0))*(1+AZ155)+AZ151, 0)","v":0},{"$f":"IFERROR((VLOOKUP(BA38, Lookups!$J$68:$M$72, 3, 0))*(1+BA155)+BA151, 0)","v":0},{"$f":"IFERROR((VLOOKUP(BB38, Lookups!$J$68:$M$72, 3, 0))*(1+BB155)+BB151, 0)","v":0},{"$f":"IFERROR((VLOOKUP(BC38, Lookups!$J$68:$M$72, 3, 0))*(1+BC155)+BC151, 0)","v":0},{"$f":"IFERROR((VLOOKUP(BD38, Lookups!$J$68:$M$72, 3, 0))*(1+BD155)+BD151, 0)","v":0},{"$f":"IFERROR((VLOOKUP(BE38, Lookups!$J$68:$M$72, 3, 0))*(1+BE155)+BE151, 0)","v":0},{"$f":"IFERROR((VLOOKUP(BF38, Lookups!$J$68:$M$72, 3, 0))*(1+BF155)+BF151, 0)","v":0}]
["HP",{"$f":"IFERROR((VLOOKUP(B38, Lookups!$J$68:$M$72, 4, 0))*(1+B156)+B152, 0)","v":16523.902399999999},{"$f":"IFERROR((VLOOKUP(C38, Lookups!$J$68:$M$72, 4, 0))*(1+C156)+C152, 0)","v":16523.902399999999},{"$f":"IFERROR((VLOOKUP(D38, Lookups!$J$68:$M$72, 4, 0))*(1+D156)+D152, 0)","v":18914.662400000001},{"$f":"IFERROR((VLOOKUP(E38, Lookups!$J$68:$M$72, 4, 0))*(1+E156)+E152, 0)","v":18914.662400000001},{"$f":"IFERROR((VLOOKUP(F38, Lookups!$J$68:$M$72, 4, 0))*(1+F156)+F152, 0)","v":16523.902399999999},{"$f":"IFERROR((VLOOKUP(G38, Lookups!$J$68:$M$72, 4, 0))*(1+G156)+G152, 0)","v":16523.902399999999},{"$f":"IFERROR((VLOOKUP(H38, Lookups!$J$68:$M$72, 4, 0))*(1+H156)+H152, 0)","v":19556.5952},{"$f":"IFERROR((VLOOKUP(I38, Lookups!$J$68:$M$72, 4, 0))*(1+I156)+I152, 0)","v":19556.5952},{"$f":"IFERROR((VLOOKUP(J38, Lookups!$J$68:$M$72, 4, 0))*(1+J156)+J152, 0)","v":19556.5952},{"$f":"IFERROR((VLOOKUP(K38, Lookups!$J$68:$M$72, 4, 0))*(1+K156)+K152, 0)","v":19556.5952},{"$f":"IFERROR((VLOOKUP(L38, Lookups!$J$68:$M$72, 4, 0))*(1+L156)+L152, 0)","v":19556.5952},{"$f":"IFERROR((VLOOKUP(M38, Lookups!$J$68:$M$72, 4, 0))*(1+M156)+M152, 0)","v":19556.5952},{"$f":"IFERROR((VLOOKUP(N38, Lookups!$J$68:$M$72, 4, 0))*(1+N156)+N152, 0)","v":19556.5952},{"$f":"IFERROR((VLOOKUP(O38, Lookups!$J$68:$M$72, 4, 0))*(1+O156)+O152, 0)","v":19556.5952},{"$f":"IFERROR((VLOOKUP(P38, Lookups!$J$68:$M$72, 4, 0))*(1+P156)+P152, 0)","v":19556.5952},{"$f":"IFERROR((VLOOKUP(Q38, Lookups!$J$68:$M$72, 4, 0))*(1+Q156)+Q152, 0)","v":19556.5952},{"$f":"IFERROR((VLOOKUP(R38, Lookups!$J$68:$M$72, 4, 0))*(1+R156)+R152, 0)","v":19556.5952},{"$f":"IFERROR((VLOOKUP(S38, Lookups!$J$68:$M$72, 4, 0))*(1+S156)+S152, 0)","v":19556.5952},{"$f":"IFERROR((VLOOKUP(T38, Lookups!$J$68:$M$72, 4, 0))*(1+T156)+T152, 0)","v":19556.5952},{"$f":"IFERROR((VLOOKUP(U38, Lookups!$J$68:$M$72, 4, 0))*(1+U156)+U152, 0)","v":19556.5952},null,{"$f":"IFERROR((VLOOKUP(W38, Lookups!$J$68:$M$72, 4, 0))*(1+W156)+W152, 0)","v":18914.662400000001},{"$f":"IFERROR((VLOOKUP(X38, Lookups!$J$68:$M$72, 4, 0))*(1+X156)+X152, 0)","v":18914.662400000001},{"$f":"IFERROR((VLOOKUP(Y38, Lookups!$J$68:$M$72, 4, 0))*(1+Y156)+Y152, 0)","v":54460.289000000004},{"$f":"IFERROR((VLOOKUP(Z38, Lookups!$J$68:$M$72, 4, 0))*(1+Z156)+Z152, 0)","v":54460.289000000004},{"$f":"IFERROR((VLOOKUP(AA38, Lookups!$J$68:$M$72, 4, 0))*(1+AA156)+AA152, 0)","v":54460.289000000004},{"$f":"IFERROR((VLOOKUP(AB38, Lookups!$J$68:$M$72, 4, 0))*(1+AB156)+AB152, 0)","v":19556.5952},{"$f":"IFERROR((VLOOKUP(AC38, Lookups!$J$68:$M$72, 4, 0))*(1+AC156)+AC152, 0)","v":19556.5952},{"$f":"IFERROR((VLOOKUP(AD38, Lookups!$J$68:$M$72, 4, 0))*(1+AD156)+AD152, 0)","v":16523.902399999999},{"$f":"IFERROR((VLOOKUP(AE38, Lookups!$J$68:$M$72, 4, 0))*(1+AE156)+AE152, 0)","v":19556.5952},{"$f":"IFERROR((VLOOKUP(AF38, Lookups!$J$68:$M$72, 4, 0))*(1+AF156)+AF152, 0)","v":0},{"$f":"IFERROR((VLOOKUP(AG38, Lookups!$J$68:$M$72, 4, 0))*(1+AG156)+AG152, 0)","v":0},{"$f":"IFERROR((VLOOKUP(AH38, Lookups!$J$68:$M$72, 4, 0))*(1+AH156)+AH152, 0)","v":0},{"$f":"IFERROR((VLOOKUP(AI38, Lookups!$J$68:$M$72, 4, 0))*(1+AI156)+AI152, 0)","v":0},{"$f":"IFERROR((VLOOKUP(AJ38, Lookups!$J$68:$M$72, 4, 0))*(1+AJ156)+AJ152, 0)","v":0},{"$f":"IFERROR((VLOOKUP(AK38, Lookups!$J$68:$M$72, 4, 0))*(1+AK156)+AK152, 0)","v":0},{"$f":"IFERROR((VLOOKUP(AL38, Lookups!$J$68:$M$72, 4, 0))*(1+AL156)+AL152, 0)","v":0},{"$f":"IFERROR((VLOOKUP(AM38, Lookups!$J$68:$M$72, 4, 0))*(1+AM156)+AM152, 0)","v":0},{"$f":"IFERROR((VLOOKUP(AN38, Lookups!$J$68:$M$72, 4, 0))*(1+AN156)+AN152, 0)","v":0},{"$f":"IFERROR((VLOOKUP(AO38, Lookups!$J$68:$M$72, 4, 0))*(1+AO156)+AO152, 0)","v":0},{"$f":"IFERROR((VLOOKUP(AP38, Lookups!$J$68:$M$72, 4, 0))*(1+AP156)+AP152, 0)","v":0},{"$f":"IFERROR((VLOOKUP(AQ38, Lookups!$J$68:$M$72, 4, 0))*(1+AQ156)+AQ152, 0)","v":0},{"$f":"IFERROR((VLOOKUP(AR38, Lookups!$J$68:$M$72, 4, 0))*(1+AR156)+AR152, 0)","v":0},{"$f":"IFERROR((VLOOKUP(AS38, Lookups!$J$68:$M$72, 4, 0))*(1+AS156)+AS152, 0)","v":0},{"$f":"IFERROR((VLOOKUP(AT38, Lookups!$J$68:$M$72, 4, 0))*(1+AT156)+AT152, 0)","v":0},{"$f":"IFERROR((VLOOKUP(AU38, Lookups!$J$68:$M$72, 4, 0))*(1+AU156)+AU152, 0)","v":0},{"$f":"IFERROR((VLOOKUP(AV38, Lookups!$J$68:$M$72, 4, 0))*(1+AV156)+AV152, 0)","v":0},{"$f":"IFERROR((VLOOKUP(AW38, Lookups!$J$68:$M$72, 4, 0))*(1+AW156)+AW152, 0)","v":0},{"$f":"IFERROR((VLOOKUP(AX38, Lookups!$J$68:$M$72, 4, 0))*(1+AX156)+AX152, 0)","v":0},{"$f":"IFERROR((VLOOKUP(AY38, Lookups!$J$68:$M$72, 4, 0))*(1+AY156)+AY152, 0)","v":0},{"$f":"IFERROR((VLOOKUP(AZ38, Lookups!$J$68:$M$72, 4, 0))*(1+AZ156)+AZ152, 0)","v":0},{"$f":"IFERROR((VLOOKUP(BA38, Lookups!$J$68:$M$72, 4, 0))*(1+BA156)+BA152, 0)","v":0},{"$f":"IFERROR((VLOOKUP(BB38, Lookups!$J$68:$M$72, 4, 0))*(1+BB156)+BB152, 0)","v":0},{"$f":"IFERROR((VLOOKUP(BC38, Lookups!$J$68:$M$72, 4, 0))*(1+BC156)+BC152, 0)","v":0},{"$f":"IFERROR((VLOOKUP(BD38, Lookups!$J$68:$M$72, 4, 0))*(1+BD156)+BD152, 0)","v":0},{"$f":"IFERROR((VLOOKUP(BE38, Lookups!$J$68:$M$72, 4, 0))*(1+BE156)+BE152, 0)","v":0},{"$f":"IFERROR((VLOOKUP(BF38, Lookups!$J$68:$M$72, 4, 0))*(1+BF156)+BF152, 0)","v":0}]
["Flat ATK",{"$f":"B39+B93","v":1344.08},{"$f":"C39+C93","v":1344.08},344.08,{"$f":"E39+E93","v":1344.08},1344.08,{"$f":"G39+G93","v":344.08},1344.08,{"$f":"I39+I93","v":1344.08},1344.08,{"$f":"K39+K93","v":1344.08},1344.08,1344.08,1344.08,{"$f":"O39+O93","v":1344.08},{"$f":"P39+P93","v":1344.08},1344.08,{"$f":"R39+R93","v":1344.08},1344.08,1344.08,1344.08,null,{"$f":"W39+W93","v":344.08},{"$f":"X39+X93","v":344.08},{"$f":"Y39+Y93","v":344.08},344.08,344.08,{"$f":"AB39+AB93","v":344.08},{"$f":"AC39+AC93","v":344.08},344.08,344.08,{"$f":"AF39+AF93","v":{"$error":"#N/A"}},{"$error":"#N/A"},{"$error":"#N/A"},{"$error":"#N/A"},{"$error":"#N/A"},{"$error":"#N/A"},{"$error":"#N/A"},{"$error":"#N/A"},{"$error":"#N/A"},{"$error":"#N/A"},{"$error":"#N/A"},{"$error":"#N/A"},{"$error":"#N/A"},{"$error":"#N/A"},{"$error":"#N/A"},{"$error":"#N/A"},{"$error":"#N/A"},{"$error":"#N/A"},{"$error":"#N/A"},{"$error":"#N/A"},{"$error":"#N/A"},{"$error":"#N/A"},{"$error":"#N/A"},{"$error":"#N/A"},{"$error":"#N/A"},{"$error":"#N/A"},{"$error":"#N/A"}]
["Flat DEF",39.36,39.36,39.36,{"$f":"E40+E94","v":39.36},39.36,{"$f":"G40+G94","v":39.36},39.36,{"$f":"I40+I94","v":39.36},39.36,{"$f":"K40+K94","v":39.36},39.36,39.36,39.36,{"$f":"O40+O94","v":39.36},{"$f":"P40+P94","v":39.36},39.36,{"$f":"R40+R94","v":39.36},39.36,39.36,39.36,null,{"$f":"W40+W94","v":39.36},{"$f":"X40+X94","v":39.36},{"$f":"Y40+Y94","v":39.36},39.36,39.36,{"$f":"AB40+AB94","v":39.36},{"$f":"AC40+AC94","v":39.36},39.36,39.36,{"$f":"AF40+AF94","v":{"$error":"#N/A"}},{"$error":"#N/A"},{"$error":"#N/A"},{"$error":"#N/A"},{"$error":"#N/A"},{"$error":"#N/A"},{"$error":"#N/A"},{"$error":"#N/A"},{"$error":"#N/A"},{"$error":"#N/A"},{"$error":"#N/A"},{"$error":"#N/A"},{"$error":"#N/A"},{"$error":"#N/A"},{"$error":"#N/A"},{"$error":"#N/A"},{"$error":"#N/A"},{"$error":"#N/A"},{"$error":"#N/A"},{"$error":"#N/A"},{"$error":"#N/A"},{"$error":"#N/A"},{"$error":"#N/A"},{"$error":"#N/A"},{"$error":"#N/A"},{"$error":"#N/A"},{"$error":"#N/A"}]
["Flat HP",5287.88,5287.88,5287.88,{"$f":"E41+E95","v":5287.88},5287.88,{"$f":"G41+G95","v":5287.88},5287.88,{"$f":"I41+I95","v":5287.88},5287.88,{"$f":"K41+K95","v":5287.88},5287.88,5287.88,5287.88,{"$f":"O41+O95","v":5287.88},{"$f":"P41+P95","v":5287.88},5287.88,{"$f":"R41+R95","v":5287.88},5287.88,5287.88,5287.88,null,{"$f":"W41+W95","v":5287.88},{"$f":"X41+X95","v":5287.88},{"$f":"Y41+Y95","v":5287.88},5287.88,5287.88,{"$f":"AB41+AB95","v":5287.88},{"$f":"AC41+AC95","v":5287.88},5287.88,5287.88,{"$f":"AF41+AF95","v":{"$error":"#N/A"}},{"$error":"#N/A"},{"$error":"#N/A"},{"$error":"#N/A"},{"$error":"#N/A"},{"$error":"#N/A"},{"$error":"#N/A"},{"$error":"#N/A"},{"$error":"#N/A"},{"$error":"#N/A"},{"$error":"#N/A"},{"$error":"#N/A"},{"$error":"#N/A"},{"$error":"#N/A"},{"$error":"#N/A"},{"$error":"#N/A"},{"$error":"#N/A"},{"$error":"#N/A"},{"$error":"#N/A"},{"$error":"#N/A"},{"$error":"#N/A"},{"$error":"#N/A"},{"$error":"#N/A"},{"$error":"#N/A"},{"$error":"#N/A"},{"$error":"#N/A"},{"$error":"#N/A"}]
["EM",39.64,39.64,39.64,{"$f":"E42+E96","v":39.64},39.64,{"$f":"G42+G96","v":39.64},226.64,{"$f":"I42+I96","v":226.64},226.64,{"$f":"K42+K96","v":226.64},226.64,226.64,226.64,{"$f":"O42+O96","v":226.64},{"$f":"P42+P96","v":226.64},226.64,{"$f":"R42+R96","v":226.64},226.64,226.64,226.64,null,{"$f":"W42+W96","v":39.64},{"$f":"X42+X96","v":39.64},{"$f":"Y42+Y96","v":39.64},39.64,39.64,{"$f":"AB42+AB96","v":226.64},{"$f":"AC42+AC96","v":226.64},39.64,226.64,{"$f":"AF42+AF96","v":{"$error":"#N/A"}},{"$error":"#N/A"},{"$error":"#N/A"},{"$error":"#N/A"},{"$error":"#N/A"},{"$error":"#N/A"},{"$error":"#N/A"},{"$error":"#N/A"},{"$error":"#N/A"},{"$error":"#N/A"},{"$error":"#N/A"},{"$error":"#N/A"},{"$error":"#N/A"},{"$error":"#N/A"},{"$error":"#N/A"},{"$error":"#N/A"},{"$error":"#N/A"},{"$error":"#N/A"},{"$error":"#N/A"},{"$error":"#N/A"},{"$error":"#N/A"},{"$error":"#N/A"},{"$error":"#N/A"},{"$error":"#N/A"},{"$error":"#N/A"},{"$error":"#N/A"},{"$error":"#N/A"}]
["ATK%",1.5047999999999999,1.5047999999999999,0.54920000000000002,{"$f":"E43+E97","v":0.74919999999999998},1.5047999999999999,{"$f":"G43+G97","v":1.5047999999999999},0.74919999999999998,{"$f":"I43+I97","v":0.74919999999999998},0.74919999999999998,{"$f":"K43+K97","v":0.74919999999999998},0.74919999999999998,0.74919999999999998,0.74919999999999998,{"$f":"O43+O97","v":0.74919999999999998},{"$f":"P43+P97","v":0.74919999999999998},0.74919999999999998,{"$f":"R43+R97","v":0.74919999999999998},0.74919999999999998,0.74919999999999998,0.74919999999999998,null,{"$f":"W43+W97","v":0.54920000000000002},{"$f":"X43+X97","v":0.54920000000000002},{"$f":"Y43+Y97","v":0.54920000000000002},0.34920000000000001,0.34920000000000001,{"$f":"AB43+AB97","v":0.54920000000000002},{"$f":"AC43+AC97","v":0.54920000000000002},1.3048,0.54920000000000002,{"$f":"AF43+AF97","v":{"$error":"#N/A"}},{"$error":"#N/A"},{"$error":"#N/A"},{"$error":"#N/A"},{"$error":"#N/A"},{"$error":"#N/A"},{"$error":"#N/A"},{"$error":"#N/A"},{"$error":"#N/A"},{"$error":"#N/A"},{"$error":"#N/A"},{"$error":"#N/A"},{"$error":"#N/A"},{"$error":"#N/A"},{"$error":"#N/A"},{"$error":"#N/A"},{"$error":"#N/A"},{"$error":"#N/A"},{"$error":"#N/A"},{"$error":"#N/A"},{"$error":"#N/A"},{"$error":"#N/A"},{"$error":"#N/A"},{"$error":"#N/A"},{"$error":"#N/A"},{"$error":"#N/A"},{"$error":"#N/A"}]
["DEF%",0.124,0.124,0.124,{"$f":"E44+E98","v":0.124},0.124,{"$f":"G44+G98","v":0.124},0.124,{"$f":"I44+I98","v":0.124},0.124,{"$f":"K44+K98","v":0.124},0.124,0.124,0.124,{"$f":"O44+O98","v":0.124},{"$f":"P44+P98","v":0.124},0.124,{"$f":"R44+R98","v":0.124},0.124,0.124,0.124,null,{"$f":"W44+W98","v":0.124},{"$f":"X44+X98","v":0.124},{"$f":"Y44+Y98","v":0.124},0.124,0.124,{"$f":"AB44+AB98","v":0.124},{"$f":"AC44+AC98","v":0.124},0.124,0.124,{"$f":"AF44+AF98","v":{"$error":"#N/A"}},{"$error":"#N/A"},{"$error":"#N/A"},{"$error":"#N/A"},{"$error":"#N/A"},{"$error":"#N/A"},{"$error":"#N/A"},{"$error":"#N/A"},{"$error":"#N/A"},{"$error":"#N/A"},{"$error":"#N/A"},{"$error":"#N/A"},{"$error":"#N/A"},{"$error":"#N/A"},{"$error":"#N/A"},{"$error":"#N/A"},{"$error":"#N/A"},{"$error":"#N/A"},{"$error":"#N/A"},{"$error":"#N/A"},{"$error":"#N/A"},{"$error":"#N/A"},{"$error":"#N/A"},{"$error":"#N/A"},{"$error":"#N/A"},{"$error":"#N/A"},{"$error":"#N/A"}]
["HP%",9.9199999999999997E-2,9.9199999999999997E-2,9.9199999999999997E-2,{"$f":"E45+E99","v":9.9199999999999997E-2},9.9199999999999997E-2,{"$f":"G45+G99","v":9.9199999999999997E-2},9.9199999999999997E-2,{"$f":"I45+I99","v":9.9199999999999997E-2},9.9199999999999997E-2,{"$f":"K45+K99","v":9.9199999999999997E-2},9.9199999999999997E-2,9.9199999999999997E-2,9.9199999999999997E-2,{"$f":"O45+O99","v":9.9199999999999997E-2},{"$f":"P45+P99","v":9.9199999999999997E-2},9.9199999999999997E-2,{"$f":"R45+R99","v":9.9199999999999997E-2},9.9199999999999997E-2,9.9199999999999997E-2,9.9199999999999997E-2,null,{"$f":"W45+W99","v":9.9199999999999997E-2},{"$f":"X45+X99","v":9.9199999999999997E-2},{"$f":"Y45+Y99","v":2.3462000000000005},2.3462000000000005,2.3462000000000005,{"$f":"AB45+AB99","v":9.9199999999999997E-2},{"$f":"AC45+AC99","v":9.9199999999999997E-2},9.9199999999999997E-2,9.9199999999999997E-2,{"$f":"AF45+AF99","v":{"$error":"#N/A"}},{"$error":"#N/A"},{"$error":"#N/A"},{"$error":"#N/A"},{"$error":"#N/A"},{"$error":"#N/A"},{"$error":"#N/A"},{"$error":"#N/A"},{"$error":"#N/A"},{"$error":"#N/A"},{"$error":"#N/A"},{"$error":"#N/A"},{"$error":"#N/A"},{"$error":"#N/A"},{"$error":"#N/A"},{"$error":"#N/A"},{"$error":"#N/A"},{"$error":"#N/A"},{"$error":"#N/A"},{"$error":"#N/A"},{"$error":"#N/A"},{"$error":"#N/A"},{"$error":"#N/A"},{"$error":"#N/A"},{"$error":"#N/A"},{"$error":"#N/A"},{"$error":"#N/A"}]
["CR%",{"$f":"MIN(B46+B100, 100%)","v":0.62579999999999991},{"$f":"MIN(C46+C100, 100%)","v":0.62579999999999991},0.62579999999999991,{"$f":"MIN(E46+E100, 100%)","v":0.62579999999999991},0.62579999999999991,{"$f":"MIN(G46+G100, 100%)","v":0.62579999999999991},0.91520000000000001,{"$f":"MIN(I46+I100, 100%)","v":0.91520000000000001},0.91520000000000001,{"$f":"MIN(K46+K100, 100%)","v":0.91520000000000001},0.91520000000000001,0.91520000000000001,0.91520000000000001,{"$f":"MIN(O46+O100, 100%)","v":0.91520000000000001},{"$f":"MIN(P46+P100, 100%)","v":0.91520000000000001},0.91520000000000001,{"$f":"MIN(R46+R100, 100%)","v":0.91520000000000001},0.91520000000000001,0.91520000000000001,0.91520000000000001,null,{"$f":"MIN(W46+W100, 100%)","v":0.62579999999999991},{"$f":"MIN(X46+X100, 100%)","v":0.62579999999999991},{"$f":"MIN(Y46+Y100, 100%)","v":0.44719999999999999},0.44719999999999999,0.44719999999999999,{"$f":"MIN(AB46+AB100, 100%)","v":0.91520000000000001},{"$f":"MIN(AC46+AC100, 100%)","v":0.91520000000000001},0.62579999999999991,0.91520000000000001,{"$error":"#N/A"},{"$error":"#N/A"},{"$error":"#N/A"},{"$error":"#N/A"},{"$error":"#N/A"},{"$error":"#N/A"},{"$error":"#N/A"},{"$error":"#N/A"},{"$error":"#N/A"},{"$error":"#N/A"},{"$error":"#N/A"},{"$error":"#N/A"},{"$error":"#N/A"},{"$error":"#N/A"},{"$error":"#N/A"},{"$error":"#N/A"},{"$error":"#N/A"},{"$error":"#N/A"},{"$error":"#N/A"},{"$error":"#N/A"},{"$error":"#N/A"},{"$error":"#N/A"},{"$error":"#N/A"},{"$error":"#N/A"},{"$error":"#N/A"},{"$error":"#N/A"},{"$error":"#N/A"}]
["CDMG%",{"$f":"B47+B101","v":1.2944},{"$f":"C47+C101","v":1.2944},{"$f":"D47+D101","v":1.1619999999999999},1.1619999999999999,{"$f":"F47+F101","v":1.2944},1.2944,{"$f":"H47+H101","v":1.7839999999999998},1.7839999999999998,{"$f":"J47+J101","v":1.7839999999999998},1.7839999999999998,{"$f":"L47+L101","v":1.7839999999999998},1.7839999999999998,1.7839999999999998,{"$f":"O47+O101","v":1.7839999999999998},{"$f":"P47+P101","v":1.7839999999999998},1.7839999999999998,{"$f":"R47+R101","v":1.7839999999999998},1.7839999999999998,1.7839999999999998,1.7839999999999998,null,{"$f":"W47+W101","v":1.1619999999999999},{"$f":"X47+X101","v":1.1619999999999999},{"$f":"Y47+Y101","v":1.2944},1.2944,1.2944,{"$f":"AB47+AB101","v":1.7839999999999998},{"$f":"AC47+AC101","v":1.7839999999999998},1.2944,1.7839999999999998,{"$f":"AF47+AF101","v":{"$error":"#N/A"}},{"$error":"#N/A"},{"$error":"#N/A"},{"$error":"#N/A"},{"$error":"#N/A"},{"$error":"#N/A"},{"$error":"#N/A"},{"$error":"#N/A"},{"$error":"#N/A"},{"$error":"#N/A"},{"$error":"#N/A"},{"$error":"#N/A"},{"$error":"#N/A"},{"$error":"#N/A"},{"$error":"#N/A"},{"$error":"#N/A"},{"$error":"#N/A"},{"$error":"#N/A"},{"$error":"#N/A"},{"$error":"#N/A"},{"$error":"#N/A"},{"$error":"#N/A"},{"$error":"#N/A"},{"$error":"#N/A"},{"$error":"#N/A"},{"$error":"#N/A"},{"$error":"#N/A"}]
["ER%",{"$f":"B48+B102","v":2.0884999999999998},{"$f":"C48+C102","v":2.0884999999999998},2.2258,{"$f":"E48+E102","v":2.2258},2.0884999999999998,{"$f":"G48+G102","v":2.0884999999999998},1.2203999999999999,{"$f":"I48+I102","v":1.2203999999999999},1.2203999999999999,{"$f":"K48+K102","v":1.2203999999999999},1.2203999999999999,1.2203999999999999,1.2203999999999999,{"$f":"O48+O102","v":1.2203999999999999},{"$f":"P48+P102","v":1.2203999999999999},1.2203999999999999,{"$f":"R48+R102","v":1.2203999999999999},1.2203999999999999,1.2203999999999999,1.2203999999999999,null,{"$f":"W48+W102","v":2.2258},{"$f":"X48+X102","v":2.2258},{"$f":"Y48+Y102","v":1.1102000000000001},1.1102000000000001,1.1102000000000001,{"$f":"AB48+AB102","v":1.2203999999999999},{"$f":"AC48+AC102","v":1.2203999999999999},2.0884999999999998,1.2203999999999999,{"$f":"AF48+AF102","v":{"$error":"#N/A"}},{"$error":"#N/A"},{"$error":"#N/A"},{"$error":"#N/A"},{"$error":"#N/A"},{"$error":"#N/A"},{"$error":"#N/A"},{"$error":"#N/A"},{"$error":"#N/A"},{"$error":"#N/A"},{"$error":"#N/A"},{"$error":"#N/A"},{"$error":"#N/A"},{"$error":"#N/A"},{"$error":"#N/A"},{"$error":"#N/A"},{"$error":"#N/A"},{"$error":"#N/A"},{"$error":"#N/A"},{"$error":"#N/A"},{"$error":"#N/A"},{"$error":"#N/A"},{"$error":"#N/A"},{"$error":"#N/A"},{"$error":"#N/A"},{"$error":"#N/A"},{"$error":"#N/A"}]
["DMG%",0,0,0,{"$f":"E49+E103","v":0},0,{"$f":"G49+G103","v":0},0.3,{"$f":"I49+I103","v":0.3},0.3,{"$f":"K49+K103","v":0.3},0.3,0.3,0.3,{"$f":"O49+O103","v":0.3},{"$f":"P49+P103","v":0.3},0.3,{"$f":"R49+R103","v":0.3},0.3,0.3,0.3,null,{"$f":"W49+W103","v":0},{"$f":"X49+X103","v":0},{"$f":"Y49+Y103","v":0.8},0.8,0.8,{"$f":"AB49+AB103","v":0.3},{"$f":"AC49+AC103","v":0.3},0,0.3,{"$f":"AF49+AF103","v":{"$error":"#N/A"}},{"$error":"#N/A"},{"$error":"#N/A"},{"$error":"#N/A"},{"$error":"#N/A"},{"$error":"#N/A"},{"$error":"#N/A"},{"$error":"#N/A"},{"$error":"#N/A"},{"$error":"#N/A"},{"$error":"#N/A"},{"$error":"#N/A"},{"$error":"#N/A"},{"$error":"#N/A"},{"$error":"#N/A"},{"$error":"#N/A"},{"$error":"#N/A"},{"$error":"#N/A"},{"$error":"#N/A"},{"$error":"#N/A"},{"$error":"#N/A"},{"$error":"#N/A"},{"$error":"#N/A"},{"$error":"#N/A"},{"$error":"#N/A"},{"$error":"#N/A"},{"$error":"#N/A"}]
["Phys DMG%",0,0,0.34499999999999997,{"$f":"E50+E104","v":0.34499999999999997},0,{"$f":"G50+G104","v":0},0,{"$f":"I50+I104","v":0},0,{"$f":"K50+K104","v":0},0,0,0,{"$f":"O50+O104","v":0},{"$f":"P50+P104","v":0},0,{"$f":"R50+R104","v":0},0,0,0,null,{"$f":"W50+W104","v":0.34499999999999997},{"$f":"X50+X104","v":0.34499999999999997},{"$f":"Y50+Y104","v":0},0,0,{"$f":"AB50+AB104","v":0},{"$f":"AC50+AC104","v":0},0,0,{"$f":"AF50+AF104","v":{"$error":"#N/A"}},{"$error":"#N/A"},{"$error":"#N/A"},{"$error":"#N/A"},{"$error":"#N/A"},{"$error":"#N/A"},{"$error":"#N/A"},{"$error":"#N/A"},{"$error":"#N/A"},{"$error":"#N/A"},{"$error":"#N/A"},{"$error":"#N/A"},{"$error":"#N/A"},{"$error":"#N/A"},{"$error":"#N/A"},{"$error":"#N/A"},{"$error":"#N/A"},{"$error":"#N/A"},{"$error":"#N/A"},{"$error":"#N/A"},{"$error":"#N/A"},{"$error":"#N/A"},{"$error":"#N/A"},{"$error":"#N/A"},{"$error":"#N/A"},{"$error":"#N/A"},{"$error":"#N/A"}]
["Anemo DMG%",0,0,0,{"$f":"E51+E105","v":0},0,{"$f":"G51+G105","v":0},0,{"$f":"I51+I105","v":0},0,{"$f":"K51+K105","v":0},0,0,0,{"$f":"O51+O105","v":0},{"$f":"P51+P105","v":0},0,{"$f":"R51+R105","v":0},0,0,0,null,{"$f":"W51+W105","v":0},{"$f":"X51+X105","v":0},{"$f":"Y51+Y105","v":0},0,0,{"$f":"AB51+AB105","v":0},{"$f":"AC51+AC105","v":0},0,0,{"$f":"AF51+AF105","v":{"$error":"#N/A"}},{"$error":"#N/A"},{"$error":"#N/A"},{"$error":"#N/A"},{"$error":"#N/A"},{"$error":"#N/A"},{"$error":"#N/A"},{"$error":"#N/A"},{"$error":"#N/A"},{"$error":"#N/A"},{"$error":"#N/A"},{"$error":"#N/A"},{"$error":"#N/A"},{"$error":"#N/A"},{"$error":"#N/A"},{"$error":"#N/A"},{"$error":"#N/A"},{"$error":"#N/A"},{"$error":"#N/A"},{"$error":"#N/A"},{"$error":"#N/A"},{"$error":"#N/A"},{"$error":"#N/A"},{"$error":"#N/A"},{"$error":"#N/A"},{"$error":"#N/A"},{"$error":"#N/A"}]
["Geo DMG%",0,0,0,{"$f":"E52+E106","v":0},0,{"$f":"G52+G106","v":0},0,{"$f":"I52+I106","v":0},0,{"$f":"K52+K106","v":0},0,0,0,{"$f":"O52+O106","v":0},{"$f":"P52+P106","v":0},0,{"$f":"R52+R106","v":0},0,0,0,null,{"$f":"W52+W106","v":0},{"$f":"X52+X106","v":0},{"$f":"Y52+Y106","v":0.28800000000000003},0.28800000000000003,0.28800000000000003,{"$f":"AB52+AB106","v":0},{"$f":"AC52+AC106","v":0},0,{"$f":"AE52+AE107","v":-0.81599999999999995},{"$f":"AF52+AF106","v":{"$error":"#N/A"}},{"$error":"#N/A"},{"$error":"#N/A"},{"$error":"#N/A"},{"$error":"#N/A"},{"$error":"#N/A"},{"$error":"#N/A"},{"$error":"#N/A"},{"$error":"#N/A"},{"$error":"#N/A"},{"$error":"#N/A"},{"$error":"#N/A"},{"$error":"#N/A"},{"$error":"#N/A"},{"$error":"#N/A"},{"$error":"#N/A"},{"$error":"#N/A"},{"$error":"#N/A"},{"$error":"#N/A"},{"$error":"#N/A"},{"$error":"#N/A"},{"$error":"#N/A"},{"$error":"#N/A"},{"$error":"#N/A"},{"$error":"#N/A"},{"$error":"#N/A"},{"$error":"#N/A"}]
["Pyro DMG%",0,0,0.46600000000000003,{"$f":"E53+E107","v":0.46600000000000003},0,{"$f":"G53+G107","v":0},0.81600000000000006,{"$f":"I53+I107","v":0.81600000000000006},0.81600000000000006,{"$f":"K53+K107","v":0.89100000000000001},0.89100000000000001,0.89100000000000001,0.96600000000000008,{"$f":"O53+O107","v":0.96600000000000008},{"$f":"P53+P107","v":0.96600000000000008},1.0410000000000001,{"$f":"R53+R107","v":1.0410000000000001},1.0410000000000001,1.0410000000000001,1.0410000000000001,null,{"$f":"W53+W107","v":0.46600000000000003},{"$f":"X53+X107","v":0.46600000000000003},{"$f":"Y53+Y107","v":0},0,0,{"$f":"AB53+AB107","v":1.0410000000000001},{"$f":"AC53+AC107","v":1.0410000000000001},0,{"$f":"AE53+#REF!","v":{"$error":"#REF!"}},{"$f":"AF53+AF107","v":{"$error":"#N/A"}},{"$error":"#N/A"},{"$error":"#N/A"},{"$error":"#N/A"},{"$error":"#N/A"},{"$error":"#N/A"},{"$error":"#N/A"},{"$error":"#N/A"},{"$error":"#N/A"},{"$error":"#N/A"},{"$error":"#N/A"},{"$error":"#N/A"},{"$error":"#N/A"},{"$error":"#N/A"},{"$error":"#N/A"},{"$error":"#N/A"},{"$error":"#N/A"},{"$error":"#N/A"},{"$error":"#N/A"},{"$error":"#N/A"},{"$error":"#N/A"},{"$error":"#N/A"},{"$error":"#N/A"},{"$error":"#N/A"},{"$error":"#N/A"},{"$error":"#N/A"},{"$error":"#N/A"}]
["Cryo DMG%",0,0,0,{"$f":"E54+E108","v":0},0,{"$f":"G54+G108","v":0},0,{"$f":"I54+I108","v":0},0,{"$f":"K54+K108","v":0},0,0,0,{"$f":"O54+O108","v":0},{"$f":"P54+P108","v":0},0,{"$f":"R54+R108","v":0},0,0,0,null,{"$f":"W54+W108","v":0},{"$f":"X54+X108","v":0},{"$f":"Y54+Y108","v":0},0,0,{"$f":"AB54+AB108","v":0},{"$f":"AC54+AC108","v":0},0,0,{"$f":"AF54+AF108","v":{"$error":"#N/A"}},{"$error":"#N/A"},{"$error":"#N/A"},{"$error":"#N/A"},{"$error":"#N/A"},{"$error":"#N/A"},{"$error":"#N/A"},{"$error":"#N/A"},{"$error":"#N/A"},{"$error":"#N/A"},{"$error":"#N/A"},{"$error":"#N/A"},{"$error":"#N/A"},{"$error":"#N/A"},{"$error":"#N/A"},{"$error":"#N/A"},{"$error":"#N/A"},{"$error":"#N/A"},{"$error":"#N/A"},{"$error":"#N/A"},{"$error":"#N/A"},{"$error":"#N/A"},{"$error":"#N/A"},{"$error":"#N/A"},{"$error":"#N/A"},{"$error":"#N/A"},{"$error":"#N/A"}]
["Hydro DMG%",0.46600000000000003,0.46600000000000003,0,{"$f":"E55+E109","v":0},0.46600000000000003,{"$f":"G55+G109","v":0.46600000000000003},0,{"$f":"I55+I109","v":0},0,{"$f":"K55+K109","v":0},0,0,0,{"$f":"O55+O109","v":0},{"$f":"P55+P109","v":0},0,{"$f":"R55+R109","v":0},0,0,0,null,{"$f":"W55+W109","v":0},{"$f":"X55+X109","v":0},{"$f":"Y55+Y109","v":0},0,0,{"$f":"AB55+AB109","v":0},{"$f":"AC55+AC109","v":0},0.46600000000000003,0,{"$f":"AF55+AF109","v":{"$error":"#N/A"}},{"$error":"#N/A"},{"$error":"#N/A"},{"$error":"#N/A"},{"$error":"#N/A"},{"$error":"#N/A"},{"$error":"#N/A"},{"$error":"#N/A"},{"$error":"#N/A"},{"$error":"#N/A"},{"$error":"#N/A"},{"$error":"#N/A"},{"$error":"#N/A"},{"$error":"#N/A"},{"$error":"#N/A"},{"$error":"#N/A"},{"$error":"#N/A"},{"$error":"#N/A"},{"$error":"#N/A"},{"$error":"#N/A"},{"$error":"#N/A"},{"$error":"#N/A"},{"$error":"#N/A"},{"$error":"#N/A"},{"$error":"#N/A"},{"$error":"#N/A"},{"$error":"#N/A"}]
["Electro DMG%",0,0,0,{"$f":"E56+E110","v":0},0,{"$f":"G56+G110","v":0},0,{"$f":"I56+I110","v":0},0,{"$f":"K56+K110","v":0},0,0,0,{"$f":"O56+O110","v":0},{"$f":"P56+P110","v":0},0,{"$f":"R56+R110","v":0},0,0,0,null,{"$f":"W56+W110","v":0},{"$f":"X56+X110","v":0},{"$f":"Y56+Y110","v":0},0,0,{"$f":"AB56+AB110","v":0},{"$f":"AC56+AC110","v":0},0,0,{"$f":"AF56+AF110","v":{"$error":"#N/A"}},{"$error":"#N/A"},{"$error":"#N/A"},{"$error":"#N/A"},{"$error":"#N/A"},{"$error":"#N/A"},{"$error":"#N/A"},{"$error":"#N/A"},{"$error":"#N/A"},{"$error":"#N/A"},{"$error":"#N/A"},{"$error":"#N/A"},{"$error":"#N/A"},{"$error":"#N/A"},{"$error":"#N/A"},{"$error":"#N/A"},{"$error":"#N/A"},{"$error":"#N/A"},{"$error":"#N/A"},{"$error":"#N/A"},{"$error":"#N/A"},{"$error":"#N/A"},{"$error":"#N/A"},{"$error":"#N/A"},{"$error":"#N/A"},{"$error":"#N/A"},{"$error":"#N/A"}]
["Normal DMG%",0,0,0,{"$f":"E57+E111","v":0},0,{"$f":"G57+G111","v":0},0,{"$f":"I57+I111","v":0},0,{"$f":"K57+K111","v":0},0,0,0,{"$f":"O57+O111","v":0},{"$f":"P57+P111","v":0},0,{"$f":"R57+R111","v":0},0,0,0,null,{"$f":"W57+W111","v":0},{"$f":"X57+X111","v":0},{"$f":"Y57+Y111","v":0},0,0,{"$f":"AB57+AB111","v":0},{"$f":"AC57+AC111","v":0},0,0,{"$f":"AF57+AF111","v":{"$error":"#N/A"}},{"$error":"#N/A"},{"$error":"#N/A"},{"$error":"#N/A"},{"$error":"#N/A"},{"$error":"#N/A"},{"$error":"#N/A"},{"$error":"#N/A"},{"$error":"#N/A"},{"$error":"#N/A"},{"$error":"#N/A"},{"$error":"#N/A"},{"$error":"#N/A"},{"$error":"#N/A"},{"$error":"#N/A"},{"$error":"#N/A"},{"$error":"#N/A"},{"$error":"#N/A"},{"$error":"#N/A"},{"$error":"#N/A"},{"$error":"#N/A"},{"$error":"#N/A"},{"$error":"#N/A"},{"$error":"#N/A"},{"$error":"#N/A"},{"$error":"#N/A"},{"$error":"#N/A"}]
["Charged DMG%",0,0,0,{"$f":"E58+E112","v":0},0,{"$f":"G58+G112","v":0},0,{"$f":"I58+I112","v":0},0,{"$f":"K58+K112","v":0},0,0,0,{"$f":"O58+O112","v":0},{"$f":"P58+P112","v":0},0,{"$f":"R58+R112","v":0},0,0,0,null,{"$f":"W58+W112","v":0},{"$f":"X58+X112","v":0},{"$f":"Y58+Y112","v":0},0,0,{"$f":"AB58+AB112","v":0},{"$f":"AC58+AC112","v":0},0,0,{"$f":"AF58+AF112","v":{"$error":"#N/A"}},{"$error":"#N/A"},{"$error":"#N/A"},{"$error":"#N/A"},{"$error":"#N/A"},{"$error":"#N/A"},{"$error":"#N/A"},{"$error":"#N/A"},{"$error":"#N/A"},{"$error":"#N/A"},{"$error":"#N/A"},{"$error":"#N/A"},{"$error":"#N/A"},{"$error":"#N/A"},{"$error":"#N/A"},{"$error":"#N/A"},{"$error":"#N/A"},{"$error":"#N/A"},{"$error":"#N/A"},{"$error":"#N/A"},{"$error":"#N/A"},{"$error":"#N/A"},{"$error":"#N/A"},{"$error":"#N/A"},{"$error":"#N/A"},{"$error":"#N/A"},{"$error":"#N/A"}]
["Plunging DMG%",0,0,0,{"$f":"E59+E113","v":0},0,{"$f":"G59+G113","v":0},0,{"$f":"I59+I113","v":0},0,{"$f":"K59+K113","v":0},0,0,0,{"$f":"O59+O113","v":0},{"$f":"P59+P113","v":0},0,{"$f":"R59+R113","v":0},0,0,0,null,{"$f":"W59+W113","v":0},{"$f":"X59+X113","v":0},{"$f":"Y59+Y113","v":0},0,0,{"$f":"AB59+AB113","v":0},{"$f":"AC59+AC113","v":0},0,0,{"$f":"AF59+AF113","v":{"$error":"#N/A"}},{"$error":"#N/A"},{"$error":"#N/A"},{"$error":"#N/A"},{"$error":"#N/A"},{"$error":"#N/A"},{"$error":"#N/A"},{"$error":"#N/A"},{"$error":"#N/A"},{"$error":"#N/A"},{"$error":"#N/A"},{"$error":"#N/A"},{"$error":"#N/A"},{"$error":"#N/A"},{"$error":"#N/A"},{"$error":"#N/A"},{"$error":"#N/A"},{"$error":"#N/A"},{"$error":"#N/A"},{"$error":"#N/A"},{"$error":"#N/A"},{"$error":"#N/A"},{"$error":"#N/A"},{"$error":"#N/A"},{"$error":"#N/A"},{"$error":"#N/A"},{"$error":"#N/A"}]
["Skill DMG%",0,0,0,{"$f":"E60+E114","v":0},0,{"$f":"G60+G114","v":0},0,{"$f":"I60+I114","v":0},0,{"$f":"K60+K114","v":0},0,0,0,{"$f":"O60+O114","v":0},{"$f":"P60+P114","v":0},0,{"$f":"R60+R114","v":0},0,0,0,null,{"$f":"W60+W114","v":0},{"$f":"X60+X114","v":0},{"$f":"Y60+Y114","v":0},0,0,{"$f":"AB60+AB114","v":0},{"$f":"AC60+AC114","v":0},0,0,{"$f":"AF60+AF114","v":{"$error":"#N/A"}},{"$error":"#N/A"},{"$error":"#N/A"},{"$error":"#N/A"},{"$error":"#N/A"},{"$error":"#N/A"},{"$error":"#N/A"},{"$error":"#N/A"},{"$error":"#N/A"},{"$error":"#N/A"},{"$error":"#N/A"},{"$error":"#N/A"},{"$error":"#N/A"},{"$error":"#N/A"},{"$error":"#N/A"},{"$error":"#N/A"},{"$error":"#N/A"},{"$error":"#N/A"},{"$error":"#N/A"},{"$error":"#N/A"},{"$error":"#N/A"},{"$error":"#N/A"},{"$error":"#N/A"},{"$error":"#N/A"},{"$error":"#N/A"},{"$error":"#N/A"},{"$error":"#N/A"}]
["Burst DMG%",0.52212499999999995,0.52212499999999995,0.2,{"$f":"E61+E115","v":0.2},0.52212499999999995,{"$f":"G61+G115","v":0.52212499999999995},0,{"$f":"I61+I115","v":0},0,{"$f":"K61+K115","v":0},0,0,0,{"$f":"O61+O115","v":0},{"$f":"P61+P115","v":0},0,{"$f":"R61+R115","v":0},0,0,0,null,{"$f":"W61+W115","v":0.2},{"$f":"X61+X115","v":0.2},{"$f":"Y61+Y115","v":0},0,0,{"$f":"AB61+AB115","v":0},{"$f":"AC61+AC115","v":0},0.52212499999999995,0,{"$f":"AF61+AF115","v":{"$error":"#N/A"}},{"$error":"#N/A"},{"$error":"#N/A"},{"$error":"#N/A"},{"$error":"#N/A"},{"$error":"#N/A"},{"$error":"#N/A"},{"$error":"#N/A"},{"$error":"#N/A"},{"$error":"#N/A"},{"$error":"#N/A"},{"$error":"#N/A"},{"$error":"#N/A"},{"$error":"#N/A"},{"$error":"#N/A"},{"$error":"#N/A"},{"$error":"#N/A"},{"$error":"#N/A"},{"$error":"#N/A"},{"$error":"#N/A"},{"$error":"#N/A"},{"$error":"#N/A"},{"$error":"#N/A"},{"$error":"#N/A"},{"$error":"#N/A"},{"$error":"#N/A"},{"$error":"#N/A"}]
["Swirl%",0,0,0,{"$f":"E62+E116","v":0},0,{"$f":"G62+G116","v":0},0,{"$f":"I62+I116","v":0},0,{"$f":"K62+K116","v":0},0,0,0,{"$f":"O62+O116","v":0},{"$f":"P62+P116","v":0},0,{"$f":"R62+R116","v":0},0,0,0,null,{"$f":"W62+W116","v":0},{"$f":"X62+X116","v":0},{"$f":"Y62+Y116","v":0},0,0,{"$f":"AB62+AB116","v":0},{"$f":"AC62+AC116","v":0},0,0,{"$f":"AF62+AF116","v":{"$error":"#N/A"}},{"$error":"#N/A"},{"$error":"#N/A"},{"$error":"#N/A"},{"$error":"#N/A"},{"$error":"#N/A"},{"$error":"#N/A"},{"$error":"#N/A"},{"$error":"#N/A"},{"$error":"#N/A"},{"$error":"#N/A"},{"$error":"#N/A"},{"$error":"#N/A"},{"$error":"#N/A"},{"$error":"#N/A"},{"$error":"#N/A"},{"$error":"#N/A"},{"$error":"#N/A"},{"$error":"#N/A"},{"$error":"#N/A"},{"$error":"#N/A"},{"$error":"#N/A"},{"$error":"#N/A"},{"$error":"#N/A"},{"$error":"#N/A"},{"$error":"#N/A"},{"$error":"#N/A"}]
["Overload%",0,0,0,{"$f":"E63+E117","v":0},0,{"$f":"G63+G117","v":0},0.4,{"$f":"I63+I117","v":0.4},0.4,{"$f":"K63+K117","v":0.4},0.4,0.4,0.4,{"$f":"O63+O117","v":0.4},{"$f":"P63+P117","v":0.4},0.4,{"$f":"R63+R117","v":0.4},0.4,0.4,0.4,null,{"$f":"W63+W117","v":0},{"$f":"X63+X117","v":0},{"$f":"Y63+Y117","v":0},0,0,{"$f":"AB63+AB117","v":0.4},{"$f":"AC63+AC117","v":0.4},0,0.4,{"$f":"AF63+AF117","v":{"$error":"#N/A"}},{"$error":"#N/A"},{"$error":"#N/A"},{"$error":"#N/A"},{"$error":"#N/A"},{"$error":"#N/A"},{"$error":"#N/A"},{"$error":"#N/A"},{"$error":"#N/A"},{"$error":"#N/A"},{"$error":"#N/A"},{"$error":"#N/A"},{"$error":"#N/A"},{"$error":"#N/A"},{"$error":"#N/A"},{"$error":"#N/A"},{"$error":"#N/A"},{"$error":"#N/A"},{"$error":"#N/A"},{"$error":"#N/A"},{"$error":"#N/A"},{"$error":"#N/A"},{"$error":"#N/A"},{"$error":"#N/A"},{"$error":"#N/A"},{"$error":"#N/A"},{"$error":"#N/A"}]
["Crystallize%",0,0,0,{"$f":"E64+E118","v":0},0,{"$f":"G64+G118","v":0},0,{"$f":"I64+I118","v":0},0,{"$f":"K64+K118","v":0},0,0,0,{"$f":"O64+O118","v":0},{"$f":"P64+P118","v":0},0,{"$f":"R64+R118","v":0},0,0,0,null,{"$f":"W64+W118","v":0},{"$f":"X64+X118","v":0},{"$f":"Y64+Y118","v":0},0,0,{"$f":"AB64+AB118","v":0},{"$f":"AC64+AC118","v":0},0,0,{"$f":"AF64+AF118","v":{"$error":"#N/A"}},{"$error":"#N/A"},{"$error":"#N/A"},{"$error":"#N/A"},{"$error":"#N/A"},{"$error":"#N/A"},{"$error":"#N/A"},{"$error":"#N/A"},{"$error":"#N/A"},{"$error":"#N/A"},{"$error":"#N/A"},{"$error":"#N/A"},{"$error":"#N/A"},{"$error":"#N/A"},{"$error":"#N/A"},{"$error":"#N/A"},{"$error":"#N/A"},{"$error":"#N/A"},{"$error":"#N/A"},{"$error":"#N/A"},{"$error":"#N/A"},{"$error":"#N/A"},{"$error":"#N/A"},{"$error":"#N/A"},{"$error":"#N/A"},{"$error":"#N/A"},{"$error":"#N/A"}]
["Electrocharged%",0,0,0,{"$f":"E65+E119","v":0},0,{"$f":"G65+G119","v":0},0,{"$f":"I65+I119","v":0},0,{"$f":"K65+K119","v":0},0,0,0,{"$f":"O65+O119","v":0},{"$f":"P65+P119","v":0},0,{"$f":"R65+R119","v":0},0,0,0,null,{"$f":"W65+W119","v":0},{"$f":"X65+X119","v":0},{"$f":"Y65+Y119","v":0},0,0,{"$f":"AB65+AB119","v":0},{"$f":"AC65+AC119","v":0},0,0,{"$f":"AF65+AF119","v":{"$error":"#N/A"}},{"$error":"#N/A"},{"$error":"#N/A"},{"$error":"#N/A"},{"$error":"#N/A"},{"$error":"#N/A"},{"$error":"#N/A"},{"$error":"#N/A"},{"$error":"#N/A"},{"$error":"#N/A"},{"$error":"#N/A"},{"$error":"#N/A"},{"$error":"#N/A"},{"$error":"#N/A"},{"$error":"#N/A"},{"$error":"#N/A"},{"$error":"#N/A"},{"$error":"#N/A"},{"$error":"#N/A"},{"$error":"#N/A"},{"$error":"#N/A"},{"$error":"#N/A"},{"$error":"#N/A"},{"$error":"#N/A"},{"$error":"#N/A"},{"$error":"#N/A"},{"$error":"#N/A"}]
["Superconduct%",0,0,0,{"$f":"E66+E120","v":0},0,{"$f":"G66+G120","v":0},0,{"$f":"I66+I120","v":0},0,{"$f":"K66+K120","v":0},0,0,0,{"$f":"O66+O120","v":0},{"$f":"P66+P120","v":0},0,{"$f":"R66+R120","v":0},0,0,0,null,{"$f":"W66+W120","v":0},{"$f":"X66+X120","v":0},{"$f":"Y66+Y120","v":0},0,0,{"$f":"AB66+AB120","v":0},{"$f":"AC66+AC120","v":0},0,0,{"$f":"AF66+AF120","v":{"$error":"#N/A"}},{"$error":"#N/A"},{"$error":"#N/A"},{"$error":"#N/A"},{"$error":"#N/A"},{"$error":"#N/A"},{"$error":"#N/A"},{"$error":"#N/A"},{"$error":"#N/A"},{"$error":"#N/A"},{"$error":"#N/A"},{"$error":"#N/A"},{"$error":"#N/A"},{"$error":"#N/A"},{"$error":"#N/A"},{"$error":"#N/A"},{"$error":"#N/A"},{"$error":"#N/A"},{"$error":"#N/A"},{"$error":"#N/A"},{"$error":"#N/A"},{"$error":"#N/A"},{"$error":"#N/A"},{"$error":"#N/A"},{"$error":"#N/A"},{"$error":"#N/A"},{"$error":"#N/A"}]
["Shatter%",0,0,0,{"$f":"E67+E121","v":0},0,{"$f":"G67+G121","v":0},0,{"$f":"I67+I121","v":0},0,{"$f":"K67+K121","v":0},0,0,0,{"$f":"O67+O121","v":0},{"$f":"P67+P121","v":0},0,{"$f":"R67+R121","v":0},0,0,0,null,{"$f":"W67+W121","v":0},{"$f":"X67+X121","v":0},{"$f":"Y67+Y121","v":0},0,0,{"$f":"AB67+AB121","v":0},{"$f":"AC67+AC121","v":0},0,0,{"$f":"AF67+AF121","v":{"$error":"#N/A"}},{"$error":"#N/A"},{"$error":"#N/A"},{"$error":"#N/A"},{"$error":"#N/A"},{"$error":"#N/A"},{"$error":"#N/A"},{"$error":"#N/A"},{"$error":"#N/A"},{"$error":"#N/A"},{"$error":"#N/A"},{"$error":"#N/A"},{"$error":"#N/A"},{"$error":"#N/A"},{"$error":"#N/A"},{"$error":"#N/A"},{"$error":"#N/A"},{"$error":"#N/A"},{"$error":"#N/A"},{"$error":"#N/A"},{"$error":"#N/A"},{"$error":"#N/A"},{"$error":"#N/A"},{"$error":"#N/A"},{"$error":"#N/A"},{"$error":"#N/A"},{"$error":"#N/A"}]
["Melt%",{"$f":"B68+B122","v":0},0,0,{"$f":"E68+E122","v":0},0,{"$f":"G68+G122","v":0},0.15,{"$f":"I68+I122","v":0.15},0.15,{"$f":"K68+K122","v":0.15},0.15,0.15,0.15,{"$f":"O68+O122","v":0.15},{"$f":"P68+P122","v":0.15},0.15,{"$f":"R68+R122","v":0.15},0.15,0.15,0.15,null,{"$f":"W68+W122","v":0},{"$f":"X68+X122","v":0},{"$f":"Y68+Y122","v":0},0,0,{"$f":"AB68+AB122","v":0.15},{"$f":"AC68+AC122","v":0.15},0,0.15,{"$f":"AF68+AF122","v":{"$error":"#N/A"}},{"$error":"#N/A"},{"$error":"#N/A"},{"$error":"#N/A"},{"$error":"#N/A"},{"$error":"#N/A"},{"$error":"#N/A"},{"$error":"#N/A"},{"$error":"#N/A"},{"$error":"#N/A"},{"$error":"#N/A"},{"$error":"#N/A"},{"$error":"#N/A"},{"$error":"#N/A"},{"$error":"#N/A"},{"$error":"#N/A"},{"$error":"#N/A"},{"$error":"#N/A"},{"$error":"#N/A"},{"$error":"#N/A"},{"$error":"#N/A"},{"$error":"#N/A"},{"$error":"#N/A"},{"$error":"#N/A"},{"$error":"#N/A"},{"$error":"#N/A"},{"$error":"#N/A"}]
["Vaporize%",0,0,0,{"$f":"E69+E123","v":0},0,{"$f":"G69+G123","v":0},0.15,{"$f":"I69+I123","v":0.15},0.15,{"$f":"K69+K123","v":0.15},0.15,0.15,0.15,{"$f":"O69+O123","v":0.15},{"$f":"P69+P123","v":0.15},0.15,{"$f":"R69+R123","v":0.15},0.15,0.15,0.15,null,{"$f":"W69+W123","v":0},{"$f":"X69+X123","v":0},{"$f":"Y69+Y123","v":0},0,0,{"$f":"AB69+AB123","v":0.15},{"$f":"AC69+AC123","v":0.15},0,0.15,{"$f":"AF69+AF123","v":{"$error":"#N/A"}},{"$error":"#N/A"},{"$error":"#N/A"},{"$error":"#N/A"},{"$error":"#N/A"},{"$error":"#N/A"},{"$error":"#N/A"},{"$error":"#N/A"},{"$error":"#N/A"},{"$error":"#N/A"},{"$error":"#N/A"},{"$error":"#N/A"},{"$error":"#N/A"},{"$error":"#N/A"},{"$error":"#N/A"},{"$error":"#N/A"},{"$error":"#N/A"},{"$error":"#N/A"},{"$error":"#N/A"},{"$error":"#N/A"},{"$error":"#N/A"},{"$error":"#N/A"},{"$error":"#N/A"},{"$error":"#N/A"},{"$error":"#N/A"},{"$error":"#N/A"},{"$error":"#N/A"}]
["DEF Shred",0,0,0,{"$f":"E70+E124","v":0},0,{"$f":"G70+G124","v":0},0,{"$f":"I70+I124","v":0},0,{"$f":"K70+K124","v":0},0,0,0,{"$f":"O70+O124","v":0},{"$f":"P70+P124","v":0},0,{"$f":"R70+R124","v":0},0,0,0,null,{"$f":"W70+W124","v":0},{"$f":"X70+X124","v":0},{"$f":"Y70+Y124","v":0},0,0,{"$f":"AB70+AB124","v":0},{"$f":"AC70+AC124","v":0},0,0,{"$f":"AF70+AF124","v":{"$error":"#N/A"}},{"$error":"#N/A"},{"$error":"#N/A"},{"$error":"#N/A"},{"$error":"#N/A"},{"$error":"#N/A"},{"$error":"#N/A"},{"$error":"#N/A"},{"$error":"#N/A"},{"$error":"#N/A"},{"$error":"#N/A"},{"$error":"#N/A"},{"$error":"#N/A"},{"$error":"#N/A"},{"$error":"#N/A"},{"$error":"#N/A"},{"$error":"#N/A"},{"$error":"#N/A"},{"$error":"#N/A"},{"$error":"#N/A"},{"$error":"#N/A"},{"$error":"#N/A"},{"$error":"#N/A"},{"$error":"#N/A"},{"$error":"#N/A"},{"$error":"#N/A"},{"$error":"#N/A"}]
["Shield Strength%",0,0,0,{"$f":"E71+E125","v":0},0,{"$f":"G71+G125","v":0},0,{"$f":"I71+I125","v":0},0,{"$f":"K71+K125","v":0},0,0,0,{"$f":"O71+O125","v":0},{"$f":"P71+P125","v":0},0,{"$f":"R71+R125","v":0},0,0,0,null,{"$f":"W71+W125","v":0},{"$f":"X71+X125","v":0},{"$f":"Y71+Y125","v":0},0,0,{"$f":"AB71+AB125","v":0},{"$f":"AC71+AC125","v":0},0,0,{"$f":"AF71+AF125","v":{"$error":"#N/A"}},{"$error":"#N/A"},{"$error":"#N/A"},{"$error":"#N/A"},{"$error":"#N/A"},{"$error":"#N/A"},{"$error":"#N/A"},{"$error":"#N/A"},{"$error":"#N/A"},{"$error":"#N/A"},{"$error":"#N/A"},{"$error":"#N/A"},{"$error":"#N/A"},{"$error":"#N/A"},{"$error":"#N/A"},{"$error":"#N/A"},{"$error":"#N/A"},{"$error":"#N/A"},{"$error":"#N/A"},{"$error":"#N/A"},{"$error":"#N/A"},{"$error":"#N/A"},{"$error":"#N/A"},{"$error":"#N/A"},{"$error":"#N/A"},{"$error":"#N/A"},{"$error":"#N/A"}]
["Phys RES%",0,0,0,{"$f":"E72+E126","v":0},0,{"$f":"G72+G126","v":0},0,{"$f":"I72+I126","v":0},0,{"$f":"K72+K126","v":0},0,0,0,{"$f":"O72+O126","v":0},{"$f":"P72+P126","v":0},0,{"$f":"R72+R126","v":0},0,0,0,null,{"$f":"W72+W126","v":0},{"$f":"X72+X126","v":0},{"$f":"Y72+Y126","v":0},0,0,{"$f":"AB72+AB126","v":0},{"$f":"AC72+AC126","v":0},0,0,{"$f":"AF72+AF126","v":{"$error":"#N/A"}},{"$error":"#N/A"},{"$error":"#N/A"},{"$error":"#N/A"},{"$error":"#N/A"},{"$error":"#N/A"},{"$error":"#N/A"},{"$error":"#N/A"},{"$error":"#N/A"},{"$error":"#N/A"},{"$error":"#N/A"},{"$error":"#N/A"},{"$error":"#N/A"},{"$error":"#N/A"},{"$error":"#N/A"},{"$error":"#N/A"},{"$error":"#N/A"},{"$error":"#N/A"},{"$error":"#N/A"},{"$error":"#N/A"},{"$error":"#N/A"},{"$error":"#N/A"},{"$error":"#N/A"},{"$error":"#N/A"},{"$error":"#N/A"},{"$error":"#N/A"},{"$error":"#N/A"}]
["Healing Bonus%",0,0,0,{"$f":"E73+E127","v":0},0,{"$f":"G73+G127","v":0},0,{"$f":"I73+I127","v":0},0,{"$f":"K73+K127","v":0},0,0,0,{"$f":"O73+O127","v":0},{"$f":"P73+P127","v":0},0,{"$f":"R73+R127","v":0},0,0,0,null,{"$f":"W73+W127","v":0},{"$f":"X73+X127","v":0},{"$f":"Y73+Y127","v":0},0,0,{"$f":"AB73+AB127","v":0},{"$f":"AC73+AC127","v":0},0,0,{"$f":"AF73+AF127","v":{"$error":"#N/A"}},{"$error":"#N/A"},{"$error":"#N/A"},{"$error":"#N/A"},{"$error":"#N/A"},{"$error":"#N/A"},{"$error":"#N/A"},{"$error":"#N/A"},{"$error":"#N/A"},{"$error":"#N/A"},{"$error":"#N/A"},{"$error":"#N/A"},{"$error":"#N/A"},{"$error":"#N/A"},{"$error":"#N/A"},{"$error":"#N/A"},{"$error":"#N/A"},{"$error":"#N/A"},{"$error":"#N/A"},{"$error":"#N/A"},{"$error":"#N/A"},{"$error":"#N/A"},{"$error":"#N/A"},{"$error":"#N/A"},{"$error":"#N/A"},{"$error":"#N/A"},{"$error":"#N/A"}]
["Healing Received%",0,0,0,{"$f":"E74+E128","v":0},0,{"$f":"G74+G128","v":0},0,{"$f":"I74+I128","v":0},0,{"$f":"K74+K128","v":0},0,0,0,{"$f":"O74+O128","v":0},{"$f":"P74+P128","v":0},0,{"$f":"R74+R128","v":0},0,0,0,null,{"$f":"W74+W128","v":0},{"$f":"X74+X128","v":0},{"$f":"Y74+Y128","v":0},0,0,{"$f":"AB74+AB128","v":0},{"$f":"AC74+AC128","v":0},0,0,{"$f":"AF74+AF128","v":{"$error":"#N/A"}},{"$error":"#N/A"},{"$error":"#N/A"},{"$error":"#N/A"},{"$error":"#N/A"},{"$error":"#N/A"},{"$error":"#N/A"},{"$error":"#N/A"},{"$error":"#N/A"},{"$error":"#N/A"},{"$error":"#N/A"},{"$error":"#N/A"},{"$error":"#N/A"},{"$error":"#N/A"},{"$error":"#N/A"},{"$error":"#N/A"},{"$error":"#N/A"},{"$error":"#N/A"},{"$error":"#N/A"},{"$error":"#N/A"},{"$error":"#N/A"},{"$error":"#N/A"},{"$error":"#N/A"},{"$error":"#N/A"},{"$error":"#N/A"},{"$error":"#N/A"},{"$error":"#N/A"}]
["Anemo RES%",0,0,0,{"$f":"E75+E129","v":0},0,{"$f":"G75+G129","v":0},0,{"$f":"I75+I129","v":0},0,{"$f":"K75+K129","v":0},0,0,0,{"$f":"O75+O129","v":0},{"$f":"P75+P129","v":0},0,{"$f":"R75+R129","v":0},0,0,0,null,{"$f":"W75+W129","v":0},{"$f":"X75+X129","v":0},{"$f":"Y75+Y129","v":0},0,0,{"$f":"AB75+AB129","v":0},{"$f":"AC75+AC129","v":0},0,0,{"$f":"AF75+AF129","v":{"$error":"#N/A"}},{"$error":"#N/A"},{"$error":"#N/A"},{"$error":"#N/A"},{"$error":"#N/A"},{"$error":"#N/A"},{"$error":"#N/A"},{"$error":"#N/A"},{"$error":"#N/A"},{"$error":"#N/A"},{"$error":"#N/A"},{"$error":"#N/A"},{"$error":"#N/A"},{"$error":"#N/A"},{"$error":"#N/A"},{"$error":"#N/A"},{"$error":"#N/A"},{"$error":"#N/A"},{"$error":"#N/A"},{"$error":"#N/A"},{"$error":"#N/A"},{"$error":"#N/A"},{"$error":"#N/A"},{"$error":"#N/A"},{"$error":"#N/A"},{"$error":"#N/A"},{"$error":"#N/A"}]
["Geo RES%",0,0,0,{"$f":"E76+E130","v":0},0,{"$f":"G76+G130","v":0},0,{"$f":"I76+I130","v":0},0,{"$f":"K76+K130","v":0},0,0,0,{"$f":"O76+O130","v":0},{"$f":"P76+P130","v":0},0,{"$f":"R76+R130","v":0},0,0,0,null,{"$f":"W76+W130","v":0},{"$f":"X76+X130","v":0},{"$f":"Y76+Y130","v":0},0,0,{"$f":"AB76+AB130","v":0},{"$f":"AC76+AC130","v":0},0,0,{"$f":"AF76+AF130","v":{"$error":"#N/A"}},{"$error":"#N/A"},{"$error":"#N/A"},{"$error":"#N/A"},{"$error":"#N/A"},{"$error":"#N/A"},{"$error":"#N/A"},{"$error":"#N/A"},{"$error":"#N/A"},{"$error":"#N/A"},{"$error":"#N/A"},{"$error":"#N/A"},{"$error":"#N/A"},{"$error":"#N/A"},{"$error":"#N/A"},{"$error":"#N/A"},{"$error":"#N/A"},{"$error":"#N/A"},{"$error":"#N/A"},{"$error":"#N/A"},{"$error":"#N/A"},{"$error":"#N/A"},{"$error":"#N/A"},{"$error":"#N/A"},{"$error":"#N/A"},{"$error":"#N/A"},{"$error":"#N/A"}]
["Pyro RES%",0,0,0,{"$f":"E77+E131","v":0},0,{"$f":"G77+G131","v":0},0,{"$f":"I77+I131","v":0},0,{"$f":"K77+K131","v":0},0,0,0,{"$f":"O77+O131","v":0},{"$f":"P77+P131","v":0},0,{"$f":"R77+R131","v":0},0,0,0,null,{"$f":"W77+W131","v":0},{"$f":"X77+X131","v":0},{"$f":"Y77+Y131","v":0},0,0,{"$f":"AB77+AB131","v":0},{"$f":"AC77+AC131","v":0},0,0,{"$f":"AF77+AF131","v":{"$error":"#N/A"}},{"$error":"#N/A"},{"$error":"#N/A"},{"$error":"#N/A"},{"$error":"#N/A"},{"$error":"#N/A"},{"$error":"#N/A"},{"$error":"#N/A"},{"$error":"#N/A"},{"$error":"#N/A"},{"$error":"#N/A"},{"$error":"#N/A"},{"$error":"#N/A"},{"$error":"#N/A"},{"$error":"#N/A"},{"$error":"#N/A"},{"$error":"#N/A"},{"$error":"#N/A"},{"$error":"#N/A"},{"$error":"#N/A"},{"$error":"#N/A"},{"$error":"#N/A"},{"$error":"#N/A"},{"$error":"#N/A"},{"$error":"#N/A"},{"$error":"#N/A"},{"$error":"#N/A"}]
["Cryo RES%",0,0,0,{"$f":"E78+E132","v":0},0,{"$f":"G78+G132","v":0},0,{"$f":"I78+I132","v":0},0,{"$f":"K78+K132","v":0},0,0,0,{"$f":"O78+O132","v":0},{"$f":"P78+P132","v":0},0,{"$f":"R78+R132","v":0},0,0,0,null,{"$f":"W78+W132","v":0},{"$f":"X78+X132","v":0},{"$f":"Y78+Y132","v":0},0,0,{"$f":"AB78+AB132","v":0},{"$f":"AC78+AC132","v":0},0,0,{"$f":"AF78+AF132","v":{"$error":"#N/A"}},{"$error":"#N/A"},{"$error":"#N/A"},{"$error":"#N/A"},{"$error":"#N/A"},{"$error":"#N/A"},{"$error":"#N/A"},{"$error":"#N/A"},{"$error":"#N/A"},{"$error":"#N/A"},{"$error":"#N/A"},{"$error":"#N/A"},{"$error":"#N/A"},{"$error":"#N/A"},{"$error":"#N/A"},{"$error":"#N/A"},{"$error":"#N/A"},{"$error":"#N/A"},{"$error":"#N/A"},{"$error":"#N/A"},{"$error":"#N/A"},{"$error":"#N/A"},{"$error":"#N/A"},{"$error":"#N/A"},{"$error":"#N/A"},{"$error":"#N/A"},{"$error":"#N/A"}]
["Hydro RES%",0,0,0,{"$f":"E79+E133","v":0},0,{"$f":"G79+G133","v":0},0,{"$f":"I79+I133","v":0},0,{"$f":"K79+K133","v":0},0,0,0,{"$f":"O79+O133","v":0},{"$f":"P79+P133","v":0},0,{"$f":"R79+R133","v":0},0,0,0,null,{"$f":"W79+W133","v":0},{"$f":"X79+X133","v":0},{"$f":"Y79+Y133","v":0},0,0,{"$f":"AB79+AB133","v":0},{"$f":"AC79+AC133","v":0},0,0,{"$f":"AF79+AF133","v":{"$error":"#N/A"}},{"$error":"#N/A"},{"$error":"#N/A"},{"$error":"#N/A"},{"$error":"#N/A"},{"$error":"#N/A"},{"$error":"#N/A"},{"$error":"#N/A"},{"$error":"#N/A"},{"$error":"#N/A"},{"$error":"#N/A"},{"$error":"#N/A"},{"$error":"#N/A"},{"$error":"#N/A"},{"$error":"#N/A"},{"$error":"#N/A"},{"$error":"#N/A"},{"$error":"#N/A"},{"$error":"#N/A"},{"$error":"#N/A"},{"$error":"#N/A"},{"$error":"#N/A"},{"$error":"#N/A"},{"$error":"#N/A"},{"$error":"#N/A"},{"$error":"#N/A"},{"$error":"#N/A"}]
["Electro RES%",0,0,0,{"$f":"E80+E134","v":0},0,{"$f":"G80+G134","v":0},0,{"$f":"I80+I134","v":0},0,{"$f":"K80+K134","v":0},0,0,0,{"$f":"O80+O134","v":0},{"$f":"P80+P134","v":0},0,{"$f":"R80+R134","v":0},0,0,0,null,{"$f":"W80+W134","v":0},{"$f":"X80+X134","v":0},{"$f":"Y80+Y134","v":0},0,0,{"$f":"AB80+AB134","v":0},{"$f":"AC80+AC134","v":0},0,0,{"$f":"AF80+AF134","v":{"$error":"#N/A"}},{"$error":"#N/A"},{"$error":"#N/A"},{"$error":"#N/A"},{"$error":"#N/A"},{"$error":"#N/A"},{"$error":"#N/A"},{"$error":"#N/A"},{"$error":"#N/A"},{"$error":"#N/A"},{"$error":"#N/A"},{"$error":"#N/A"},{"$error":"#N/A"},{"$error":"#N/A"},{"$error":"#N/A"},{"$error":"#N/A"},{"$error":"#N/A"},{"$error":"#N/A"},{"$error":"#N/A"},{"$error":"#N/A"},{"$error":"#N/A"},{"$error":"#N/A"},{"$error":"#N/A"},{"$error":"#N/A"},{"$error":"#N/A"},{"$error":"#N/A"},{"$error":"#N/A"}]
["Burst CR%",0,0,0,{"$f":"E81+E135","v":0},0,{"$f":"G81+G135","v":0},0,{"$f":"I81+I135","v":0},0,{"$f":"K81+K135","v":0},0,0,0,{"$f":"O81+O135","v":0},{"$f":"P81+P135","v":0},0,{"$f":"R81+R135","v":0},0,0,0,null,{"$f":"W81+W135","v":0},{"$f":"X81+X135","v":0},{"$f":"Y81+Y135","v":0},0,0,{"$f":"AB81+AB135","v":0},{"$f":"AC81+AC135","v":0},0,0,{"$f":"AF81+AF135","v":{"$error":"#N/A"}},{"$error":"#N/A"},{"$error":"#N/A"},{"$error":"#N/A"},{"$error":"#N/A"},{"$error":"#N/A"},{"$error":"#N/A"},{"$error":"#N/A"},{"$error":"#N/A"},{"$error":"#N/A"},{"$error":"#N/A"},{"$error":"#N/A"},{"$error":"#N/A"},{"$error":"#N/A"},{"$error":"#N/A"},{"$error":"#N/A"},{"$error":"#N/A"},{"$error":"#N/A"},{"$error":"#N/A"},{"$error":"#N/A"},{"$error":"#N/A"},{"$error":"#N/A"},{"$error":"#N/A"},{"$error":"#N/A"},{"$error":"#N/A"},{"$error":"#N/A"},{"$error":"#N/A"}]
["Skill CR%",0,0,0,{"$f":"E82+E136","v":0},0,{"$f":"G82+G136","v":0},0,{"$f":"I82+I136","v":0},0,{"$f":"K82+K136","v":0},0,0,0,{"$f":"O82+O136","v":0},{"$f":"P82+P136","v":0},0,{"$f":"R82+R136","v":0},0,0,0,null,{"$f":"W82+W136","v":0},{"$f":"X82+X136","v":0},{"$f":"Y82+Y136","v":0},0,0,{"$f":"AB82+AB136","v":0},{"$f":"AC82+AC136","v":0},0,0,{"$f":"AF82+AF136","v":{"$error":"#N/A"}},{"$error":"#N/A"},{"$error":"#N/A"},{"$error":"#N/A"},{"$error":"#N/A"},{"$error":"#N/A"},{"$error":"#N/A"},{"$error":"#N/A"},{"$error":"#N/A"},{"$error":"#N/A"},{"$error":"#N/A"},{"$error":"#N/A"},{"$error":"#N/A"},{"$error":"#N/A"},{"$error":"#N/A"},{"$error":"#N/A"},{"$error":"#N/A"},{"$error":"#N/A"},{"$error":"#N/A"},{"$error":"#N/A"},{"$error":"#N/A"},{"$error":"#N/A"},{"$error":"#N/A"},{"$error":"#N/A"},{"$error":"#N/A"},{"$error":"#N/A"},{"$error":"#N/A"}]
["Burst CDMG%",0,0,0,{"$f":"E83+E137","v":0},0,{"$f":"G83+G137","v":0},0,{"$f":"I83+I137","v":0},0,{"$f":"K83+K137","v":0},0,0,0,{"$f":"O83+O137","v":0},{"$f":"P83+P137","v":0},0,{"$f":"R83+R137","v":0},0,0,0,null,{"$f":"W83+W137","v":0},{"$f":"X83+X137","v":0},{"$f":"Y83+Y137","v":0},0,0,{"$f":"AB83+AB137","v":0},{"$f":"AC83+AC137","v":0},0,0,{"$f":"AF83+AF137","v":{"$error":"#N/A"}},{"$error":"#N/A"},{"$error":"#N/A"},{"$error":"#N/A"},{"$error":"#N/A"},{"$error":"#N/A"},{"$error":"#N/A"},{"$error":"#N/A"},{"$error":"#N/A"},{"$error":"#N/A"},{"$error":"#N/A"},{"$error":"#N/A"},{"$error":"#N/A"},{"$error":"#N/A"},{"$error":"#N/A"},{"$error":"#N/A"},{"$error":"#N/A"},{"$error":"#N/A"},{"$error":"#N/A"},{"$error":"#N/A"},{"$error":"#N/A"},{"$error":"#N/A"},{"$error":"#N/A"},{"$error":"#N/A"},{"$error":"#N/A"},{"$error":"#N/A"},{"$error":"#N/A"}]
["Skill CDMG%",0,0,0,{"$f":"E84+E138","v":0},0,{"$f":"G84+G138","v":0},0,{"$f":"I84+I138","v":0},0,{"$f":"K84+K138","v":0},0,0,0,{"$f":"O84+O138","v":0},{"$f":"P84+P138","v":0},0,{"$f":"R84+R138","v":0},0,0,0,null,{"$f":"W84+W138","v":0},{"$f":"X84+X138","v":0},{"$f":"Y84+Y138","v":0},0,0,{"$f":"AB84+AB138","v":0},{"$f":"AC84+AC138","v":0},0,0,{"$f":"AF84+AF138","v":{"$error":"#N/A"}},{"$error":"#N/A"},{"$error":"#N/A"},{"$error":"#N/A"},{"$error":"#N/A"},{"$error":"#N/A"},{"$error":"#N/A"},{"$error":"#N/A"},{"$error":"#N/A"},{"$error":"#N/A"},{"$error":"#N/A"},{"$error":"#N/A"},{"$error":"#N/A"},{"$error":"#N/A"},{"$error":"#N/A"},{"$error":"#N/A"},{"$error":"#N/A"},{"$error":"#N/A"},{"$error":"#N/A"},{"$error":"#N/A"},{"$error":"#N/A"},{"$error":"#N/A"},{"$error":"#N/A"},{"$error":"#N/A"},{"$error":"#N/A"},{"$error":"#N/A"},{"$error":"#N/A"}]
["Phys Res",{"$f":"B85-B139","v":0.1},{"$f":"C85-C139","v":0.1},0.1,{"$f":"E85-E139","v":0.1},0.1,{"$f":"G85-G139","v":0.1},0.1,{"$f":"I85-I139","v":0.1},0.1,{"$f":"K85-K139","v":0.1},0.1,0.1,0.1,{"$f":"O85-O139","v":0.1},{"$f":"P85-P139","v":0.1},0.1,{"$f":"R85-R139","v":0.1},0.1,0.1,0.1,null,{"$f":"W85-W139","v":0.1},{"$f":"X85-X139","v":0.1},{"$f":"Y85-Y139","v":0.1},0.1,0.1,{"$f":"AB85-AB139","v":0.1},{"$f":"AC85-AC139","v":0.1},0.1,0.1,{"$f":"AF85-AF139","v":0.1},0.1,0.1,0.1,0.1,0.1,0.1,0.1,0.1,0.1,0.1,0.1,0.1,0.1,0.1,0.1,0.1,0.1,0.1,0.1,0.1,0.1,0.1,0.1,0.1,0.1,0.1]
["Anemo Res",0.1,0.1,0.1,{"$f":"E86-E140","v":0.1},0.1,{"$f":"G86-G140","v":0.1},0.1,{"$f":"I86-I140","v":0.1},0.1,{"$f":"K86-K140","v":0.1},0.1,0.1,0.1,{"$f":"O86-O140","v":0.1},{"$f":"P86-P140","v":0.1},0.1,{"$f":"R86-R140","v":0.1},0.1,0.1,0.1,null,{"$f":"W86-W140","v":0.1},{"$f":"X86-X140","v":0.1},{"$f":"Y86-Y140","v":0.1},0.1,0.1,{"$f":"AB86-AB140","v":0.1},{"$f":"AC86-AC140","v":0.1},0.1,0.1,{"$f":"AF86-AF140","v":0.1},0.1,0.1,0.1,0.1,0.1,0.1,0.1,0.1,0.1,0.1,0.1,0.1,0.1,0.1,0.1,0.1,0.1,0.1,0.1,0.1,0.1,0.1,0.1,0.1,0.1,0.1]
["Geo Res",0.1,0.1,0.1,{"$f":"E87-E141","v":0.1},0.1,{"$f":"G87-G141","v":0.1},0.1,{"$f":"I87-I141","v":0.1},0.1,{"$f":"K87-K141","v":0.1},0.1,0.1,0.1,{"$f":"O87-O141","v":0.1},{"$f":"P87-P141","v":0.1},0.1,{"$f":"R87-R141","v":0.1},0.1,0.1,0.1,null,{"$f":"W87-W141","v":0.1},{"$f":"X87-X141","v":0.1},{"$f":"Y87-Y141","v":0.1},0.1,0.1,{"$f":"AB87-AB141","v":0.1},{"$f":"AC87-AC141","v":0.1},0.1,0.1,{"$f":"AF87-AF141","v":0.1},0.1,0.1,0.1,0.1,0.1,0.1,0.1,0.1,0.1,0.1,0.1,0.1,0.1,0.1,0.1,0.1,0.1,0.1,0.1,0.1,0.1,0.1,0.1,0.1,0.1,0.1]
["Pyro Res",-0.1,-0.1,-0.1,{"$f":"E88-E142","v":-0.1},-0.1,{"$f":"G88-G142","v":-0.1},-0.1,{"$f":"I88-I142","v":-0.1},-0.1,{"$f":"K88-K142","v":-0.1},-0.1,-0.1,-0.1,{"$f":"O88-O142","v":-0.1},{"$f":"P88-P142","v":-0.1},-0.1,{"$f":"R88-R142","v":-0.1},-0.1,-0.1,-0.1,null,{"$f":"W88-W142","v":-0.1},{"$f":"X88-X142","v":-0.1},{"$f":"Y88-Y142","v":-0.1},-0.1,-0.1,{"$f":"AB88-AB142","v":-0.1},{"$f":"AC88-AC142","v":-0.1},-0.1,-0.1,{"$f":"AF88-AF142","v":0.1},0.1,0.1,0.1,0.1,0.1,0.1,0.1,0.1,0.1,0.1,0.1,0.1,0.1,0.1,0.1,0.1,0.1,0.1,0.1,0.1,0.1,0.1,0.1,0.1,0.1,0.1]
["Hydro Res",-0.1,-0.1,-0.1,{"$f":"E89-E143","v":-0.1},-0.1,{"$f":"G89-G143","v":-0.24999999999999997},-0.1,{"$f":"I89-I143","v":-0.1},-0.1,{"$f":"K89-K143","v":-0.1},-0.1,-0.1,-0.1,{"$f":"O89-O143","v":-0.1},{"$f":"P89-P143","v":-0.1},-0.1,{"$f":"R89-R143","v":-0.1},-0.1,-0.1,-0.1,null,{"$f":"W89-W143","v":-0.1},{"$f":"X89-X143","v":-0.1},{"$f":"Y89-Y143","v":-0.1},-0.1,-0.1,{"$f":"AB89-AB143","v":-0.1},{"$f":"AC89-AC143","v":-0.1},-0.24999999999999997,-0.1,{"$f":"AF89-AF143","v":0.1},0.1,0.1,0.1,0.1,0.1,0.1,0.1,0.1,0.1,0.1,0.1,0.1,0.1,0.1,0.1,0.1,0.1,0.1,0.1,0.1,0.1,0.1,0.1,0.1,0.1,0.1]
["Cryo Res",0.1,0.1,0.1,{"$f":"E90-E144","v":0.1},0.1,{"$f":"G90-G144","v":0.1},0.1,{"$f":"I90-I144","v":0.1},0.1,{"$f":"K90-K144","v":0.1},0.1,0.1,0.1,{"$f":"O90-O144","v":0.1},{"$f":"P90-P144","v":0.1},0.1,{"$f":"R90-R144","v":0.1},0.1,0.1,0.1,null,{"$f":"W90-W144","v":0.1},{"$f":"X90-X144","v":0.1},{"$f":"Y90-Y144","v":0.1},0.1,0.1,{"$f":"AB90-AB144","v":0.1},{"$f":"AC90-AC144","v":0.1},0.1,0.1,{"$f":"AF90-AF144","v":0.1},0.1,0.1,0.1,0.1,0.1,0.1,0.1,0.1,0.1,0.1,0.1,0.1,0.1,0.1,0.1,0.1,0.1,0.1,0.1,0.1,0.1,0.1,0.1,0.1,0.1,0.1]
["Electro Res",0.1,0.1,0.1,{"$f":"E91-E145","v":0.1},0.1,{"$f":"G91-G145","v":0.1},0.1,{"$f":"I91-I145","v":0.1},0.1,{"$f":"K91-K145","v":0.1},0.1,0.1,0.1,{"$f":"O91-O145","v":0.1},{"$f":"P91-P145","v":0.1},0.1,{"$f":"R91-R145","v":0.1},0.1,0.1,0.1,null,{"$f":"W91-W145","v":0.1},{"$f":"X91-X145","v":0.1},{"$f":"Y91-Y145","v":0.1},0.1,0.1,{"$f":"AB91-AB145","v":0.1},{"$f":"AC91-AC145","v":0.1},0.1,0.1,{"$f":"AF91-AF145","v":0.1},0.1,0.1,0.1,0.1,0.1,0.1,0.1,0.1,0.1,0.1,0.1,0.1,0.1,0.1,0.1,0.1,0.1,0.1,0.1,0.1,0.1,0.1,0.1,0.1,0.1,0.1]
["Effective Resistances"]
["Effective Phys Res",{"$f":"IF(B196<0, B196/2, IF(AND(B196>=0, B196<=75%), B196, IF(B196>75%, 1/(4*B196+1))))","v":0.1},{"$f":"IF(C196<0, C196/2, IF(AND(C196>=0, C196<=75%), C196, IF(C196>75%, 1/(4*C196+1))))","v":0.1},0.1,{"$f":"IF(E196<0, E196/2, IF(AND(E196>=0, E196<=75%), E196, IF(E196>75%, 1/(4*E196+1))))","v":0.1},0.1,{"$f":"IF(G196<0, G196/2, IF(AND(G196>=0, G196<=75%), G196, IF(G196>75%, 1/(4*G196+1))))","v":0.1},0.1,{"$f":"IF(I196<0, I196/2, IF(AND(I196>=0, I196<=75%), I196, IF(I196>75%, 1/(4*I196+1))))","v":0.1},0.1,{"$f":"IF(K196<0, K196/2, IF(AND(K196>=0, K196<=75%), K196, IF(K196>75%, 1/(4*K196+1))))","v":0.1},0.1,0.1,0.1,{"$f":"IF(O196<0, O196/2, IF(AND(O196>=0, O196<=75%), O196, IF(O196>75%, 1/(4*O196+1))))","v":0.1},{"$f":"IF(P196<0, P196/2, IF(AND(P196>=0, P196<=75%), P196, IF(P196>75%, 1/(4*P196+1))))","v":0.1},0.1,{"$f":"IF(R196<0, R196/2, IF(AND(R196>=0, R196<=75%), R196, IF(R196>75%, 1/(4*R196+1))))","v":0.1},0.1,0.1,0.1,null,{"$f":"IF(W196<0, W196/2, IF(AND(W196>=0, W196<=75%), W196, IF(W196>75%, 1/(4*W196+1))))","v":0.1},{"$f":"IF(X196<0, X196/2, IF(AND(X196>=0, X196<=75%), X196, IF(X196>75%, 1/(4*X196+1))))","v":0.1},{"$f":"IF(Y196<0, Y196/2, IF(AND(Y196>=0, Y196<=75%), Y196, IF(Y196>75%, 1/(4*Y196+1))))","v":0.1},0.1,0.1,{"$f":"IF(AB196<0, AB196/2, IF(AND(AB196>=0, AB196<=75%), AB196, IF(AB196>75%, 1/(4*AB196+1))))","v":0.1},{"$f":"IF(AC196<0, AC196/2, IF(AND(AC196>=0, AC196<=75%), AC196, IF(AC196>75%, 1/(4*AC196+1))))","v":0.1},0.1,0.1,{"$f":"IF(AF196<0, AF196/2, IF(AND(AF196>=0, AF196<=75%), AF196, IF(AF196>75%, 1/(4*AF196+1))))","v":0.1},0.1,0.1,0.1,0.1,0.1,0.1,0.1,0.1,0.1,0.1,0.1,0.1,0.1,0.1,0.1,0.1,0.1,0.1,0.1,0.1,0.1,0.1,0.1,0.1,0.1,0.1]
["Effective Anemo Res",0.1,0.1,0.1,{"$f":"IF(E197<0, E197/2, IF(AND(E197>=0, E197<=75%), E197, IF(E197>75%, 1/(4*E197+1))))","v":0.1},0.1,{"$f":"IF(G197<0, G197/2, IF(AND(G197>=0, G197<=75%), G197, IF(G197>75%, 1/(4*G197+1))))","v":0.1},0.1,{"$f":"IF(I197<0, I197/2, IF(AND(I197>=0, I197<=75%), I197, IF(I197>75%, 1/(4*I197+1))))","v":0.1},0.1,{"$f":"IF(K197<0, K197/2, IF(AND(K197>=0, K197<=75%), K197, IF(K197>75%, 1/(4*K197+1))))","v":0.1},0.1,0.1,0.1,{"$f":"IF(O197<0, O197/2, IF(AND(O197>=0, O197<=75%), O197, IF(O197>75%, 1/(4*O197+1))))","v":0.1},{"$f":"IF(P197<0, P197/2, IF(AND(P197>=0, P197<=75%), P197, IF(P197>75%, 1/(4*P197+1))))","v":0.1},0.1,{"$f":"IF(R197<0, R197/2, IF(AND(R197>=0, R197<=75%), R197, IF(R197>75%, 1/(4*R197+1))))","v":0.1},0.1,0.1,0.1,null,{"$f":"IF(W197<0, W197/2, IF(AND(W197>=0, W197<=75%), W197, IF(W197>75%, 1/(4*W197+1))))","v":0.1},{"$f":"IF(X197<0, X197/2, IF(AND(X197>=0, X197<=75%), X197, IF(X197>75%, 1/(4*X197+1))))","v":0.1},{"$f":"IF(Y197<0, Y197/2, IF(AND(Y197>=0, Y197<=75%), Y197, IF(Y197>75%, 1/(4*Y197+1))))","v":0.1},0.1,0.1,{"$f":"IF(AB197<0, AB197/2, IF(AND(AB197>=0, AB197<=75%), AB197, IF(AB197>75%, 1/(4*AB197+1))))","v":0.1},{"$f":"IF(AC197<0, AC197/2, IF(AND(AC197>=0, AC197<=75%), AC197, IF(AC197>75%, 1/(4*AC197+1))))","v":0.1},0.1,0.1,{"$f":"IF(AF197<0, AF197/2, IF(AND(AF197>=0, AF197<=75%), AF197, IF(AF197>75%, 1/(4*AF197+1))))","v":0.1},0.1,0.1,0.1,0.1,0.1,0.1,0.1,0.1,0.1,0.1,0.1,0.1,0.1,0.1,0.1,0.1,0.1,0.1,0.1,0.1,0.1,0.1,0.1,0.1,0.1,0.1]
["Effective Geo Res",0.1,0.1,0.1,{"$f":"IF(E198<0, E198/2, IF(AND(E198>=0, E198<=75%), E198, IF(E198>75%, 1/(4*E198+1))))","v":0.1},0.1,{"$f":"IF(G198<0, G198/2, IF(AND(G198>=0, G198<=75%), G198, IF(G198>75%, 1/(4*G198+1))))","v":0.1},0.1,{"$f":"IF(I198<0, I198/2, IF(AND(I198>=0, I198<=75%), I198, IF(I198>75%, 1/(4*I198+1))))","v":0.1},0.1,{"$f":"IF(K198<0, K198/2, IF(AND(K198>=0, K198<=75%), K198, IF(K198>75%, 1/(4*K198+1))))","v":0.1},0.1,0.1,0.1,{"$f":"IF(O198<0, O198/2, IF(AND(O198>=0, O198<=75%), O198, IF(O198>75%, 1/(4*O198+1))))","v":0.1},{"$f":"IF(P198<0, P198/2, IF(AND(P198>=0, P198<=75%), P198, IF(P198>75%, 1/(4*P198+1))))","v":0.1},0.1,{"$f":"IF(R198<0, R198/2, IF(AND(R198>=0, R198<=75%), R198, IF(R198>75%, 1/(4*R198+1))))","v":0.1},0.1,0.1,0.1,null,{"$f":"IF(W198<0, W198/2, IF(AND(W198>=0, W198<=75%), W198, IF(W198>75%, 1/(4*W198+1))))","v":0.1},{"$f":"IF(X198<0, X198/2, IF(AND(X198>=0, X198<=75%), X198, IF(X198>75%, 1/(4*X198+1))))","v":0.1},{"$f":"IF(Y198<0, Y198/2, IF(AND(Y198>=0, Y198<=75%), Y198, IF(Y198>75%, 1/(4*Y198+1))))","v":0.1},0.1,0.1,{"$f":"IF(AB198<0, AB198/2, IF(AND(AB198>=0, AB198<=75%), AB198, IF(AB198>75%, 1/(4*AB198+1))))","v":0.1},{"$f":"IF(AC198<0, AC198/2, IF(AND(AC198>=0, AC198<=75%), AC198, IF(AC198>75%, 1/(4*AC198+1))))","v":0.1},0.1,0.1,{"$f":"IF(AF198<0, AF198/2, IF(AND(AF198>=0, AF198<=75%), AF198, IF(AF198>75%, 1/(4*AF198+1))))","v":0.1},0.1,0.1,0.1,0.1,0.1,0.1,0.1,0.1,0.1,0.1,0.1,0.1,0.1,0.1,0.1,0.1,0.1,0.1,0.1,0.1,0.1,0.1,0.1,0.1,0.1,0.1]
["Effective Pyro Res",-0.05,-0.05,-0.05,{"$f":"IF(E199<0, E199/2, IF(AND(E199>=0, E199<=75%), E199, IF(E199>75%, 1/(4*E199+1))))","v":-0.05},-0.05,{"$f":"IF(G199<0, G199/2, IF(AND(G199>=0, G199<=75%), G199, IF(G199>75%, 1/(4*G199+1))))","v":-0.05},-0.05,{"$f":"IF(I199<0, I199/2, IF(AND(I199>=0, I199<=75%), I199, IF(I199>75%, 1/(4*I199+1))))","v":-0.05},-0.05,{"$f":"IF(K199<0, K199/2, IF(AND(K199>=0, K199<=75%), K199, IF(K199>75%, 1/(4*K199+1))))","v":-0.05},-0.05,-0.05,-0.05,{"$f":"IF(O199<0, O199/2, IF(AND(O199>=0, O199<=75%), O199, IF(O199>75%, 1/(4*O199+1))))","v":-0.05},{"$f":"IF(P199<0, P199/2, IF(AND(P199>=0, P199<=75%), P199, IF(P199>75%, 1/(4*P199+1))))","v":-0.05},-0.05,{"$f":"IF(R199<0, R199/2, IF(AND(R199>=0, R199<=75%), R199, IF(R199>75%, 1/(4*R199+1))))","v":-0.05},-0.05,-0.05,-0.05,null,{"$f":"IF(W199<0, W199/2, IF(AND(W199>=0, W199<=75%), W199, IF(W199>75%, 1/(4*W199+1))))","v":-0.05},{"$f":"IF(X199<0, X199/2, IF(AND(X199>=0, X199<=75%), X199, IF(X199>75%, 1/(4*X199+1))))","v":-0.05},{"$f":"IF(Y199<0, Y199/2, IF(AND(Y199>=0, Y199<=75%), Y199, IF(Y199>75%, 1/(4*Y199+1))))","v":-0.05},-0.05,-0.05,{"$f":"IF(AB199<0, AB199/2, IF(AND(AB199>=0, AB199<=75%), AB199, IF(AB199>75%, 1/(4*AB199+1))))","v":-0.05},{"$f":"IF(AC199<0, AC199/2, IF(AND(AC199>=0, AC199<=75%), AC199, IF(AC199>75%, 1/(4*AC199+1))))","v":-0.05},-0.05,-0.05,{"$f":"IF(AF199<0, AF199/2, IF(AND(AF199>=0, AF199<=75%), AF199, IF(AF199>75%, 1/(4*AF199+1))))","v":0.1},0.1,0.1,0.1,0.1,0.1,0.1,0.1,0.1,0.1,0.1,0.1,0.1,0.1,0.1,0.1,0.1,0.1,0.1,0.1,0.1,0.1,0.1,0.1,0.1,0.1,0.1]
["Effective Hydro Res",-0.05,-0.05,-0.05,{"$f":"IF(E200<0, E200/2, IF(AND(E200>=0, E200<=75%), E200, IF(E200>75%, 1/(4*E200+1))))","v":-0.05},-0.05,{"$f":"IF(G200<0, G200/2, IF(AND(G200>=0, G200<=75%), G200, IF(G200>75%, 1/(4*G200+1))))","v":-0.12499999999999999},-0.05,{"$f":"IF(I200<0, I200/2, IF(AND(I200>=0, I200<=75%), I200, IF(I200>75%, 1/(4*I200+1))))","v":-0.05},-0.05,{"$f":"IF(K200<0, K200/2, IF(AND(K200>=0, K200<=75%), K200, IF(K200>75%, 1/(4*K200+1))))","v":-0.05},-0.05,-0.05,-0.05,{"$f":"IF(O200<0, O200/2, IF(AND(O200>=0, O200<=75%), O200, IF(O200>75%, 1/(4*O200+1))))","v":-0.05},{"$f":"IF(P200<0, P200/2, IF(AND(P200>=0, P200<=75%), P200, IF(P200>75%, 1/(4*P200+1))))","v":-0.05},-0.05,{"$f":"IF(R200<0, R200/2, IF(AND(R200>=0, R200<=75%), R200, IF(R200>75%, 1/(4*R200+1))))","v":-0.05},-0.05,-0.05,-0.05,null,{"$f":"IF(W200<0, W200/2, IF(AND(W200>=0, W200<=75%), W200, IF(W200>75%, 1/(4*W200+1))))","v":-0.05},{"$f":"IF(X200<0, X200/2, IF(AND(X200>=0, X200<=75%), X200, IF(X200>75%, 1/(4*X200+1))))","v":-0.05},{"$f":"IF(Y200<0, Y200/2, IF(AND(Y200>=0, Y200<=75%), Y200, IF(Y200>75%, 1/(4*Y200+1))))","v":-0.05},-0.05,-0.05,{"$f":"IF(AB200<0, AB200/2, IF(AND(AB200>=0, AB200<=75%), AB200, IF(AB200>75%, 1/(4*AB200+1))))","v":-0.05},{"$f":"IF(AC200<0, AC200/2, IF(AND(AC200>=0, AC200<=75%), AC200, IF(AC200>75%, 1/(4*AC200+1))))","v":-0.05},-0.12499999999999999,-0.05,{"$f":"IF(AF200<0, AF200/2, IF(AND(AF200>=0, AF200<=75%), AF200, IF(AF200>75%, 1/(4*AF200+1))))","v":0.1},0.1,0.1,0.1,0.1,0.1,0.1,0.1,0.1,0.1,0.1,0.1,0.1,0.1,0.1,0.1,0.1,0.1,0.1,0.1,0.1,0.1,0.1,0.1,0.1,0.1,0.1]
["Effective Cryo Res",0.1,0.1,0.1,{"$f":"IF(E201<0, E201/2, IF(AND(E201>=0, E201<=75%), E201, IF(E201>75%, 1/(4*E201+1))))","v":0.1},0.1,{"$f":"IF(G201<0, G201/2, IF(AND(G201>=0, G201<=75%), G201, IF(G201>75%, 1/(4*G201+1))))","v":0.1},0.1,{"$f":"IF(I201<0, I201/2, IF(AND(I201>=0, I201<=75%), I201, IF(I201>75%, 1/(4*I201+1))))","v":0.1},0.1,{"$f":"IF(K201<0, K201/2, IF(AND(K201>=0, K201<=75%), K201, IF(K201>75%, 1/(4*K201+1))))","v":0.1},0.1,0.1,0.1,{"$f":"IF(O201<0, O201/2, IF(AND(O201>=0, O201<=75%), O201, IF(O201>75%, 1/(4*O201+1))))","v":0.1},{"$f":"IF(P201<0, P201/2, IF(AND(P201>=0, P201<=75%), P201, IF(P201>75%, 1/(4*P201+1))))","v":0.1},0.1,{"$f":"IF(R201<0, R201/2, IF(AND(R201>=0, R201<=75%), R201, IF(R201>75%, 1/(4*R201+1))))","v":0.1},0.1,0.1,0.1,null,{"$f":"IF(W201<0, W201/2, IF(AND(W201>=0, W201<=75%), W201, IF(W201>75%, 1/(4*W201+1))))","v":0.1},{"$f":"IF(X201<0, X201/2, IF(AND(X201>=0, X201<=75%), X201, IF(X201>75%, 1/(4*X201+1))))","v":0.1},{"$f":"IF(Y201<0, Y201/2, IF(AND(Y201>=0, Y201<=75%), Y201, IF(Y201>75%, 1/(4*Y201+1))))","v":0.1},0.1,0.1,{"$f":"IF(AB201<0, AB201/2, IF(AND(AB201>=0, AB201<=75%), AB201, IF(AB201>75%, 1/(4*AB201+1))))","v":0.1},{"$f":"IF(AC201<0, AC201/2, IF(AND(AC201>=0, AC201<=75%), AC201, IF(AC201>75%, 1/(4*AC201+1))))","v":0.1},0.1,0.1,{"$f":"IF(AF201<0, AF201/2, IF(AND(AF201>=0, AF201<=75%), AF201, IF(AF201>75%, 1/(4*AF201+1))))","v":0.1},0.1,0.1,0.1,0.1,0.1,0.1,0.1,0.1,0.1,0.1,0.1,0.1,0.1,0.1,0.1,0.1,0.1,0.1,0.1,0.1,0.1,0.1,0.1,0.1,0.1,0.1]
["Effective Electro Res",0.1,0.1,0.1,{"$f":"IF(E202<0, E202/2, IF(AND(E202>=0, E202<=75%), E202, IF(E202>75%, 1/(4*E202+1))))","v":0.1},0.1,{"$f":"IF(G202<0, G202/2, IF(AND(G202>=0, G202<=75%), G202, IF(G202>75%, 1/(4*G202+1))))","v":0.1},0.1,{"$f":"IF(I202<0, I202/2, IF(AND(I202>=0, I202<=75%), I202, IF(I202>75%, 1/(4*I202+1))))","v":0.1},0.1,{"$f":"IF(K202<0, K202/2, IF(AND(K202>=0, K202<=75%), K202, IF(K202>75%, 1/(4*K202+1))))","v":0.1},0.1,0.1,0.1,{"$f":"IF(O202<0, O202/2, IF(AND(O202>=0, O202<=75%), O202, IF(O202>75%, 1/(4*O202+1))))","v":0.1},{"$f":"IF(P202<0, P202/2, IF(AND(P202>=0, P202<=75%), P202, IF(P202>75%, 1/(4*P202+1))))","v":0.1},0.1,{"$f":"IF(R202<0, R202/2, IF(AND(R202>=0, R202<=75%), R202, IF(R202>75%, 1/(4*R202+1))))","v":0.1},0.1,0.1,0.1,null,{"$f":"IF(W202<0, W202/2, IF(AND(W202>=0, W202<=75%), W202, IF(W202>75%, 1/(4*W202+1))))","v":0.1},{"$f":"IF(X202<0, X202/2, IF(AND(X202>=0, X202<=75%), X202, IF(X202>75%, 1/(4*X202+1))))","v":0.1},{"$f":"IF(Y202<0, Y202/2, IF(AND(Y202>=0, Y202<=75%), Y202, IF(Y202>75%, 1/(4*Y202+1))))","v":0.1},0.1,0.1,{"$f":"IF(AB202<0, AB202/2, IF(AND(AB202>=0, AB202<=75%), AB202, IF(AB202>75%, 1/(4*AB202+1))))","v":0.1},{"$f":"IF(AC202<0, AC202/2, IF(AND(AC202>=0, AC202<=75%), AC202, IF(AC202>75%, 1/(4*AC202+1))))","v":0.1},0.1,0.1,{"$f":"IF(AF202<0, AF202/2, IF(AND(AF202>=0, AF202<=75%), AF202, IF(AF202>75%, 1/(4*AF202+1))))","v":0.1},0.1,0.1,0.1,0.1,0.1,0.1,0.1,0.1,0.1,0.1,0.1,0.1,0.1,0.1,0.1,0.1,0.1,0.1,0.1,0.1,0.1,0.1,0.1,0.1,0.1,0.1]
["Other Calculations"]
["Level Transformative Multiplier",{"$f":"VLOOKUP(B$38, Lookups!$I$43:$J$46, 2, 0)","v":725.3599999999999},{"$f":"VLOOKUP(C$38, Lookups!$I$43:$J$46, 2, 0)","v":725.3599999999999},{"$f":"VLOOKUP(D$38, Lookups!$I$43:$J$46, 2, 0)","v":725.3599999999999},{"$f":"VLOOKUP(E$38, Lookups!$I$43:$J$46, 2, 0)","v":725.3599999999999},{"$f":"VLOOKUP(F$38, Lookups!$I$43:$J$46, 2, 0)","v":725.3599999999999},{"$f":"VLOOKUP(G$38, Lookups!$I$43:$J$46, 2, 0)","v":725.3599999999999},{"$f":"VLOOKUP(H$38, Lookups!$I$43:$J$46, 2, 0)","v":725.3599999999999},{"$f":"VLOOKUP(I$38, Lookups!$I$43:$J$46, 2, 0)","v":725.3599999999999},{"$f":"VLOOKUP(J$38, Lookups!$I$43:$J$46, 2, 0)","v":725.3599999999999},{"$f":"VLOOKUP(K$38, Lookups!$I$43:$J$46, 2, 0)","v":725.3599999999999},{"$f":"VLOOKUP(L$38, Lookups!$I$43:$J$46, 2, 0)","v":725.3599999999999},{"$f":"VLOOKUP(M$38, Lookups!$I$43:$J$46, 2, 0)","v":725.3599999999999},{"$f":"VLOOKUP(N$38, Lookups!$I$43:$J$46, 2, 0)","v":725.3599999999999},{"$f":"VLOOKUP(O$38, Lookups!$I$43:$J$46, 2, 0)","v":725.3599999999999},{"$f":"VLOOKUP(P$38, Lookups!$I$43:$J$46, 2, 0)","v":725.3599999999999},{"$f":"VLOOKUP(Q$38, Lookups!$I$43:$J$46, 2, 0)","v":725.3599999999999},{"$f":"VLOOKUP(R$38, Lookups!$I$43:$J$46, 2, 0)","v":725.3599999999999},{"$f":"VLOOKUP(S$38, Lookups!$I$43:$J$46, 2, 0)","v":725.3599999999999},{"$f":"VLOOKUP(T$38, Lookups!$I$43:$J$46, 2, 0)","v":725.3599999999999},{"$f":"VLOOKUP(U$38, Lookups!$I$43:$J$46, 2, 0)","v":725.3599999999999},null,{"$f":"VLOOKUP(W$38, Lookups!$I$43:$J$46, 2, 0)","v":725.3599999999999},{"$f":"VLOOKUP(X$38, Lookups!$I$43:$J$46, 2, 0)","v":725.3599999999999},{"$f":"VLOOKUP(Y$38, Lookups!$I$43:$J$46, 2, 0)","v":725.3599999999999},{"$f":"VLOOKUP(Z$38, Lookups!$I$43:$J$46, 2, 0)","v":725.3599999999999},{"$f":"VLOOKUP(AA$38, Lookups!$I$43:$J$46, 2, 0)","v":725.3599999999999},{"$f":"VLOOKUP(AB$38, Lookups!$I$43:$J$46, 2, 0)","v":725.3599999999999},{"$f":"VLOOKUP(AC$38, Lookups!$I$43:$J$46, 2, 0)","v":725.3599999999999},{"$f":"VLOOKUP(AD$38, Lookups!$I$43:$J$46, 2, 0)","v":725.3599999999999},{"$f":"VLOOKUP(AE$38, Lookups!$I$43:$J$46, 2, 0)","v":725.3599999999999},{"$f":"VLOOKUP(AF$38, Lookups!$I$43:$J$46, 2, 0)","v":{"$error":"#N/A"}},{"$f":"VLOOKUP(AG$38, Lookups!$I$43:$J$46, 2, 0)","v":{"$error":"#N/A"}},{"$f":"VLOOKUP(AH$38, Lookups!$I$43:$J$46, 2, 0)","v":{"$error":"#N/A"}},{"$f":"VLOOKUP(AI$38, Lookups!$I$43:$J$46, 2, 0)","v":{"$error":"#N/A"}},{"$f":"VLOOKUP(AJ$38, Lookups!$I$43:$J$46, 2, 0)","v":{"$error":"#N/A"}},{"$f":"VLOOKUP(AK$38, Lookups!$I$43:$J$46, 2, 0)","v":{"$error":"#N/A"}},{"$f":"VLOOKUP(AL$38, Lookups!$I$43:$J$46, 2, 0)","v":{"$error":"#N/A"}},{"$f":"VLOOKUP(AM$38, Lookups!$I$43:$J$46, 2, 0)","v":{"$error":"#N/A"}},{"$f":"VLOOKUP(AN$38, Lookups!$I$43:$J$46, 2, 0)","v":{"$error":"#N/A"}},{"$f":"VLOOKUP(AO$38, Lookups!$I$43:$J$46, 2, 0)","v":{"$error":"#N/A"}},{"$f":"VLOOKUP(AP$38, Lookups!$I$43:$J$46, 2, 0)","v":{"$error":"#N/A"}},{"$f":"VLOOKUP(AQ$38, Lookups!$I$43:$J$46, 2, 0)","v":{"$error":"#N/A"}},{"$f":"VLOOKUP(AR$38, Lookups!$I$43:$J$46, 2, 0)","v":{"$error":"#N/A"}},{"$f":"VLOOKUP(AS$38, Lookups!$I$43:$J$46, 2, 0)","v":{"$error":"#N/A"}},{"$f":"VLOOKUP(AT$38, Lookups!$I$43:$J$46, 2, 0)","v":{"$error":"#N/A"}},{"$f":"VLOOKUP(AU$38, Lookups!$I$43:$J$46, 2, 0)","v":{"$error":"#N/A"}},{"$f":"VLOOKUP(AV$38, Lookups!$I$43:$J$46, 2, 0)","v":{"$error":"#N/A"}},{"$f":"VLOOKUP(AW$38, Lookups!$I$43:$J$46, 2, 0)","v":{"$error":"#N/A"}},{"$f":"VLOOKUP(AX$38, Lookups!$I$43:$J$46, 2, 0)","v":{"$error":"#N/A"}},{"$f":"VLOOKUP(AY$38, Lookups!$I$43:$J$46, 2, 0)","v":{"$error":"#N/A"}},{"$f":"VLOOKUP(AZ$38, Lookups!$I$43:$J$46, 2, 0)","v":{"$error":"#N/A"}},{"$f":"VLOOKUP(BA$38, Lookups!$I$43:$J$46, 2, 0)","v":{"$error":"#N/A"}},{"$f":"VLOOKUP(BB$38, Lookups!$I$43:$J$46, 2, 0)","v":{"$error":"#N/A"}},{"$f":"VLOOKUP(BC$38, Lookups!$I$43:$J$46, 2, 0)","v":{"$error":"#N/A"}},{"$f":"VLOOKUP(BD$38, Lookups!$I$43:$J$46, 2, 0)","v":{"$error":"#N/A"}},{"$f":"VLOOKUP(BE$38, Lookups!$I$43:$J$46, 2, 0)","v":{"$error":"#N/A"}},{"$f":"VLOOKUP(BF$38, Lookups!$I$43:$J$46, 2, 0)","v":{"$error":"#N/A"}}]
["Overload",{"$f":"IFERROR(4*(1+(16*B153)/(2000+B153)+(IFERROR(B174+1, 1)-1))*B212*(1-B207),\"\")","v":3993.8457308936863},{"$f":"IFERROR(4*(1+(16*C153)/(2000+C153)+(IFERROR(C174+1, 1)-1))*C212*(1-C207),\"\")","v":3993.8457308936863},{"$f":"IFERROR(4*(1+(16*D153)/(2000+D153)+(IFERROR(D174+1, 1)-1))*D212*(1-D207),\"\")","v":3993.8457308936863},3993.8457308936863,{"$f":"IFERROR(4*(1+(16*F153)/(2000+F153)+(IFERROR(F174+1, 1)-1))*F212*(1-F207),\"\")","v":3993.8457308936863},3993.8457308936863,{"$f":"IFERROR(4*(1+(16*H153)/(2000+H153)+(IFERROR(H174+1, 1)-1))*H212*(1-H207),\"\")","v":9226.5760726619446},9226.5760726619446,{"$f":"IFERROR(4*(1+(16*J153)/(2000+J153)+(IFERROR(J174+1, 1)-1))*J212*(1-J207),\"\")","v":9226.5760726619446},9226.5760726619446,{"$f":"IFERROR(4*(1+(16*L153)/(2000+L153)+(IFERROR(L174+1, 1)-1))*L212*(1-L207),\"\")","v":9226.5760726619446},9226.5760726619446,9226.5760726619446,{"$f":"IFERROR(4*(1+(16*O153)/(2000+O153)+(IFERROR(O174+1, 1)-1))*O212*(1-O207),\"\")","v":9226.5760726619446},{"$f":"IFERROR(4*(1+(16*P153)/(2000+P153)+(IFERROR(P174+1, 1)-1))*P212*(1-P207),\"\")","v":9226.5760726619446},9226.5760726619446,{"$f":"IFERROR(4*(1+(16*R153)/(2000+R153)+(IFERROR(R174+1, 1)-1))*R212*(1-R207),\"\")","v":9226.5760726619446},9226.5760726619446,9226.5760726619446,9226.5760726619446,null,{"$f":"IFERROR(4*(1+(16*W153)/(2000+W153)+(IFERROR(W174+1, 1)-1))*W212*(1-W207),\"\")","v":3993.8457308936863},{"$f":"IFERROR(4*(1+(16*X153)/(2000+X153)+(IFERROR(X174+1, 1)-1))*X212*(1-X207),\"\")","v":3993.8457308936863},{"$f":"IFERROR(4*(1+(16*Y153)/(2000+Y153)+(IFERROR(Y174+1, 1)-1))*Y212*(1-Y207),\"\")","v":3993.8457308936863},3993.8457308936863,3993.8457308936863,{"$f":"IFERROR(4*(1+(16*AB153)/(2000+AB153)+(IFERROR(AB174+1, 1)-1))*AB212*(1-AB207),\"\")","v":9226.5760726619446},{"$f":"IFERROR(4*(1+(16*AC153)/(2000+AC153)+(IFERROR(AC174+1, 1)-1))*AC212*(1-AC207),\"\")","v":9226.5760726619446},3993.8457308936863,9226.5760726619446,{"$f":"IFERROR(4*(1+(16*AF153)/(2000+AF153)+(IFERROR(AF174+1, 1)-1))*AF212*(1-AF207),\"\")","v":""},"","","","","","","","","","","","","","","","","","","","","","","","","",""]
["Electrocharged",{"$f":"IFERROR(2.4*(1+(16*B153)/(2000+B153)+(IFERROR(B174+1, 1)-1))*B212*(1-B210),\"\")","v":2053.9778044596101},{"$f":"IFERROR(2.4*(1+(16*C153)/(2000+C153)+(IFERROR(C174+1, 1)-1))*C212*(1-C210),\"\")","v":2053.9778044596101},{"$f":"IFERROR(2.4*(1+(16*D153)/(2000+D153)+(IFERROR(D174+1, 1)-1))*D212*(1-D210),\"\")","v":2053.9778044596101},2053.9778044596101,{"$f":"IFERROR(2.4*(1+(16*F153)/(2000+F153)+(IFERROR(F174+1, 1)-1))*F212*(1-F210),\"\")","v":2053.9778044596101},2053.9778044596101,{"$f":"IFERROR(2.4*(1+(16*H153)/(2000+H153)+(IFERROR(H174+1, 1)-1))*H212*(1-H210),\"\")","v":4745.0962659404295},4745.0962659404295,{"$f":"IFERROR(2.4*(1+(16*J153)/(2000+J153)+(IFERROR(J174+1, 1)-1))*J212*(1-J210),\"\")","v":4745.0962659404295},4745.0962659404295,{"$f":"IFERROR(2.4*(1+(16*L153)/(2000+L153)+(IFERROR(L174+1, 1)-1))*L212*(1-L210),\"\")","v":4745.0962659404295},4745.0962659404295,4745.0962659404295,{"$f":"IFERROR(2.4*(1+(16*O153)/(2000+O153)+(IFERROR(O174+1, 1)-1))*O212*(1-O210),\"\")","v":4745.0962659404295},{"$f":"IFERROR(2.4*(1+(16*P153)/(2000+P153)+(IFERROR(P174+1, 1)-1))*P212*(1-P210),\"\")","v":4745.0962659404295},4745.0962659404295,{"$f":"IFERROR(2.4*(1+(16*R153)/(2000+R153)+(IFERROR(R174+1, 1)-1))*R212*(1-R210),\"\")","v":4745.0962659404295},4745.0962659404295,4745.0962659404295,4745.0962659404295,null,{"$f":"IFERROR(2.4*(1+(16*W153)/(2000+W153)+(IFERROR(W174+1, 1)-1))*W212*(1-W210),\"\")","v":2053.9778044596101},{"$f":"IFERROR(2.4*(1+(16*X153)/(2000+X153)+(IFERROR(X174+1, 1)-1))*X212*(1-X210),\"\")","v":2053.9778044596101},{"$f":"IFERROR(2.4*(1+(16*Y153)/(2000+Y153)+(IFERROR(Y174+1, 1)-1))*Y212*(1-Y210),\"\")","v":2053.9778044596101},2053.9778044596101,2053.9778044596101,{"$f":"IFERROR(2.4*(1+(16*AB153)/(2000+AB153)+(IFERROR(AB174+1, 1)-1))*AB212*(1-AB210),\"\")","v":4745.0962659404295},{"$f":"IFERROR(2.4*(1+(16*AC153)/(2000+AC153)+(IFERROR(AC174+1, 1)-1))*AC212*(1-AC210),\"\")","v":4745.0962659404295},2053.9778044596101,4745.0962659404295,{"$f":"IFERROR(2.4*(1+(16*AF153)/(2000+AF153)+(IFERROR(AF174+1, 1)-1))*AF212*(1-AF210),\"\")","v":""},"","","","","","","","","","","","","","","","","","","","","","","","","",""]
["Shatter",{"$f":"IFERROR(3*(1+(16*B153)/(2000+B153)+(IFERROR(B178+1, 1)-1))*B212*(1-B204),\"\")","v":2567.4722555745125},{"$f":"IFERROR(3*(1+(16*C153)/(2000+C153)+(IFERROR(C178+1, 1)-1))*C212*(1-C204),\"\")","v":2567.4722555745125},{"$f":"IFERROR(3*(1+(16*D153)/(2000+D153)+(IFERROR(D178+1, 1)-1))*D212*(1-D204),\"\")","v":2567.4722555745125},2567.4722555745125,{"$f":"IFERROR(3*(1+(16*F153)/(2000+F153)+(IFERROR(F178+1, 1)-1))*F212*(1-F204),\"\")","v":2567.4722555745125},2567.4722555745125,{"$f":"IFERROR(3*(1+(16*H153)/(2000+H153)+(IFERROR(H178+1, 1)-1))*H212*(1-H204),\"\")","v":5147.9815324255369},5147.9815324255369,{"$f":"IFERROR(3*(1+(16*J153)/(2000+J153)+(IFERROR(J178+1, 1)-1))*J212*(1-J204),\"\")","v":5147.9815324255369},5147.9815324255369,{"$f":"IFERROR(3*(1+(16*L153)/(2000+L153)+(IFERROR(L178+1, 1)-1))*L212*(1-L204),\"\")","v":5147.9815324255369},5147.9815324255369,5147.9815324255369,{"$f":"IFERROR(3*(1+(16*O153)/(2000+O153)+(IFERROR(O178+1, 1)-1))*O212*(1-O204),\"\")","v":5147.9815324255369},{"$f":"IFERROR(3*(1+(16*P153)/(2000+P153)+(IFERROR(P178+1, 1)-1))*P212*(1-P204),\"\")","v":5147.9815324255369},5147.9815324255369,{"$f":"IFERROR(3*(1+(16*R153)/(2000+R153)+(IFERROR(R178+1, 1)-1))*R212*(1-R204),\"\")","v":5147.9815324255369},5147.9815324255369,5147.9815324255369,5147.9815324255369,null,{"$f":"IFERROR(3*(1+(16*W153)/(2000+W153)+(IFERROR(W178+1, 1)-1))*W212*(1-W204),\"\")","v":2567.4722555745125},{"$f":"IFERROR(3*(1+(16*X153)/(2000+X153)+(IFERROR(X178+1, 1)-1))*X212*(1-X204),\"\")","v":2567.4722555745125},{"$f":"IFERROR(3*(1+(16*Y153)/(2000+Y153)+(IFERROR(Y178+1, 1)-1))*Y212*(1-Y204),\"\")","v":2567.4722555745125},2567.4722555745125,2567.4722555745125,{"$f":"IFERROR(3*(1+(16*AB153)/(2000+AB153)+(IFERROR(AB178+1, 1)-1))*AB212*(1-AB204),\"\")","v":5147.9815324255369},{"$f":"IFERROR(3*(1+(16*AC153)/(2000+AC153)+(IFERROR(AC178+1, 1)-1))*AC212*(1-AC204),\"\")","v":5147.9815324255369},2567.4722555745125,5147.9815324255369,{"$f":"IFERROR(3*(1+(16*AF153)/(2000+AF153)+(IFERROR(AF178+1, 1)-1))*AF212*(1-AF204),\"\")","v":""},"","","","","","","","","","","","","","","","","","","","","","","","","",""]
["Superconduct",{"$f":"IFERROR(1*(1+(16*B153)/(2000+B153)+(IFERROR(B177+1, 1)-1))*B212*(1-B209),\"\")","v":855.8240851915042},{"$f":"IFERROR(1*(1+(16*C153)/(2000+C153)+(IFERROR(C177+1, 1)-1))*C212*(1-C209),\"\")","v":855.8240851915042},{"$f":"IFERROR(1*(1+(16*D153)/(2000+D153)+(IFERROR(D177+1, 1)-1))*D212*(1-D209),\"\")","v":855.8240851915042},855.8240851915042,{"$f":"IFERROR(1*(1+(16*F153)/(2000+F153)+(IFERROR(F177+1, 1)-1))*F212*(1-F209),\"\")","v":855.8240851915042},855.8240851915042,{"$f":"IFERROR(1*(1+(16*H153)/(2000+H153)+(IFERROR(H177+1, 1)-1))*H212*(1-H209),\"\")","v":1715.9938441418456},1715.9938441418456,{"$f":"IFERROR(1*(1+(16*J153)/(2000+J153)+(IFERROR(J177+1, 1)-1))*J212*(1-J209),\"\")","v":1715.9938441418456},1715.9938441418456,{"$f":"IFERROR(1*(1+(16*L153)/(2000+L153)+(IFERROR(L177+1, 1)-1))*L212*(1-L209),\"\")","v":1715.9938441418456},1715.9938441418456,1715.9938441418456,{"$f":"IFERROR(1*(1+(16*O153)/(2000+O153)+(IFERROR(O177+1, 1)-1))*O212*(1-O209),\"\")","v":1715.9938441418456},{"$f":"IFERROR(1*(1+(16*P153)/(2000+P153)+(IFERROR(P177+1, 1)-1))*P212*(1-P209),\"\")","v":1715.9938441418456},1715.9938441418456,{"$f":"IFERROR(1*(1+(16*R153)/(2000+R153)+(IFERROR(R177+1, 1)-1))*R212*(1-R209),\"\")","v":1715.9938441418456},1715.9938441418456,1715.9938441418456,1715.9938441418456,null,{"$f":"IFERROR(1*(1+(16*W153)/(2000+W153)+(IFERROR(W177+1, 1)-1))*W212*(1-W209),\"\")","v":855.8240851915042},{"$f":"IFERROR(1*(1+(16*X153)/(2000+X153)+(IFERROR(X177+1, 1)-1))*X212*(1-X209),\"\")","v":855.8240851915042},{"$f":"IFERROR(1*(1+(16*Y153)/(2000+Y153)+(IFERROR(Y177+1, 1)-1))*Y212*(1-Y209),\"\")","v":855.8240851915042},855.8240851915042,855.8240851915042,{"$f":"IFERROR(1*(1+(16*AB153)/(2000+AB153)+(IFERROR(AB177+1, 1)-1))*AB212*(1-AB209),\"\")","v":1715.9938441418456},{"$f":"IFERROR(1*(1+(16*AC153)/(2000+AC153)+(IFERROR(AC177+1, 1)-1))*AC212*(1-AC209),\"\")","v":1715.9938441418456},855.8240851915042,1715.9938441418456,{"$f":"IFERROR(1*(1+(16*AF153)/(2000+AF153)+(IFERROR(AF177+1, 1)-1))*AF212*(1-AF209),\"\")","v":""},"","","","","","","","","","","","","","","","","","","","","","","","","",""]
["Pyro Swirl",{"$f":"IFERROR(1.2*(1+(16*B153)/(2000+B153)+(IFERROR(B173+1, 1)-1))*B212*(1-B207),\"\")","v":1198.1537192681058},{"$f":"IFERROR(1.2*(1+(16*C153)/(2000+C153)+(IFERROR(C173+1, 1)-1))*C212*(1-C207),\"\")","v":1198.1537192681058},{"$f":"IFERROR(1.2*(1+(16*D153)/(2000+D153)+(IFERROR(D173+1, 1)-1))*D212*(1-D207),\"\")","v":1198.1537192681058},1198.1537192681058,{"$f":"IFERROR(1.2*(1+(16*F153)/(2000+F153)+(IFERROR(F173+1, 1)-1))*F212*(1-F207),\"\")","v":1198.1537192681058},1198.1537192681058,{"$f":"IFERROR(1.2*(1+(16*H153)/(2000+H153)+(IFERROR(H173+1, 1)-1))*H212*(1-H207),\"\")","v":2402.391381798584},2402.391381798584,{"$f":"IFERROR(1.2*(1+(16*J153)/(2000+J153)+(IFERROR(J173+1, 1)-1))*J212*(1-J207),\"\")","v":2402.391381798584},2402.391381798584,{"$f":"IFERROR(1.2*(1+(16*L153)/(2000+L153)+(IFERROR(L173+1, 1)-1))*L212*(1-L207),\"\")","v":2402.391381798584},2402.391381798584,2402.391381798584,{"$f":"IFERROR(1.2*(1+(16*O153)/(2000+O153)+(IFERROR(O173+1, 1)-1))*O212*(1-O207),\"\")","v":2402.391381798584},{"$f":"IFERROR(1.2*(1+(16*P153)/(2000+P153)+(IFERROR(P173+1, 1)-1))*P212*(1-P207),\"\")","v":2402.391381798584},2402.391381798584,{"$f":"IFERROR(1.2*(1+(16*R153)/(2000+R153)+(IFERROR(R173+1, 1)-1))*R212*(1-R207),\"\")","v":2402.391381798584},2402.391381798584,2402.391381798584,2402.391381798584,null,{"$f":"IFERROR(1.2*(1+(16*W153)/(2000+W153)+(IFERROR(W173+1, 1)-1))*W212*(1-W207),\"\")","v":1198.1537192681058},{"$f":"IFERROR(1.2*(1+(16*X153)/(2000+X153)+(IFERROR(X173+1, 1)-1))*X212*(1-X207),\"\")","v":1198.1537192681058},{"$f":"IFERROR(1.2*(1+(16*Y153)/(2000+Y153)+(IFERROR(Y173+1, 1)-1))*Y212*(1-Y207),\"\")","v":1198.1537192681058},1198.1537192681058,1198.1537192681058,{"$f":"IFERROR(1.2*(1+(16*AB153)/(2000+AB153)+(IFERROR(AB173+1, 1)-1))*AB212*(1-AB207),\"\")","v":2402.391381798584},{"$f":"IFERROR(1.2*(1+(16*AC153)/(2000+AC153)+(IFERROR(AC173+1, 1)-1))*AC212*(1-AC207),\"\")","v":2402.391381798584},1198.1537192681058,2402.391381798584,{"$f":"IFERROR(1.2*(1+(16*AF153)/(2000+AF153)+(IFERROR(AF173+1, 1)-1))*AF212*(1-AF207),\"\")","v":""},"","","","","","","","","","","","","","","","","","","","","","","","","",""]
["Hydro Swirl",{"$f":"IFERROR(1.2*(1+(16*B153)/(2000+B153)+(IFERROR(B173+1, 1)-1))*B212*(1-B208),\"\")","v":1198.1537192681058},{"$f":"IFERROR(1.2*(1+(16*C153)/(2000+C153)+(IFERROR(C173+1, 1)-1))*C212*(1-C208),\"\")","v":1198.1537192681058},{"$f":"IFERROR(1.2*(1+(16*D153)/(2000+D153)+(IFERROR(D173+1, 1)-1))*D212*(1-D208),\"\")","v":1198.1537192681058},1198.1537192681058,{"$f":"IFERROR(1.2*(1+(16*F153)/(2000+F153)+(IFERROR(F173+1, 1)-1))*F212*(1-F208),\"\")","v":1198.1537192681058},1283.7361277872562,{"$f":"IFERROR(1.2*(1+(16*H153)/(2000+H153)+(IFERROR(H173+1, 1)-1))*H212*(1-H208),\"\")","v":2402.391381798584},2402.391381798584,{"$f":"IFERROR(1.2*(1+(16*J153)/(2000+J153)+(IFERROR(J173+1, 1)-1))*J212*(1-J208),\"\")","v":2402.391381798584},2402.391381798584,{"$f":"IFERROR(1.2*(1+(16*L153)/(2000+L153)+(IFERROR(L173+1, 1)-1))*L212*(1-L208),\"\")","v":2402.391381798584},2402.391381798584,2402.391381798584,{"$f":"IFERROR(1.2*(1+(16*O153)/(2000+O153)+(IFERROR(O173+1, 1)-1))*O212*(1-O208),\"\")","v":2402.391381798584},{"$f":"IFERROR(1.2*(1+(16*P153)/(2000+P153)+(IFERROR(P173+1, 1)-1))*P212*(1-P208),\"\")","v":2402.391381798584},2402.391381798584,{"$f":"IFERROR(1.2*(1+(16*R153)/(2000+R153)+(IFERROR(R173+1, 1)-1))*R212*(1-R208),\"\")","v":2402.391381798584},2402.391381798584,2402.391381798584,2402.391381798584,null,{"$f":"IFERROR(1.2*(1+(16*W153)/(2000+W153)+(IFERROR(W173+1, 1)-1))*W212*(1-W208),\"\")","v":1198.1537192681058},{"$f":"IFERROR(1.2*(1+(16*X153)/(2000+X153)+(IFERROR(X173+1, 1)-1))*X212*(1-X208),\"\")","v":1198.1537192681058},{"$f":"IFERROR(1.2*(1+(16*Y153)/(2000+Y153)+(IFERROR(Y173+1, 1)-1))*Y212*(1-Y208),\"\")","v":1198.1537192681058},1198.1537192681058,1198.1537192681058,{"$f":"IFERROR(1.2*(1+(16*AB153)/(2000+AB153)+(IFERROR(AB173+1, 1)-1))*AB212*(1-AB208),\"\")","v":2402.391381798584},{"$f":"IFERROR(1.2*(1+(16*AC153)/(2000+AC153)+(IFERROR(AC173+1, 1)-1))*AC212*(1-AC208),\"\")","v":2402.391381798584},1283.7361277872562,2402.391381798584,{"$f":"IFERROR(1.2*(1+(16*AF153)/(2000+AF153)+(IFERROR(AF173+1, 1)-1))*AF212*(1-AF208),\"\")","v":""},"","","","","","","","","","","","","","","","","","","","","","","","","",""]
["Cryo Swirl",{"$f":"IFERROR(1.2*(1+(16*B153)/(2000+B153)+(IFERROR(B173+1, 1)-1))*B212*(1-B209),\"\")","v":1026.988902229805},{"$f":"IFERROR(1.2*(1+(16*C153)/(2000+C153)+(IFERROR(C173+1, 1)-1))*C212*(1-C209),\"\")","v":1026.988902229805},{"$f":"IFERROR(1.2*(1+(16*D153)/(2000+D153)+(IFERROR(D173+1, 1)-1))*D212*(1-D209),\"\")","v":1026.988902229805},1026.988902229805,{"$f":"IFERROR(1.2*(1+(16*F153)/(2000+F153)+(IFERROR(F173+1, 1)-1))*F212*(1-F209),\"\")","v":1026.988902229805},1026.988902229805,{"$f":"IFERROR(1.2*(1+(16*H153)/(2000+H153)+(IFERROR(H173+1, 1)-1))*H212*(1-H209),\"\")","v":2059.1926129702147},2059.1926129702147,{"$f":"IFERROR(1.2*(1+(16*J153)/(2000+J153)+(IFERROR(J173+1, 1)-1))*J212*(1-J209),\"\")","v":2059.1926129702147},2059.1926129702147,{"$f":"IFERROR(1.2*(1+(16*L153)/(2000+L153)+(IFERROR(L173+1, 1)-1))*L212*(1-L209),\"\")","v":2059.1926129702147},2059.1926129702147,2059.1926129702147,{"$f":"IFERROR(1.2*(1+(16*O153)/(2000+O153)+(IFERROR(O173+1, 1)-1))*O212*(1-O209),\"\")","v":2059.1926129702147},{"$f":"IFERROR(1.2*(1+(16*P153)/(2000+P153)+(IFERROR(P173+1, 1)-1))*P212*(1-P209),\"\")","v":2059.1926129702147},2059.1926129702147,{"$f":"IFERROR(1.2*(1+(16*R153)/(2000+R153)+(IFERROR(R173+1, 1)-1))*R212*(1-R209),\"\")","v":2059.1926129702147},2059.1926129702147,2059.1926129702147,2059.1926129702147,null,{"$f":"IFERROR(1.2*(1+(16*W153)/(2000+W153)+(IFERROR(W173+1, 1)-1))*W212*(1-W209),\"\")","v":1026.988902229805},{"$f":"IFERROR(1.2*(1+(16*X153)/(2000+X153)+(IFERROR(X173+1, 1)-1))*X212*(1-X209),\"\")","v":1026.988902229805},{"$f":"IFERROR(1.2*(1+(16*Y153)/(2000+Y153)+(IFERROR(Y173+1, 1)-1))*Y212*(1-Y209),\"\")","v":1026.988902229805},1026.988902229805,1026.988902229805,{"$f":"IFERROR(1.2*(1+(16*AB153)/(2000+AB153)+(IFERROR(AB173+1, 1)-1))*AB212*(1-AB209),\"\")","v":2059.1926129702147},{"$f":"IFERROR(1.2*(1+(16*AC153)/(2000+AC153)+(IFERROR(AC173+1, 1)-1))*AC212*(1-AC209),\"\")","v":2059.1926129702147},1026.988902229805,2059.1926129702147,{"$f":"IFERROR(1.2*(1+(16*AF153)/(2000+AF153)+(IFERROR(AF173+1, 1)-1))*AF212*(1-AF209),\"\")","v":""},"","","","","","","","","","","","","","","","","","","","","","","","","",""]
["Electro Swirl",{"$f":"IFERROR(1.2*(1+(16*B153)/(2000+B153)+(IFERROR(B173+1, 1)-1))*B212*(1-B210),\"\")","v":1026.988902229805},{"$f":"IFERROR(1.2*(1+(16*C153)/(2000+C153)+(IFERROR(C173+1, 1)-1))*C212*(1-C210),\"\")","v":1026.988902229805},{"$f":"IFERROR(1.2*(1+(16*D153)/(2000+D153)+(IFERROR(D173+1, 1)-1))*D212*(1-D210),\"\")","v":1026.988902229805},1026.988902229805,{"$f":"IFERROR(1.2*(1+(16*F153)/(2000+F153)+(IFERROR(F173+1, 1)-1))*F212*(1-F210),\"\")","v":1026.988902229805},1026.988902229805,{"$f":"IFERROR(1.2*(1+(16*H153)/(2000+H153)+(IFERROR(H173+1, 1)-1))*H212*(1-H210),\"\")","v":2059.1926129702147},2059.1926129702147,{"$f":"IFERROR(1.2*(1+(16*J153)/(2000+J153)+(IFERROR(J173+1, 1)-1))*J212*(1-J210),\"\")","v":2059.1926129702147},2059.1926129702147,{"$f":"IFERROR(1.2*(1+(16*L153)/(2000+L153)+(IFERROR(L173+1, 1)-1))*L212*(1-L210),\"\")","v":2059.1926129702147},2059.1926129702147,2059.1926129702147,{"$f":"IFERROR(1.2*(1+(16*O153)/(2000+O153)+(IFERROR(O173+1, 1)-1))*O212*(1-O210),\"\")","v":2059.1926129702147},{"$f":"IFERROR(1.2*(1+(16*P153)/(2000+P153)+(IFERROR(P173+1, 1)-1))*P212*(1-P210),\"\")","v":2059.1926129702147},2059.1926129702147,{"$f":"IFERROR(1.2*(1+(16*R153)/(2000+R153)+(IFERROR(R173+1, 1)-1))*R212*(1-R210),\"\")","v":2059.1926129702147},2059.1926129702147,2059.1926129702147,2059.1926129702147,null,{"$f":"IFERROR(1.2*(1+(16*W153)/(2000+W153)+(IFERROR(W173+1, 1)-1))*W212*(1-W210),\"\")","v":1026.988902229805},{"$f":"IFERROR(1.2*(1+(16*X153)/(2000+X153)+(IFERROR(X173+1, 1)-1))*X212*(1-X210),\"\")","v":1026.988902229805},{"$f":"IFERROR(1.2*(1+(16*Y153)/(2000+Y153)+(IFERROR(Y173+1, 1)-1))*Y212*(1-Y210),\"\")","v":1026.988902229805},1026.988902229805,1026.988902229805,{"$f":"IFERROR(1.2*(1+(16*AB153)/(2000+AB153)+(IFERROR(AB173+1, 1)-1))*AB212*(1-AB210),\"\")","v":2059.1926129702147},{"$f":"IFERROR(1.2*(1+(16*AC153)/(2000+AC153)+(IFERROR(AC173+1, 1)-1))*AC212*(1-AC210),\"\")","v":2059.1926129702147},1026.988902229805,2059.1926129702147,{"$f":"IFERROR(1.2*(1+(16*AF153)/(2000+AF153)+(IFERROR(AF173+1, 1)-1))*AF212*(1-AF210),\"\")","v":""},"","","","","","","","","","","","","","","","","","","","","","","","","",""]
["Element Adjustments"]
["Normal",{"$f":"INDEX(Lookups!$O$1:$V$5, MATCH('Rotation Assembler'!B$38, Lookups!$O$1:$O$5, 0), MATCH('Rotation Assembler'!$A222, Lookups!$O$1:$V$1, 0))","v":"Phys"},{"$f":"INDEX(Lookups!$O$1:$V$5, MATCH('Rotation Assembler'!C$38, Lookups!$O$1:$O$5, 0), MATCH('Rotation Assembler'!$A222, Lookups!$O$1:$V$1, 0))","v":"Phys"},{"$f":"INDEX(Lookups!$O$1:$V$5, MATCH('Rotation Assembler'!D$38, Lookups!$O$1:$O$5, 0), MATCH('Rotation Assembler'!$A222, Lookups!$O$1:$V$1, 0))","v":"Geo"},{"$f":"INDEX(Lookups!$O$1:$V$5, MATCH('Rotation Assembler'!E$38, Lookups!$O$1:$O$5, 0), MATCH('Rotation Assembler'!$A222, Lookups!$O$1:$V$1, 0))","v":"Geo"},{"$f":"INDEX(Lookups!$O$1:$V$5, MATCH('Rotation Assembler'!F$38, Lookups!$O$1:$O$5, 0), MATCH('Rotation Assembler'!$A222, Lookups!$O$1:$V$1, 0))","v":"Phys"},{"$f":"INDEX(Lookups!$O$1:$V$5, MATCH('Rotation Assembler'!G$38, Lookups!$O$1:$O$5, 0), MATCH('Rotation Assembler'!$A222, Lookups!$O$1:$V$1, 0))","v":"Phys"},{"$f":"INDEX(Lookups!$O$1:$V$5, MATCH('Rotation Assembler'!H$38, Lookups!$O$1:$O$5, 0), MATCH('Rotation Assembler'!$A222, Lookups!$O$1:$V$1, 0))","v":"Pyro"},{"$f":"INDEX(Lookups!$O$1:$V$5, MATCH('Rotation Assembler'!I$38, Lookups!$O$1:$O$5, 0), MATCH('Rotation Assembler'!$A222, Lookups!$O$1:$V$1, 0))","v":"Pyro"},{"$f":"INDEX(Lookups!$O$1:$V$5, MATCH('Rotation Assembler'!J$38, Lookups!$O$1:$O$5, 0), MATCH('Rotation Assembler'!$A222, Lookups!$O$1:$V$1, 0))","v":"Pyro"},{"$f":"INDEX(Lookups!$O$1:$V$5, MATCH('Rotation Assembler'!K$38, Lookups!$O$1:$O$5, 0), MATCH('Rotation Assembler'!$A222, Lookups!$O$1:$V$1, 0))","v":"Pyro"},{"$f":"INDEX(Lookups!$O$1:$V$5, MATCH('Rotation Assembler'!L$38, Lookups!$O$1:$O$5, 0), MATCH('Rotation Assembler'!$A222, Lookups!$O$1:$V$1, 0))","v":"Pyro"},{"$f":"INDEX(Lookups!$O$1:$V$5, MATCH('Rotation Assembler'!M$38, Lookups!$O$1:$O$5, 0), MATCH('Rotation Assembler'!$A222, Lookups!$O$1:$V$1, 0))","v":"Pyro"},{"$f":"INDEX(Lookups!$O$1:$V$5, MATCH('Rotation Assembler'!N$38, Lookups!$O$1:$O$5, 0), MATCH('Rotation Assembler'!$A222, Lookups!$O$1:$V$1, 0))","v":"Pyro"},{"$f":"INDEX(Lookups!$O$1:$V$5, MATCH('Rotation Assembler'!O$38, Lookups!$O$1:$O$5, 0), MATCH('Rotation Assembler'!$A222, Lookups!$O$1:$V$1, 0))","v":"Pyro"},{"$f":"INDEX(Lookups!$O$1:$V$5, MATCH('Rotation Assembler'!P$38, Lookups!$O$1:$O$5, 0), MATCH('Rotation Assembler'!$A222, Lookups!$O$1:$V$1, 0))","v":"Pyro"},{"$f":"INDEX(Lookups!$O$1:$V$5, MATCH('Rotation Assembler'!Q$38, Lookups!$O$1:$O$5, 0), MATCH('Rotation Assembler'!$A222, Lookups!$O$1:$V$1, 0))","v":"Pyro"},{"$f":"INDEX(Lookups!$O$1:$V$5, MATCH('Rotation Assembler'!R$38, Lookups!$O$1:$O$5, 0), MATCH('Rotation Assembler'!$A222, Lookups!$O$1:$V$1, 0))","v":"Pyro"},{"$f":"INDEX(Lookups!$O$1:$V$5, MATCH('Rotation Assembler'!S$38, Lookups!$O$1:$O$5, 0), MATCH('Rotation Assembler'!$A222, Lookups!$O$1:$V$1, 0))","v":"Pyro"},{"$f":"INDEX(Lookups!$O$1:$V$5, MATCH('Rotation Assembler'!T$38, Lookups!$O$1:$O$5, 0), MATCH('Rotation Assembler'!$A222, Lookups!$O$1:$V$1, 0))","v":"Pyro"},{"$f":"INDEX(Lookups!$O$1:$V$5, MATCH('Rotation Assembler'!U$38, Lookups!$O$1:$O$5, 0), MATCH('Rotation Assembler'!$A222, Lookups!$O$1:$V$1, 0))","v":"Pyro"},null,{"$f":"INDEX(Lookups!$O$1:$V$5, MATCH('Rotation Assembler'!W$38, Lookups!$O$1:$O$5, 0), MATCH('Rotation Assembler'!$A222, Lookups!$O$1:$V$1, 0))","v":"Geo"},{"$f":"INDEX(Lookups!$O$1:$V$5, MATCH('Rotation Assembler'!X$38, Lookups!$O$1:$O$5, 0), MATCH('Rotation Assembler'!$A222, Lookups!$O$1:$V$1, 0))","v":"Geo"},{"$f":"INDEX(Lookups!$O$1:$V$5, MATCH('Rotation Assembler'!Y$38, Lookups!$O$1:$O$5, 0), MATCH('Rotation Assembler'!$A222, Lookups!$O$1:$V$1, 0))","v":"Phys"},{"$f":"INDEX(Lookups!$O$1:$V$5, MATCH('Rotation Assembler'!Z$38, Lookups!$O$1:$O$5, 0), MATCH('Rotation Assembler'!$A222, Lookups!$O$1:$V$1, 0))","v":"Phys"},{"$f":"INDEX(Lookups!$O$1:$V$5, MATCH('Rotation Assembler'!AA$38, Lookups!$O$1:$O$5, 0), MATCH('Rotation Assembler'!$A222, Lookups!$O$1:$V$1, 0))","v":"Phys"},{"$f":"INDEX(Lookups!$O$1:$V$5, MATCH('Rotation Assembler'!AB$38, Lookups!$O$1:$O$5, 0), MATCH('Rotation Assembler'!$A222, Lookups!$O$1:$V$1, 0))","v":"Pyro"},{"$f":"INDEX(Lookups!$O$1:$V$5, MATCH('Rotation Assembler'!AC$38, Lookups!$O$1:$O$5, 0), MATCH('Rotation Assembler'!$A222, Lookups!$O$1:$V$1, 0))","v":"Pyro"},{"$f":"INDEX(Lookups!$O$1:$V$5, MATCH('Rotation Assembler'!AD$38, Lookups!$O$1:$O$5, 0), MATCH('Rotation Assembler'!$A222, Lookups!$O$1:$V$1, 0))","v":"Phys"},{"$f":"INDEX(Lookups!$O$1:$V$5, MATCH('Rotation Assembler'!AE$38, Lookups!$O$1:$O$5, 0), MATCH('Rotation Assembler'!$A222, Lookups!$O$1:$V$1, 0))","v":"Pyro"},{"$f":"INDEX(Lookups!$O$1:$V$5, MATCH('Rotation Assembler'!AF$38, Lookups!$O$1:$O$5, 0), MATCH('Rotation Assembler'!$A222, Lookups!$O$1:$V$1, 0))","v":{"$error":"#N/A"}},{"$f":"INDEX(Lookups!$O$1:$V$5, MATCH('Rotation Assembler'!AG$38, Lookups!$O$1:$O$5, 0), MATCH('Rotation Assembler'!$A222, Lookups!$O$1:$V$1, 0))","v":{"$error":"#N/A"}},{"$f":"INDEX(Lookups!$O$1:$V$5, MATCH('Rotation Assembler'!AH$38, Lookups!$O$1:$O$5, 0), MATCH('Rotation Assembler'!$A222, Lookups!$O$1:$V$1, 0))","v":{"$error":"#N/A"}},{"$f":"INDEX(Lookups!$O$1:$V$5, MATCH('Rotation Assembler'!AI$38, Lookups!$O$1:$O$5, 0), MATCH('Rotation Assembler'!$A222, Lookups!$O$1:$V$1, 0))","v":{"$error":"#N/A"}},{"$f":"INDEX(Lookups!$O$1:$V$5, MATCH('Rotation Assembler'!AJ$38, Lookups!$O$1:$O$5, 0), MATCH('Rotation Assembler'!$A222, Lookups!$O$1:$V$1, 0))","v":{"$error":"#N/A"}},{"$f":"INDEX(Lookups!$O$1:$V$5, MATCH('Rotation Assembler'!AK$38, Lookups!$O$1:$O$5, 0), MATCH('Rotation Assembler'!$A222, Lookups!$O$1:$V$1, 0))","v":{"$error":"#N/A"}},{"$f":"INDEX(Lookups!$O$1:$V$5, MATCH('Rotation Assembler'!AL$38, Lookups!$O$1:$O$5, 0), MATCH('Rotation Assembler'!$A222, Lookups!$O$1:$V$1, 0))","v":{"$error":"#N/A"}},{"$f":"INDEX(Lookups!$O$1:$V$5, MATCH('Rotation Assembler'!AM$38, Lookups!$O$1:$O$5, 0), MATCH('Rotation Assembler'!$A222, Lookups!$O$1:$V$1, 0))","v":{"$error":"#N/A"}},{"$f":"INDEX(Lookups!$O$1:$V$5, MATCH('Rotation Assembler'!AN$38, Lookups!$O$1:$O$5, 0), MATCH('Rotation Assembler'!$A222, Lookups!$O$1:$V$1, 0))","v":{"$error":"#N/A"}},{"$f":"INDEX(Lookups!$O$1:$V$5, MATCH('Rotation Assembler'!AO$38, Lookups!$O$1:$O$5, 0), MATCH('Rotation Assembler'!$A222, Lookups!$O$1:$V$1, 0))","v":{"$error":"#N/A"}},{"$f":"INDEX(Lookups!$O$1:$V$5, MATCH('Rotation Assembler'!AP$38, Lookups!$O$1:$O$5, 0), MATCH('Rotation Assembler'!$A222, Lookups!$O$1:$V$1, 0))","v":{"$error":"#N/A"}},{"$f":"INDEX(Lookups!$O$1:$V$5, MATCH('Rotation Assembler'!AQ$38, Lookups!$O$1:$O$5, 0), MATCH('Rotation Assembler'!$A222, Lookups!$O$1:$V$1, 0))","v":{"$error":"#N/A"}},{"$f":"INDEX(Lookups!$O$1:$V$5, MATCH('Rotation Assembler'!AR$38, Lookups!$O$1:$O$5, 0), MATCH('Rotation Assembler'!$A222, Lookups!$O$1:$V$1, 0))","v":{"$error":"#N/A"}},{"$f":"INDEX(Lookups!$O$1:$V$5, MATCH('Rotation Assembler'!AS$38, Lookups!$O$1:$O$5, 0), MATCH('Rotation Assembler'!$A222, Lookups!$O$1:$V$1, 0))","v":{"$error":"#N/A"}},{"$f":"INDEX(Lookups!$O$1:$V$5, MATCH('Rotation Assembler'!AT$38, Lookups!$O$1:$O$5, 0), MATCH('Rotation Assembler'!$A222, Lookups!$O$1:$V$1, 0))","v":{"$error":"#N/A"}},{"$f":"INDEX(Lookups!$O$1:$V$5, MATCH('Rotation Assembler'!AU$38, Lookups!$O$1:$O$5, 0), MATCH('Rotation Assembler'!$A222, Lookups!$O$1:$V$1, 0))","v":{"$error":"#N/A"}},{"$f":"INDEX(Lookups!$O$1:$V$5, MATCH('Rotation Assembler'!AV$38, Lookups!$O$1:$O$5, 0), MATCH('Rotation Assembler'!$A222, Lookups!$O$1:$V$1, 0))","v":{"$error":"#N/A"}},{"$f":"INDEX(Lookups!$O$1:$V$5, MATCH('Rotation Assembler'!AW$38, Lookups!$O$1:$O$5, 0), MATCH('Rotation Assembler'!$A222, Lookups!$O$1:$V$1, 0))","v":{"$error":"#N/A"}},{"$f":"INDEX(Lookups!$O$1:$V$5, MATCH('Rotation Assembler'!AX$38, Lookups!$O$1:$O$5, 0), MATCH('Rotation Assembler'!$A222, Lookups!$O$1:$V$1, 0))","v":{"$error":"#N/A"}},{"$f":"INDEX(Lookups!$O$1:$V$5, MATCH('Rotation Assembler'!AY$38, Lookups!$O$1:$O$5, 0), MATCH('Rotation Assembler'!$A222, Lookups!$O$1:$V$1, 0))","v":{"$error":"#N/A"}},{"$f":"INDEX(Lookups!$O$1:$V$5, MATCH('Rotation Assembler'!AZ$38, Lookups!$O$1:$O$5, 0), MATCH('Rotation Assembler'!$A222, Lookups!$O$1:$V$1, 0))","v":{"$error":"#N/A"}},{"$f":"INDEX(Lookups!$O$1:$V$5, MATCH('Rotation Assembler'!BA$38, Lookups!$O$1:$O$5, 0), MATCH('Rotation Assembler'!$A222, Lookups!$O$1:$V$1, 0))","v":{"$error":"#N/A"}},{"$f":"INDEX(Lookups!$O$1:$V$5, MATCH('Rotation Assembler'!BB$38, Lookups!$O$1:$O$5, 0), MATCH('Rotation Assembler'!$A222, Lookups!$O$1:$V$1, 0))","v":{"$error":"#N/A"}},{"$f":"INDEX(Lookups!$O$1:$V$5, MATCH('Rotation Assembler'!BC$38, Lookups!$O$1:$O$5, 0), MATCH('Rotation Assembler'!$A222, Lookups!$O$1:$V$1, 0))","v":{"$error":"#N/A"}},{"$f":"INDEX(Lookups!$O$1:$V$5, MATCH('Rotation Assembler'!BD$38, Lookups!$O$1:$O$5, 0), MATCH('Rotation Assembler'!$A222, Lookups!$O$1:$V$1, 0))","v":{"$error":"#N/A"}},{"$f":"INDEX(Lookups!$O$1:$V$5, MATCH('Rotation Assembler'!BE$38, Lookups!$O$1:$O$5, 0), MATCH('Rotation Assembler'!$A222, Lookups!$O$1:$V$1, 0))","v":{"$error":"#N/A"}},{"$f":"INDEX(Lookups!$O$1:$V$5, MATCH('Rotation Assembler'!BF$38, Lookups!$O$1:$O$5, 0), MATCH('Rotation Assembler'!$A222, Lookups!$O$1:$V$1, 0))","v":{"$error":"#N/A"}}]
["Charged",{"$f":"INDEX(Lookups!$O$1:$V$5, MATCH('Rotation Assembler'!B$38, Lookups!$O$1:$O$5, 0), MATCH('Rotation Assembler'!$A223, Lookups!$O$1:$V$1, 0))","v":"Phys"},{"$f":"INDEX(Lookups!$O$1:$V$5, MATCH('Rotation Assembler'!C$38, Lookups!$O$1:$O$5, 0), MATCH('Rotation Assembler'!$A223, Lookups!$O$1:$V$1, 0))","v":"Phys"},{"$f":"INDEX(Lookups!$O$1:$V$5, MATCH('Rotation Assembler'!D$38, Lookups!$O$1:$O$5, 0), MATCH('Rotation Assembler'!$A223, Lookups!$O$1:$V$1, 0))","v":"Geo"},{"$f":"INDEX(Lookups!$O$1:$V$5, MATCH('Rotation Assembler'!E$38, Lookups!$O$1:$O$5, 0), MATCH('Rotation Assembler'!$A223, Lookups!$O$1:$V$1, 0))","v":"Geo"},{"$f":"INDEX(Lookups!$O$1:$V$5, MATCH('Rotation Assembler'!F$38, Lookups!$O$1:$O$5, 0), MATCH('Rotation Assembler'!$A223, Lookups!$O$1:$V$1, 0))","v":"Phys"},{"$f":"INDEX(Lookups!$O$1:$V$5, MATCH('Rotation Assembler'!G$38, Lookups!$O$1:$O$5, 0), MATCH('Rotation Assembler'!$A223, Lookups!$O$1:$V$1, 0))","v":"Phys"},{"$f":"INDEX(Lookups!$O$1:$V$5, MATCH('Rotation Assembler'!H$38, Lookups!$O$1:$O$5, 0), MATCH('Rotation Assembler'!$A223, Lookups!$O$1:$V$1, 0))","v":"Pyro"},{"$f":"INDEX(Lookups!$O$1:$V$5, MATCH('Rotation Assembler'!I$38, Lookups!$O$1:$O$5, 0), MATCH('Rotation Assembler'!$A223, Lookups!$O$1:$V$1, 0))","v":"Pyro"},{"$f":"INDEX(Lookups!$O$1:$V$5, MATCH('Rotation Assembler'!J$38, Lookups!$O$1:$O$5, 0), MATCH('Rotation Assembler'!$A223, Lookups!$O$1:$V$1, 0))","v":"Pyro"},{"$f":"INDEX(Lookups!$O$1:$V$5, MATCH('Rotation Assembler'!K$38, Lookups!$O$1:$O$5, 0), MATCH('Rotation Assembler'!$A223, Lookups!$O$1:$V$1, 0))","v":"Pyro"},{"$f":"INDEX(Lookups!$O$1:$V$5, MATCH('Rotation Assembler'!L$38, Lookups!$O$1:$O$5, 0), MATCH('Rotation Assembler'!$A223, Lookups!$O$1:$V$1, 0))","v":"Pyro"},{"$f":"INDEX(Lookups!$O$1:$V$5, MATCH('Rotation Assembler'!M$38, Lookups!$O$1:$O$5, 0), MATCH('Rotation Assembler'!$A223, Lookups!$O$1:$V$1, 0))","v":"Pyro"},{"$f":"INDEX(Lookups!$O$1:$V$5, MATCH('Rotation Assembler'!N$38, Lookups!$O$1:$O$5, 0), MATCH('Rotation Assembler'!$A223, Lookups!$O$1:$V$1, 0))","v":"Pyro"},{"$f":"INDEX(Lookups!$O$1:$V$5, MATCH('Rotation Assembler'!O$38, Lookups!$O$1:$O$5, 0), MATCH('Rotation Assembler'!$A223, Lookups!$O$1:$V$1, 0))","v":"Pyro"},{"$f":"INDEX(Lookups!$O$1:$V$5, MATCH('Rotation Assembler'!P$38, Lookups!$O$1:$O$5, 0), MATCH('Rotation Assembler'!$A223, Lookups!$O$1:$V$1, 0))","v":"Pyro"},{"$f":"INDEX(Lookups!$O$1:$V$5, MATCH('Rotation Assembler'!Q$38, Lookups!$O$1:$O$5, 0), MATCH('Rotation Assembler'!$A223, Lookups!$O$1:$V$1, 0))","v":"Pyro"},{"$f":"INDEX(Lookups!$O$1:$V$5, MATCH('Rotation Assembler'!R$38, Lookups!$O$1:$O$5, 0), MATCH('Rotation Assembler'!$A223, Lookups!$O$1:$V$1, 0))","v":"Pyro"},{"$f":"INDEX(Lookups!$O$1:$V$5, MATCH('Rotation Assembler'!S$38, Lookups!$O$1:$O$5, 0), MATCH('Rotation Assembler'!$A223, Lookups!$O$1:$V$1, 0))","v":"Pyro"},{"$f":"INDEX(Lookups!$O$1:$V$5, MATCH('Rotation Assembler'!T$38, Lookups!$O$1:$O$5, 0), MATCH('Rotation Assembler'!$A223, Lookups!$O$1:$V$1, 0))","v":"Pyro"},{"$f":"INDEX(Lookups!$O$1:$V$5, MATCH('Rotation Assembler'!U$38, Lookups!$O$1:$O$5, 0), MATCH('Rotation Assembler'!$A223, Lookups!$O$1:$V$1, 0))","v":"Pyro"},null,{"$f":"INDEX(Lookups!$O$1:$V$5, MATCH('Rotation Assembler'!W$38, Lookups!$O$1:$O$5, 0), MATCH('Rotation Assembler'!$A223, Lookups!$O$1:$V$1, 0))","v":"Geo"},{"$f":"INDEX(Lookups!$O$1:$V$5, MATCH('Rotation Assembler'!X$38, Lookups!$O$1:$O$5, 0), MATCH('Rotation Assembler'!$A223, Lookups!$O$1:$V$1, 0))","v":"Geo"},{"$f":"INDEX(Lookups!$O$1:$V$5, MATCH('Rotation Assembler'!Y$38, Lookups!$O$1:$O$5, 0), MATCH('Rotation Assembler'!$A223, Lookups!$O$1:$V$1, 0))","v":"Phys"},{"$f":"INDEX(Lookups!$O$1:$V$5, MATCH('Rotation Assembler'!Z$38, Lookups!$O$1:$O$5, 0), MATCH('Rotation Assembler'!$A223, Lookups!$O$1:$V$1, 0))","v":"Phys"},{"$f":"INDEX(Lookups!$O$1:$V$5, MATCH('Rotation Assembler'!AA$38, Lookups!$O$1:$O$5, 0), MATCH('Rotation Assembler'!$A223, Lookups!$O$1:$V$1, 0))","v":"Phys"},{"$f":"INDEX(Lookups!$O$1:$V$5, MATCH('Rotation Assembler'!AB$38, Lookups!$O$1:$O$5, 0), MATCH('Rotation Assembler'!$A223, Lookups!$O$1:$V$1, 0))","v":"Pyro"},{"$f":"INDEX(Lookups!$O$1:$V$5, MATCH('Rotation Assembler'!AC$38, Lookups!$O$1:$O$5, 0), MATCH('Rotation Assembler'!$A223, Lookups!$O$1:$V$1, 0))","v":"Pyro"},{"$f":"INDEX(Lookups!$O$1:$V$5, MATCH('Rotation Assembler'!AD$38, Lookups!$O$1:$O$5, 0), MATCH('Rotation Assembler'!$A223, Lookups!$O$1:$V$1, 0))","v":"Phys"},{"$f":"INDEX(Lookups!$O$1:$V$5, MATCH('Rotation Assembler'!AE$38, Lookups!$O$1:$O$5, 0), MATCH('Rotation Assembler'!$A223, Lookups!$O$1:$V$1, 0))","v":"Pyro"},{"$f":"INDEX(Lookups!$O$1:$V$5, MATCH('Rotation Assembler'!AF$38, Lookups!$O$1:$O$5, 0), MATCH('Rotation Assembler'!$A223, Lookups!$O$1:$V$1, 0))","v":{"$error":"#N/A"}},{"$f":"INDEX(Lookups!$O$1:$V$5, MATCH('Rotation Assembler'!AG$38, Lookups!$O$1:$O$5, 0), MATCH('Rotation Assembler'!$A223, Lookups!$O$1:$V$1, 0))","v":{"$error":"#N/A"}},{"$f":"INDEX(Lookups!$O$1:$V$5, MATCH('Rotation Assembler'!AH$38, Lookups!$O$1:$O$5, 0), MATCH('Rotation Assembler'!$A223, Lookups!$O$1:$V$1, 0))","v":{"$error":"#N/A"}},{"$f":"INDEX(Lookups!$O$1:$V$5, MATCH('Rotation Assembler'!AI$38, Lookups!$O$1:$O$5, 0), MATCH('Rotation Assembler'!$A223, Lookups!$O$1:$V$1, 0))","v":{"$error":"#N/A"}},{"$f":"INDEX(Lookups!$O$1:$V$5, MATCH('Rotation Assembler'!AJ$38, Lookups!$O$1:$O$5, 0), MATCH('Rotation Assembler'!$A223, Lookups!$O$1:$V$1, 0))","v":{"$error":"#N/A"}},{"$f":"INDEX(Lookups!$O$1:$V$5, MATCH('Rotation Assembler'!AK$38, Lookups!$O$1:$O$5, 0), MATCH('Rotation Assembler'!$A223, Lookups!$O$1:$V$1, 0))","v":{"$error":"#N/A"}},{"$f":"INDEX(Lookups!$O$1:$V$5, MATCH('Rotation Assembler'!AL$38, Lookups!$O$1:$O$5, 0), MATCH('Rotation Assembler'!$A223, Lookups!$O$1:$V$1, 0))","v":{"$error":"#N/A"}},{"$f":"INDEX(Lookups!$O$1:$V$5, MATCH('Rotation Assembler'!AM$38, Lookups!$O$1:$O$5, 0), MATCH('Rotation Assembler'!$A223, Lookups!$O$1:$V$1, 0))","v":{"$error":"#N/A"}},{"$f":"INDEX(Lookups!$O$1:$V$5, MATCH('Rotation Assembler'!AN$38, Lookups!$O$1:$O$5, 0), MATCH('Rotation Assembler'!$A223, Lookups!$O$1:$V$1, 0))","v":{"$error":"#N/A"}},{"$f":"INDEX(Lookups!$O$1:$V$5, MATCH('Rotation Assembler'!AO$38, Lookups!$O$1:$O$5, 0), MATCH('Rotation Assembler'!$A223, Lookups!$O$1:$V$1, 0))","v":{"$error":"#N/A"}},{"$f":"INDEX(Lookups!$O$1:$V$5, MATCH('Rotation Assembler'!AP$38, Lookups!$O$1:$O$5, 0), MATCH('Rotation Assembler'!$A223, Lookups!$O$1:$V$1, 0))","v":{"$error":"#N/A"}},{"$f":"INDEX(Lookups!$O$1:$V$5, MATCH('Rotation Assembler'!AQ$38, Lookups!$O$1:$O$5, 0), MATCH('Rotation Assembler'!$A223, Lookups!$O$1:$V$1, 0))","v":{"$error":"#N/A"}},{"$f":"INDEX(Lookups!$O$1:$V$5, MATCH('Rotation Assembler'!AR$38, Lookups!$O$1:$O$5, 0), MATCH('Rotation Assembler'!$A223, Lookups!$O$1:$V$1, 0))","v":{"$error":"#N/A"}},{"$f":"INDEX(Lookups!$O$1:$V$5, MATCH('Rotation Assembler'!AS$38, Lookups!$O$1:$O$5, 0), MATCH('Rotation Assembler'!$A223, Lookups!$O$1:$V$1, 0))","v":{"$error":"#N/A"}},{"$f":"INDEX(Lookups!$O$1:$V$5, MATCH('Rotation Assembler'!AT$38, Lookups!$O$1:$O$5, 0), MATCH('Rotation Assembler'!$A223, Lookups!$O$1:$V$1, 0))","v":{"$error":"#N/A"}},{"$f":"INDEX(Lookups!$O$1:$V$5, MATCH('Rotation Assembler'!AU$38, Lookups!$O$1:$O$5, 0), MATCH('Rotation Assembler'!$A223, Lookups!$O$1:$V$1, 0))","v":{"$error":"#N/A"}},{"$f":"INDEX(Lookups!$O$1:$V$5, MATCH('Rotation Assembler'!AV$38, Lookups!$O$1:$O$5, 0), MATCH('Rotation Assembler'!$A223, Lookups!$O$1:$V$1, 0))","v":{"$error":"#N/A"}},{"$f":"INDEX(Lookups!$O$1:$V$5, MATCH('Rotation Assembler'!AW$38, Lookups!$O$1:$O$5, 0), MATCH('Rotation Assembler'!$A223, Lookups!$O$1:$V$1, 0))","v":{"$error":"#N/A"}},{"$f":"INDEX(Lookups!$O$1:$V$5, MATCH('Rotation Assembler'!AX$38, Lookups!$O$1:$O$5, 0), MATCH('Rotation Assembler'!$A223, Lookups!$O$1:$V$1, 0))","v":{"$error":"#N/A"}},{"$f":"INDEX(Lookups!$O$1:$V$5, MATCH('Rotation Assembler'!AY$38, Lookups!$O$1:$O$5, 0), MATCH('Rotation Assembler'!$A223, Lookups!$O$1:$V$1, 0))","v":{"$error":"#N/A"}},{"$f":"INDEX(Lookups!$O$1:$V$5, MATCH('Rotation Assembler'!AZ$38, Lookups!$O$1:$O$5, 0), MATCH('Rotation Assembler'!$A223, Lookups!$O$1:$V$1, 0))","v":{"$error":"#N/A"}},{"$f":"INDEX(Lookups!$O$1:$V$5, MATCH('Rotation Assembler'!BA$38, Lookups!$O$1:$O$5, 0), MATCH('Rotation Assembler'!$A223, Lookups!$O$1:$V$1, 0))","v":{"$error":"#N/A"}},{"$f":"INDEX(Lookups!$O$1:$V$5, MATCH('Rotation Assembler'!BB$38, Lookups!$O$1:$O$5, 0), MATCH('Rotation Assembler'!$A223, Lookups!$O$1:$V$1, 0))","v":{"$error":"#N/A"}},{"$f":"INDEX(Lookups!$O$1:$V$5, MATCH('Rotation Assembler'!BC$38, Lookups!$O$1:$O$5, 0), MATCH('Rotation Assembler'!$A223, Lookups!$O$1:$V$1, 0))","v":{"$error":"#N/A"}},{"$f":"INDEX(Lookups!$O$1:$V$5, MATCH('Rotation Assembler'!BD$38, Lookups!$O$1:$O$5, 0), MATCH('Rotation Assembler'!$A223, Lookups!$O$1:$V$1, 0))","v":{"$error":"#N/A"}},{"$f":"INDEX(Lookups!$O$1:$V$5, MATCH('Rotation Assembler'!BE$38, Lookups!$O$1:$O$5, 0), MATCH('Rotation Assembler'!$A223, Lookups!$O$1:$V$1, 0))","v":{"$error":"#N/A"}},{"$f":"INDEX(Lookups!$O$1:$V$5, MATCH('Rotation Assembler'!BF$38, Lookups!$O$1:$O$5, 0), MATCH('Rotation Assembler'!$A223, Lookups!$O$1:$V$1, 0))","v":{"$error":"#N/A"}}]
["Plunge",{"$f":"INDEX(Lookups!$O$1:$V$5, MATCH('Rotation Assembler'!B$38, Lookups!$O$1:$O$5, 0), MATCH('Rotation Assembler'!$A224, Lookups!$O$1:$V$1, 0))","v":"Phys"},{"$f":"INDEX(Lookups!$O$1:$V$5, MATCH('Rotation Assembler'!C$38, Lookups!$O$1:$O$5, 0), MATCH('Rotation Assembler'!$A224, Lookups!$O$1:$V$1, 0))","v":"Phys"},{"$f":"INDEX(Lookups!$O$1:$V$5, MATCH('Rotation Assembler'!D$38, Lookups!$O$1:$O$5, 0), MATCH('Rotation Assembler'!$A224, Lookups!$O$1:$V$1, 0))","v":"Geo"},{"$f":"INDEX(Lookups!$O$1:$V$5, MATCH('Rotation Assembler'!E$38, Lookups!$O$1:$O$5, 0), MATCH('Rotation Assembler'!$A224, Lookups!$O$1:$V$1, 0))","v":"Geo"},{"$f":"INDEX(Lookups!$O$1:$V$5, MATCH('Rotation Assembler'!F$38, Lookups!$O$1:$O$5, 0), MATCH('Rotation Assembler'!$A224, Lookups!$O$1:$V$1, 0))","v":"Phys"},{"$f":"INDEX(Lookups!$O$1:$V$5, MATCH('Rotation Assembler'!G$38, Lookups!$O$1:$O$5, 0), MATCH('Rotation Assembler'!$A224, Lookups!$O$1:$V$1, 0))","v":"Phys"},{"$f":"INDEX(Lookups!$O$1:$V$5, MATCH('Rotation Assembler'!H$38, Lookups!$O$1:$O$5, 0), MATCH('Rotation Assembler'!$A224, Lookups!$O$1:$V$1, 0))","v":"Pyro"},{"$f":"INDEX(Lookups!$O$1:$V$5, MATCH('Rotation Assembler'!I$38, Lookups!$O$1:$O$5, 0), MATCH('Rotation Assembler'!$A224, Lookups!$O$1:$V$1, 0))","v":"Pyro"},{"$f":"INDEX(Lookups!$O$1:$V$5, MATCH('Rotation Assembler'!J$38, Lookups!$O$1:$O$5, 0), MATCH('Rotation Assembler'!$A224, Lookups!$O$1:$V$1, 0))","v":"Pyro"},{"$f":"INDEX(Lookups!$O$1:$V$5, MATCH('Rotation Assembler'!K$38, Lookups!$O$1:$O$5, 0), MATCH('Rotation Assembler'!$A224, Lookups!$O$1:$V$1, 0))","v":"Pyro"},{"$f":"INDEX(Lookups!$O$1:$V$5, MATCH('Rotation Assembler'!L$38, Lookups!$O$1:$O$5, 0), MATCH('Rotation Assembler'!$A224, Lookups!$O$1:$V$1, 0))","v":"Pyro"},{"$f":"INDEX(Lookups!$O$1:$V$5, MATCH('Rotation Assembler'!M$38, Lookups!$O$1:$O$5, 0), MATCH('Rotation Assembler'!$A224, Lookups!$O$1:$V$1, 0))","v":"Pyro"},{"$f":"INDEX(Lookups!$O$1:$V$5, MATCH('Rotation Assembler'!N$38, Lookups!$O$1:$O$5, 0), MATCH('Rotation Assembler'!$A224, Lookups!$O$1:$V$1, 0))","v":"Pyro"},{"$f":"INDEX(Lookups!$O$1:$V$5, MATCH('Rotation Assembler'!O$38, Lookups!$O$1:$O$5, 0), MATCH('Rotation Assembler'!$A224, Lookups!$O$1:$V$1, 0))","v":"Pyro"},{"$f":"INDEX(Lookups!$O$1:$V$5, MATCH('Rotation Assembler'!P$38, Lookups!$O$1:$O$5, 0), MATCH('Rotation Assembler'!$A224, Lookups!$O$1:$V$1, 0))","v":"Pyro"},{"$f":"INDEX(Lookups!$O$1:$V$5, MATCH('Rotation Assembler'!Q$38, Lookups!$O$1:$O$5, 0), MATCH('Rotation Assembler'!$A224, Lookups!$O$1:$V$1, 0))","v":"Pyro"},{"$f":"INDEX(Lookups!$O$1:$V$5, MATCH('Rotation Assembler'!R$38, Lookups!$O$1:$O$5, 0), MATCH('Rotation Assembler'!$A224, Lookups!$O$1:$V$1, 0))","v":"Pyro"},{"$f":"INDEX(Lookups!$O$1:$V$5, MATCH('Rotation Assembler'!S$38, Lookups!$O$1:$O$5, 0), MATCH('Rotation Assembler'!$A224, Lookups!$O$1:$V$1, 0))","v":"Pyro"},{"$f":"INDEX(Lookups!$O$1:$V$5, MATCH('Rotation Assembler'!T$38, Lookups!$O$1:$O$5, 0), MATCH('Rotation Assembler'!$A224, Lookups!$O$1:$V$1, 0))","v":"Pyro"},{"$f":"INDEX(Lookups!$O$1:$V$5, MATCH('Rotation Assembler'!U$38, Lookups!$O$1:$O$5, 0), MATCH('Rotation Assembler'!$A224, Lookups!$O$1:$V$1, 0))","v":"Pyro"},null,{"$f":"INDEX(Lookups!$O$1:$V$5, MATCH('Rotation Assembler'!W$38, Lookups!$O$1:$O$5, 0), MATCH('Rotation Assembler'!$A224, Lookups!$O$1:$V$1, 0))","v":"Geo"},{"$f":"INDEX(Lookups!$O$1:$V$5, MATCH('Rotation Assembler'!X$38, Lookups!$O$1:$O$5, 0), MATCH('Rotation Assembler'!$A224, Lookups!$O$1:$V$1, 0))","v":"Geo"},{"$f":"INDEX(Lookups!$O$1:$V$5, MATCH('Rotation Assembler'!Y$38, Lookups!$O$1:$O$5, 0), MATCH('Rotation Assembler'!$A224, Lookups!$O$1:$V$1, 0))","v":"Phys"},{"$f":"INDEX(Lookups!$O$1:$V$5, MATCH('Rotation Assembler'!Z$38, Lookups!$O$1:$O$5, 0), MATCH('Rotation Assembler'!$A224, Lookups!$O$1:$V$1, 0))","v":"Phys"},{"$f":"INDEX(Lookups!$O$1:$V$5, MATCH('Rotation Assembler'!AA$38, Lookups!$O$1:$O$5, 0), MATCH('Rotation Assembler'!$A224, Lookups!$O$1:$V$1, 0))","v":"Phys"},{"$f":"INDEX(Lookups!$O$1:$V$5, MATCH('Rotation Assembler'!AB$38, Lookups!$O$1:$O$5, 0), MATCH('Rotation Assembler'!$A224, Lookups!$O$1:$V$1, 0))","v":"Pyro"},{"$f":"INDEX(Lookups!$O$1:$V$5, MATCH('Rotation Assembler'!AC$38, Lookups!$O$1:$O$5, 0), MATCH('Rotation Assembler'!$A224, Lookups!$O$1:$V$1, 0))","v":"Pyro"},{"$f":"INDEX(Lookups!$O$1:$V$5, MATCH('Rotation Assembler'!AD$38, Lookups!$O$1:$O$5, 0), MATCH('Rotation Assembler'!$A224, Lookups!$O$1:$V$1, 0))","v":"Phys"},{"$f":"INDEX(Lookups!$O$1:$V$5, MATCH('Rotation Assembler'!AE$38, Lookups!$O$1:$O$5, 0), MATCH('Rotation Assembler'!$A224, Lookups!$O$1:$V$1, 0))","v":"Pyro"},{"$f":"INDEX(Lookups!$O$1:$V$5, MATCH('Rotation Assembler'!AF$38, Lookups!$O$1:$O$5, 0), MATCH('Rotation Assembler'!$A224, Lookups!$O$1:$V$1, 0))","v":{"$error":"#N/A"}},{"$f":"INDEX(Lookups!$O$1:$V$5, MATCH('Rotation Assembler'!AG$38, Lookups!$O$1:$O$5, 0), MATCH('Rotation Assembler'!$A224, Lookups!$O$1:$V$1, 0))","v":{"$error":"#N/A"}},{"$f":"INDEX(Lookups!$O$1:$V$5, MATCH('Rotation Assembler'!AH$38, Lookups!$O$1:$O$5, 0), MATCH('Rotation Assembler'!$A224, Lookups!$O$1:$V$1, 0))","v":{"$error":"#N/A"}},{"$f":"INDEX(Lookups!$O$1:$V$5, MATCH('Rotation Assembler'!AI$38, Lookups!$O$1:$O$5, 0), MATCH('Rotation Assembler'!$A224, Lookups!$O$1:$V$1, 0))","v":{"$error":"#N/A"}},{"$f":"INDEX(Lookups!$O$1:$V$5, MATCH('Rotation Assembler'!AJ$38, Lookups!$O$1:$O$5, 0), MATCH('Rotation Assembler'!$A224, Lookups!$O$1:$V$1, 0))","v":{"$error":"#N/A"}},{"$f":"INDEX(Lookups!$O$1:$V$5, MATCH('Rotation Assembler'!AK$38, Lookups!$O$1:$O$5, 0), MATCH('Rotation Assembler'!$A224, Lookups!$O$1:$V$1, 0))","v":{"$error":"#N/A"}},{"$f":"INDEX(Lookups!$O$1:$V$5, MATCH('Rotation Assembler'!AL$38, Lookups!$O$1:$O$5, 0), MATCH('Rotation Assembler'!$A224, Lookups!$O$1:$V$1, 0))","v":{"$error":"#N/A"}},{"$f":"INDEX(Lookups!$O$1:$V$5, MATCH('Rotation Assembler'!AM$38, Lookups!$O$1:$O$5, 0), MATCH('Rotation Assembler'!$A224, Lookups!$O$1:$V$1, 0))","v":{"$error":"#N/A"}},{"$f":"INDEX(Lookups!$O$1:$V$5, MATCH('Rotation Assembler'!AN$38, Lookups!$O$1:$O$5, 0), MATCH('Rotation Assembler'!$A224, Lookups!$O$1:$V$1, 0))","v":{"$error":"#N/A"}},{"$f":"INDEX(Lookups!$O$1:$V$5, MATCH('Rotation Assembler'!AO$38, Lookups!$O$1:$O$5, 0), MATCH('Rotation Assembler'!$A224, Lookups!$O$1:$V$1, 0))","v":{"$error":"#N/A"}},{"$f":"INDEX(Lookups!$O$1:$V$5, MATCH('Rotation Assembler'!AP$38, Lookups!$O$1:$O$5, 0), MATCH('Rotation Assembler'!$A224, Lookups!$O$1:$V$1, 0))","v":{"$error":"#N/A"}},{"$f":"INDEX(Lookups!$O$1:$V$5, MATCH('Rotation Assembler'!AQ$38, Lookups!$O$1:$O$5, 0), MATCH('Rotation Assembler'!$A224, Lookups!$O$1:$V$1, 0))","v":{"$error":"#N/A"}},{"$f":"INDEX(Lookups!$O$1:$V$5, MATCH('Rotation Assembler'!AR$38, Lookups!$O$1:$O$5, 0), MATCH('Rotation Assembler'!$A224, Lookups!$O$1:$V$1, 0))","v":{"$error":"#N/A"}},{"$f":"INDEX(Lookups!$O$1:$V$5, MATCH('Rotation Assembler'!AS$38, Lookups!$O$1:$O$5, 0), MATCH('Rotation Assembler'!$A224, Lookups!$O$1:$V$1, 0))","v":{"$error":"#N/A"}},{"$f":"INDEX(Lookups!$O$1:$V$5, MATCH('Rotation Assembler'!AT$38, Lookups!$O$1:$O$5, 0), MATCH('Rotation Assembler'!$A224, Lookups!$O$1:$V$1, 0))","v":{"$error":"#N/A"}},{"$f":"INDEX(Lookups!$O$1:$V$5, MATCH('Rotation Assembler'!AU$38, Lookups!$O$1:$O$5, 0), MATCH('Rotation Assembler'!$A224, Lookups!$O$1:$V$1, 0))","v":{"$error":"#N/A"}},{"$f":"INDEX(Lookups!$O$1:$V$5, MATCH('Rotation Assembler'!AV$38, Lookups!$O$1:$O$5, 0), MATCH('Rotation Assembler'!$A224, Lookups!$O$1:$V$1, 0))","v":{"$error":"#N/A"}},{"$f":"INDEX(Lookups!$O$1:$V$5, MATCH('Rotation Assembler'!AW$38, Lookups!$O$1:$O$5, 0), MATCH('Rotation Assembler'!$A224, Lookups!$O$1:$V$1, 0))","v":{"$error":"#N/A"}},{"$f":"INDEX(Lookups!$O$1:$V$5, MATCH('Rotation Assembler'!AX$38, Lookups!$O$1:$O$5, 0), MATCH('Rotation Assembler'!$A224, Lookups!$O$1:$V$1, 0))","v":{"$error":"#N/A"}},{"$f":"INDEX(Lookups!$O$1:$V$5, MATCH('Rotation Assembler'!AY$38, Lookups!$O$1:$O$5, 0), MATCH('Rotation Assembler'!$A224, Lookups!$O$1:$V$1, 0))","v":{"$error":"#N/A"}},{"$f":"INDEX(Lookups!$O$1:$V$5, MATCH('Rotation Assembler'!AZ$38, Lookups!$O$1:$O$5, 0), MATCH('Rotation Assembler'!$A224, Lookups!$O$1:$V$1, 0))","v":{"$error":"#N/A"}},{"$f":"INDEX(Lookups!$O$1:$V$5, MATCH('Rotation Assembler'!BA$38, Lookups!$O$1:$O$5, 0), MATCH('Rotation Assembler'!$A224, Lookups!$O$1:$V$1, 0))","v":{"$error":"#N/A"}},{"$f":"INDEX(Lookups!$O$1:$V$5, MATCH('Rotation Assembler'!BB$38, Lookups!$O$1:$O$5, 0), MATCH('Rotation Assembler'!$A224, Lookups!$O$1:$V$1, 0))","v":{"$error":"#N/A"}},{"$f":"INDEX(Lookups!$O$1:$V$5, MATCH('Rotation Assembler'!BC$38, Lookups!$O$1:$O$5, 0), MATCH('Rotation Assembler'!$A224, Lookups!$O$1:$V$1, 0))","v":{"$error":"#N/A"}},{"$f":"INDEX(Lookups!$O$1:$V$5, MATCH('Rotation Assembler'!BD$38, Lookups!$O$1:$O$5, 0), MATCH('Rotation Assembler'!$A224, Lookups!$O$1:$V$1, 0))","v":{"$error":"#N/A"}},{"$f":"INDEX(Lookups!$O$1:$V$5, MATCH('Rotation Assembler'!BE$38, Lookups!$O$1:$O$5, 0), MATCH('Rotation Assembler'!$A224, Lookups!$O$1:$V$1, 0))","v":{"$error":"#N/A"}},{"$f":"INDEX(Lookups!$O$1:$V$5, MATCH('Rotation Assembler'!BF$38, Lookups!$O$1:$O$5, 0), MATCH('Rotation Assembler'!$A224, Lookups!$O$1:$V$1, 0))","v":{"$error":"#N/A"}}]
["Skill",{"$f":"INDEX(Lookups!$O$1:$V$5, MATCH('Rotation Assembler'!B$38, Lookups!$O$1:$O$5, 0), MATCH('Rotation Assembler'!$A225, Lookups!$O$1:$V$1, 0))","v":"Hydro"},{"$f":"INDEX(Lookups!$O$1:$V$5, MATCH('Rotation Assembler'!C$38, Lookups!$O$1:$O$5, 0), MATCH('Rotation Assembler'!$A225, Lookups!$O$1:$V$1, 0))","v":"Hydro"},{"$f":"INDEX(Lookups!$O$1:$V$5, MATCH('Rotation Assembler'!D$38, Lookups!$O$1:$O$5, 0), MATCH('Rotation Assembler'!$A225, Lookups!$O$1:$V$1, 0))","v":"Pyro"},{"$f":"INDEX(Lookups!$O$1:$V$5, MATCH('Rotation Assembler'!E$38, Lookups!$O$1:$O$5, 0), MATCH('Rotation Assembler'!$A225, Lookups!$O$1:$V$1, 0))","v":"Pyro"},{"$f":"INDEX(Lookups!$O$1:$V$5, MATCH('Rotation Assembler'!F$38, Lookups!$O$1:$O$5, 0), MATCH('Rotation Assembler'!$A225, Lookups!$O$1:$V$1, 0))","v":"Hydro"},{"$f":"INDEX(Lookups!$O$1:$V$5, MATCH('Rotation Assembler'!G$38, Lookups!$O$1:$O$5, 0), MATCH('Rotation Assembler'!$A225, Lookups!$O$1:$V$1, 0))","v":"Hydro"},{"$f":"INDEX(Lookups!$O$1:$V$5, MATCH('Rotation Assembler'!H$38, Lookups!$O$1:$O$5, 0), MATCH('Rotation Assembler'!$A225, Lookups!$O$1:$V$1, 0))","v":"Pyro"},{"$f":"INDEX(Lookups!$O$1:$V$5, MATCH('Rotation Assembler'!I$38, Lookups!$O$1:$O$5, 0), MATCH('Rotation Assembler'!$A225, Lookups!$O$1:$V$1, 0))","v":"Pyro"},{"$f":"INDEX(Lookups!$O$1:$V$5, MATCH('Rotation Assembler'!J$38, Lookups!$O$1:$O$5, 0), MATCH('Rotation Assembler'!$A225, Lookups!$O$1:$V$1, 0))","v":"Pyro"},{"$f":"INDEX(Lookups!$O$1:$V$5, MATCH('Rotation Assembler'!K$38, Lookups!$O$1:$O$5, 0), MATCH('Rotation Assembler'!$A225, Lookups!$O$1:$V$1, 0))","v":"Pyro"},{"$f":"INDEX(Lookups!$O$1:$V$5, MATCH('Rotation Assembler'!L$38, Lookups!$O$1:$O$5, 0), MATCH('Rotation Assembler'!$A225, Lookups!$O$1:$V$1, 0))","v":"Pyro"},{"$f":"INDEX(Lookups!$O$1:$V$5, MATCH('Rotation Assembler'!M$38, Lookups!$O$1:$O$5, 0), MATCH('Rotation Assembler'!$A225, Lookups!$O$1:$V$1, 0))","v":"Pyro"},{"$f":"INDEX(Lookups!$O$1:$V$5, MATCH('Rotation Assembler'!N$38, Lookups!$O$1:$O$5, 0), MATCH('Rotation Assembler'!$A225, Lookups!$O$1:$V$1, 0))","v":"Pyro"},{"$f":"INDEX(Lookups!$O$1:$V$5, MATCH('Rotation Assembler'!O$38, Lookups!$O$1:$O$5, 0), MATCH('Rotation Assembler'!$A225, Lookups!$O$1:$V$1, 0))","v":"Pyro"},{"$f":"INDEX(Lookups!$O$1:$V$5, MATCH('Rotation Assembler'!P$38, Lookups!$O$1:$O$5, 0), MATCH('Rotation Assembler'!$A225, Lookups!$O$1:$V$1, 0))","v":"Pyro"},{"$f":"INDEX(Lookups!$O$1:$V$5, MATCH('Rotation Assembler'!Q$38, Lookups!$O$1:$O$5, 0), MATCH('Rotation Assembler'!$A225, Lookups!$O$1:$V$1, 0))","v":"Pyro"},{"$f":"INDEX(Lookups!$O$1:$V$5, MATCH('Rotation Assembler'!R$38, Lookups!$O$1:$O$5, 0), MATCH('Rotation Assembler'!$A225, Lookups!$O$1:$V$1, 0))","v":"Pyro"},{"$f":"INDEX(Lookups!$O$1:$V$5, MATCH('Rotation Assembler'!S$38, Lookups!$O$1:$O$5, 0), MATCH('Rotation Assembler'!$A225, Lookups!$O$1:$V$1, 0))","v":"Pyro"},{"$f":"INDEX(Lookups!$O$1:$V$5, MATCH('Rotation Assembler'!T$38, Lookups!$O$1:$O$5, 0), MATCH('Rotation Assembler'!$A225, Lookups!$O$1:$V$1, 0))","v":"Pyro"},{"$f":"INDEX(Lookups!$O$1:$V$5, MATCH('Rotation Assembler'!U$38, Lookups!$O$1:$O$5, 0), MATCH('Rotation Assembler'!$A225, Lookups!$O$1:$V$1, 0))","v":"Pyro"},null,{"$f":"INDEX(Lookups!$O$1:$V$5, MATCH('Rotation Assembler'!W$38, Lookups!$O$1:$O$5, 0), MATCH('Rotation Assembler'!$A225, Lookups!$O$1:$V$1, 0))","v":"Pyro"},{"$f":"INDEX(Lookups!$O$1:$V$5, MATCH('Rotation Assembler'!X$38, Lookups!$O$1:$O$5, 0), MATCH('Rotation Assembler'!$A225, Lookups!$O$1:$V$1, 0))","v":"Pyro"},{"$f":"INDEX(Lookups!$O$1:$V$5, MATCH('Rotation Assembler'!Y$38, Lookups!$O$1:$O$5, 0), MATCH('Rotation Assembler'!$A225, Lookups!$O$1:$V$1, 0))","v":"Geo"},{"$f":"INDEX(Lookups!$O$1:$V$5, MATCH('Rotation Assembler'!Z$38, Lookups!$O$1:$O$5, 0), MATCH('Rotation Assembler'!$A225, Lookups!$O$1:$V$1, 0))","v":"Geo"},{"$f":"INDEX(Lookups!$O$1:$V$5, MATCH('Rotation Assembler'!AA$38, Lookups!$O$1:$O$5, 0), MATCH('Rotation Assembler'!$A225, Lookups!$O$1:$V$1, 0))","v":"Geo"},{"$f":"INDEX(Lookups!$O$1:$V$5, MATCH('Rotation Assembler'!AB$38, Lookups!$O$1:$O$5, 0), MATCH('Rotation Assembler'!$A225, Lookups!$O$1:$V$1, 0))","v":"Pyro"},{"$f":"INDEX(Lookups!$O$1:$V$5, MATCH('Rotation Assembler'!AC$38, Lookups!$O$1:$O$5, 0), MATCH('Rotation Assembler'!$A225, Lookups!$O$1:$V$1, 0))","v":"Pyro"},{"$f":"INDEX(Lookups!$O$1:$V$5, MATCH('Rotation Assembler'!AD$38, Lookups!$O$1:$O$5, 0), MATCH('Rotation Assembler'!$A225, Lookups!$O$1:$V$1, 0))","v":"Hydro"},{"$f":"INDEX(Lookups!$O$1:$V$5, MATCH('Rotation Assembler'!AE$38, Lookups!$O$1:$O$5, 0), MATCH('Rotation Assembler'!$A225, Lookups!$O$1:$V$1, 0))","v":"Pyro"},{"$f":"INDEX(Lookups!$O$1:$V$5, MATCH('Rotation Assembler'!AF$38, Lookups!$O$1:$O$5, 0), MATCH('Rotation Assembler'!$A225, Lookups!$O$1:$V$1, 0))","v":{"$error":"#N/A"}},{"$f":"INDEX(Lookups!$O$1:$V$5, MATCH('Rotation Assembler'!AG$38, Lookups!$O$1:$O$5, 0), MATCH('Rotation Assembler'!$A225, Lookups!$O$1:$V$1, 0))","v":{"$error":"#N/A"}},{"$f":"INDEX(Lookups!$O$1:$V$5, MATCH('Rotation Assembler'!AH$38, Lookups!$O$1:$O$5, 0), MATCH('Rotation Assembler'!$A225, Lookups!$O$1:$V$1, 0))","v":{"$error":"#N/A"}},{"$f":"INDEX(Lookups!$O$1:$V$5, MATCH('Rotation Assembler'!AI$38, Lookups!$O$1:$O$5, 0), MATCH('Rotation Assembler'!$A225, Lookups!$O$1:$V$1, 0))","v":{"$error":"#N/A"}},{"$f":"INDEX(Lookups!$O$1:$V$5, MATCH('Rotation Assembler'!AJ$38, Lookups!$O$1:$O$5, 0), MATCH('Rotation Assembler'!$A225, Lookups!$O$1:$V$1, 0))","v":{"$error":"#N/A"}},{"$f":"INDEX(Lookups!$O$1:$V$5, MATCH('Rotation Assembler'!AK$38, Lookups!$O$1:$O$5, 0), MATCH('Rotation Assembler'!$A225, Lookups!$O$1:$V$1, 0))","v":{"$error":"#N/A"}},{"$f":"INDEX(Lookups!$O$1:$V$5, MATCH('Rotation Assembler'!AL$38, Lookups!$O$1:$O$5, 0), MATCH('Rotation Assembler'!$A225, Lookups!$O$1:$V$1, 0))","v":{"$error":"#N/A"}},{"$f":"INDEX(Lookups!$O$1:$V$5, MATCH('Rotation Assembler'!AM$38, Lookups!$O$1:$O$5, 0), MATCH('Rotation Assembler'!$A225, Lookups!$O$1:$V$1, 0))","v":{"$error":"#N/A"}},{"$f":"INDEX(Lookups!$O$1:$V$5, MATCH('Rotation Assembler'!AN$38, Lookups!$O$1:$O$5, 0), MATCH('Rotation Assembler'!$A225, Lookups!$O$1:$V$1, 0))","v":{"$error":"#N/A"}},{"$f":"INDEX(Lookups!$O$1:$V$5, MATCH('Rotation Assembler'!AO$38, Lookups!$O$1:$O$5, 0), MATCH('Rotation Assembler'!$A225, Lookups!$O$1:$V$1, 0))","v":{"$error":"#N/A"}},{"$f":"INDEX(Lookups!$O$1:$V$5, MATCH('Rotation Assembler'!AP$38, Lookups!$O$1:$O$5, 0), MATCH('Rotation Assembler'!$A225, Lookups!$O$1:$V$1, 0))","v":{"$error":"#N/A"}},{"$f":"INDEX(Lookups!$O$1:$V$5, MATCH('Rotation Assembler'!AQ$38, Lookups!$O$1:$O$5, 0), MATCH('Rotation Assembler'!$A225, Lookups!$O$1:$V$1, 0))","v":{"$error":"#N/A"}},{"$f":"INDEX(Lookups!$O$1:$V$5, MATCH('Rotation Assembler'!AR$38, Lookups!$O$1:$O$5, 0), MATCH('Rotation Assembler'!$A225, Lookups!$O$1:$V$1, 0))","v":{"$error":"#N/A"}},{"$f":"INDEX(Lookups!$O$1:$V$5, MATCH('Rotation Assembler'!AS$38, Lookups!$O$1:$O$5, 0), MATCH('Rotation Assembler'!$A225, Lookups!$O$1:$V$1, 0))","v":{"$error":"#N/A"}},{"$f":"INDEX(Lookups!$O$1:$V$5, MATCH('Rotation Assembler'!AT$38, Lookups!$O$1:$O$5, 0), MATCH('Rotation Assembler'!$A225, Lookups!$O$1:$V$1, 0))","v":{"$error":"#N/A"}},{"$f":"INDEX(Lookups!$O$1:$V$5, MATCH('Rotation Assembler'!AU$38, Lookups!$O$1:$O$5, 0), MATCH('Rotation Assembler'!$A225, Lookups!$O$1:$V$1, 0))","v":{"$error":"#N/A"}},{"$f":"INDEX(Lookups!$O$1:$V$5, MATCH('Rotation Assembler'!AV$38, Lookups!$O$1:$O$5, 0), MATCH('Rotation Assembler'!$A225, Lookups!$O$1:$V$1, 0))","v":{"$error":"#N/A"}},{"$f":"INDEX(Lookups!$O$1:$V$5, MATCH('Rotation Assembler'!AW$38, Lookups!$O$1:$O$5, 0), MATCH('Rotation Assembler'!$A225, Lookups!$O$1:$V$1, 0))","v":{"$error":"#N/A"}},{"$f":"INDEX(Lookups!$O$1:$V$5, MATCH('Rotation Assembler'!AX$38, Lookups!$O$1:$O$5, 0), MATCH('Rotation Assembler'!$A225, Lookups!$O$1:$V$1, 0))","v":{"$error":"#N/A"}},{"$f":"INDEX(Lookups!$O$1:$V$5, MATCH('Rotation Assembler'!AY$38, Lookups!$O$1:$O$5, 0), MATCH('Rotation Assembler'!$A225, Lookups!$O$1:$V$1, 0))","v":{"$error":"#N/A"}},{"$f":"INDEX(Lookups!$O$1:$V$5, MATCH('Rotation Assembler'!AZ$38, Lookups!$O$1:$O$5, 0), MATCH('Rotation Assembler'!$A225, Lookups!$O$1:$V$1, 0))","v":{"$error":"#N/A"}},{"$f":"INDEX(Lookups!$O$1:$V$5, MATCH('Rotation Assembler'!BA$38, Lookups!$O$1:$O$5, 0), MATCH('Rotation Assembler'!$A225, Lookups!$O$1:$V$1, 0))","v":{"$error":"#N/A"}},{"$f":"INDEX(Lookups!$O$1:$V$5, MATCH('Rotation Assembler'!BB$38, Lookups!$O$1:$O$5, 0), MATCH('Rotation Assembler'!$A225, Lookups!$O$1:$V$1, 0))","v":{"$error":"#N/A"}},{"$f":"INDEX(Lookups!$O$1:$V$5, MATCH('Rotation Assembler'!BC$38, Lookups!$O$1:$O$5, 0), MATCH('Rotation Assembler'!$A225, Lookups!$O$1:$V$1, 0))","v":{"$error":"#N/A"}},{"$f":"INDEX(Lookups!$O$1:$V$5, MATCH('Rotation Assembler'!BD$38, Lookups!$O$1:$O$5, 0), MATCH('Rotation Assembler'!$A225, Lookups!$O$1:$V$1, 0))","v":{"$error":"#N/A"}},{"$f":"INDEX(Lookups!$O$1:$V$5, MATCH('Rotation Assembler'!BE$38, Lookups!$O$1:$O$5, 0), MATCH('Rotation Assembler'!$A225, Lookups!$O$1:$V$1, 0))","v":{"$error":"#N/A"}},{"$f":"INDEX(Lookups!$O$1:$V$5, MATCH('Rotation Assembler'!BF$38, Lookups!$O$1:$O$5, 0), MATCH('Rotation Assembler'!$A225, Lookups!$O$1:$V$1, 0))","v":{"$error":"#N/A"}}]
["Skill Echo",{"$f":"INDEX(Lookups!$O$1:$V$5, MATCH('Rotation Assembler'!B$38, Lookups!$O$1:$O$5, 0), MATCH('Rotation Assembler'!$A226, Lookups!$O$1:$V$1, 0))","v":"Hydro"},{"$f":"INDEX(Lookups!$O$1:$V$5, MATCH('Rotation Assembler'!C$38, Lookups!$O$1:$O$5, 0), MATCH('Rotation Assembler'!$A226, Lookups!$O$1:$V$1, 0))","v":"Hydro"},{"$f":"INDEX(Lookups!$O$1:$V$5, MATCH('Rotation Assembler'!D$38, Lookups!$O$1:$O$5, 0), MATCH('Rotation Assembler'!$A226, Lookups!$O$1:$V$1, 0))","v":"Pyro"},{"$f":"INDEX(Lookups!$O$1:$V$5, MATCH('Rotation Assembler'!E$38, Lookups!$O$1:$O$5, 0), MATCH('Rotation Assembler'!$A226, Lookups!$O$1:$V$1, 0))","v":"Pyro"},{"$f":"INDEX(Lookups!$O$1:$V$5, MATCH('Rotation Assembler'!F$38, Lookups!$O$1:$O$5, 0), MATCH('Rotation Assembler'!$A226, Lookups!$O$1:$V$1, 0))","v":"Hydro"},{"$f":"INDEX(Lookups!$O$1:$V$5, MATCH('Rotation Assembler'!G$38, Lookups!$O$1:$O$5, 0), MATCH('Rotation Assembler'!$A226, Lookups!$O$1:$V$1, 0))","v":"Hydro"},{"$f":"INDEX(Lookups!$O$1:$V$5, MATCH('Rotation Assembler'!H$38, Lookups!$O$1:$O$5, 0), MATCH('Rotation Assembler'!$A226, Lookups!$O$1:$V$1, 0))","v":"Pyro"},{"$f":"INDEX(Lookups!$O$1:$V$5, MATCH('Rotation Assembler'!I$38, Lookups!$O$1:$O$5, 0), MATCH('Rotation Assembler'!$A226, Lookups!$O$1:$V$1, 0))","v":"Pyro"},{"$f":"INDEX(Lookups!$O$1:$V$5, MATCH('Rotation Assembler'!J$38, Lookups!$O$1:$O$5, 0), MATCH('Rotation Assembler'!$A226, Lookups!$O$1:$V$1, 0))","v":"Pyro"},{"$f":"INDEX(Lookups!$O$1:$V$5, MATCH('Rotation Assembler'!K$38, Lookups!$O$1:$O$5, 0), MATCH('Rotation Assembler'!$A226, Lookups!$O$1:$V$1, 0))","v":"Pyro"},{"$f":"INDEX(Lookups!$O$1:$V$5, MATCH('Rotation Assembler'!L$38, Lookups!$O$1:$O$5, 0), MATCH('Rotation Assembler'!$A226, Lookups!$O$1:$V$1, 0))","v":"Pyro"},{"$f":"INDEX(Lookups!$O$1:$V$5, MATCH('Rotation Assembler'!M$38, Lookups!$O$1:$O$5, 0), MATCH('Rotation Assembler'!$A226, Lookups!$O$1:$V$1, 0))","v":"Pyro"},{"$f":"INDEX(Lookups!$O$1:$V$5, MATCH('Rotation Assembler'!N$38, Lookups!$O$1:$O$5, 0), MATCH('Rotation Assembler'!$A226, Lookups!$O$1:$V$1, 0))","v":"Pyro"},{"$f":"INDEX(Lookups!$O$1:$V$5, MATCH('Rotation Assembler'!O$38, Lookups!$O$1:$O$5, 0), MATCH('Rotation Assembler'!$A226, Lookups!$O$1:$V$1, 0))","v":"Pyro"},{"$f":"INDEX(Lookups!$O$1:$V$5, MATCH('Rotation Assembler'!P$38, Lookups!$O$1:$O$5, 0), MATCH('Rotation Assembler'!$A226, Lookups!$O$1:$V$1, 0))","v":"Pyro"},{"$f":"INDEX(Lookups!$O$1:$V$5, MATCH('Rotation Assembler'!Q$38, Lookups!$O$1:$O$5, 0), MATCH('Rotation Assembler'!$A226, Lookups!$O$1:$V$1, 0))","v":"Pyro"},{"$f":"INDEX(Lookups!$O$1:$V$5, MATCH('Rotation Assembler'!R$38, Lookups!$O$1:$O$5, 0), MATCH('Rotation Assembler'!$A226, Lookups!$O$1:$V$1, 0))","v":"Pyro"},{"$f":"INDEX(Lookups!$O$1:$V$5, MATCH('Rotation Assembler'!S$38, Lookups!$O$1:$O$5, 0), MATCH('Rotation Assembler'!$A226, Lookups!$O$1:$V$1, 0))","v":"Pyro"},{"$f":"INDEX(Lookups!$O$1:$V$5, MATCH('Rotation Assembler'!T$38, Lookups!$O$1:$O$5, 0), MATCH('Rotation Assembler'!$A226, Lookups!$O$1:$V$1, 0))","v":"Pyro"},{"$f":"INDEX(Lookups!$O$1:$V$5, MATCH('Rotation Assembler'!U$38, Lookups!$O$1:$O$5, 0), MATCH('Rotation Assembler'!$A226, Lookups!$O$1:$V$1, 0))","v":"Pyro"},null,{"$f":"INDEX(Lookups!$O$1:$V$5, MATCH('Rotation Assembler'!W$38, Lookups!$O$1:$O$5, 0), MATCH('Rotation Assembler'!$A226, Lookups!$O$1:$V$1, 0))","v":"Pyro"},{"$f":"INDEX(Lookups!$O$1:$V$5, MATCH('Rotation Assembler'!X$38, Lookups!$O$1:$O$5, 0), MATCH('Rotation Assembler'!$A226, Lookups!$O$1:$V$1, 0))","v":"Pyro"},{"$f":"INDEX(Lookups!$O$1:$V$5, MATCH('Rotation Assembler'!Y$38, Lookups!$O$1:$O$5, 0), MATCH('Rotation Assembler'!$A226, Lookups!$O$1:$V$1, 0))","v":"Geo"},{"$f":"INDEX(Lookups!$O$1:$V$5, MATCH('Rotation Assembler'!Z$38, Lookups!$O$1:$O$5, 0), MATCH('Rotation Assembler'!$A226, Lookups!$O$1:$V$1, 0))","v":"Geo"},{"$f":"INDEX(Lookups!$O$1:$V$5, MATCH('Rotation Assembler'!AA$38, Lookups!$O$1:$O$5, 0), MATCH('Rotation Assembler'!$A226, Lookups!$O$1:$V$1, 0))","v":"Geo"},{"$f":"INDEX(Lookups!$O$1:$V$5, MATCH('Rotation Assembler'!AB$38, Lookups!$O$1:$O$5, 0), MATCH('Rotation Assembler'!$A226, Lookups!$O$1:$V$1, 0))","v":"Pyro"},{"$f":"INDEX(Lookups!$O$1:$V$5, MATCH('Rotation Assembler'!AC$38, Lookups!$O$1:$O$5, 0), MATCH('Rotation Assembler'!$A226, Lookups!$O$1:$V$1, 0))","v":"Pyro"},{"$f":"INDEX(Lookups!$O$1:$V$5, MATCH('Rotation Assembler'!AD$38, Lookups!$O$1:$O$5, 0), MATCH('Rotation Assembler'!$A226, Lookups!$O$1:$V$1, 0))","v":"Hydro"},{"$f":"INDEX(Lookups!$O$1:$V$5, MATCH('Rotation Assembler'!AE$38, Lookups!$O$1:$O$5, 0), MATCH('Rotation Assembler'!$A226, Lookups!$O$1:$V$1, 0))","v":"Pyro"},{"$f":"INDEX(Lookups!$O$1:$V$5, MATCH('Rotation Assembler'!AF$38, Lookups!$O$1:$O$5, 0), MATCH('Rotation Assembler'!$A226, Lookups!$O$1:$V$1, 0))","v":{"$error":"#N/A"}},{"$f":"INDEX(Lookups!$O$1:$V$5, MATCH('Rotation Assembler'!AG$38, Lookups!$O$1:$O$5, 0), MATCH('Rotation Assembler'!$A226, Lookups!$O$1:$V$1, 0))","v":{"$error":"#N/A"}},{"$f":"INDEX(Lookups!$O$1:$V$5, MATCH('Rotation Assembler'!AH$38, Lookups!$O$1:$O$5, 0), MATCH('Rotation Assembler'!$A226, Lookups!$O$1:$V$1, 0))","v":{"$error":"#N/A"}},{"$f":"INDEX(Lookups!$O$1:$V$5, MATCH('Rotation Assembler'!AI$38, Lookups!$O$1:$O$5, 0), MATCH('Rotation Assembler'!$A226, Lookups!$O$1:$V$1, 0))","v":{"$error":"#N/A"}},{"$f":"INDEX(Lookups!$O$1:$V$5, MATCH('Rotation Assembler'!AJ$38, Lookups!$O$1:$O$5, 0), MATCH('Rotation Assembler'!$A226, Lookups!$O$1:$V$1, 0))","v":{"$error":"#N/A"}},{"$f":"INDEX(Lookups!$O$1:$V$5, MATCH('Rotation Assembler'!AK$38, Lookups!$O$1:$O$5, 0), MATCH('Rotation Assembler'!$A226, Lookups!$O$1:$V$1, 0))","v":{"$error":"#N/A"}},{"$f":"INDEX(Lookups!$O$1:$V$5, MATCH('Rotation Assembler'!AL$38, Lookups!$O$1:$O$5, 0), MATCH('Rotation Assembler'!$A226, Lookups!$O$1:$V$1, 0))","v":{"$error":"#N/A"}},{"$f":"INDEX(Lookups!$O$1:$V$5, MATCH('Rotation Assembler'!AM$38, Lookups!$O$1:$O$5, 0), MATCH('Rotation Assembler'!$A226, Lookups!$O$1:$V$1, 0))","v":{"$error":"#N/A"}},{"$f":"INDEX(Lookups!$O$1:$V$5, MATCH('Rotation Assembler'!AN$38, Lookups!$O$1:$O$5, 0), MATCH('Rotation Assembler'!$A226, Lookups!$O$1:$V$1, 0))","v":{"$error":"#N/A"}},{"$f":"INDEX(Lookups!$O$1:$V$5, MATCH('Rotation Assembler'!AO$38, Lookups!$O$1:$O$5, 0), MATCH('Rotation Assembler'!$A226, Lookups!$O$1:$V$1, 0))","v":{"$error":"#N/A"}},{"$f":"INDEX(Lookups!$O$1:$V$5, MATCH('Rotation Assembler'!AP$38, Lookups!$O$1:$O$5, 0), MATCH('Rotation Assembler'!$A226, Lookups!$O$1:$V$1, 0))","v":{"$error":"#N/A"}},{"$f":"INDEX(Lookups!$O$1:$V$5, MATCH('Rotation Assembler'!AQ$38, Lookups!$O$1:$O$5, 0), MATCH('Rotation Assembler'!$A226, Lookups!$O$1:$V$1, 0))","v":{"$error":"#N/A"}},{"$f":"INDEX(Lookups!$O$1:$V$5, MATCH('Rotation Assembler'!AR$38, Lookups!$O$1:$O$5, 0), MATCH('Rotation Assembler'!$A226, Lookups!$O$1:$V$1, 0))","v":{"$error":"#N/A"}},{"$f":"INDEX(Lookups!$O$1:$V$5, MATCH('Rotation Assembler'!AS$38, Lookups!$O$1:$O$5, 0), MATCH('Rotation Assembler'!$A226, Lookups!$O$1:$V$1, 0))","v":{"$error":"#N/A"}},{"$f":"INDEX(Lookups!$O$1:$V$5, MATCH('Rotation Assembler'!AT$38, Lookups!$O$1:$O$5, 0), MATCH('Rotation Assembler'!$A226, Lookups!$O$1:$V$1, 0))","v":{"$error":"#N/A"}},{"$f":"INDEX(Lookups!$O$1:$V$5, MATCH('Rotation Assembler'!AU$38, Lookups!$O$1:$O$5, 0), MATCH('Rotation Assembler'!$A226, Lookups!$O$1:$V$1, 0))","v":{"$error":"#N/A"}},{"$f":"INDEX(Lookups!$O$1:$V$5, MATCH('Rotation Assembler'!AV$38, Lookups!$O$1:$O$5, 0), MATCH('Rotation Assembler'!$A226, Lookups!$O$1:$V$1, 0))","v":{"$error":"#N/A"}},{"$f":"INDEX(Lookups!$O$1:$V$5, MATCH('Rotation Assembler'!AW$38, Lookups!$O$1:$O$5, 0), MATCH('Rotation Assembler'!$A226, Lookups!$O$1:$V$1, 0))","v":{"$error":"#N/A"}},{"$f":"INDEX(Lookups!$O$1:$V$5, MATCH('Rotation Assembler'!AX$38, Lookups!$O$1:$O$5, 0), MATCH('Rotation Assembler'!$A226, Lookups!$O$1:$V$1, 0))","v":{"$error":"#N/A"}},{"$f":"INDEX(Lookups!$O$1:$V$5, MATCH('Rotation Assembler'!AY$38, Lookups!$O$1:$O$5, 0), MATCH('Rotation Assembler'!$A226, Lookups!$O$1:$V$1, 0))","v":{"$error":"#N/A"}},{"$f":"INDEX(Lookups!$O$1:$V$5, MATCH('Rotation Assembler'!AZ$38, Lookups!$O$1:$O$5, 0), MATCH('Rotation Assembler'!$A226, Lookups!$O$1:$V$1, 0))","v":{"$error":"#N/A"}},{"$f":"INDEX(Lookups!$O$1:$V$5, MATCH('Rotation Assembler'!BA$38, Lookups!$O$1:$O$5, 0), MATCH('Rotation Assembler'!$A226, Lookups!$O$1:$V$1, 0))","v":{"$error":"#N/A"}},{"$f":"INDEX(Lookups!$O$1:$V$5, MATCH('Rotation Assembler'!BB$38, Lookups!$O$1:$O$5, 0), MATCH('Rotation Assembler'!$A226, Lookups!$O$1:$V$1, 0))","v":{"$error":"#N/A"}},{"$f":"INDEX(Lookups!$O$1:$V$5, MATCH('Rotation Assembler'!BC$38, Lookups!$O$1:$O$5, 0), MATCH('Rotation Assembler'!$A226, Lookups!$O$1:$V$1, 0))","v":{"$error":"#N/A"}},{"$f":"INDEX(Lookups!$O$1:$V$5, MATCH('Rotation Assembler'!BD$38, Lookups!$O$1:$O$5, 0), MATCH('Rotation Assembler'!$A226, Lookups!$O$1:$V$1, 0))","v":{"$error":"#N/A"}},{"$f":"INDEX(Lookups!$O$1:$V$5, MATCH('Rotation Assembler'!BE$38, Lookups!$O$1:$O$5, 0), MATCH('Rotation Assembler'!$A226, Lookups!$O$1:$V$1, 0))","v":{"$error":"#N/A"}},{"$f":"INDEX(Lookups!$O$1:$V$5, MATCH('Rotation Assembler'!BF$38, Lookups!$O$1:$O$5, 0), MATCH('Rotation Assembler'!$A226, Lookups!$O$1:$V$1, 0))","v":{"$error":"#N/A"}}]
["Burst",{"$f":"INDEX(Lookups!$O$1:$V$5, MATCH('Rotation Assembler'!B$38, Lookups!$O$1:$O$5, 0), MATCH('Rotation Assembler'!$A227, Lookups!$O$1:$V$1, 0))","v":"Hydro"},{"$f":"INDEX(Lookups!$O$1:$V$5, MATCH('Rotation Assembler'!C$38, Lookups!$O$1:$O$5, 0), MATCH('Rotation Assembler'!$A227, Lookups!$O$1:$V$1, 0))","v":"Hydro"},{"$f":"INDEX(Lookups!$O$1:$V$5, MATCH('Rotation Assembler'!D$38, Lookups!$O$1:$O$5, 0), MATCH('Rotation Assembler'!$A227, Lookups!$O$1:$V$1, 0))","v":"Pyro"},{"$f":"INDEX(Lookups!$O$1:$V$5, MATCH('Rotation Assembler'!E$38, Lookups!$O$1:$O$5, 0), MATCH('Rotation Assembler'!$A227, Lookups!$O$1:$V$1, 0))","v":"Pyro"},{"$f":"INDEX(Lookups!$O$1:$V$5, MATCH('Rotation Assembler'!F$38, Lookups!$O$1:$O$5, 0), MATCH('Rotation Assembler'!$A227, Lookups!$O$1:$V$1, 0))","v":"Hydro"},{"$f":"INDEX(Lookups!$O$1:$V$5, MATCH('Rotation Assembler'!G$38, Lookups!$O$1:$O$5, 0), MATCH('Rotation Assembler'!$A227, Lookups!$O$1:$V$1, 0))","v":"Hydro"},{"$f":"INDEX(Lookups!$O$1:$V$5, MATCH('Rotation Assembler'!H$38, Lookups!$O$1:$O$5, 0), MATCH('Rotation Assembler'!$A227, Lookups!$O$1:$V$1, 0))","v":"Pyro"},{"$f":"INDEX(Lookups!$O$1:$V$5, MATCH('Rotation Assembler'!I$38, Lookups!$O$1:$O$5, 0), MATCH('Rotation Assembler'!$A227, Lookups!$O$1:$V$1, 0))","v":"Pyro"},{"$f":"INDEX(Lookups!$O$1:$V$5, MATCH('Rotation Assembler'!J$38, Lookups!$O$1:$O$5, 0), MATCH('Rotation Assembler'!$A227, Lookups!$O$1:$V$1, 0))","v":"Pyro"},{"$f":"INDEX(Lookups!$O$1:$V$5, MATCH('Rotation Assembler'!K$38, Lookups!$O$1:$O$5, 0), MATCH('Rotation Assembler'!$A227, Lookups!$O$1:$V$1, 0))","v":"Pyro"},{"$f":"INDEX(Lookups!$O$1:$V$5, MATCH('Rotation Assembler'!L$38, Lookups!$O$1:$O$5, 0), MATCH('Rotation Assembler'!$A227, Lookups!$O$1:$V$1, 0))","v":"Pyro"},{"$f":"INDEX(Lookups!$O$1:$V$5, MATCH('Rotation Assembler'!M$38, Lookups!$O$1:$O$5, 0), MATCH('Rotation Assembler'!$A227, Lookups!$O$1:$V$1, 0))","v":"Pyro"},{"$f":"INDEX(Lookups!$O$1:$V$5, MATCH('Rotation Assembler'!N$38, Lookups!$O$1:$O$5, 0), MATCH('Rotation Assembler'!$A227, Lookups!$O$1:$V$1, 0))","v":"Pyro"},{"$f":"INDEX(Lookups!$O$1:$V$5, MATCH('Rotation Assembler'!O$38, Lookups!$O$1:$O$5, 0), MATCH('Rotation Assembler'!$A227, Lookups!$O$1:$V$1, 0))","v":"Pyro"},{"$f":"INDEX(Lookups!$O$1:$V$5, MATCH('Rotation Assembler'!P$38, Lookups!$O$1:$O$5, 0), MATCH('Rotation Assembler'!$A227, Lookups!$O$1:$V$1, 0))","v":"Pyro"},{"$f":"INDEX(Lookups!$O$1:$V$5, MATCH('Rotation Assembler'!Q$38, Lookups!$O$1:$O$5, 0), MATCH('Rotation Assembler'!$A227, Lookups!$O$1:$V$1, 0))","v":"Pyro"},{"$f":"INDEX(Lookups!$O$1:$V$5, MATCH('Rotation Assembler'!R$38, Lookups!$O$1:$O$5, 0), MATCH('Rotation Assembler'!$A227, Lookups!$O$1:$V$1, 0))","v":"Pyro"},{"$f":"INDEX(Lookups!$O$1:$V$5, MATCH('Rotation Assembler'!S$38, Lookups!$O$1:$O$5, 0), MATCH('Rotation Assembler'!$A227, Lookups!$O$1:$V$1, 0))","v":"Pyro"},{"$f":"INDEX(Lookups!$O$1:$V$5, MATCH('Rotation Assembler'!T$38, Lookups!$O$1:$O$5, 0), MATCH('Rotation Assembler'!$A227, Lookups!$O$1:$V$1, 0))","v":"Pyro"},{"$f":"INDEX(Lookups!$O$1:$V$5, MATCH('Rotation Assembler'!U$38, Lookups!$O$1:$O$5, 0), MATCH('Rotation Assembler'!$A227, Lookups!$O$1:$V$1, 0))","v":"Pyro"},null,{"$f":"INDEX(Lookups!$O$1:$V$5, MATCH('Rotation Assembler'!W$38, Lookups!$O$1:$O$5, 0), MATCH('Rotation Assembler'!$A227, Lookups!$O$1:$V$1, 0))","v":"Pyro"},{"$f":"INDEX(Lookups!$O$1:$V$5, MATCH('Rotation Assembler'!X$38, Lookups!$O$1:$O$5, 0), MATCH('Rotation Assembler'!$A227, Lookups!$O$1:$V$1, 0))","v":"Pyro"},{"$f":"INDEX(Lookups!$O$1:$V$5, MATCH('Rotation Assembler'!Y$38, Lookups!$O$1:$O$5, 0), MATCH('Rotation Assembler'!$A227, Lookups!$O$1:$V$1, 0))","v":"Geo"},{"$f":"INDEX(Lookups!$O$1:$V$5, MATCH('Rotation Assembler'!Z$38, Lookups!$O$1:$O$5, 0), MATCH('Rotation Assembler'!$A227, Lookups!$O$1:$V$1, 0))","v":"Geo"},{"$f":"INDEX(Lookups!$O$1:$V$5, MATCH('Rotation Assembler'!AA$38, Lookups!$O$1:$O$5, 0), MATCH('Rotation Assembler'!$A227, Lookups!$O$1:$V$1, 0))","v":"Geo"},{"$f":"INDEX(Lookups!$O$1:$V$5, MATCH('Rotation Assembler'!AB$38, Lookups!$O$1:$O$5, 0), MATCH('Rotation Assembler'!$A227, Lookups!$O$1:$V$1, 0))","v":"Pyro"},{"$f":"INDEX(Lookups!$O$1:$V$5, MATCH('Rotation Assembler'!AC$38, Lookups!$O$1:$O$5, 0), MATCH('Rotation Assembler'!$A227, Lookups!$O$1:$V$1, 0))","v":"Pyro"},{"$f":"INDEX(Lookups!$O$1:$V$5, MATCH('Rotation Assembler'!AD$38, Lookups!$O$1:$O$5, 0), MATCH('Rotation Assembler'!$A227, Lookups!$O$1:$V$1, 0))","v":"Hydro"},{"$f":"INDEX(Lookups!$O$1:$V$5, MATCH('Rotation Assembler'!AE$38, Lookups!$O$1:$O$5, 0), MATCH('Rotation Assembler'!$A227, Lookups!$O$1:$V$1, 0))","v":"Pyro"},{"$f":"INDEX(Lookups!$O$1:$V$5, MATCH('Rotation Assembler'!AF$38, Lookups!$O$1:$O$5, 0), MATCH('Rotation Assembler'!$A227, Lookups!$O$1:$V$1, 0))","v":{"$error":"#N/A"}},{"$f":"INDEX(Lookups!$O$1:$V$5, MATCH('Rotation Assembler'!AG$38, Lookups!$O$1:$O$5, 0), MATCH('Rotation Assembler'!$A227, Lookups!$O$1:$V$1, 0))","v":{"$error":"#N/A"}},{"$f":"INDEX(Lookups!$O$1:$V$5, MATCH('Rotation Assembler'!AH$38, Lookups!$O$1:$O$5, 0), MATCH('Rotation Assembler'!$A227, Lookups!$O$1:$V$1, 0))","v":{"$error":"#N/A"}},{"$f":"INDEX(Lookups!$O$1:$V$5, MATCH('Rotation Assembler'!AI$38, Lookups!$O$1:$O$5, 0), MATCH('Rotation Assembler'!$A227, Lookups!$O$1:$V$1, 0))","v":{"$error":"#N/A"}},{"$f":"INDEX(Lookups!$O$1:$V$5, MATCH('Rotation Assembler'!AJ$38, Lookups!$O$1:$O$5, 0), MATCH('Rotation Assembler'!$A227, Lookups!$O$1:$V$1, 0))","v":{"$error":"#N/A"}},{"$f":"INDEX(Lookups!$O$1:$V$5, MATCH('Rotation Assembler'!AK$38, Lookups!$O$1:$O$5, 0), MATCH('Rotation Assembler'!$A227, Lookups!$O$1:$V$1, 0))","v":{"$error":"#N/A"}},{"$f":"INDEX(Lookups!$O$1:$V$5, MATCH('Rotation Assembler'!AL$38, Lookups!$O$1:$O$5, 0), MATCH('Rotation Assembler'!$A227, Lookups!$O$1:$V$1, 0))","v":{"$error":"#N/A"}},{"$f":"INDEX(Lookups!$O$1:$V$5, MATCH('Rotation Assembler'!AM$38, Lookups!$O$1:$O$5, 0), MATCH('Rotation Assembler'!$A227, Lookups!$O$1:$V$1, 0))","v":{"$error":"#N/A"}},{"$f":"INDEX(Lookups!$O$1:$V$5, MATCH('Rotation Assembler'!AN$38, Lookups!$O$1:$O$5, 0), MATCH('Rotation Assembler'!$A227, Lookups!$O$1:$V$1, 0))","v":{"$error":"#N/A"}},{"$f":"INDEX(Lookups!$O$1:$V$5, MATCH('Rotation Assembler'!AO$38, Lookups!$O$1:$O$5, 0), MATCH('Rotation Assembler'!$A227, Lookups!$O$1:$V$1, 0))","v":{"$error":"#N/A"}},{"$f":"INDEX(Lookups!$O$1:$V$5, MATCH('Rotation Assembler'!AP$38, Lookups!$O$1:$O$5, 0), MATCH('Rotation Assembler'!$A227, Lookups!$O$1:$V$1, 0))","v":{"$error":"#N/A"}},{"$f":"INDEX(Lookups!$O$1:$V$5, MATCH('Rotation Assembler'!AQ$38, Lookups!$O$1:$O$5, 0), MATCH('Rotation Assembler'!$A227, Lookups!$O$1:$V$1, 0))","v":{"$error":"#N/A"}},{"$f":"INDEX(Lookups!$O$1:$V$5, MATCH('Rotation Assembler'!AR$38, Lookups!$O$1:$O$5, 0), MATCH('Rotation Assembler'!$A227, Lookups!$O$1:$V$1, 0))","v":{"$error":"#N/A"}},{"$f":"INDEX(Lookups!$O$1:$V$5, MATCH('Rotation Assembler'!AS$38, Lookups!$O$1:$O$5, 0), MATCH('Rotation Assembler'!$A227, Lookups!$O$1:$V$1, 0))","v":{"$error":"#N/A"}},{"$f":"INDEX(Lookups!$O$1:$V$5, MATCH('Rotation Assembler'!AT$38, Lookups!$O$1:$O$5, 0), MATCH('Rotation Assembler'!$A227, Lookups!$O$1:$V$1, 0))","v":{"$error":"#N/A"}},{"$f":"INDEX(Lookups!$O$1:$V$5, MATCH('Rotation Assembler'!AU$38, Lookups!$O$1:$O$5, 0), MATCH('Rotation Assembler'!$A227, Lookups!$O$1:$V$1, 0))","v":{"$error":"#N/A"}},{"$f":"INDEX(Lookups!$O$1:$V$5, MATCH('Rotation Assembler'!AV$38, Lookups!$O$1:$O$5, 0), MATCH('Rotation Assembler'!$A227, Lookups!$O$1:$V$1, 0))","v":{"$error":"#N/A"}},{"$f":"INDEX(Lookups!$O$1:$V$5, MATCH('Rotation Assembler'!AW$38, Lookups!$O$1:$O$5, 0), MATCH('Rotation Assembler'!$A227, Lookups!$O$1:$V$1, 0))","v":{"$error":"#N/A"}},{"$f":"INDEX(Lookups!$O$1:$V$5, MATCH('Rotation Assembler'!AX$38, Lookups!$O$1:$O$5, 0), MATCH('Rotation Assembler'!$A227, Lookups!$O$1:$V$1, 0))","v":{"$error":"#N/A"}},{"$f":"INDEX(Lookups!$O$1:$V$5, MATCH('Rotation Assembler'!AY$38, Lookups!$O$1:$O$5, 0), MATCH('Rotation Assembler'!$A227, Lookups!$O$1:$V$1, 0))","v":{"$error":"#N/A"}},{"$f":"INDEX(Lookups!$O$1:$V$5, MATCH('Rotation Assembler'!AZ$38, Lookups!$O$1:$O$5, 0), MATCH('Rotation Assembler'!$A227, Lookups!$O$1:$V$1, 0))","v":{"$error":"#N/A"}},{"$f":"INDEX(Lookups!$O$1:$V$5, MATCH('Rotation Assembler'!BA$38, Lookups!$O$1:$O$5, 0), MATCH('Rotation Assembler'!$A227, Lookups!$O$1:$V$1, 0))","v":{"$error":"#N/A"}},{"$f":"INDEX(Lookups!$O$1:$V$5, MATCH('Rotation Assembler'!BB$38, Lookups!$O$1:$O$5, 0), MATCH('Rotation Assembler'!$A227, Lookups!$O$1:$V$1, 0))","v":{"$error":"#N/A"}},{"$f":"INDEX(Lookups!$O$1:$V$5, MATCH('Rotation Assembler'!BC$38, Lookups!$O$1:$O$5, 0), MATCH('Rotation Assembler'!$A227, Lookups!$O$1:$V$1, 0))","v":{"$error":"#N/A"}},{"$f":"INDEX(Lookups!$O$1:$V$5, MATCH('Rotation Assembler'!BD$38, Lookups!$O$1:$O$5, 0), MATCH('Rotation Assembler'!$A227, Lookups!$O$1:$V$1, 0))","v":{"$error":"#N/A"}},{"$f":"INDEX(Lookups!$O$1:$V$5, MATCH('Rotation Assembler'!BE$38, Lookups!$O$1:$O$5, 0), MATCH('Rotation Assembler'!$A227, Lookups!$O$1:$V$1, 0))","v":{"$error":"#N/A"}},{"$f":"INDEX(Lookups!$O$1:$V$5, MATCH('Rotation Assembler'!BF$38, Lookups!$O$1:$O$5, 0), MATCH('Rotation Assembler'!$A227, Lookups!$O$1:$V$1, 0))","v":{"$error":"#N/A"}}]
["Burst Echo",{"$f":"INDEX(Lookups!$O$1:$V$5, MATCH('Rotation Assembler'!B$38, Lookups!$O$1:$O$5, 0), MATCH('Rotation Assembler'!$A228, Lookups!$O$1:$V$1, 0))","v":"Hydro"},{"$f":"INDEX(Lookups!$O$1:$V$5, MATCH('Rotation Assembler'!C$38, Lookups!$O$1:$O$5, 0), MATCH('Rotation Assembler'!$A228, Lookups!$O$1:$V$1, 0))","v":"Hydro"},{"$f":"INDEX(Lookups!$O$1:$V$5, MATCH('Rotation Assembler'!D$38, Lookups!$O$1:$O$5, 0), MATCH('Rotation Assembler'!$A228, Lookups!$O$1:$V$1, 0))","v":"Pyro"},{"$f":"INDEX(Lookups!$O$1:$V$5, MATCH('Rotation Assembler'!E$38, Lookups!$O$1:$O$5, 0), MATCH('Rotation Assembler'!$A228, Lookups!$O$1:$V$1, 0))","v":"Pyro"},{"$f":"INDEX(Lookups!$O$1:$V$5, MATCH('Rotation Assembler'!F$38, Lookups!$O$1:$O$5, 0), MATCH('Rotation Assembler'!$A228, Lookups!$O$1:$V$1, 0))","v":"Hydro"},{"$f":"INDEX(Lookups!$O$1:$V$5, MATCH('Rotation Assembler'!G$38, Lookups!$O$1:$O$5, 0), MATCH('Rotation Assembler'!$A228, Lookups!$O$1:$V$1, 0))","v":"Hydro"},{"$f":"INDEX(Lookups!$O$1:$V$5, MATCH('Rotation Assembler'!H$38, Lookups!$O$1:$O$5, 0), MATCH('Rotation Assembler'!$A228, Lookups!$O$1:$V$1, 0))","v":"Pyro"},{"$f":"INDEX(Lookups!$O$1:$V$5, MATCH('Rotation Assembler'!I$38, Lookups!$O$1:$O$5, 0), MATCH('Rotation Assembler'!$A228, Lookups!$O$1:$V$1, 0))","v":"Pyro"},{"$f":"INDEX(Lookups!$O$1:$V$5, MATCH('Rotation Assembler'!J$38, Lookups!$O$1:$O$5, 0), MATCH('Rotation Assembler'!$A228, Lookups!$O$1:$V$1, 0))","v":"Pyro"},{"$f":"INDEX(Lookups!$O$1:$V$5, MATCH('Rotation Assembler'!K$38, Lookups!$O$1:$O$5, 0), MATCH('Rotation Assembler'!$A228, Lookups!$O$1:$V$1, 0))","v":"Pyro"},{"$f":"INDEX(Lookups!$O$1:$V$5, MATCH('Rotation Assembler'!L$38, Lookups!$O$1:$O$5, 0), MATCH('Rotation Assembler'!$A228, Lookups!$O$1:$V$1, 0))","v":"Pyro"},{"$f":"INDEX(Lookups!$O$1:$V$5, MATCH('Rotation Assembler'!M$38, Lookups!$O$1:$O$5, 0), MATCH('Rotation Assembler'!$A228, Lookups!$O$1:$V$1, 0))","v":"Pyro"},{"$f":"INDEX(Lookups!$O$1:$V$5, MATCH('Rotation Assembler'!N$38, Lookups!$O$1:$O$5, 0), MATCH('Rotation Assembler'!$A228, Lookups!$O$1:$V$1, 0))","v":"Pyro"},{"$f":"INDEX(Lookups!$O$1:$V$5, MATCH('Rotation Assembler'!O$38, Lookups!$O$1:$O$5, 0), MATCH('Rotation Assembler'!$A228, Lookups!$O$1:$V$1, 0))","v":"Pyro"},{"$f":"INDEX(Lookups!$O$1:$V$5, MATCH('Rotation Assembler'!P$38, Lookups!$O$1:$O$5, 0), MATCH('Rotation Assembler'!$A228, Lookups!$O$1:$V$1, 0))","v":"Pyro"},{"$f":"INDEX(Lookups!$O$1:$V$5, MATCH('Rotation Assembler'!Q$38, Lookups!$O$1:$O$5, 0), MATCH('Rotation Assembler'!$A228, Lookups!$O$1:$V$1, 0))","v":"Pyro"},{"$f":"INDEX(Lookups!$O$1:$V$5, MATCH('Rotation Assembler'!R$38, Lookups!$O$1:$O$5, 0), MATCH('Rotation Assembler'!$A228, Lookups!$O$1:$V$1, 0))","v":"Pyro"},{"$f":"INDEX(Lookups!$O$1:$V$5, MATCH('Rotation Assembler'!S$38, Lookups!$O$1:$O$5, 0), MATCH('Rotation Assembler'!$A228, Lookups!$O$1:$V$1, 0))","v":"Pyro"},{"$f":"INDEX(Lookups!$O$1:$V$5, MATCH('Rotation Assembler'!T$38, Lookups!$O$1:$O$5, 0), MATCH('Rotation Assembler'!$A228, Lookups!$O$1:$V$1, 0))","v":"Pyro"},{"$f":"INDEX(Lookups!$O$1:$V$5, MATCH('Rotation Assembler'!U$38, Lookups!$O$1:$O$5, 0), MATCH('Rotation Assembler'!$A228, Lookups!$O$1:$V$1, 0))","v":"Pyro"},null,{"$f":"INDEX(Lookups!$O$1:$V$5, MATCH('Rotation Assembler'!W$38, Lookups!$O$1:$O$5, 0), MATCH('Rotation Assembler'!$A228, Lookups!$O$1:$V$1, 0))","v":"Pyro"},{"$f":"INDEX(Lookups!$O$1:$V$5, MATCH('Rotation Assembler'!X$38, Lookups!$O$1:$O$5, 0), MATCH('Rotation Assembler'!$A228, Lookups!$O$1:$V$1, 0))","v":"Pyro"},{"$f":"INDEX(Lookups!$O$1:$V$5, MATCH('Rotation Assembler'!Y$38, Lookups!$O$1:$O$5, 0), MATCH('Rotation Assembler'!$A228, Lookups!$O$1:$V$1, 0))","v":"Geo"},{"$f":"INDEX(Lookups!$O$1:$V$5, MATCH('Rotation Assembler'!Z$38, Lookups!$O$1:$O$5, 0), MATCH('Rotation Assembler'!$A228, Lookups!$O$1:$V$1, 0))","v":"Geo"},{"$f":"INDEX(Lookups!$O$1:$V$5, MATCH('Rotation Assembler'!AA$38, Lookups!$O$1:$O$5, 0), MATCH('Rotation Assembler'!$A228, Lookups!$O$1:$V$1, 0))","v":"Geo"},{"$f":"INDEX(Lookups!$O$1:$V$5, MATCH('Rotation Assembler'!AB$38, Lookups!$O$1:$O$5, 0), MATCH('Rotation Assembler'!$A228, Lookups!$O$1:$V$1, 0))","v":"Pyro"},{"$f":"INDEX(Lookups!$O$1:$V$5, MATCH('Rotation Assembler'!AC$38, Lookups!$O$1:$O$5, 0), MATCH('Rotation Assembler'!$A228, Lookups!$O$1:$V$1, 0))","v":"Pyro"},{"$f":"INDEX(Lookups!$O$1:$V$5, MATCH('Rotation Assembler'!AD$38, Lookups!$O$1:$O$5, 0), MATCH('Rotation Assembler'!$A228, Lookups!$O$1:$V$1, 0))","v":"Hydro"},{"$f":"INDEX(Lookups!$O$1:$V$5, MATCH('Rotation Assembler'!AE$38, Lookups!$O$1:$O$5, 0), MATCH('Rotation Assembler'!$A228, Lookups!$O$1:$V$1, 0))","v":"Pyro"},{"$f":"INDEX(Lookups!$O$1:$V$5, MATCH('Rotation Assembler'!AF$38, Lookups!$O$1:$O$5, 0), MATCH('Rotation Assembler'!$A228, Lookups!$O$1:$V$1, 0))","v":{"$error":"#N/A"}},{"$f":"INDEX(Lookups!$O$1:$V$5, MATCH('Rotation Assembler'!AG$38, Lookups!$O$1:$O$5, 0), MATCH('Rotation Assembler'!$A228, Lookups!$O$1:$V$1, 0))","v":{"$error":"#N/A"}},{"$f":"INDEX(Lookups!$O$1:$V$5, MATCH('Rotation Assembler'!AH$38, Lookups!$O$1:$O$5, 0), MATCH('Rotation Assembler'!$A228, Lookups!$O$1:$V$1, 0))","v":{"$error":"#N/A"}},{"$f":"INDEX(Lookups!$O$1:$V$5, MATCH('Rotation Assembler'!AI$38, Lookups!$O$1:$O$5, 0), MATCH('Rotation Assembler'!$A228, Lookups!$O$1:$V$1, 0))","v":{"$error":"#N/A"}},{"$f":"INDEX(Lookups!$O$1:$V$5, MATCH('Rotation Assembler'!AJ$38, Lookups!$O$1:$O$5, 0), MATCH('Rotation Assembler'!$A228, Lookups!$O$1:$V$1, 0))","v":{"$error":"#N/A"}},{"$f":"INDEX(Lookups!$O$1:$V$5, MATCH('Rotation Assembler'!AK$38, Lookups!$O$1:$O$5, 0), MATCH('Rotation Assembler'!$A228, Lookups!$O$1:$V$1, 0))","v":{"$error":"#N/A"}},{"$f":"INDEX(Lookups!$O$1:$V$5, MATCH('Rotation Assembler'!AL$38, Lookups!$O$1:$O$5, 0), MATCH('Rotation Assembler'!$A228, Lookups!$O$1:$V$1, 0))","v":{"$error":"#N/A"}},{"$f":"INDEX(Lookups!$O$1:$V$5, MATCH('Rotation Assembler'!AM$38, Lookups!$O$1:$O$5, 0), MATCH('Rotation Assembler'!$A228, Lookups!$O$1:$V$1, 0))","v":{"$error":"#N/A"}},{"$f":"INDEX(Lookups!$O$1:$V$5, MATCH('Rotation Assembler'!AN$38, Lookups!$O$1:$O$5, 0), MATCH('Rotation Assembler'!$A228, Lookups!$O$1:$V$1, 0))","v":{"$error":"#N/A"}},{"$f":"INDEX(Lookups!$O$1:$V$5, MATCH('Rotation Assembler'!AO$38, Lookups!$O$1:$O$5, 0), MATCH('Rotation Assembler'!$A228, Lookups!$O$1:$V$1, 0))","v":{"$error":"#N/A"}},{"$f":"INDEX(Lookups!$O$1:$V$5, MATCH('Rotation Assembler'!AP$38, Lookups!$O$1:$O$5, 0), MATCH('Rotation Assembler'!$A228, Lookups!$O$1:$V$1, 0))","v":{"$error":"#N/A"}},{"$f":"INDEX(Lookups!$O$1:$V$5, MATCH('Rotation Assembler'!AQ$38, Lookups!$O$1:$O$5, 0), MATCH('Rotation Assembler'!$A228, Lookups!$O$1:$V$1, 0))","v":{"$error":"#N/A"}},{"$f":"INDEX(Lookups!$O$1:$V$5, MATCH('Rotation Assembler'!AR$38, Lookups!$O$1:$O$5, 0), MATCH('Rotation Assembler'!$A228, Lookups!$O$1:$V$1, 0))","v":{"$error":"#N/A"}},{"$f":"INDEX(Lookups!$O$1:$V$5, MATCH('Rotation Assembler'!AS$38, Lookups!$O$1:$O$5, 0), MATCH('Rotation Assembler'!$A228, Lookups!$O$1:$V$1, 0))","v":{"$error":"#N/A"}},{"$f":"INDEX(Lookups!$O$1:$V$5, MATCH('Rotation Assembler'!AT$38, Lookups!$O$1:$O$5, 0), MATCH('Rotation Assembler'!$A228, Lookups!$O$1:$V$1, 0))","v":{"$error":"#N/A"}},{"$f":"INDEX(Lookups!$O$1:$V$5, MATCH('Rotation Assembler'!AU$38, Lookups!$O$1:$O$5, 0), MATCH('Rotation Assembler'!$A228, Lookups!$O$1:$V$1, 0))","v":{"$error":"#N/A"}},{"$f":"INDEX(Lookups!$O$1:$V$5, MATCH('Rotation Assembler'!AV$38, Lookups!$O$1:$O$5, 0), MATCH('Rotation Assembler'!$A228, Lookups!$O$1:$V$1, 0))","v":{"$error":"#N/A"}},{"$f":"INDEX(Lookups!$O$1:$V$5, MATCH('Rotation Assembler'!AW$38, Lookups!$O$1:$O$5, 0), MATCH('Rotation Assembler'!$A228, Lookups!$O$1:$V$1, 0))","v":{"$error":"#N/A"}},{"$f":"INDEX(Lookups!$O$1:$V$5, MATCH('Rotation Assembler'!AX$38, Lookups!$O$1:$O$5, 0), MATCH('Rotation Assembler'!$A228, Lookups!$O$1:$V$1, 0))","v":{"$error":"#N/A"}},{"$f":"INDEX(Lookups!$O$1:$V$5, MATCH('Rotation Assembler'!AY$38, Lookups!$O$1:$O$5, 0), MATCH('Rotation Assembler'!$A228, Lookups!$O$1:$V$1, 0))","v":{"$error":"#N/A"}},{"$f":"INDEX(Lookups!$O$1:$V$5, MATCH('Rotation Assembler'!AZ$38, Lookups!$O$1:$O$5, 0), MATCH('Rotation Assembler'!$A228, Lookups!$O$1:$V$1, 0))","v":{"$error":"#N/A"}},{"$f":"INDEX(Lookups!$O$1:$V$5, MATCH('Rotation Assembler'!BA$38, Lookups!$O$1:$O$5, 0), MATCH('Rotation Assembler'!$A228, Lookups!$O$1:$V$1, 0))","v":{"$error":"#N/A"}},{"$f":"INDEX(Lookups!$O$1:$V$5, MATCH('Rotation Assembler'!BB$38, Lookups!$O$1:$O$5, 0), MATCH('Rotation Assembler'!$A228, Lookups!$O$1:$V$1, 0))","v":{"$error":"#N/A"}},{"$f":"INDEX(Lookups!$O$1:$V$5, MATCH('Rotation Assembler'!BC$38, Lookups!$O$1:$O$5, 0), MATCH('Rotation Assembler'!$A228, Lookups!$O$1:$V$1, 0))","v":{"$error":"#N/A"}},{"$f":"INDEX(Lookups!$O$1:$V$5, MATCH('Rotation Assembler'!BD$38, Lookups!$O$1:$O$5, 0), MATCH('Rotation Assembler'!$A228, Lookups!$O$1:$V$1, 0))","v":{"$error":"#N/A"}},{"$f":"INDEX(Lookups!$O$1:$V$5, MATCH('Rotation Assembler'!BE$38, Lookups!$O$1:$O$5, 0), MATCH('Rotation Assembler'!$A228, Lookups!$O$1:$V$1, 0))","v":{"$error":"#N/A"}},{"$f":"INDEX(Lookups!$O$1:$V$5, MATCH('Rotation Assembler'!BF$38, Lookups!$O$1:$O$5, 0), MATCH('Rotation Assembler'!$A228, Lookups!$O$1:$V$1, 0))","v":{"$error":"#N/A"}}]
["Resistance by Attack"]
["Normal",{"$f":"IFERROR(INDEX(B$204:B$210, MATCH(\"Effective \"&B222&\" Res\", $A$204:$A$210, 0), 1),\"\")","v":0.1},0.1,0.1,{"$f":"IFERROR(INDEX(E$204:E$210, MATCH(\"Effective \"&E222&\" Res\", $A$204:$A$210, 0), 1),\"\")","v":0.1},0.1,{"$f":"IFERROR(INDEX(G$204:G$210, MATCH(\"Effective \"&G222&\" Res\", $A$204:$A$210, 0), 1),\"\")","v":0.1},-0.05,{"$f":"IFERROR(INDEX(I$204:I$210, MATCH(\"Effective \"&I222&\" Res\", $A$204:$A$210, 0), 1),\"\")","v":-0.05},-0.05,{"$f":"IFERROR(INDEX(K$204:K$210, MATCH(\"Effective \"&K222&\" Res\", $A$204:$A$210, 0), 1),\"\")","v":-0.05},-0.05,-0.05,-0.05,{"$f":"IFERROR(INDEX(O$204:O$210, MATCH(\"Effective \"&O222&\" Res\", $A$204:$A$210, 0), 1),\"\")","v":-0.05},{"$f":"IFERROR(INDEX(P$204:P$210, MATCH(\"Effective \"&P222&\" Res\", $A$204:$A$210, 0), 1),\"\")","v":-0.05},-0.05,{"$f":"IFERROR(INDEX(R$204:R$210, MATCH(\"Effective \"&R222&\" Res\", $A$204:$A$210, 0), 1),\"\")","v":-0.05},-0.05,-0.05,-0.05,null,{"$f":"IFERROR(INDEX(W$204:W$210, MATCH(\"Effective \"&W222&\" Res\", $A$204:$A$210, 0), 1),\"\")","v":0.1},{"$f":"IFERROR(INDEX(X$204:X$210, MATCH(\"Effective \"&X222&\" Res\", $A$204:$A$210, 0), 1),\"\")","v":0.1},{"$f":"IFERROR(INDEX(Y$204:Y$210, MATCH(\"Effective \"&Y222&\" Res\", $A$204:$A$210, 0), 1),\"\")","v":0.1},0.1,0.1,{"$f":"IFERROR(INDEX(AB$204:AB$210, MATCH(\"Effective \"&AB222&\" Res\", $A$204:$A$210, 0), 1),\"\")","v":-0.05},{"$f":"IFERROR(INDEX(AC$204:AC$210, MATCH(\"Effective \"&AC222&\" Res\", $A$204:$A$210, 0), 1),\"\")","v":-0.05},0.1,-0.05,{"$f":"IFERROR(INDEX(AF$204:AF$210, MATCH(\"Effective \"&AF222&\" Res\", $A$204:$A$210, 0), 1),\"\")","v":""},"","","","","","","","","","","","","","","","","","","","","","","","","",""]
["Charged",0.1,0.1,0.1,{"$f":"IFERROR(INDEX(E$204:E$210, MATCH(\"Effective \"&E223&\" Res\", $A$204:$A$210, 0), 1),\"\")","v":0.1},0.1,{"$f":"IFERROR(INDEX(G$204:G$210, MATCH(\"Effective \"&G223&\" Res\", $A$204:$A$210, 0), 1),\"\")","v":0.1},-0.05,{"$f":"IFERROR(INDEX(I$204:I$210, MATCH(\"Effective \"&I223&\" Res\", $A$204:$A$210, 0), 1),\"\")","v":-0.05},-0.05,{"$f":"IFERROR(INDEX(K$204:K$210, MATCH(\"Effective \"&K223&\" Res\", $A$204:$A$210, 0), 1),\"\")","v":-0.05},-0.05,-0.05,-0.05,{"$f":"IFERROR(INDEX(O$204:O$210, MATCH(\"Effective \"&O223&\" Res\", $A$204:$A$210, 0), 1),\"\")","v":-0.05},{"$f":"IFERROR(INDEX(P$204:P$210, MATCH(\"Effective \"&P223&\" Res\", $A$204:$A$210, 0), 1),\"\")","v":-0.05},-0.05,{"$f":"IFERROR(INDEX(R$204:R$210, MATCH(\"Effective \"&R223&\" Res\", $A$204:$A$210, 0), 1),\"\")","v":-0.05},-0.05,-0.05,-0.05,null,{"$f":"IFERROR(INDEX(W$204:W$210, MATCH(\"Effective \"&W223&\" Res\", $A$204:$A$210, 0), 1),\"\")","v":0.1},{"$f":"IFERROR(INDEX(X$204:X$210, MATCH(\"Effective \"&X223&\" Res\", $A$204:$A$210, 0), 1),\"\")","v":0.1},{"$f":"IFERROR(INDEX(Y$204:Y$210, MATCH(\"Effective \"&Y223&\" Res\", $A$204:$A$210, 0), 1),\"\")","v":0.1},0.1,0.1,{"$f":"IFERROR(INDEX(AB$204:AB$210, MATCH(\"Effective \"&AB223&\" Res\", $A$204:$A$210, 0), 1),\"\")","v":-0.05},{"$f":"IFERROR(INDEX(AC$204:AC$210, MATCH(\"Effective \"&AC223&\" Res\", $A$204:$A$210, 0), 1),\"\")","v":-0.05},0.1,-0.05,{"$f":"IFERROR(INDEX(AF$204:AF$210, MATCH(\"Effective \"&AF223&\" Res\", $A$204:$A$210, 0), 1),\"\")","v":""},"","","","","","","","","","","","","","","","","","","","","","","","","",""]
["Plunge",0.1,0.1,0.1,{"$f":"IFERROR(INDEX(E$204:E$210, MATCH(\"Effective \"&E224&\" Res\", $A$204:$A$210, 0), 1),\"\")","v":0.1},0.1,{"$f":"IFERROR(INDEX(G$204:G$210, MATCH(\"Effective \"&G224&\" Res\", $A$204:$A$210, 0), 1),\"\")","v":0.1},-0.05,{"$f":"IFERROR(INDEX(I$204:I$210, MATCH(\"Effective \"&I224&\" Res\", $A$204:$A$210, 0), 1),\"\")","v":-0.05},-0.05,{"$f":"IFERROR(INDEX(K$204:K$210, MATCH(\"Effective \"&K224&\" Res\", $A$204:$A$210, 0), 1),\"\")","v":-0.05},-0.05,-0.05,-0.05,{"$f":"IFERROR(INDEX(O$204:O$210, MATCH(\"Effective \"&O224&\" Res\", $A$204:$A$210, 0), 1),\"\")","v":-0.05},{"$f":"IFERROR(INDEX(P$204:P$210, MATCH(\"Effective \"&P224&\" Res\", $A$204:$A$210, 0), 1),\"\")","v":-0.05},-0.05,{"$f":"IFERROR(INDEX(R$204:R$210, MATCH(\"Effective \"&R224&\" Res\", $A$204:$A$210, 0), 1),\"\")","v":-0.05},-0.05,-0.05,-0.05,null,{"$f":"IFERROR(INDEX(W$204:W$210, MATCH(\"Effective \"&W224&\" Res\", $A$204:$A$210, 0), 1),\"\")","v":0.1},{"$f":"IFERROR(INDEX(X$204:X$210, MATCH(\"Effective \"&X224&\" Res\", $A$204:$A$210, 0), 1),\"\")","v":0.1},{"$f":"IFERROR(INDEX(Y$204:Y$210, MATCH(\"Effective \"&Y224&\" Res\", $A$204:$A$210, 0), 1),\"\")","v":0.1},0.1,0.1,{"$f":"IFERROR(INDEX(AB$204:AB$210, MATCH(\"Effective \"&AB224&\" Res\", $A$204:$A$210, 0), 1),\"\")","v":-0.05},{"$f":"IFERROR(INDEX(AC$204:AC$210, MATCH(\"Effective \"&AC224&\" Res\", $A$204:$A$210, 0), 1),\"\")","v":-0.05},0.1,-0.05,{"$f":"IFERROR(INDEX(AF$204:AF$210, MATCH(\"Effective \"&AF224&\" Res\", $A$204:$A$210, 0), 1),\"\")","v":""},"","","","","","","","","","","","","","","","","","","","","","","","","",""]
["Skill",-0.05,-0.05,-0.05,{"$f":"IFERROR(INDEX(E$204:E$210, MATCH(\"Effective \"&E225&\" Res\", $A$204:$A$210, 0), 1),\"\")","v":-0.05},-0.05,{"$f":"IFERROR(INDEX(G$204:G$210, MATCH(\"Effective \"&G225&\" Res\", $A$204:$A$210, 0), 1),\"\")","v":-0.12499999999999999},-0.05,{"$f":"IFERROR(INDEX(I$204:I$210, MATCH(\"Effective \"&I225&\" Res\", $A$204:$A$210, 0), 1),\"\")","v":-0.05},-0.05,{"$f":"IFERROR(INDEX(K$204:K$210, MATCH(\"Effective \"&K225&\" Res\", $A$204:$A$210, 0), 1),\"\")","v":-0.05},-0.05,-0.05,-0.05,{"$f":"IFERROR(INDEX(O$204:O$210, MATCH(\"Effective \"&O225&\" Res\", $A$204:$A$210, 0), 1),\"\")","v":-0.05},{"$f":"IFERROR(INDEX(P$204:P$210, MATCH(\"Effective \"&P225&\" Res\", $A$204:$A$210, 0), 1),\"\")","v":-0.05},-0.05,{"$f":"IFERROR(INDEX(R$204:R$210, MATCH(\"Effective \"&R225&\" Res\", $A$204:$A$210, 0), 1),\"\")","v":-0.05},-0.05,-0.05,-0.05,null,{"$f":"IFERROR(INDEX(W$204:W$210, MATCH(\"Effective \"&W225&\" Res\", $A$204:$A$210, 0), 1),\"\")","v":-0.05},{"$f":"IFERROR(INDEX(X$204:X$210, MATCH(\"Effective \"&X225&\" Res\", $A$204:$A$210, 0), 1),\"\")","v":-0.05},{"$f":"IFERROR(INDEX(Y$204:Y$210, MATCH(\"Effective \"&Y225&\" Res\", $A$204:$A$210, 0), 1),\"\")","v":0.1},0.1,0.1,{"$f":"IFERROR(INDEX(AB$204:AB$210, MATCH(\"Effective \"&AB225&\" Res\", $A$204:$A$210, 0), 1),\"\")","v":-0.05},{"$f":"IFERROR(INDEX(AC$204:AC$210, MATCH(\"Effective \"&AC225&\" Res\", $A$204:$A$210, 0), 1),\"\")","v":-0.05},-0.12499999999999999,-0.05,{"$f":"IFERROR(INDEX(AF$204:AF$210, MATCH(\"Effective \"&AF225&\" Res\", $A$204:$A$210, 0), 1),\"\")","v":""},"","","","","","","","","","","","","","","","","","","","","","","","","",""]
["Skill Echo",-0.05,-0.05,-0.05,{"$f":"IFERROR(INDEX(E$204:E$210, MATCH(\"Effective \"&E226&\" Res\", $A$204:$A$210, 0), 1),\"\")","v":-0.05},-0.05,{"$f":"IFERROR(INDEX(G$204:G$210, MATCH(\"Effective \"&G226&\" Res\", $A$204:$A$210, 0), 1),\"\")","v":-0.12499999999999999},-0.05,{"$f":"IFERROR(INDEX(I$204:I$210, MATCH(\"Effective \"&I226&\" Res\", $A$204:$A$210, 0), 1),\"\")","v":-0.05},-0.05,{"$f":"IFERROR(INDEX(K$204:K$210, MATCH(\"Effective \"&K226&\" Res\", $A$204:$A$210, 0), 1),\"\")","v":-0.05},-0.05,-0.05,-0.05,{"$f":"IFERROR(INDEX(O$204:O$210, MATCH(\"Effective \"&O226&\" Res\", $A$204:$A$210, 0), 1),\"\")","v":-0.05},{"$f":"IFERROR(INDEX(P$204:P$210, MATCH(\"Effective \"&P226&\" Res\", $A$204:$A$210, 0), 1),\"\")","v":-0.05},-0.05,{"$f":"IFERROR(INDEX(R$204:R$210, MATCH(\"Effective \"&R226&\" Res\", $A$204:$A$210, 0), 1),\"\")","v":-0.05},-0.05,-0.05,-0.05,null,{"$f":"IFERROR(INDEX(W$204:W$210, MATCH(\"Effective \"&W226&\" Res\", $A$204:$A$210, 0), 1),\"\")","v":-0.05},{"$f":"IFERROR(INDEX(X$204:X$210, MATCH(\"Effective \"&X226&\" Res\", $A$204:$A$210, 0), 1),\"\")","v":-0.05},{"$f":"IFERROR(INDEX(Y$204:Y$210, MATCH(\"Effective \"&Y226&\" Res\", $A$204:$A$210, 0), 1),\"\")","v":0.1},0.1,0.1,{"$f":"IFERROR(INDEX(AB$204:AB$210, MATCH(\"Effective \"&AB226&\" Res\", $A$204:$A$210, 0), 1),\"\")","v":-0.05},{"$f":"IFERROR(INDEX(AC$204:AC$210, MATCH(\"Effective \"&AC226&\" Res\", $A$204:$A$210, 0), 1),\"\")","v":-0.05},-0.12499999999999999,-0.05,{"$f":"IFERROR(INDEX(AF$204:AF$210, MATCH(\"Effective \"&AF226&\" Res\", $A$204:$A$210, 0), 1),\"\")","v":""},"","","","","","","","","","","","","","","","","","","","","","","","","",""]
["Burst",-0.05,-0.05,-0.05,{"$f":"IFERROR(INDEX(E$204:E$210, MATCH(\"Effective \"&E227&\" Res\", $A$204:$A$210, 0), 1),\"\")","v":-0.05},-0.05,{"$f":"IFERROR(INDEX(G$204:G$210, MATCH(\"Effective \"&G227&\" Res\", $A$204:$A$210, 0), 1),\"\")","v":-0.12499999999999999},-0.05,{"$f":"IFERROR(INDEX(I$204:I$210, MATCH(\"Effective \"&I227&\" Res\", $A$204:$A$210, 0), 1),\"\")","v":-0.05},-0.05,{"$f":"IFERROR(INDEX(K$204:K$210, MATCH(\"Effective \"&K227&\" Res\", $A$204:$A$210, 0), 1),\"\")","v":-0.05},-0.05,-0.05,-0.05,{"$f":"IFERROR(INDEX(O$204:O$210, MATCH(\"Effective \"&O227&\" Res\", $A$204:$A$210, 0), 1),\"\")","v":-0.05},{"$f":"IFERROR(INDEX(P$204:P$210, MATCH(\"Effective \"&P227&\" Res\", $A$204:$A$210, 0), 1),\"\")","v":-0.05},-0.05,{"$f":"IFERROR(INDEX(R$204:R$210, MATCH(\"Effective \"&R227&\" Res\", $A$204:$A$210, 0), 1),\"\")","v":-0.05},-0.05,-0.05,-0.05,null,{"$f":"IFERROR(INDEX(W$204:W$210, MATCH(\"Effective \"&W227&\" Res\", $A$204:$A$210, 0), 1),\"\")","v":-0.05},{"$f":"IFERROR(INDEX(X$204:X$210, MATCH(\"Effective \"&X227&\" Res\", $A$204:$A$210, 0), 1),\"\")","v":-0.05},{"$f":"IFERROR(INDEX(Y$204:Y$210, MATCH(\"Effective \"&Y227&\" Res\", $A$204:$A$210, 0), 1),\"\")","v":0.1},0.1,0.1,{"$f":"IFERROR(INDEX(AB$204:AB$210, MATCH(\"Effective \"&AB227&\" Res\", $A$204:$A$210, 0), 1),\"\")","v":-0.05},{"$f":"IFERROR(INDEX(AC$204:AC$210, MATCH(\"Effective \"&AC227&\" Res\", $A$204:$A$210, 0), 1),\"\")","v":-0.05},-0.12499999999999999,-0.05,{"$f":"IFERROR(INDEX(AF$204:AF$210, MATCH(\"Effective \"&AF227&\" Res\", $A$204:$A$210, 0), 1),\"\")","v":""},"","","","","","","","","","","","","","","","","","","","","","","","","",""]
["Burst Echo",-0.05,-0.05,-0.05,{"$f":"IFERROR(INDEX(E$204:E$210, MATCH(\"Effective \"&E228&\" Res\", $A$204:$A$210, 0), 1),\"\")","v":-0.05},-0.05,{"$f":"IFERROR(INDEX(G$204:G$210, MATCH(\"Effective \"&G228&\" Res\", $A$204:$A$210, 0), 1),\"\")","v":-0.12499999999999999},-0.05,{"$f":"IFERROR(INDEX(I$204:I$210, MATCH(\"Effective \"&I228&\" Res\", $A$204:$A$210, 0), 1),\"\")","v":-0.05},-0.05,{"$f":"IFERROR(INDEX(K$204:K$210, MATCH(\"Effective \"&K228&\" Res\", $A$204:$A$210, 0), 1),\"\")","v":-0.05},-0.05,-0.05,-0.05,{"$f":"IFERROR(INDEX(O$204:O$210, MATCH(\"Effective \"&O228&\" Res\", $A$204:$A$210, 0), 1),\"\")","v":-0.05},{"$f":"IFERROR(INDEX(P$204:P$210, MATCH(\"Effective \"&P228&\" Res\", $A$204:$A$210, 0), 1),\"\")","v":-0.05},-0.05,{"$f":"IFERROR(INDEX(R$204:R$210, MATCH(\"Effective \"&R228&\" Res\", $A$204:$A$210, 0), 1),\"\")","v":-0.05},-0.05,-0.05,-0.05,null,{"$f":"IFERROR(INDEX(W$204:W$210, MATCH(\"Effective \"&W228&\" Res\", $A$204:$A$210, 0), 1),\"\")","v":-0.05},{"$f":"IFERROR(INDEX(X$204:X$210, MATCH(\"Effective \"&X228&\" Res\", $A$204:$A$210, 0), 1),\"\")","v":-0.05},{"$f":"IFERROR(INDEX(Y$204:Y$210, MATCH(\"Effective \"&Y228&\" Res\", $A$204:$A$210, 0), 1),\"\")","v":0.1},0.1,0.1,{"$f":"IFERROR(INDEX(AB$204:AB$210, MATCH(\"Effective \"&AB228&\" Res\", $A$204:$A$210, 0), 1),\"\")","v":-0.05},{"$f":"IFERROR(INDEX(AC$204:AC$210, MATCH(\"Effective \"&AC228&\" Res\", $A$204:$A$210, 0), 1),\"\")","v":-0.05},-0.12499999999999999,-0.05,{"$f":"IFERROR(INDEX(AF$204:AF$210, MATCH(\"Effective \"&AF228&\" Res\", $A$204:$A$210, 0), 1),\"\")","v":""},"","","","","","","","","","","","","","","","","","","","","","","","","",""]
["DMG% By Attack"]
["Base DMG%",{"$f":"IF(B160=\"\", 0, B160)","v":0},{"$f":"IF(C160=\"\", 0, C160)","v":0},{"$f":"IF(D160=\"\", 0, D160)","v":0},0,{"$f":"IF(F160=\"\", 0, F160)","v":0},0,{"$f":"IF(H160=\"\", 0, H160)","v":0.3},0.3,{"$f":"IF(J160=\"\", 0, J160)","v":0.3},0.3,{"$f":"IF(L160=\"\", 0, L160)","v":0.3},0.3,0.3,{"$f":"IF(O160=\"\", 0, O160)","v":0.3},{"$f":"IF(P160=\"\", 0, P160)","v":0.3},0.3,{"$f":"IF(R160=\"\", 0, R160)","v":0.3},0.3,0.3,0.3,null,{"$f":"IF(W160=\"\", 0, W160)","v":0},{"$f":"IF(X160=\"\", 0, X160)","v":0},{"$f":"IF(Y160=\"\", 0, Y160)","v":0.8},0.8,0.8,{"$f":"IF(AB160=\"\", 0, AB160)","v":0.3},{"$f":"IF(AC160=\"\", 0, AC160)","v":0.3},0,0.3,{"$f":"IF(AF160=\"\", 0, AF160)","v":{"$error":"#N/A"}},{"$error":"#N/A"},{"$error":"#N/A"},{"$error":"#N/A"},{"$error":"#N/A"},{"$error":"#N/A"},{"$error":"#N/A"},{"$error":"#N/A"},{"$error":"#N/A"},{"$error":"#N/A"},{"$error":"#N/A"},{"$error":"#N/A"},{"$error":"#N/A"},{"$error":"#N/A"},{"$error":"#N/A"},{"$error":"#N/A"},{"$error":"#N/A"},{"$error":"#N/A"},{"$error":"#N/A"},{"$error":"#N/A"},{"$error":"#N/A"},{"$error":"#N/A"},{"$error":"#N/A"},{"$error":"#N/A"},{"$error":"#N/A"},{"$error":"#N/A"},{"$error":"#N/A"}]
["Normal DMG%",{"$f":"IF(B168=\"\", 0, B168)","v":0},{"$f":"IF(C168=\"\", 0, C168)","v":0},{"$f":"IF(D168=\"\", 0, D168)","v":0},0,{"$f":"IF(F168=\"\", 0, F168)","v":0},0,{"$f":"IF(H168=\"\", 0, H168)","v":0},0,{"$f":"IF(J168=\"\", 0, J168)","v":0},0,{"$f":"IF(L168=\"\", 0, L168)","v":0},0,0,{"$f":"IF(O168=\"\", 0, O168)","v":0},{"$f":"IF(P168=\"\", 0, P168)","v":0},0,{"$f":"IF(R168=\"\", 0, R168)","v":0},0,0,0,null,{"$f":"IF(W168=\"\", 0, W168)","v":0},{"$f":"IF(X168=\"\", 0, X168)","v":0},{"$f":"IF(Y168=\"\", 0, Y168)","v":0},0,0,{"$f":"IF(AB168=\"\", 0, AB168)","v":0},{"$f":"IF(AC168=\"\", 0, AC168)","v":0},0,0,{"$f":"IF(AF168=\"\", 0, AF168)","v":{"$error":"#N/A"}},{"$error":"#N/A"},{"$error":"#N/A"},{"$error":"#N/A"},{"$error":"#N/A"},{"$error":"#N/A"},{"$error":"#N/A"},{"$error":"#N/A"},{"$error":"#N/A"},{"$error":"#N/A"},{"$error":"#N/A"},{"$error":"#N/A"},{"$error":"#N/A"},{"$error":"#N/A"},{"$error":"#N/A"},{"$error":"#N/A"},{"$error":"#N/A"},{"$error":"#N/A"},{"$error":"#N/A"},{"$error":"#N/A"},{"$error":"#N/A"},{"$error":"#N/A"},{"$error":"#N/A"},{"$error":"#N/A"},{"$error":"#N/A"},{"$error":"#N/A"},{"$error":"#N/A"}]
["Charged DMG%",0,{"$f":"IF(C169=\"\", 0, C169)","v":0},{"$f":"IF(D169=\"\", 0, D169)","v":0},0,{"$f":"IF(F169=\"\", 0, F169)","v":0},0,{"$f":"IF(H169=\"\", 0, H169)","v":0},0,{"$f":"IF(J169=\"\", 0, J169)","v":0},0,{"$f":"IF(L169=\"\", 0, L169)","v":0},0,0,{"$f":"IF(O169=\"\", 0, O169)","v":0},{"$f":"IF(P169=\"\", 0, P169)","v":0},0,{"$f":"IF(R169=\"\", 0, R169)","v":0},0,0,0,null,{"$f":"IF(W169=\"\", 0, W169)","v":0},{"$f":"IF(X169=\"\", 0, X169)","v":0},{"$f":"IF(Y169=\"\", 0, Y169)","v":0},0,0,{"$f":"IF(AB169=\"\", 0, AB169)","v":0},{"$f":"IF(AC169=\"\", 0, AC169)","v":0},0,0,{"$f":"IF(AF169=\"\", 0, AF169)","v":{"$error":"#N/A"}},{"$error":"#N/A"},{"$error":"#N/A"},{"$error":"#N/A"},{"$error":"#N/A"},{"$error":"#N/A"},{"$error":"#N/A"},{"$error":"#N/A"},{"$error":"#N/A"},{"$error":"#N/A"},{"$error":"#N/A"},{"$error":"#N/A"},{"$error":"#N/A"},{"$error":"#N/A"},{"$error":"#N/A"},{"$error":"#N/A"},{"$error":"#N/A"},{"$error":"#N/A"},{"$error":"#N/A"},{"$error":"#N/A"},{"$error":"#N/A"},{"$error":"#N/A"},{"$error":"#N/A"},{"$error":"#N/A"},{"$error":"#N/A"},{"$error":"#N/A"},{"$error":"#N/A"}]
["Plunge DMG%",0,{"$f":"IF(C170=\"\", 0, C170)","v":0},{"$f":"IF(D170=\"\", 0, D170)","v":0},0,{"$f":"IF(F170=\"\", 0, F170)","v":0},0,{"$f":"IF(H170=\"\", 0, H170)","v":0},0,{"$f":"IF(J170=\"\", 0, J170)","v":0},0,{"$f":"IF(L170=\"\", 0, L170)","v":0},0,0,{"$f":"IF(O170=\"\", 0, O170)","v":0},{"$f":"IF(P170=\"\", 0, P170)","v":0},0,{"$f":"IF(R170=\"\", 0, R170)","v":0},0,0,0,null,{"$f":"IF(W170=\"\", 0, W170)","v":0},{"$f":"IF(X170=\"\", 0, X170)","v":0},{"$f":"IF(Y170=\"\", 0, Y170)","v":0},0,0,{"$f":"IF(AB170=\"\", 0, AB170)","v":0},{"$f":"IF(AC170=\"\", 0, AC170)","v":0},0,0,{"$f":"IF(AF170=\"\", 0, AF170)","v":{"$error":"#N/A"}},{"$error":"#N/A"},{"$error":"#N/A"},{"$error":"#N/A"},{"$error":"#N/A"},{"$error":"#N/A"},{"$error":"#N/A"},{"$error":"#N/A"},{"$error":"#N/A"},{"$error":"#N/A"},{"$error":"#N/A"},{"$error":"#N/A"},{"$error":"#N/A"},{"$error":"#N/A"},{"$error":"#N/A"},{"$error":"#N/A"},{"$error":"#N/A"},{"$error":"#N/A"},{"$error":"#N/A"},{"$error":"#N/A"},{"$error":"#N/A"},{"$error":"#N/A"},{"$error":"#N/A"},{"$error":"#N/A"},{"$error":"#N/A"},{"$error":"#N/A"},{"$error":"#N/A"}]
["Skill DMG%",0,{"$f":"IF(C171=\"\", 0, C171)","v":0},{"$f":"IF(D171=\"\", 0, D171)","v":0},0,{"$f":"IF(F171=\"\", 0, F171)","v":0},0,{"$f":"IF(H171=\"\", 0, H171)","v":0},0,{"$f":"IF(J171=\"\", 0, J171)","v":0},0,{"$f":"IF(L171=\"\", 0, L171)","v":0},0,0,{"$f":"IF(O171=\"\", 0, O171)","v":0},{"$f":"IF(P171=\"\", 0, P171)","v":0},0,{"$f":"IF(R171=\"\", 0, R171)","v":0},0,0,0,null,{"$f":"IF(W171=\"\", 0, W171)","v":0},{"$f":"IF(X171=\"\", 0, X171)","v":0},{"$f":"IF(Y171=\"\", 0, Y171)","v":0},0,0,{"$f":"IF(AB171=\"\", 0, AB171)","v":0},{"$f":"IF(AC171=\"\", 0, AC171)","v":0},0,0,{"$f":"IF(AF171=\"\", 0, AF171)","v":{"$error":"#N/A"}},{"$error":"#N/A"},{"$error":"#N/A"},{"$error":"#N/A"},{"$error":"#N/A"},{"$error":"#N/A"},{"$error":"#N/A"},{"$error":"#N/A"},{"$error":"#N/A"},{"$error":"#N/A"},{"$error":"#N/A"},{"$error":"#N/A"},{"$error":"#N/A"},{"$error":"#N/A"},{"$error":"#N/A"},{"$error":"#N/A"},{"$error":"#N/A"},{"$error":"#N/A"},{"$error":"#N/A"},{"$error":"#N/A"},{"$error":"#N/A"},{"$error":"#N/A"},{"$error":"#N/A"},{"$error":"#N/A"},{"$error":"#N/A"},{"$error":"#N/A"},{"$error":"#N/A"}]
["Burst DMG%",0.52212499999999995,{"$f":"IF(C172=\"\", 0, C172)","v":0.52212499999999995},{"$f":"IF(D172=\"\", 0, D172)","v":0.2},0.2,{"$f":"IF(F172=\"\", 0, F172)","v":0.52212499999999995},0.52212499999999995,{"$f":"IF(H172=\"\", 0, H172)","v":0},0,{"$f":"IF(J172=\"\", 0, J172)","v":0},0,{"$f":"IF(L172=\"\", 0, L172)","v":0},0,0,{"$f":"IF(O172=\"\", 0, O172)","v":0},{"$f":"IF(P172=\"\", 0, P172)","v":0},0,{"$f":"IF(R172=\"\", 0, R172)","v":0},0,0,0,null,{"$f":"IF(W172=\"\", 0, W172)","v":0.2},{"$f":"IF(X172=\"\", 0, X172)","v":0.2},{"$f":"IF(Y172=\"\", 0, Y172)","v":0},0,0,{"$f":"IF(AB172=\"\", 0, AB172)","v":0},{"$f":"IF(AC172=\"\", 0, AC172)","v":0},0.52212499999999995,0,{"$f":"IF(AF172=\"\", 0, AF172)","v":{"$error":"#N/A"}},{"$error":"#N/A"},{"$error":"#N/A"},{"$error":"#N/A"},{"$error":"#N/A"},{"$error":"#N/A"},{"$error":"#N/A"},{"$error":"#N/A"},{"$error":"#N/A"},{"$error":"#N/A"},{"$error":"#N/A"},{"$error":"#N/A"},{"$error":"#N/A"},{"$error":"#N/A"},{"$error":"#N/A"},{"$error":"#N/A"},{"$error":"#N/A"},{"$error":"#N/A"},{"$error":"#N/A"},{"$error":"#N/A"},{"$error":"#N/A"},{"$error":"#N/A"},{"$error":"#N/A"},{"$error":"#N/A"},{"$error":"#N/A"},{"$error":"#N/A"},{"$error":"#N/A"}]
["Normal",{"$f":"IFERROR(IF(INDEX(B$161:B$167, MATCH(B222&\" DMG%\", $A$161:$A$167, 0), 1)=\"\", 0,INDEX(B$161:B$167, MATCH(B222&\" DMG%\", $A$161:$A$167, 0), 1)),0)+B$238+B$239","v":0},{"$f":"IFERROR(IF(INDEX(C$161:C$167, MATCH(C222&\" DMG%\", $A$161:$A$167, 0), 1)=\"\", 0,INDEX(C$161:C$167, MATCH(C222&\" DMG%\", $A$161:$A$167, 0), 1)),0)+C$238+C$239","v":0},{"$f":"IFERROR(IF(INDEX(D$161:D$167, MATCH(D222&\" DMG%\", $A$161:$A$167, 0), 1)=\"\", 0,INDEX(D$161:D$167, MATCH(D222&\" DMG%\", $A$161:$A$167, 0), 1)),0)+D$238+D$239","v":0},0,{"$f":"IFERROR(IF(INDEX(F$161:F$167, MATCH(F222&\" DMG%\", $A$161:$A$167, 0), 1)=\"\", 0,INDEX(F$161:F$167, MATCH(F222&\" DMG%\", $A$161:$A$167, 0), 1)),0)+F$238+F$239","v":0},0,{"$f":"IFERROR(IF(INDEX(H$161:H$167, MATCH(H222&\" DMG%\", $A$161:$A$167, 0), 1)=\"\", 0,INDEX(H$161:H$167, MATCH(H222&\" DMG%\", $A$161:$A$167, 0), 1)),0)+H$238+H$239","v":1.1160000000000001},1.1160000000000001,{"$f":"IFERROR(IF(INDEX(J$161:J$167, MATCH(J222&\" DMG%\", $A$161:$A$167, 0), 1)=\"\", 0,INDEX(J$161:J$167, MATCH(J222&\" DMG%\", $A$161:$A$167, 0), 1)),0)+J$238+J$239","v":1.1160000000000001},1.1910000000000001,{"$f":"IFERROR(IF(INDEX(L$161:L$167, MATCH(L222&\" DMG%\", $A$161:$A$167, 0), 1)=\"\", 0,INDEX(L$161:L$167, MATCH(L222&\" DMG%\", $A$161:$A$167, 0), 1)),0)+L$238+L$239","v":1.1910000000000001},1.1910000000000001,1.266,{"$f":"IFERROR(IF(INDEX(O$161:O$167, MATCH(O222&\" DMG%\", $A$161:$A$167, 0), 1)=\"\", 0,INDEX(O$161:O$167, MATCH(O222&\" DMG%\", $A$161:$A$167, 0), 1)),0)+O$238+O$239","v":1.266},{"$f":"IFERROR(IF(INDEX(P$161:P$167, MATCH(P222&\" DMG%\", $A$161:$A$167, 0), 1)=\"\", 0,INDEX(P$161:P$167, MATCH(P222&\" DMG%\", $A$161:$A$167, 0), 1)),0)+P$238+P$239","v":1.266},1.3410000000000002,{"$f":"IFERROR(IF(INDEX(R$161:R$167, MATCH(R222&\" DMG%\", $A$161:$A$167, 0), 1)=\"\", 0,INDEX(R$161:R$167, MATCH(R222&\" DMG%\", $A$161:$A$167, 0), 1)),0)+R$238+R$239","v":1.3410000000000002},1.3410000000000002,1.3410000000000002,1.3410000000000002,null,{"$f":"IFERROR(IF(INDEX(W$161:W$167, MATCH(W222&\" DMG%\", $A$161:$A$167, 0), 1)=\"\", 0,INDEX(W$161:W$167, MATCH(W222&\" DMG%\", $A$161:$A$167, 0), 1)),0)+W$238+W$239","v":0},{"$f":"IFERROR(IF(INDEX(X$161:X$167, MATCH(X222&\" DMG%\", $A$161:$A$167, 0), 1)=\"\", 0,INDEX(X$161:X$167, MATCH(X222&\" DMG%\", $A$161:$A$167, 0), 1)),0)+X$238+X$239","v":0},{"$f":"IFERROR(IF(INDEX(Y$161:Y$167, MATCH(Y222&\" DMG%\", $A$161:$A$167, 0), 1)=\"\", 0,INDEX(Y$161:Y$167, MATCH(Y222&\" DMG%\", $A$161:$A$167, 0), 1)),0)+Y$238+Y$239","v":0.8},0.8,0.8,{"$f":"IFERROR(IF(INDEX(AB$161:AB$167, MATCH(AB222&\" DMG%\", $A$161:$A$167, 0), 1)=\"\", 0,INDEX(AB$161:AB$167, MATCH(AB222&\" DMG%\", $A$161:$A$167, 0), 1)),0)+AB$238+AB$239","v":1.3410000000000002},{"$f":"IFERROR(IF(INDEX(AC$161:AC$167, MATCH(AC222&\" DMG%\", $A$161:$A$167, 0), 1)=\"\", 0,INDEX(AC$161:AC$167, MATCH(AC222&\" DMG%\", $A$161:$A$167, 0), 1)),0)+AC$238+AC$239","v":1.3410000000000002},0,0.3,{"$f":"IFERROR(IF(INDEX(AF$161:AF$167, MATCH(AF222&\" DMG%\", $A$161:$A$167, 0), 1)=\"\", 0,INDEX(AF$161:AF$167, MATCH(AF222&\" DMG%\", $A$161:$A$167, 0), 1)),0)+AF$238+AF$239","v":{"$error":"#N/A"}},{"$error":"#N/A"},{"$error":"#N/A"},{"$error":"#N/A"},{"$error":"#N/A"},{"$error":"#N/A"},{"$error":"#N/A"},{"$error":"#N/A"},{"$error":"#N/A"},{"$error":"#N/A"},{"$error":"#N/A"},{"$error":"#N/A"},{"$error":"#N/A"},{"$error":"#N/A"},{"$error":"#N/A"},{"$error":"#N/A"},{"$error":"#N/A"},{"$error":"#N/A"},{"$error":"#N/A"},{"$error":"#N/A"},{"$error":"#N/A"},{"$error":"#N/A"},{"$error":"#N/A"},{"$error":"#N/A"},{"$error":"#N/A"},{"$error":"#N/A"},{"$error":"#N/A"}]
["Charged",{"$f":"IFERROR(IF(INDEX(B$161:B$167, MATCH(B223&\" DMG%\", $A$161:$A$167, 0), 1)=\"\", 0,INDEX(B$161:B$167, MATCH(B223&\" DMG%\", $A$161:$A$167, 0), 1)),0)+B$238+B$240","v":0},{"$f":"IFERROR(IF(INDEX(C$161:C$167, MATCH(C223&\" DMG%\", $A$161:$A$167, 0), 1)=\"\", 0,INDEX(C$161:C$167, MATCH(C223&\" DMG%\", $A$161:$A$167, 0), 1)),0)+C$238+C$240","v":0},{"$f":"IFERROR(IF(INDEX(D$161:D$167, MATCH(D223&\" DMG%\", $A$161:$A$167, 0), 1)=\"\", 0,INDEX(D$161:D$167, MATCH(D223&\" DMG%\", $A$161:$A$167, 0), 1)),0)+D$238+D$240","v":0},0,{"$f":"IFERROR(IF(INDEX(F$161:F$167, MATCH(F223&\" DMG%\", $A$161:$A$167, 0), 1)=\"\", 0,INDEX(F$161:F$167, MATCH(F223&\" DMG%\", $A$161:$A$167, 0), 1)),0)+F$238+F$240","v":0},0,{"$f":"IFERROR(IF(INDEX(H$161:H$167, MATCH(H223&\" DMG%\", $A$161:$A$167, 0), 1)=\"\", 0,INDEX(H$161:H$167, MATCH(H223&\" DMG%\", $A$161:$A$167, 0), 1)),0)+H$238+H$240","v":1.1160000000000001},1.1160000000000001,{"$f":"IFERROR(IF(INDEX(J$161:J$167, MATCH(J223&\" DMG%\", $A$161:$A$167, 0), 1)=\"\", 0,INDEX(J$161:J$167, MATCH(J223&\" DMG%\", $A$161:$A$167, 0), 1)),0)+J$238+J$240","v":1.1160000000000001},1.1910000000000001,{"$f":"IFERROR(IF(INDEX(L$161:L$167, MATCH(L223&\" DMG%\", $A$161:$A$167, 0), 1)=\"\", 0,INDEX(L$161:L$167, MATCH(L223&\" DMG%\", $A$161:$A$167, 0), 1)),0)+L$238+L$240","v":1.1910000000000001},1.1910000000000001,1.266,{"$f":"IFERROR(IF(INDEX(O$161:O$167, MATCH(O223&\" DMG%\", $A$161:$A$167, 0), 1)=\"\", 0,INDEX(O$161:O$167, MATCH(O223&\" DMG%\", $A$161:$A$167, 0), 1)),0)+O$238+O$240","v":1.266},{"$f":"IFERROR(IF(INDEX(P$161:P$167, MATCH(P223&\" DMG%\", $A$161:$A$167, 0), 1)=\"\", 0,INDEX(P$161:P$167, MATCH(P223&\" DMG%\", $A$161:$A$167, 0), 1)),0)+P$238+P$240","v":1.266},1.3410000000000002,{"$f":"IFERROR(IF(INDEX(R$161:R$167, MATCH(R223&\" DMG%\", $A$161:$A$167, 0), 1)=\"\", 0,INDEX(R$161:R$167, MATCH(R223&\" DMG%\", $A$161:$A$167, 0), 1)),0)+R$238+R$240","v":1.3410000000000002},1.3410000000000002,1.3410000000000002,1.3410000000000002,null,{"$f":"IFERROR(IF(INDEX(W$161:W$167, MATCH(W223&\" DMG%\", $A$161:$A$167, 0), 1)=\"\", 0,INDEX(W$161:W$167, MATCH(W223&\" DMG%\", $A$161:$A$167, 0), 1)),0)+W$238+W$240","v":0},{"$f":"IFERROR(IF(INDEX(X$161:X$167, MATCH(X223&\" DMG%\", $A$161:$A$167, 0), 1)=\"\", 0,INDEX(X$161:X$167, MATCH(X223&\" DMG%\", $A$161:$A$167, 0), 1)),0)+X$238+X$240","v":0},{"$f":"IFERROR(IF(INDEX(Y$161:Y$167, MATCH(Y223&\" DMG%\", $A$161:$A$167, 0), 1)=\"\", 0,INDEX(Y$161:Y$167, MATCH(Y223&\" DMG%\", $A$161:$A$167, 0), 1)),0)+Y$238+Y$240","v":0.8},0.8,0.8,{"$f":"IFERROR(IF(INDEX(AB$161:AB$167, MATCH(AB223&\" DMG%\", $A$161:$A$167, 0), 1)=\"\", 0,INDEX(AB$161:AB$167, MATCH(AB223&\" DMG%\", $A$161:$A$167, 0), 1)),0)+AB$238+AB$240","v":1.3410000000000002},{"$f":"IFERROR(IF(INDEX(AC$161:AC$167, MATCH(AC223&\" DMG%\", $A$161:$A$167, 0), 1)=\"\", 0,INDEX(AC$161:AC$167, MATCH(AC223&\" DMG%\", $A$161:$A$167, 0), 1)),0)+AC$238+AC$240","v":1.3410000000000002},0,0.3,{"$f":"IFERROR(IF(INDEX(AF$161:AF$167, MATCH(AF223&\" DMG%\", $A$161:$A$167, 0), 1)=\"\", 0,INDEX(AF$161:AF$167, MATCH(AF223&\" DMG%\", $A$161:$A$167, 0), 1)),0)+AF$238+AF$240","v":{"$error":"#N/A"}},{"$error":"#N/A"},{"$error":"#N/A"},{"$error":"#N/A"},{"$error":"#N/A"},{"$error":"#N/A"},{"$error":"#N/A"},{"$error":"#N/A"},{"$error":"#N/A"},{"$error":"#N/A"},{"$error":"#N/A"},{"$error":"#N/A"},{"$error":"#N/A"},{"$error":"#N/A"},{"$error":"#N/A"},{"$error":"#N/A"},{"$error":"#N/A"},{"$error":"#N/A"},{"$error":"#N/A"},{"$error":"#N/A"},{"$error":"#N/A"},{"$error":"#N/A"},{"$error":"#N/A"},{"$error":"#N/A"},{"$error":"#N/A"},{"$error":"#N/A"},{"$error":"#N/A"}]
["Plunge",{"$f":"IFERROR(IF(INDEX(B$161:B$167, MATCH(B224&\" DMG%\", $A$161:$A$167, 0), 1)=\"\", 0,INDEX(B$161:B$167, MATCH(B224&\" DMG%\", $A$161:$A$167, 0), 1)),0)+B$238+B$241","v":0},{"$f":"IFERROR(IF(INDEX(C$161:C$167, MATCH(C224&\" DMG%\", $A$161:$A$167, 0), 1)=\"\", 0,INDEX(C$161:C$167, MATCH(C224&\" DMG%\", $A$161:$A$167, 0), 1)),0)+C$238+C$241","v":0},{"$f":"IFERROR(IF(INDEX(D$161:D$167, MATCH(D224&\" DMG%\", $A$161:$A$167, 0), 1)=\"\", 0,INDEX(D$161:D$167, MATCH(D224&\" DMG%\", $A$161:$A$167, 0), 1)),0)+D$238+D$241","v":0},0,{"$f":"IFERROR(IF(INDEX(F$161:F$167, MATCH(F224&\" DMG%\", $A$161:$A$167, 0), 1)=\"\", 0,INDEX(F$161:F$167, MATCH(F224&\" DMG%\", $A$161:$A$167, 0), 1)),0)+F$238+F$241","v":0},0,{"$f":"IFERROR(IF(INDEX(H$161:H$167, MATCH(H224&\" DMG%\", $A$161:$A$167, 0), 1)=\"\", 0,INDEX(H$161:H$167, MATCH(H224&\" DMG%\", $A$161:$A$167, 0), 1)),0)+H$238+H$241","v":1.1160000000000001},1.1160000000000001,{"$f":"IFERROR(IF(INDEX(J$161:J$167, MATCH(J224&\" DMG%\", $A$161:$A$167, 0), 1)=\"\", 0,INDEX(J$161:J$167, MATCH(J224&\" DMG%\", $A$161:$A$167, 0), 1)),0)+J$238+J$241","v":1.1160000000000001},1.1910000000000001,{"$f":"IFERROR(IF(INDEX(L$161:L$167, MATCH(L224&\" DMG%\", $A$161:$A$167, 0), 1)=\"\", 0,INDEX(L$161:L$167, MATCH(L224&\" DMG%\", $A$161:$A$167, 0), 1)),0)+L$238+L$241","v":1.1910000000000001},1.1910000000000001,1.266,{"$f":"IFERROR(IF(INDEX(O$161:O$167, MATCH(O224&\" DMG%\", $A$161:$A$167, 0), 1)=\"\", 0,INDEX(O$161:O$167, MATCH(O224&\" DMG%\", $A$161:$A$167, 0), 1)),0)+O$238+O$241","v":1.266},{"$f":"IFERROR(IF(INDEX(P$161:P$167, MATCH(P224&\" DMG%\", $A$161:$A$167, 0), 1)=\"\", 0,INDEX(P$161:P$167, MATCH(P224&\" DMG%\", $A$161:$A$167, 0), 1)),0)+P$238+P$241","v":1.266},1.3410000000000002,{"$f":"IFERROR(IF(INDEX(R$161:R$167, MATCH(R224&\" DMG%\", $A$161:$A$167, 0), 1)=\"\", 0,INDEX(R$161:R$167, MATCH(R224&\" DMG%\", $A$161:$A$167, 0), 1)),0)+R$238+R$241","v":1.3410000000000002},1.3410000000000002,1.3410000000000002,1.3410000000000002,null,{"$f":"IFERROR(IF(INDEX(W$161:W$167, MATCH(W224&\" DMG%\", $A$161:$A$167, 0), 1)=\"\", 0,INDEX(W$161:W$167, MATCH(W224&\" DMG%\", $A$161:$A$167, 0), 1)),0)+W$238+W$241","v":0},{"$f":"IFERROR(IF(INDEX(X$161:X$167, MATCH(X224&\" DMG%\", $A$161:$A$167, 0), 1)=\"\", 0,INDEX(X$161:X$167, MATCH(X224&\" DMG%\", $A$161:$A$167, 0), 1)),0)+X$238+X$241","v":0},{"$f":"IFERROR(IF(INDEX(Y$161:Y$167, MATCH(Y224&\" DMG%\", $A$161:$A$167, 0), 1)=\"\", 0,INDEX(Y$161:Y$167, MATCH(Y224&\" DMG%\", $A$161:$A$167, 0), 1)),0)+Y$238+Y$241","v":0.8},0.8,0.8,{"$f":"IFERROR(IF(INDEX(AB$161:AB$167, MATCH(AB224&\" DMG%\", $A$161:$A$167, 0), 1)=\"\", 0,INDEX(AB$161:AB$167, MATCH(AB224&\" DMG%\", $A$161:$A$167, 0), 1)),0)+AB$238+AB$241","v":1.3410000000000002},{"$f":"IFERROR(IF(INDEX(AC$161:AC$167, MATCH(AC224&\" DMG%\", $A$161:$A$167, 0), 1)=\"\", 0,INDEX(AC$161:AC$167, MATCH(AC224&\" DMG%\", $A$161:$A$167, 0), 1)),0)+AC$238+AC$241","v":1.3410000000000002},0,0.3,{"$f":"IFERROR(IF(INDEX(AF$161:AF$167, MATCH(AF224&\" DMG%\", $A$161:$A$167, 0), 1)=\"\", 0,INDEX(AF$161:AF$167, MATCH(AF224&\" DMG%\", $A$161:$A$167, 0), 1)),0)+AF$238+AF$241","v":{"$error":"#N/A"}},{"$error":"#N/A"},{"$error":"#N/A"},{"$error":"#N/A"},{"$error":"#N/A"},{"$error":"#N/A"},{"$error":"#N/A"},{"$error":"#N/A"},{"$error":"#N/A"},{"$error":"#N/A"},{"$error":"#N/A"},{"$error":"#N/A"},{"$error":"#N/A"},{"$error":"#N/A"},{"$error":"#N/A"},{"$error":"#N/A"},{"$error":"#N/A"},{"$error":"#N/A"},{"$error":"#N/A"},{"$error":"#N/A"},{"$error":"#N/A"},{"$error":"#N/A"},{"$error":"#N/A"},{"$error":"#N/A"},{"$error":"#N/A"},{"$error":"#N/A"},{"$error":"#N/A"}]
["Skill",{"$f":"IFERROR(IF(INDEX(B$161:B$167, MATCH(B225&\" DMG%\", $A$161:$A$167, 0), 1)=\"\", 0,INDEX(B$161:B$167, MATCH(B225&\" DMG%\", $A$161:$A$167, 0), 1)),0)+B$238+B$242","v":0.46600000000000003},{"$f":"IFERROR(IF(INDEX(C$161:C$167, MATCH(C225&\" DMG%\", $A$161:$A$167, 0), 1)=\"\", 0,INDEX(C$161:C$167, MATCH(C225&\" DMG%\", $A$161:$A$167, 0), 1)),0)+C$238+C$242","v":0.46600000000000003},{"$f":"IFERROR(IF(INDEX(D$161:D$167, MATCH(D225&\" DMG%\", $A$161:$A$167, 0), 1)=\"\", 0,INDEX(D$161:D$167, MATCH(D225&\" DMG%\", $A$161:$A$167, 0), 1)),0)+D$238+D$242","v":0.46600000000000003},0.46600000000000003,{"$f":"IFERROR(IF(INDEX(F$161:F$167, MATCH(F225&\" DMG%\", $A$161:$A$167, 0), 1)=\"\", 0,INDEX(F$161:F$167, MATCH(F225&\" DMG%\", $A$161:$A$167, 0), 1)),0)+F$238+F$242","v":0.46600000000000003},0.46600000000000003,{"$f":"IFERROR(IF(INDEX(H$161:H$167, MATCH(H225&\" DMG%\", $A$161:$A$167, 0), 1)=\"\", 0,INDEX(H$161:H$167, MATCH(H225&\" DMG%\", $A$161:$A$167, 0), 1)),0)+H$238+H$242","v":1.1160000000000001},1.1160000000000001,{"$f":"IFERROR(IF(INDEX(J$161:J$167, MATCH(J225&\" DMG%\", $A$161:$A$167, 0), 1)=\"\", 0,INDEX(J$161:J$167, MATCH(J225&\" DMG%\", $A$161:$A$167, 0), 1)),0)+J$238+J$242","v":1.1160000000000001},1.1910000000000001,{"$f":"IFERROR(IF(INDEX(L$161:L$167, MATCH(L225&\" DMG%\", $A$161:$A$167, 0), 1)=\"\", 0,INDEX(L$161:L$167, MATCH(L225&\" DMG%\", $A$161:$A$167, 0), 1)),0)+L$238+L$242","v":1.1910000000000001},1.1910000000000001,1.266,{"$f":"IFERROR(IF(INDEX(O$161:O$167, MATCH(O225&\" DMG%\", $A$161:$A$167, 0), 1)=\"\", 0,INDEX(O$161:O$167, MATCH(O225&\" DMG%\", $A$161:$A$167, 0), 1)),0)+O$238+O$242","v":1.266},{"$f":"IFERROR(IF(INDEX(P$161:P$167, MATCH(P225&\" DMG%\", $A$161:$A$167, 0), 1)=\"\", 0,INDEX(P$161:P$167, MATCH(P225&\" DMG%\", $A$161:$A$167, 0), 1)),0)+P$238+P$242","v":1.266},1.3410000000000002,{"$f":"IFERROR(IF(INDEX(R$161:R$167, MATCH(R225&\" DMG%\", $A$161:$A$167, 0), 1)=\"\", 0,INDEX(R$161:R$167, MATCH(R225&\" DMG%\", $A$161:$A$167, 0), 1)),0)+R$238+R$242","v":1.3410000000000002},1.3410000000000002,1.3410000000000002,1.3410000000000002,null,{"$f":"IFERROR(IF(INDEX(W$161:W$167, MATCH(W225&\" DMG%\", $A$161:$A$167, 0), 1)=\"\", 0,INDEX(W$161:W$167, MATCH(W225&\" DMG%\", $A$161:$A$167, 0), 1)),0)+W$238+W$242","v":0.46600000000000003},{"$f":"IFERROR(IF(INDEX(X$161:X$167, MATCH(X225&\" DMG%\", $A$161:$A$167, 0), 1)=\"\", 0,INDEX(X$161:X$167, MATCH(X225&\" DMG%\", $A$161:$A$167, 0), 1)),0)+X$238+X$242","v":0.46600000000000003},{"$f":"IFERROR(IF(INDEX(Y$161:Y$167, MATCH(Y225&\" DMG%\", $A$161:$A$167, 0), 1)=\"\", 0,INDEX(Y$161:Y$167, MATCH(Y225&\" DMG%\", $A$161:$A$167, 0), 1)),0)+Y$238+Y$242","v":1.0880000000000001},1.0880000000000001,1.0880000000000001,{"$f":"IFERROR(IF(INDEX(AB$161:AB$167, MATCH(AB225&\" DMG%\", $A$161:$A$167, 0), 1)=\"\", 0,INDEX(AB$161:AB$167, MATCH(AB225&\" DMG%\", $A$161:$A$167, 0), 1)),0)+AB$238+AB$242","v":1.3410000000000002},{"$f":"IFERROR(IF(INDEX(AC$161:AC$167, MATCH(AC225&\" DMG%\", $A$161:$A$167, 0), 1)=\"\", 0,INDEX(AC$161:AC$167, MATCH(AC225&\" DMG%\", $A$161:$A$167, 0), 1)),0)+AC$238+AC$242","v":1.3410000000000002},0.46600000000000003,0.3,{"$f":"IFERROR(IF(INDEX(AF$161:AF$167, MATCH(AF225&\" DMG%\", $A$161:$A$167, 0), 1)=\"\", 0,INDEX(AF$161:AF$167, MATCH(AF225&\" DMG%\", $A$161:$A$167, 0), 1)),0)+AF$238+AF$242","v":{"$error":"#N/A"}},{"$error":"#N/A"},{"$error":"#N/A"},{"$error":"#N/A"},{"$error":"#N/A"},{"$error":"#N/A"},{"$error":"#N/A"},{"$error":"#N/A"},{"$error":"#N/A"},{"$error":"#N/A"},{"$error":"#N/A"},{"$error":"#N/A"},{"$error":"#N/A"},{"$error":"#N/A"},{"$error":"#N/A"},{"$error":"#N/A"},{"$error":"#N/A"},{"$error":"#N/A"},{"$error":"#N/A"},{"$error":"#N/A"},{"$error":"#N/A"},{"$error":"#N/A"},{"$error":"#N/A"},{"$error":"#N/A"},{"$error":"#N/A"},{"$error":"#N/A"},{"$error":"#N/A"}]
["Skill Echo",{"$f":"IFERROR(IF(INDEX(B$161:B$167, MATCH(B226&\" DMG%\", $A$161:$A$167, 0), 1)=\"\", 0,INDEX(B$161:B$167, MATCH(B226&\" DMG%\", $A$161:$A$167, 0), 1)),0)+B$238+INDEX(B239:B243, MATCH(HLOOKUP('Rotation Assembler'!B$38, Lookups!$I$30:$M$32, 2, 0)&\" DMG%\", $A$239:$A$243, 0), 1)","v":0.46600000000000003},{"$f":"IFERROR(IF(INDEX(C$161:C$167, MATCH(C226&\" DMG%\", $A$161:$A$167, 0), 1)=\"\", 0,INDEX(C$161:C$167, MATCH(C226&\" DMG%\", $A$161:$A$167, 0), 1)),0)+C$238+INDEX(C239:C243, MATCH(HLOOKUP('Rotation Assembler'!C$38, Lookups!$I$30:$M$32, 2, 0)&\" DMG%\", $A$239:$A$243, 0), 1)","v":0.46600000000000003},{"$f":"IFERROR(IF(INDEX(D$161:D$167, MATCH(D226&\" DMG%\", $A$161:$A$167, 0), 1)=\"\", 0,INDEX(D$161:D$167, MATCH(D226&\" DMG%\", $A$161:$A$167, 0), 1)),0)+D$238+INDEX(D239:D243, MATCH(HLOOKUP('Rotation Assembler'!D$38, Lookups!$I$30:$M$32, 2, 0)&\" DMG%\", $A$239:$A$243, 0), 1)","v":0.46600000000000003},{"$f":"IFERROR(IF(INDEX(E$161:E$167, MATCH(E226&\" DMG%\", $A$161:$A$167, 0), 1)=\"\", 0,INDEX(E$161:E$167, MATCH(E226&\" DMG%\", $A$161:$A$167, 0), 1)),0)+E$238+INDEX(E239:E243, MATCH(HLOOKUP('Rotation Assembler'!E$38, Lookups!$I$30:$M$32, 2, 0)&\" DMG%\", $A$239:$A$243, 0), 1)","v":0.46600000000000003},{"$f":"IFERROR(IF(INDEX(F$161:F$167, MATCH(F226&\" DMG%\", $A$161:$A$167, 0), 1)=\"\", 0,INDEX(F$161:F$167, MATCH(F226&\" DMG%\", $A$161:$A$167, 0), 1)),0)+F$238+INDEX(F239:F243, MATCH(HLOOKUP('Rotation Assembler'!F$38, Lookups!$I$30:$M$32, 2, 0)&\" DMG%\", $A$239:$A$243, 0), 1)","v":0.46600000000000003},{"$f":"IFERROR(IF(INDEX(G$161:G$167, MATCH(G226&\" DMG%\", $A$161:$A$167, 0), 1)=\"\", 0,INDEX(G$161:G$167, MATCH(G226&\" DMG%\", $A$161:$A$167, 0), 1)),0)+G$238+INDEX(G239:G243, MATCH(HLOOKUP('Rotation Assembler'!G$38, Lookups!$I$30:$M$32, 2, 0)&\" DMG%\", $A$239:$A$243, 0), 1)","v":0.46600000000000003},{"$f":"IFERROR(IF(INDEX(H$161:H$167, MATCH(H226&\" DMG%\", $A$161:$A$167, 0), 1)=\"\", 0,INDEX(H$161:H$167, MATCH(H226&\" DMG%\", $A$161:$A$167, 0), 1)),0)+H$238+INDEX(H239:H243, MATCH(HLOOKUP('Rotation Assembler'!H$38, Lookups!$I$30:$M$32, 2, 0)&\" DMG%\", $A$239:$A$243, 0), 1)","v":1.1160000000000001},{"$f":"IFERROR(IF(INDEX(I$161:I$167, MATCH(I226&\" DMG%\", $A$161:$A$167, 0), 1)=\"\", 0,INDEX(I$161:I$167, MATCH(I226&\" DMG%\", $A$161:$A$167, 0), 1)),0)+I$238+INDEX(I239:I243, MATCH(HLOOKUP('Rotation Assembler'!I$38, Lookups!$I$30:$M$32, 2, 0)&\" DMG%\", $A$239:$A$243, 0), 1)","v":1.1160000000000001},{"$f":"IFERROR(IF(INDEX(J$161:J$167, MATCH(J226&\" DMG%\", $A$161:$A$167, 0), 1)=\"\", 0,INDEX(J$161:J$167, MATCH(J226&\" DMG%\", $A$161:$A$167, 0), 1)),0)+J$238+INDEX(J239:J243, MATCH(HLOOKUP('Rotation Assembler'!J$38, Lookups!$I$30:$M$32, 2, 0)&\" DMG%\", $A$239:$A$243, 0), 1)","v":1.1160000000000001},{"$f":"IFERROR(IF(INDEX(K$161:K$167, MATCH(K226&\" DMG%\", $A$161:$A$167, 0), 1)=\"\", 0,INDEX(K$161:K$167, MATCH(K226&\" DMG%\", $A$161:$A$167, 0), 1)),0)+K$238+INDEX(K239:K243, MATCH(HLOOKUP('Rotation Assembler'!K$38, Lookups!$I$30:$M$32, 2, 0)&\" DMG%\", $A$239:$A$243, 0), 1)","v":1.1910000000000001},{"$f":"IFERROR(IF(INDEX(L$161:L$167, MATCH(L226&\" DMG%\", $A$161:$A$167, 0), 1)=\"\", 0,INDEX(L$161:L$167, MATCH(L226&\" DMG%\", $A$161:$A$167, 0), 1)),0)+L$238+INDEX(L239:L243, MATCH(HLOOKUP('Rotation Assembler'!L$38, Lookups!$I$30:$M$32, 2, 0)&\" DMG%\", $A$239:$A$243, 0), 1)","v":1.1910000000000001},{"$f":"IFERROR(IF(INDEX(M$161:M$167, MATCH(M226&\" DMG%\", $A$161:$A$167, 0), 1)=\"\", 0,INDEX(M$161:M$167, MATCH(M226&\" DMG%\", $A$161:$A$167, 0), 1)),0)+M$238+INDEX(M239:M243, MATCH(HLOOKUP('Rotation Assembler'!M$38, Lookups!$I$30:$M$32, 2, 0)&\" DMG%\", $A$239:$A$243, 0), 1)","v":1.1910000000000001},{"$f":"IFERROR(IF(INDEX(N$161:N$167, MATCH(N226&\" DMG%\", $A$161:$A$167, 0), 1)=\"\", 0,INDEX(N$161:N$167, MATCH(N226&\" DMG%\", $A$161:$A$167, 0), 1)),0)+N$238+INDEX(N239:N243, MATCH(HLOOKUP('Rotation Assembler'!N$38, Lookups!$I$30:$M$32, 2, 0)&\" DMG%\", $A$239:$A$243, 0), 1)","v":1.266},{"$f":"IFERROR(IF(INDEX(O$161:O$167, MATCH(O226&\" DMG%\", $A$161:$A$167, 0), 1)=\"\", 0,INDEX(O$161:O$167, MATCH(O226&\" DMG%\", $A$161:$A$167, 0), 1)),0)+O$238+INDEX(O239:O243, MATCH(HLOOKUP('Rotation Assembler'!O$38, Lookups!$I$30:$M$32, 2, 0)&\" DMG%\", $A$239:$A$243, 0), 1)","v":1.266},{"$f":"IFERROR(IF(INDEX(P$161:P$167, MATCH(P226&\" DMG%\", $A$161:$A$167, 0), 1)=\"\", 0,INDEX(P$161:P$167, MATCH(P226&\" DMG%\", $A$161:$A$167, 0), 1)),0)+P$238+INDEX(P239:P243, MATCH(HLOOKUP('Rotation Assembler'!P$38, Lookups!$I$30:$M$32, 2, 0)&\" DMG%\", $A$239:$A$243, 0), 1)","v":1.266},{"$f":"IFERROR(IF(INDEX(Q$161:Q$167, MATCH(Q226&\" DMG%\", $A$161:$A$167, 0), 1)=\"\", 0,INDEX(Q$161:Q$167, MATCH(Q226&\" DMG%\", $A$161:$A$167, 0), 1)),0)+Q$238+INDEX(Q239:Q243, MATCH(HLOOKUP('Rotation Assembler'!Q$38, Lookups!$I$30:$M$32, 2, 0)&\" DMG%\", $A$239:$A$243, 0), 1)","v":1.3410000000000002},{"$f":"IFERROR(IF(INDEX(R$161:R$167, MATCH(R226&\" DMG%\", $A$161:$A$167, 0), 1)=\"\", 0,INDEX(R$161:R$167, MATCH(R226&\" DMG%\", $A$161:$A$167, 0), 1)),0)+R$238+INDEX(R239:R243, MATCH(HLOOKUP('Rotation Assembler'!R$38, Lookups!$I$30:$M$32, 2, 0)&\" DMG%\", $A$239:$A$243, 0), 1)","v":1.3410000000000002},{"$f":"IFERROR(IF(INDEX(S$161:S$167, MATCH(S226&\" DMG%\", $A$161:$A$167, 0), 1)=\"\", 0,INDEX(S$161:S$167, MATCH(S226&\" DMG%\", $A$161:$A$167, 0), 1)),0)+S$238+INDEX(S239:S243, MATCH(HLOOKUP('Rotation Assembler'!S$38, Lookups!$I$30:$M$32, 2, 0)&\" DMG%\", $A$239:$A$243, 0), 1)","v":1.3410000000000002},{"$f":"IFERROR(IF(INDEX(T$161:T$167, MATCH(T226&\" DMG%\", $A$161:$A$167, 0), 1)=\"\", 0,INDEX(T$161:T$167, MATCH(T226&\" DMG%\", $A$161:$A$167, 0), 1)),0)+T$238+INDEX(T239:T243, MATCH(HLOOKUP('Rotation Assembler'!T$38, Lookups!$I$30:$M$32, 2, 0)&\" DMG%\", $A$239:$A$243, 0), 1)","v":1.3410000000000002},{"$f":"IFERROR(IF(INDEX(U$161:U$167, MATCH(U226&\" DMG%\", $A$161:$A$167, 0), 1)=\"\", 0,INDEX(U$161:U$167, MATCH(U226&\" DMG%\", $A$161:$A$167, 0), 1)),0)+U$238+INDEX(U239:U243, MATCH(HLOOKUP('Rotation Assembler'!U$38, Lookups!$I$30:$M$32, 2, 0)&\" DMG%\", $A$239:$A$243, 0), 1)","v":1.3410000000000002},null,{"$f":"IFERROR(IF(INDEX(W$161:W$167, MATCH(W226&\" DMG%\", $A$161:$A$167, 0), 1)=\"\", 0,INDEX(W$161:W$167, MATCH(W226&\" DMG%\", $A$161:$A$167, 0), 1)),0)+W$238+INDEX(W239:W243, MATCH(HLOOKUP('Rotation Assembler'!W$38, Lookups!$I$30:$M$32, 2, 0)&\" DMG%\", $A$239:$A$243, 0), 1)","v":0.46600000000000003},{"$f":"IFERROR(IF(INDEX(X$161:X$167, MATCH(X226&\" DMG%\", $A$161:$A$167, 0), 1)=\"\", 0,INDEX(X$161:X$167, MATCH(X226&\" DMG%\", $A$161:$A$167, 0), 1)),0)+X$238+INDEX(X239:X243, MATCH(HLOOKUP('Rotation Assembler'!X$38, Lookups!$I$30:$M$32, 2, 0)&\" DMG%\", $A$239:$A$243, 0), 1)","v":0.46600000000000003},{"$f":"IFERROR(IF(INDEX(Y$161:Y$167, MATCH(Y226&\" DMG%\", $A$161:$A$167, 0), 1)=\"\", 0,INDEX(Y$161:Y$167, MATCH(Y226&\" DMG%\", $A$161:$A$167, 0), 1)),0)+Y$238+INDEX(Y239:Y243, MATCH(HLOOKUP('Rotation Assembler'!Y$38, Lookups!$I$30:$M$32, 2, 0)&\" DMG%\", $A$239:$A$243, 0), 1)","v":1.0880000000000001},{"$f":"IFERROR(IF(INDEX(Z$161:Z$167, MATCH(Z226&\" DMG%\", $A$161:$A$167, 0), 1)=\"\", 0,INDEX(Z$161:Z$167, MATCH(Z226&\" DMG%\", $A$161:$A$167, 0), 1)),0)+Z$238+INDEX(Z239:Z243, MATCH(HLOOKUP('Rotation Assembler'!Z$38, Lookups!$I$30:$M$32, 2, 0)&\" DMG%\", $A$239:$A$243, 0), 1)","v":1.0880000000000001},{"$f":"IFERROR(IF(INDEX(AA$161:AA$167, MATCH(AA226&\" DMG%\", $A$161:$A$167, 0), 1)=\"\", 0,INDEX(AA$161:AA$167, MATCH(AA226&\" DMG%\", $A$161:$A$167, 0), 1)),0)+AA$238+INDEX(AA239:AA243, MATCH(HLOOKUP('Rotation Assembler'!AA$38, Lookups!$I$30:$M$32, 2, 0)&\" DMG%\", $A$239:$A$243, 0), 1)","v":1.0880000000000001},{"$f":"IFERROR(IF(INDEX(AB$161:AB$167, MATCH(AB226&\" DMG%\", $A$161:$A$167, 0), 1)=\"\", 0,INDEX(AB$161:AB$167, MATCH(AB226&\" DMG%\", $A$161:$A$167, 0), 1)),0)+AB$238+INDEX(AB239:AB243, MATCH(HLOOKUP('Rotation Assembler'!AB$38, Lookups!$I$30:$M$32, 2, 0)&\" DMG%\", $A$239:$A$243, 0), 1)","v":1.3410000000000002},{"$f":"IFERROR(IF(INDEX(AC$161:AC$167, MATCH(AC226&\" DMG%\", $A$161:$A$167, 0), 1)=\"\", 0,INDEX(AC$161:AC$167, MATCH(AC226&\" DMG%\", $A$161:$A$167, 0), 1)),0)+AC$238+INDEX(AC239:AC243, MATCH(HLOOKUP('Rotation Assembler'!AC$38, Lookups!$I$30:$M$32, 2, 0)&\" DMG%\", $A$239:$A$243, 0), 1)","v":1.3410000000000002},{"$f":"IFERROR(IF(INDEX(AD$161:AD$167, MATCH(AD226&\" DMG%\", $A$161:$A$167, 0), 1)=\"\", 0,INDEX(AD$161:AD$167, MATCH(AD226&\" DMG%\", $A$161:$A$167, 0), 1)),0)+AD$238+INDEX(AD239:AD243, MATCH(HLOOKUP('Rotation Assembler'!AD$38, Lookups!$I$30:$M$32, 2, 0)&\" DMG%\", $A$239:$A$243, 0), 1)","v":0.46600000000000003},{"$f":"IFERROR(IF(INDEX(AE$161:AE$167, MATCH(AE226&\" DMG%\", $A$161:$A$167, 0), 1)=\"\", 0,INDEX(AE$161:AE$167, MATCH(AE226&\" DMG%\", $A$161:$A$167, 0), 1)),0)+AE$238+INDEX(AE239:AE243, MATCH(HLOOKUP('Rotation Assembler'!AE$38, Lookups!$I$30:$M$32, 2, 0)&\" DMG%\", $A$239:$A$243, 0), 1)","v":0.3},{"$f":"IFERROR(IF(INDEX(AF$161:AF$167, MATCH(AF226&\" DMG%\", $A$161:$A$167, 0), 1)=\"\", 0,INDEX(AF$161:AF$167, MATCH(AF226&\" DMG%\", $A$161:$A$167, 0), 1)),0)+AF$238+INDEX(AF239:AF243, MATCH(HLOOKUP('Rotation Assembler'!AF$38, Lookups!$I$30:$M$32, 2, 0)&\" DMG%\", $A$239:$A$243, 0), 1)","v":{"$error":"#N/A"}},{"$f":"IFERROR(IF(INDEX(AG$161:AG$167, MATCH(AG226&\" DMG%\", $A$161:$A$167, 0), 1)=\"\", 0,INDEX(AG$161:AG$167, MATCH(AG226&\" DMG%\", $A$161:$A$167, 0), 1)),0)+AG$238+INDEX(AG239:AG243, MATCH(HLOOKUP('Rotation Assembler'!AG$38, Lookups!$I$30:$M$32, 2, 0)&\" DMG%\", $A$239:$A$243, 0), 1)","v":{"$error":"#N/A"}},{"$f":"IFERROR(IF(INDEX(AH$161:AH$167, MATCH(AH226&\" DMG%\", $A$161:$A$167, 0), 1)=\"\", 0,INDEX(AH$161:AH$167, MATCH(AH226&\" DMG%\", $A$161:$A$167, 0), 1)),0)+AH$238+INDEX(AH239:AH243, MATCH(HLOOKUP('Rotation Assembler'!AH$38, Lookups!$I$30:$M$32, 2, 0)&\" DMG%\", $A$239:$A$243, 0), 1)","v":{"$error":"#N/A"}},{"$f":"IFERROR(IF(INDEX(AI$161:AI$167, MATCH(AI226&\" DMG%\", $A$161:$A$167, 0), 1)=\"\", 0,INDEX(AI$161:AI$167, MATCH(AI226&\" DMG%\", $A$161:$A$167, 0), 1)),0)+AI$238+INDEX(AI239:AI243, MATCH(HLOOKUP('Rotation Assembler'!AI$38, Lookups!$I$30:$M$32, 2, 0)&\" DMG%\", $A$239:$A$243, 0), 1)","v":{"$error":"#N/A"}},{"$f":"IFERROR(IF(INDEX(AJ$161:AJ$167, MATCH(AJ226&\" DMG%\", $A$161:$A$167, 0), 1)=\"\", 0,INDEX(AJ$161:AJ$167, MATCH(AJ226&\" DMG%\", $A$161:$A$167, 0), 1)),0)+AJ$238+INDEX(AJ239:AJ243, MATCH(HLOOKUP('Rotation Assembler'!AJ$38, Lookups!$I$30:$M$32, 2, 0)&\" DMG%\", $A$239:$A$243, 0), 1)","v":{"$error":"#N/A"}},{"$f":"IFERROR(IF(INDEX(AK$161:AK$167, MATCH(AK226&\" DMG%\", $A$161:$A$167, 0), 1)=\"\", 0,INDEX(AK$161:AK$167, MATCH(AK226&\" DMG%\", $A$161:$A$167, 0), 1)),0)+AK$238+INDEX(AK239:AK243, MATCH(HLOOKUP('Rotation Assembler'!AK$38, Lookups!$I$30:$M$32, 2, 0)&\" DMG%\", $A$239:$A$243, 0), 1)","v":{"$error":"#N/A"}},{"$f":"IFERROR(IF(INDEX(AL$161:AL$167, MATCH(AL226&\" DMG%\", $A$161:$A$167, 0), 1)=\"\", 0,INDEX(AL$161:AL$167, MATCH(AL226&\" DMG%\", $A$161:$A$167, 0), 1)),0)+AL$238+INDEX(AL239:AL243, MATCH(HLOOKUP('Rotation Assembler'!AL$38, Lookups!$I$30:$M$32, 2, 0)&\" DMG%\", $A$239:$A$243, 0), 1)","v":{"$error":"#N/A"}},{"$f":"IFERROR(IF(INDEX(AM$161:AM$167, MATCH(AM226&\" DMG%\", $A$161:$A$167, 0), 1)=\"\", 0,INDEX(AM$161:AM$167, MATCH(AM226&\" DMG%\", $A$161:$A$167, 0), 1)),0)+AM$238+INDEX(AM239:AM243, MATCH(HLOOKUP('Rotation Assembler'!AM$38, Lookups!$I$30:$M$32, 2, 0)&\" DMG%\", $A$239:$A$243, 0), 1)","v":{"$error":"#N/A"}},{"$f":"IFERROR(IF(INDEX(AN$161:AN$167, MATCH(AN226&\" DMG%\", $A$161:$A$167, 0), 1)=\"\", 0,INDEX(AN$161:AN$167, MATCH(AN226&\" DMG%\", $A$161:$A$167, 0), 1)),0)+AN$238+INDEX(AN239:AN243, MATCH(HLOOKUP('Rotation Assembler'!AN$38, Lookups!$I$30:$M$32, 2, 0)&\" DMG%\", $A$239:$A$243, 0), 1)","v":{"$error":"#N/A"}},{"$f":"IFERROR(IF(INDEX(AO$161:AO$167, MATCH(AO226&\" DMG%\", $A$161:$A$167, 0), 1)=\"\", 0,INDEX(AO$161:AO$167, MATCH(AO226&\" DMG%\", $A$161:$A$167, 0), 1)),0)+AO$238+INDEX(AO239:AO243, MATCH(HLOOKUP('Rotation Assembler'!AO$38, Lookups!$I$30:$M$32, 2, 0)&\" DMG%\", $A$239:$A$243, 0), 1)","v":{"$error":"#N/A"}},{"$f":"IFERROR(IF(INDEX(AP$161:AP$167, MATCH(AP226&\" DMG%\", $A$161:$A$167, 0), 1)=\"\", 0,INDEX(AP$161:AP$167, MATCH(AP226&\" DMG%\", $A$161:$A$167, 0), 1)),0)+AP$238+INDEX(AP239:AP243, MATCH(HLOOKUP('Rotation Assembler'!AP$38, Lookups!$I$30:$M$32, 2, 0)&\" DMG%\", $A$239:$A$243, 0), 1)","v":{"$error":"#N/A"}},{"$f":"IFERROR(IF(INDEX(AQ$161:AQ$167, MATCH(AQ226&\" DMG%\", $A$161:$A$167, 0), 1)=\"\", 0,INDEX(AQ$161:AQ$167, MATCH(AQ226&\" DMG%\", $A$161:$A$167, 0), 1)),0)+AQ$238+INDEX(AQ239:AQ243, MATCH(HLOOKUP('Rotation Assembler'!AQ$38, Lookups!$I$30:$M$32, 2, 0)&\" DMG%\", $A$239:$A$243, 0), 1)","v":{"$error":"#N/A"}},{"$f":"IFERROR(IF(INDEX(AR$161:AR$167, MATCH(AR226&\" DMG%\", $A$161:$A$167, 0), 1)=\"\", 0,INDEX(AR$161:AR$167, MATCH(AR226&\" DMG%\", $A$161:$A$167, 0), 1)),0)+AR$238+INDEX(AR239:AR243, MATCH(HLOOKUP('Rotation Assembler'!AR$38, Lookups!$I$30:$M$32, 2, 0)&\" DMG%\", $A$239:$A$243, 0), 1)","v":{"$error":"#N/A"}},{"$f":"IFERROR(IF(INDEX(AS$161:AS$167, MATCH(AS226&\" DMG%\", $A$161:$A$167, 0), 1)=\"\", 0,INDEX(AS$161:AS$167, MATCH(AS226&\" DMG%\", $A$161:$A$167, 0), 1)),0)+AS$238+INDEX(AS239:AS243, MATCH(HLOOKUP('Rotation Assembler'!AS$38, Lookups!$I$30:$M$32, 2, 0)&\" DMG%\", $A$239:$A$243, 0), 1)","v":{"$error":"#N/A"}},{"$f":"IFERROR(IF(INDEX(AT$161:AT$167, MATCH(AT226&\" DMG%\", $A$161:$A$167, 0), 1)=\"\", 0,INDEX(AT$161:AT$167, MATCH(AT226&\" DMG%\", $A$161:$A$167, 0), 1)),0)+AT$238+INDEX(AT239:AT243, MATCH(HLOOKUP('Rotation Assembler'!AT$38, Lookups!$I$30:$M$32, 2, 0)&\" DMG%\", $A$239:$A$243, 0), 1)","v":{"$error":"#N/A"}},{"$f":"IFERROR(IF(INDEX(AU$161:AU$167, MATCH(AU226&\" DMG%\", $A$161:$A$167, 0), 1)=\"\", 0,INDEX(AU$161:AU$167, MATCH(AU226&\" DMG%\", $A$161:$A$167, 0), 1)),0)+AU$238+INDEX(AU239:AU243, MATCH(HLOOKUP('Rotation Assembler'!AU$38, Lookups!$I$30:$M$32, 2, 0)&\" DMG%\", $A$239:$A$243, 0), 1)","v":{"$error":"#N/A"}},{"$f":"IFERROR(IF(INDEX(AV$161:AV$167, MATCH(AV226&\" DMG%\", $A$161:$A$167, 0), 1)=\"\", 0,INDEX(AV$161:AV$167, MATCH(AV226&\" DMG%\", $A$161:$A$167, 0), 1)),0)+AV$238+INDEX(AV239:AV243, MATCH(HLOOKUP('Rotation Assembler'!AV$38, Lookups!$I$30:$M$32, 2, 0)&\" DMG%\", $A$239:$A$243, 0), 1)","v":{"$error":"#N/A"}},{"$f":"IFERROR(IF(INDEX(AW$161:AW$167, MATCH(AW226&\" DMG%\", $A$161:$A$167, 0), 1)=\"\", 0,INDEX(AW$161:AW$167, MATCH(AW226&\" DMG%\", $A$161:$A$167, 0), 1)),0)+AW$238+INDEX(AW239:AW243, MATCH(HLOOKUP('Rotation Assembler'!AW$38, Lookups!$I$30:$M$32, 2, 0)&\" DMG%\", $A$239:$A$243, 0), 1)","v":{"$error":"#N/A"}},{"$f":"IFERROR(IF(INDEX(AX$161:AX$167, MATCH(AX226&\" DMG%\", $A$161:$A$167, 0), 1)=\"\", 0,INDEX(AX$161:AX$167, MATCH(AX226&\" DMG%\", $A$161:$A$167, 0), 1)),0)+AX$238+INDEX(AX239:AX243, MATCH(HLOOKUP('Rotation Assembler'!AX$38, Lookups!$I$30:$M$32, 2, 0)&\" DMG%\", $A$239:$A$243, 0), 1)","v":{"$error":"#N/A"}},{"$f":"IFERROR(IF(INDEX(AY$161:AY$167, MATCH(AY226&\" DMG%\", $A$161:$A$167, 0), 1)=\"\", 0,INDEX(AY$161:AY$167, MATCH(AY226&\" DMG%\", $A$161:$A$167, 0), 1)),0)+AY$238+INDEX(AY239:AY243, MATCH(HLOOKUP('Rotation Assembler'!AY$38, Lookups!$I$30:$M$32, 2, 0)&\" DMG%\", $A$239:$A$243, 0), 1)","v":{"$error":"#N/A"}},{"$f":"IFERROR(IF(INDEX(AZ$161:AZ$167, MATCH(AZ226&\" DMG%\", $A$161:$A$167, 0), 1)=\"\", 0,INDEX(AZ$161:AZ$167, MATCH(AZ226&\" DMG%\", $A$161:$A$167, 0), 1)),0)+AZ$238+INDEX(AZ239:AZ243, MATCH(HLOOKUP('Rotation Assembler'!AZ$38, Lookups!$I$30:$M$32, 2, 0)&\" DMG%\", $A$239:$A$243, 0), 1)","v":{"$error":"#N/A"}},{"$f":"IFERROR(IF(INDEX(BA$161:BA$167, MATCH(BA226&\" DMG%\", $A$161:$A$167, 0), 1)=\"\", 0,INDEX(BA$161:BA$167, MATCH(BA226&\" DMG%\", $A$161:$A$167, 0), 1)),0)+BA$238+INDEX(BA239:BA243, MATCH(HLOOKUP('Rotation Assembler'!BA$38, Lookups!$I$30:$M$32, 2, 0)&\" DMG%\", $A$239:$A$243, 0), 1)","v":{"$error":"#N/A"}},{"$f":"IFERROR(IF(INDEX(BB$161:BB$167, MATCH(BB226&\" DMG%\", $A$161:$A$167, 0), 1)=\"\", 0,INDEX(BB$161:BB$167, MATCH(BB226&\" DMG%\", $A$161:$A$167, 0), 1)),0)+BB$238+INDEX(BB239:BB243, MATCH(HLOOKUP('Rotation Assembler'!BB$38, Lookups!$I$30:$M$32, 2, 0)&\" DMG%\", $A$239:$A$243, 0), 1)","v":{"$error":"#N/A"}},{"$f":"IFERROR(IF(INDEX(BC$161:BC$167, MATCH(BC226&\" DMG%\", $A$161:$A$167, 0), 1)=\"\", 0,INDEX(BC$161:BC$167, MATCH(BC226&\" DMG%\", $A$161:$A$167, 0), 1)),0)+BC$238+INDEX(BC239:BC243, MATCH(HLOOKUP('Rotation Assembler'!BC$38, Lookups!$I$30:$M$32, 2, 0)&\" DMG%\", $A$239:$A$243, 0), 1)","v":{"$error":"#N/A"}},{"$f":"IFERROR(IF(INDEX(BD$161:BD$167, MATCH(BD226&\" DMG%\", $A$161:$A$167, 0), 1)=\"\", 0,INDEX(BD$161:BD$167, MATCH(BD226&\" DMG%\", $A$161:$A$167, 0), 1)),0)+BD$238+INDEX(BD239:BD243, MATCH(HLOOKUP('Rotation Assembler'!BD$38, Lookups!$I$30:$M$32, 2, 0)&\" DMG%\", $A$239:$A$243, 0), 1)","v":{"$error":"#N/A"}},{"$f":"IFERROR(IF(INDEX(BE$161:BE$167, MATCH(BE226&\" DMG%\", $A$161:$A$167, 0), 1)=\"\", 0,INDEX(BE$161:BE$167, MATCH(BE226&\" DMG%\", $A$161:$A$167, 0), 1)),0)+BE$238+INDEX(BE239:BE243, MATCH(HLOOKUP('Rotation Assembler'!BE$38, Lookups!$I$30:$M$32, 2, 0)&\" DMG%\", $A$239:$A$243, 0), 1)","v":{"$error":"#N/A"}},{"$f":"IFERROR(IF(INDEX(BF$161:BF$167, MATCH(BF226&\" DMG%\", $A$161:$A$167, 0), 1)=\"\", 0,INDEX(BF$161:BF$167, MATCH(BF226&\" DMG%\", $A$161:$A$167, 0), 1)),0)+BF$238+INDEX(BF239:BF243, MATCH(HLOOKUP('Rotation Assembler'!BF$38, Lookups!$I$30:$M$32, 2, 0)&\" DMG%\", $A$239:$A$243, 0), 1)","v":{"$error":"#N/A"}}]
["Burst",{"$f":"IFERROR(IF(INDEX(B$161:B$167, MATCH(B227&\" DMG%\", $A$161:$A$167, 0), 1)=\"\", 0,INDEX(B$161:B$167, MATCH(B227&\" DMG%\", $A$161:$A$167, 0), 1)),0)+B$238+B$243","v":0.98812499999999992},{"$f":"IFERROR(IF(INDEX(C$161:C$167, MATCH(C227&\" DMG%\", $A$161:$A$167, 0), 1)=\"\", 0,INDEX(C$161:C$167, MATCH(C227&\" DMG%\", $A$161:$A$167, 0), 1)),0)+C$238+C$243","v":0.98812499999999992},{"$f":"IFERROR(IF(INDEX(D$161:D$167, MATCH(D227&\" DMG%\", $A$161:$A$167, 0), 1)=\"\", 0,INDEX(D$161:D$167, MATCH(D227&\" DMG%\", $A$161:$A$167, 0), 1)),0)+D$238+D$243","v":0.66600000000000004},0.66600000000000004,{"$f":"IFERROR(IF(INDEX(F$161:F$167, MATCH(F227&\" DMG%\", $A$161:$A$167, 0), 1)=\"\", 0,INDEX(F$161:F$167, MATCH(F227&\" DMG%\", $A$161:$A$167, 0), 1)),0)+F$238+F$243","v":0.98812499999999992},0.98812499999999992,{"$f":"IFERROR(IF(INDEX(H$161:H$167, MATCH(H227&\" DMG%\", $A$161:$A$167, 0), 1)=\"\", 0,INDEX(H$161:H$167, MATCH(H227&\" DMG%\", $A$161:$A$167, 0), 1)),0)+H$238+H$243","v":1.1160000000000001},1.1160000000000001,{"$f":"IFERROR(IF(INDEX(J$161:J$167, MATCH(J227&\" DMG%\", $A$161:$A$167, 0), 1)=\"\", 0,INDEX(J$161:J$167, MATCH(J227&\" DMG%\", $A$161:$A$167, 0), 1)),0)+J$238+J$243","v":1.1160000000000001},1.1910000000000001,{"$f":"IFERROR(IF(INDEX(L$161:L$167, MATCH(L227&\" DMG%\", $A$161:$A$167, 0), 1)=\"\", 0,INDEX(L$161:L$167, MATCH(L227&\" DMG%\", $A$161:$A$167, 0), 1)),0)+L$238+L$243","v":1.1910000000000001},1.1910000000000001,1.266,{"$f":"IFERROR(IF(INDEX(O$161:O$167, MATCH(O227&\" DMG%\", $A$161:$A$167, 0), 1)=\"\", 0,INDEX(O$161:O$167, MATCH(O227&\" DMG%\", $A$161:$A$167, 0), 1)),0)+O$238+O$243","v":1.266},{"$f":"IFERROR(IF(INDEX(P$161:P$167, MATCH(P227&\" DMG%\", $A$161:$A$167, 0), 1)=\"\", 0,INDEX(P$161:P$167, MATCH(P227&\" DMG%\", $A$161:$A$167, 0), 1)),0)+P$238+P$243","v":1.266},1.3410000000000002,{"$f":"IFERROR(IF(INDEX(R$161:R$167, MATCH(R227&\" DMG%\", $A$161:$A$167, 0), 1)=\"\", 0,INDEX(R$161:R$167, MATCH(R227&\" DMG%\", $A$161:$A$167, 0), 1)),0)+R$238+R$243","v":1.3410000000000002},1.3410000000000002,1.3410000000000002,1.3410000000000002,null,{"$f":"IFERROR(IF(INDEX(W$161:W$167, MATCH(W227&\" DMG%\", $A$161:$A$167, 0), 1)=\"\", 0,INDEX(W$161:W$167, MATCH(W227&\" DMG%\", $A$161:$A$167, 0), 1)),0)+W$238+W$243","v":0.66600000000000004},{"$f":"IFERROR(IF(INDEX(X$161:X$167, MATCH(X227&\" DMG%\", $A$161:$A$167, 0), 1)=\"\", 0,INDEX(X$161:X$167, MATCH(X227&\" DMG%\", $A$161:$A$167, 0), 1)),0)+X$238+X$243","v":0.66600000000000004},{"$f":"IFERROR(IF(INDEX(Y$161:Y$167, MATCH(Y227&\" DMG%\", $A$161:$A$167, 0), 1)=\"\", 0,INDEX(Y$161:Y$167, MATCH(Y227&\" DMG%\", $A$161:$A$167, 0), 1)),0)+Y$238+Y$243","v":1.0880000000000001},1.0880000000000001,1.0880000000000001,{"$f":"IFERROR(IF(INDEX(AB$161:AB$167, MATCH(AB227&\" DMG%\", $A$161:$A$167, 0), 1)=\"\", 0,INDEX(AB$161:AB$167, MATCH(AB227&\" DMG%\", $A$161:$A$167, 0), 1)),0)+AB$238+AB$243","v":1.3410000000000002},{"$f":"IFERROR(IF(INDEX(AC$161:AC$167, MATCH(AC227&\" DMG%\", $A$161:$A$167, 0), 1)=\"\", 0,INDEX(AC$161:AC$167, MATCH(AC227&\" DMG%\", $A$161:$A$167, 0), 1)),0)+AC$238+AC$243","v":1.3410000000000002},0.98812499999999992,0.3,{"$f":"IFERROR(IF(INDEX(AF$161:AF$167, MATCH(AF227&\" DMG%\", $A$161:$A$167, 0), 1)=\"\", 0,INDEX(AF$161:AF$167, MATCH(AF227&\" DMG%\", $A$161:$A$167, 0), 1)),0)+AF$238+AF$243","v":{"$error":"#N/A"}},{"$error":"#N/A"},{"$error":"#N/A"},{"$error":"#N/A"},{"$error":"#N/A"},{"$error":"#N/A"},{"$error":"#N/A"},{"$error":"#N/A"},{"$error":"#N/A"},{"$error":"#N/A"},{"$error":"#N/A"},{"$error":"#N/A"},{"$error":"#N/A"},{"$error":"#N/A"},{"$error":"#N/A"},{"$error":"#N/A"},{"$error":"#N/A"},{"$error":"#N/A"},{"$error":"#N/A"},{"$error":"#N/A"},{"$error":"#N/A"},{"$error":"#N/A"},{"$error":"#N/A"},{"$error":"#N/A"},{"$error":"#N/A"},{"$error":"#N/A"},{"$error":"#N/A"}]
["Burst Echo",{"$f":"IFERROR(IF(INDEX(B$161:B$167, MATCH(B228&\" DMG%\", $A$161:$A$167, 0), 1)=\"\", 0,INDEX(B$161:B$167, MATCH(B228&\" DMG%\", $A$161:$A$167, 0), 1)),0)+B$238+INDEX(B239:B243, MATCH(HLOOKUP('Rotation Assembler'!B$38, Lookups!$I$30:$M$32, 3, 0)&\" DMG%\", $A$239:$A$243, 0), 1)","v":0.98812499999999992},{"$f":"IFERROR(IF(INDEX(C$161:C$167, MATCH(C228&\" DMG%\", $A$161:$A$167, 0), 1)=\"\", 0,INDEX(C$161:C$167, MATCH(C228&\" DMG%\", $A$161:$A$167, 0), 1)),0)+C$238+INDEX(C239:C243, MATCH(HLOOKUP('Rotation Assembler'!C$38, Lookups!$I$30:$M$32, 3, 0)&\" DMG%\", $A$239:$A$243, 0), 1)","v":0.98812499999999992},{"$f":"IFERROR(IF(INDEX(D$161:D$167, MATCH(D228&\" DMG%\", $A$161:$A$167, 0), 1)=\"\", 0,INDEX(D$161:D$167, MATCH(D228&\" DMG%\", $A$161:$A$167, 0), 1)),0)+D$238+INDEX(D239:D243, MATCH(HLOOKUP('Rotation Assembler'!D$38, Lookups!$I$30:$M$32, 3, 0)&\" DMG%\", $A$239:$A$243, 0), 1)","v":0.66600000000000004},{"$f":"IFERROR(IF(INDEX(E$161:E$167, MATCH(E228&\" DMG%\", $A$161:$A$167, 0), 1)=\"\", 0,INDEX(E$161:E$167, MATCH(E228&\" DMG%\", $A$161:$A$167, 0), 1)),0)+E$238+INDEX(E239:E243, MATCH(HLOOKUP('Rotation Assembler'!E$38, Lookups!$I$30:$M$32, 3, 0)&\" DMG%\", $A$239:$A$243, 0), 1)","v":0.66600000000000004},{"$f":"IFERROR(IF(INDEX(F$161:F$167, MATCH(F228&\" DMG%\", $A$161:$A$167, 0), 1)=\"\", 0,INDEX(F$161:F$167, MATCH(F228&\" DMG%\", $A$161:$A$167, 0), 1)),0)+F$238+INDEX(F239:F243, MATCH(HLOOKUP('Rotation Assembler'!F$38, Lookups!$I$30:$M$32, 3, 0)&\" DMG%\", $A$239:$A$243, 0), 1)","v":0.98812499999999992},{"$f":"IFERROR(IF(INDEX(G$161:G$167, MATCH(G228&\" DMG%\", $A$161:$A$167, 0), 1)=\"\", 0,INDEX(G$161:G$167, MATCH(G228&\" DMG%\", $A$161:$A$167, 0), 1)),0)+G$238+INDEX(G239:G243, MATCH(HLOOKUP('Rotation Assembler'!G$38, Lookups!$I$30:$M$32, 3, 0)&\" DMG%\", $A$239:$A$243, 0), 1)","v":0.98812499999999992},{"$f":"IFERROR(IF(INDEX(H$161:H$167, MATCH(H228&\" DMG%\", $A$161:$A$167, 0), 1)=\"\", 0,INDEX(H$161:H$167, MATCH(H228&\" DMG%\", $A$161:$A$167, 0), 1)),0)+H$238+INDEX(H239:H243, MATCH(HLOOKUP('Rotation Assembler'!H$38, Lookups!$I$30:$M$32, 3, 0)&\" DMG%\", $A$239:$A$243, 0), 1)","v":1.1160000000000001},{"$f":"IFERROR(IF(INDEX(I$161:I$167, MATCH(I228&\" DMG%\", $A$161:$A$167, 0), 1)=\"\", 0,INDEX(I$161:I$167, MATCH(I228&\" DMG%\", $A$161:$A$167, 0), 1)),0)+I$238+INDEX(I239:I243, MATCH(HLOOKUP('Rotation Assembler'!I$38, Lookups!$I$30:$M$32, 3, 0)&\" DMG%\", $A$239:$A$243, 0), 1)","v":1.1160000000000001},{"$f":"IFERROR(IF(INDEX(J$161:J$167, MATCH(J228&\" DMG%\", $A$161:$A$167, 0), 1)=\"\", 0,INDEX(J$161:J$167, MATCH(J228&\" DMG%\", $A$161:$A$167, 0), 1)),0)+J$238+INDEX(J239:J243, MATCH(HLOOKUP('Rotation Assembler'!J$38, Lookups!$I$30:$M$32, 3, 0)&\" DMG%\", $A$239:$A$243, 0), 1)","v":1.1160000000000001},{"$f":"IFERROR(IF(INDEX(K$161:K$167, MATCH(K228&\" DMG%\", $A$161:$A$167, 0), 1)=\"\", 0,INDEX(K$161:K$167, MATCH(K228&\" DMG%\", $A$161:$A$167, 0), 1)),0)+K$238+INDEX(K239:K243, MATCH(HLOOKUP('Rotation Assembler'!K$38, Lookups!$I$30:$M$32, 3, 0)&\" DMG%\", $A$239:$A$243, 0), 1)","v":1.1910000000000001},{"$f":"IFERROR(IF(INDEX(L$161:L$167, MATCH(L228&\" DMG%\", $A$161:$A$167, 0), 1)=\"\", 0,INDEX(L$161:L$167, MATCH(L228&\" DMG%\", $A$161:$A$167, 0), 1)),0)+L$238+INDEX(L239:L243, MATCH(HLOOKUP('Rotation Assembler'!L$38, Lookups!$I$30:$M$32, 3, 0)&\" DMG%\", $A$239:$A$243, 0), 1)","v":1.1910000000000001},{"$f":"IFERROR(IF(INDEX(M$161:M$167, MATCH(M228&\" DMG%\", $A$161:$A$167, 0), 1)=\"\", 0,INDEX(M$161:M$167, MATCH(M228&\" DMG%\", $A$161:$A$167, 0), 1)),0)+M$238+INDEX(M239:M243, MATCH(HLOOKUP('Rotation Assembler'!M$38, Lookups!$I$30:$M$32, 3, 0)&\" DMG%\", $A$239:$A$243, 0), 1)","v":1.1910000000000001},{"$f":"IFERROR(IF(INDEX(N$161:N$167, MATCH(N228&\" DMG%\", $A$161:$A$167, 0), 1)=\"\", 0,INDEX(N$161:N$167, MATCH(N228&\" DMG%\", $A$161:$A$167, 0), 1)),0)+N$238+INDEX(N239:N243, MATCH(HLOOKUP('Rotation Assembler'!N$38, Lookups!$I$30:$M$32, 3, 0)&\" DMG%\", $A$239:$A$243, 0), 1)","v":1.266},{"$f":"IFERROR(IF(INDEX(O$161:O$167, MATCH(O228&\" DMG%\", $A$161:$A$167, 0), 1)=\"\", 0,INDEX(O$161:O$167, MATCH(O228&\" DMG%\", $A$161:$A$167, 0), 1)),0)+O$238+INDEX(O239:O243, MATCH(HLOOKUP('Rotation Assembler'!O$38, Lookups!$I$30:$M$32, 3, 0)&\" DMG%\", $A$239:$A$243, 0), 1)","v":1.266},{"$f":"IFERROR(IF(INDEX(P$161:P$167, MATCH(P228&\" DMG%\", $A$161:$A$167, 0), 1)=\"\", 0,INDEX(P$161:P$167, MATCH(P228&\" DMG%\", $A$161:$A$167, 0), 1)),0)+P$238+INDEX(P239:P243, MATCH(HLOOKUP('Rotation Assembler'!P$38, Lookups!$I$30:$M$32, 3, 0)&\" DMG%\", $A$239:$A$243, 0), 1)","v":1.266},{"$f":"IFERROR(IF(INDEX(Q$161:Q$167, MATCH(Q228&\" DMG%\", $A$161:$A$167, 0), 1)=\"\", 0,INDEX(Q$161:Q$167, MATCH(Q228&\" DMG%\", $A$161:$A$167, 0), 1)),0)+Q$238+INDEX(Q239:Q243, MATCH(HLOOKUP('Rotation Assembler'!Q$38, Lookups!$I$30:$M$32, 3, 0)&\" DMG%\", $A$239:$A$243, 0), 1)","v":1.3410000000000002},{"$f":"IFERROR(IF(INDEX(R$161:R$167, MATCH(R228&\" DMG%\", $A$161:$A$167, 0), 1)=\"\", 0,INDEX(R$161:R$167, MATCH(R228&\" DMG%\", $A$161:$A$167, 0), 1)),0)+R$238+INDEX(R239:R243, MATCH(HLOOKUP('Rotation Assembler'!R$38, Lookups!$I$30:$M$32, 3, 0)&\" DMG%\", $A$239:$A$243, 0), 1)","v":1.3410000000000002},{"$f":"IFERROR(IF(INDEX(S$161:S$167, MATCH(S228&\" DMG%\", $A$161:$A$167, 0), 1)=\"\", 0,INDEX(S$161:S$167, MATCH(S228&\" DMG%\", $A$161:$A$167, 0), 1)),0)+S$238+INDEX(S239:S243, MATCH(HLOOKUP('Rotation Assembler'!S$38, Lookups!$I$30:$M$32, 3, 0)&\" DMG%\", $A$239:$A$243, 0), 1)","v":1.3410000000000002},{"$f":"IFERROR(IF(INDEX(T$161:T$167, MATCH(T228&\" DMG%\", $A$161:$A$167, 0), 1)=\"\", 0,INDEX(T$161:T$167, MATCH(T228&\" DMG%\", $A$161:$A$167, 0), 1)),0)+T$238+INDEX(T239:T243, MATCH(HLOOKUP('Rotation Assembler'!T$38, Lookups!$I$30:$M$32, 3, 0)&\" DMG%\", $A$239:$A$243, 0), 1)","v":1.3410000000000002},{"$f":"IFERROR(IF(INDEX(U$161:U$167, MATCH(U228&\" DMG%\", $A$161:$A$167, 0), 1)=\"\", 0,INDEX(U$161:U$167, MATCH(U228&\" DMG%\", $A$161:$A$167, 0), 1)),0)+U$238+INDEX(U239:U243, MATCH(HLOOKUP('Rotation Assembler'!U$38, Lookups!$I$30:$M$32, 3, 0)&\" DMG%\", $A$239:$A$243, 0), 1)","v":1.3410000000000002},null,{"$f":"IFERROR(IF(INDEX(W$161:W$167, MATCH(W228&\" DMG%\", $A$161:$A$167, 0), 1)=\"\", 0,INDEX(W$161:W$167, MATCH(W228&\" DMG%\", $A$161:$A$167, 0), 1)),0)+W$238+INDEX(W239:W243, MATCH(HLOOKUP('Rotation Assembler'!W$38, Lookups!$I$30:$M$32, 3, 0)&\" DMG%\", $A$239:$A$243, 0), 1)","v":0.66600000000000004},{"$f":"IFERROR(IF(INDEX(X$161:X$167, MATCH(X228&\" DMG%\", $A$161:$A$167, 0), 1)=\"\", 0,INDEX(X$161:X$167, MATCH(X228&\" DMG%\", $A$161:$A$167, 0), 1)),0)+X$238+INDEX(X239:X243, MATCH(HLOOKUP('Rotation Assembler'!X$38, Lookups!$I$30:$M$32, 3, 0)&\" DMG%\", $A$239:$A$243, 0), 1)","v":0.66600000000000004},{"$f":"IFERROR(IF(INDEX(Y$161:Y$167, MATCH(Y228&\" DMG%\", $A$161:$A$167, 0), 1)=\"\", 0,INDEX(Y$161:Y$167, MATCH(Y228&\" DMG%\", $A$161:$A$167, 0), 1)),0)+Y$238+INDEX(Y239:Y243, MATCH(HLOOKUP('Rotation Assembler'!Y$38, Lookups!$I$30:$M$32, 3, 0)&\" DMG%\", $A$239:$A$243, 0), 1)","v":1.0880000000000001},{"$f":"IFERROR(IF(INDEX(Z$161:Z$167, MATCH(Z228&\" DMG%\", $A$161:$A$167, 0), 1)=\"\", 0,INDEX(Z$161:Z$167, MATCH(Z228&\" DMG%\", $A$161:$A$167, 0), 1)),0)+Z$238+INDEX(Z239:Z243, MATCH(HLOOKUP('Rotation Assembler'!Z$38, Lookups!$I$30:$M$32, 3, 0)&\" DMG%\", $A$239:$A$243, 0), 1)","v":1.0880000000000001},{"$f":"IFERROR(IF(INDEX(AA$161:AA$167, MATCH(AA228&\" DMG%\", $A$161:$A$167, 0), 1)=\"\", 0,INDEX(AA$161:AA$167, MATCH(AA228&\" DMG%\", $A$161:$A$167, 0), 1)),0)+AA$238+INDEX(AA239:AA243, MATCH(HLOOKUP('Rotation Assembler'!AA$38, Lookups!$I$30:$M$32, 3, 0)&\" DMG%\", $A$239:$A$243, 0), 1)","v":1.0880000000000001},{"$f":"IFERROR(IF(INDEX(AB$161:AB$167, MATCH(AB228&\" DMG%\", $A$161:$A$167, 0), 1)=\"\", 0,INDEX(AB$161:AB$167, MATCH(AB228&\" DMG%\", $A$161:$A$167, 0), 1)),0)+AB$238+INDEX(AB239:AB243, MATCH(HLOOKUP('Rotation Assembler'!AB$38, Lookups!$I$30:$M$32, 3, 0)&\" DMG%\", $A$239:$A$243, 0), 1)","v":1.3410000000000002},{"$f":"IFERROR(IF(INDEX(AC$161:AC$167, MATCH(AC228&\" DMG%\", $A$161:$A$167, 0), 1)=\"\", 0,INDEX(AC$161:AC$167, MATCH(AC228&\" DMG%\", $A$161:$A$167, 0), 1)),0)+AC$238+INDEX(AC239:AC243, MATCH(HLOOKUP('Rotation Assembler'!AC$38, Lookups!$I$30:$M$32, 3, 0)&\" DMG%\", $A$239:$A$243, 0), 1)","v":1.3410000000000002},{"$f":"IFERROR(IF(INDEX(AD$161:AD$167, MATCH(AD228&\" DMG%\", $A$161:$A$167, 0), 1)=\"\", 0,INDEX(AD$161:AD$167, MATCH(AD228&\" DMG%\", $A$161:$A$167, 0), 1)),0)+AD$238+INDEX(AD239:AD243, MATCH(HLOOKUP('Rotation Assembler'!AD$38, Lookups!$I$30:$M$32, 3, 0)&\" DMG%\", $A$239:$A$243, 0), 1)","v":0.98812499999999992},{"$f":"IFERROR(IF(INDEX(AE$161:AE$167, MATCH(AE228&\" DMG%\", $A$161:$A$167, 0), 1)=\"\", 0,INDEX(AE$161:AE$167, MATCH(AE228&\" DMG%\", $A$161:$A$167, 0), 1)),0)+AE$238+INDEX(AE239:AE243, MATCH(HLOOKUP('Rotation Assembler'!AE$38, Lookups!$I$30:$M$32, 3, 0)&\" DMG%\", $A$239:$A$243, 0), 1)","v":0.3},{"$f":"IFERROR(IF(INDEX(AF$161:AF$167, MATCH(AF228&\" DMG%\", $A$161:$A$167, 0), 1)=\"\", 0,INDEX(AF$161:AF$167, MATCH(AF228&\" DMG%\", $A$161:$A$167, 0), 1)),0)+AF$238+INDEX(AF239:AF243, MATCH(HLOOKUP('Rotation Assembler'!AF$38, Lookups!$I$30:$M$32, 3, 0)&\" DMG%\", $A$239:$A$243, 0), 1)","v":{"$error":"#N/A"}},{"$f":"IFERROR(IF(INDEX(AG$161:AG$167, MATCH(AG228&\" DMG%\", $A$161:$A$167, 0), 1)=\"\", 0,INDEX(AG$161:AG$167, MATCH(AG228&\" DMG%\", $A$161:$A$167, 0), 1)),0)+AG$238+INDEX(AG239:AG243, MATCH(HLOOKUP('Rotation Assembler'!AG$38, Lookups!$I$30:$M$32, 3, 0)&\" DMG%\", $A$239:$A$243, 0), 1)","v":{"$error":"#N/A"}},{"$f":"IFERROR(IF(INDEX(AH$161:AH$167, MATCH(AH228&\" DMG%\", $A$161:$A$167, 0), 1)=\"\", 0,INDEX(AH$161:AH$167, MATCH(AH228&\" DMG%\", $A$161:$A$167, 0), 1)),0)+AH$238+INDEX(AH239:AH243, MATCH(HLOOKUP('Rotation Assembler'!AH$38, Lookups!$I$30:$M$32, 3, 0)&\" DMG%\", $A$239:$A$243, 0), 1)","v":{"$error":"#N/A"}},{"$f":"IFERROR(IF(INDEX(AI$161:AI$167, MATCH(AI228&\" DMG%\", $A$161:$A$167, 0), 1)=\"\", 0,INDEX(AI$161:AI$167, MATCH(AI228&\" DMG%\", $A$161:$A$167, 0), 1)),0)+AI$238+INDEX(AI239:AI243, MATCH(HLOOKUP('Rotation Assembler'!AI$38, Lookups!$I$30:$M$32, 3, 0)&\" DMG%\", $A$239:$A$243, 0), 1)","v":{"$error":"#N/A"}},{"$f":"IFERROR(IF(INDEX(AJ$161:AJ$167, MATCH(AJ228&\" DMG%\", $A$161:$A$167, 0), 1)=\"\", 0,INDEX(AJ$161:AJ$167, MATCH(AJ228&\" DMG%\", $A$161:$A$167, 0), 1)),0)+AJ$238+INDEX(AJ239:AJ243, MATCH(HLOOKUP('Rotation Assembler'!AJ$38, Lookups!$I$30:$M$32, 3, 0)&\" DMG%\", $A$239:$A$243, 0), 1)","v":{"$error":"#N/A"}},{"$f":"IFERROR(IF(INDEX(AK$161:AK$167, MATCH(AK228&\" DMG%\", $A$161:$A$167, 0), 1)=\"\", 0,INDEX(AK$161:AK$167, MATCH(AK228&\" DMG%\", $A$161:$A$167, 0), 1)),0)+AK$238+INDEX(AK239:AK243, MATCH(HLOOKUP('Rotation Assembler'!AK$38, Lookups!$I$30:$M$32, 3, 0)&\" DMG%\", $A$239:$A$243, 0), 1)","v":{"$error":"#N/A"}},{"$f":"IFERROR(IF(INDEX(AL$161:AL$167, MATCH(AL228&\" DMG%\", $A$161:$A$167, 0), 1)=\"\", 0,INDEX(AL$161:AL$167, MATCH(AL228&\" DMG%\", $A$161:$A$167, 0), 1)),0)+AL$238+INDEX(AL239:AL243, MATCH(HLOOKUP('Rotation Assembler'!AL$38, Lookups!$I$30:$M$32, 3, 0)&\" DMG%\", $A$239:$A$243, 0), 1)","v":{"$error":"#N/A"}},{"$f":"IFERROR(IF(INDEX(AM$161:AM$167, MATCH(AM228&\" DMG%\", $A$161:$A$167, 0), 1)=\"\", 0,INDEX(AM$161:AM$167, MATCH(AM228&\" DMG%\", $A$161:$A$167, 0), 1)),0)+AM$238+INDEX(AM239:AM243, MATCH(HLOOKUP('Rotation Assembler'!AM$38, Lookups!$I$30:$M$32, 3, 0)&\" DMG%\", $A$239:$A$243, 0), 1)","v":{"$error":"#N/A"}},{"$f":"IFERROR(IF(INDEX(AN$161:AN$167, MATCH(AN228&\" DMG%\", $A$161:$A$167, 0), 1)=\"\", 0,INDEX(AN$161:AN$167, MATCH(AN228&\" DMG%\", $A$161:$A$167, 0), 1)),0)+AN$238+INDEX(AN239:AN243, MATCH(HLOOKUP('Rotation Assembler'!AN$38, Lookups!$I$30:$M$32, 3, 0)&\" DMG%\", $A$239:$A$243, 0), 1)","v":{"$error":"#N/A"}},{"$f":"IFERROR(IF(INDEX(AO$161:AO$167, MATCH(AO228&\" DMG%\", $A$161:$A$167, 0), 1)=\"\", 0,INDEX(AO$161:AO$167, MATCH(AO228&\" DMG%\", $A$161:$A$167, 0), 1)),0)+AO$238+INDEX(AO239:AO243, MATCH(HLOOKUP('Rotation Assembler'!AO$38, Lookups!$I$30:$M$32, 3, 0)&\" DMG%\", $A$239:$A$243, 0), 1)","v":{"$error":"#N/A"}},{"$f":"IFERROR(IF(INDEX(AP$161:AP$167, MATCH(AP228&\" DMG%\", $A$161:$A$167, 0), 1)=\"\", 0,INDEX(AP$161:AP$167, MATCH(AP228&\" DMG%\", $A$161:$A$167, 0), 1)),0)+AP$238+INDEX(AP239:AP243, MATCH(HLOOKUP('Rotation Assembler'!AP$38, Lookups!$I$30:$M$32, 3, 0)&\" DMG%\", $A$239:$A$243, 0), 1)","v":{"$error":"#N/A"}},{"$f":"IFERROR(IF(INDEX(AQ$161:AQ$167, MATCH(AQ228&\" DMG%\", $A$161:$A$167, 0), 1)=\"\", 0,INDEX(AQ$161:AQ$167, MATCH(AQ228&\" DMG%\", $A$161:$A$167, 0), 1)),0)+AQ$238+INDEX(AQ239:AQ243, MATCH(HLOOKUP('Rotation Assembler'!AQ$38, Lookups!$I$30:$M$32, 3, 0)&\" DMG%\", $A$239:$A$243, 0), 1)","v":{"$error":"#N/A"}},{"$f":"IFERROR(IF(INDEX(AR$161:AR$167, MATCH(AR228&\" DMG%\", $A$161:$A$167, 0), 1)=\"\", 0,INDEX(AR$161:AR$167, MATCH(AR228&\" DMG%\", $A$161:$A$167, 0), 1)),0)+AR$238+INDEX(AR239:AR243, MATCH(HLOOKUP('Rotation Assembler'!AR$38, Lookups!$I$30:$M$32, 3, 0)&\" DMG%\", $A$239:$A$243, 0), 1)","v":{"$error":"#N/A"}},{"$f":"IFERROR(IF(INDEX(AS$161:AS$167, MATCH(AS228&\" DMG%\", $A$161:$A$167, 0), 1)=\"\", 0,INDEX(AS$161:AS$167, MATCH(AS228&\" DMG%\", $A$161:$A$167, 0), 1)),0)+AS$238+INDEX(AS239:AS243, MATCH(HLOOKUP('Rotation Assembler'!AS$38, Lookups!$I$30:$M$32, 3, 0)&\" DMG%\", $A$239:$A$243, 0), 1)","v":{"$error":"#N/A"}},{"$f":"IFERROR(IF(INDEX(AT$161:AT$167, MATCH(AT228&\" DMG%\", $A$161:$A$167, 0), 1)=\"\", 0,INDEX(AT$161:AT$167, MATCH(AT228&\" DMG%\", $A$161:$A$167, 0), 1)),0)+AT$238+INDEX(AT239:AT243, MATCH(HLOOKUP('Rotation Assembler'!AT$38, Lookups!$I$30:$M$32, 3, 0)&\" DMG%\", $A$239:$A$243, 0), 1)","v":{"$error":"#N/A"}},{"$f":"IFERROR(IF(INDEX(AU$161:AU$167, MATCH(AU228&\" DMG%\", $A$161:$A$167, 0), 1)=\"\", 0,INDEX(AU$161:AU$167, MATCH(AU228&\" DMG%\", $A$161:$A$167, 0), 1)),0)+AU$238+INDEX(AU239:AU243, MATCH(HLOOKUP('Rotation Assembler'!AU$38, Lookups!$I$30:$M$32, 3, 0)&\" DMG%\", $A$239:$A$243, 0), 1)","v":{"$error":"#N/A"}},{"$f":"IFERROR(IF(INDEX(AV$161:AV$167, MATCH(AV228&\" DMG%\", $A$161:$A$167, 0), 1)=\"\", 0,INDEX(AV$161:AV$167, MATCH(AV228&\" DMG%\", $A$161:$A$167, 0), 1)),0)+AV$238+INDEX(AV239:AV243, MATCH(HLOOKUP('Rotation Assembler'!AV$38, Lookups!$I$30:$M$32, 3, 0)&\" DMG%\", $A$239:$A$243, 0), 1)","v":{"$error":"#N/A"}},{"$f":"IFERROR(IF(INDEX(AW$161:AW$167, MATCH(AW228&\" DMG%\", $A$161:$A$167, 0), 1)=\"\", 0,INDEX(AW$161:AW$167, MATCH(AW228&\" DMG%\", $A$161:$A$167, 0), 1)),0)+AW$238+INDEX(AW239:AW243, MATCH(HLOOKUP('Rotation Assembler'!AW$38, Lookups!$I$30:$M$32, 3, 0)&\" DMG%\", $A$239:$A$243, 0), 1)","v":{"$error":"#N/A"}},{"$f":"IFERROR(IF(INDEX(AX$161:AX$167, MATCH(AX228&\" DMG%\", $A$161:$A$167, 0), 1)=\"\", 0,INDEX(AX$161:AX$167, MATCH(AX228&\" DMG%\", $A$161:$A$167, 0), 1)),0)+AX$238+INDEX(AX239:AX243, MATCH(HLOOKUP('Rotation Assembler'!AX$38, Lookups!$I$30:$M$32, 3, 0)&\" DMG%\", $A$239:$A$243, 0), 1)","v":{"$error":"#N/A"}},{"$f":"IFERROR(IF(INDEX(AY$161:AY$167, MATCH(AY228&\" DMG%\", $A$161:$A$167, 0), 1)=\"\", 0,INDEX(AY$161:AY$167, MATCH(AY228&\" DMG%\", $A$161:$A$167, 0), 1)),0)+AY$238+INDEX(AY239:AY243, MATCH(HLOOKUP('Rotation Assembler'!AY$38, Lookups!$I$30:$M$32, 3, 0)&\" DMG%\", $A$239:$A$243, 0), 1)","v":{"$error":"#N/A"}},{"$f":"IFERROR(IF(INDEX(AZ$161:AZ$167, MATCH(AZ228&\" DMG%\", $A$161:$A$167, 0), 1)=\"\", 0,INDEX(AZ$161:AZ$167, MATCH(AZ228&\" DMG%\", $A$161:$A$167, 0), 1)),0)+AZ$238+INDEX(AZ239:AZ243, MATCH(HLOOKUP('Rotation Assembler'!AZ$38, Lookups!$I$30:$M$32, 3, 0)&\" DMG%\", $A$239:$A$243, 0), 1)","v":{"$error":"#N/A"}},{"$f":"IFERROR(IF(INDEX(BA$161:BA$167, MATCH(BA228&\" DMG%\", $A$161:$A$167, 0), 1)=\"\", 0,INDEX(BA$161:BA$167, MATCH(BA228&\" DMG%\", $A$161:$A$167, 0), 1)),0)+BA$238+INDEX(BA239:BA243, MATCH(HLOOKUP('Rotation Assembler'!BA$38, Lookups!$I$30:$M$32, 3, 0)&\" DMG%\", $A$239:$A$243, 0), 1)","v":{"$error":"#N/A"}},{"$f":"IFERROR(IF(INDEX(BB$161:BB$167, MATCH(BB228&\" DMG%\", $A$161:$A$167, 0), 1)=\"\", 0,INDEX(BB$161:BB$167, MATCH(BB228&\" DMG%\", $A$161:$A$167, 0), 1)),0)+BB$238+INDEX(BB239:BB243, MATCH(HLOOKUP('Rotation Assembler'!BB$38, Lookups!$I$30:$M$32, 3, 0)&\" DMG%\", $A$239:$A$243, 0), 1)","v":{"$error":"#N/A"}},{"$f":"IFERROR(IF(INDEX(BC$161:BC$167, MATCH(BC228&\" DMG%\", $A$161:$A$167, 0), 1)=\"\", 0,INDEX(BC$161:BC$167, MATCH(BC228&\" DMG%\", $A$161:$A$167, 0), 1)),0)+BC$238+INDEX(BC239:BC243, MATCH(HLOOKUP('Rotation Assembler'!BC$38, Lookups!$I$30:$M$32, 3, 0)&\" DMG%\", $A$239:$A$243, 0), 1)","v":{"$error":"#N/A"}},{"$f":"IFERROR(IF(INDEX(BD$161:BD$167, MATCH(BD228&\" DMG%\", $A$161:$A$167, 0), 1)=\"\", 0,INDEX(BD$161:BD$167, MATCH(BD228&\" DMG%\", $A$161:$A$167, 0), 1)),0)+BD$238+INDEX(BD239:BD243, MATCH(HLOOKUP('Rotation Assembler'!BD$38, Lookups!$I$30:$M$32, 3, 0)&\" DMG%\", $A$239:$A$243, 0), 1)","v":{"$error":"#N/A"}},{"$f":"IFERROR(IF(INDEX(BE$161:BE$167, MATCH(BE228&\" DMG%\", $A$161:$A$167, 0), 1)=\"\", 0,INDEX(BE$161:BE$167, MATCH(BE228&\" DMG%\", $A$161:$A$167, 0), 1)),0)+BE$238+INDEX(BE239:BE243, MATCH(HLOOKUP('Rotation Assembler'!BE$38, Lookups!$I$30:$M$32, 3, 0)&\" DMG%\", $A$239:$A$243, 0), 1)","v":{"$error":"#N/A"}},{"$f":"IFERROR(IF(INDEX(BF$161:BF$167, MATCH(BF228&\" DMG%\", $A$161:$A$167, 0), 1)=\"\", 0,INDEX(BF$161:BF$167, MATCH(BF228&\" DMG%\", $A$161:$A$167, 0), 1)),0)+BF$238+INDEX(BF239:BF243, MATCH(HLOOKUP('Rotation Assembler'!BF$38, Lookups!$I$30:$M$32, 3, 0)&\" DMG%\", $A$239:$A$243, 0), 1)","v":{"$error":"#N/A"}}]
["Weapon Proc Calcs"]
["Base Scaling (ATK/DEF/HP)",{"$f":"IFERROR(IF(B14=\"ATK\", B147, IF(B14=\"DEF\",B148, IF(B14=\"HP\", B149, 0))),0)","v":0},{"$f":"IFERROR(IF(C14=\"ATK\", C147, IF(C14=\"DEF\",C148, IF(C14=\"HP\", C149, 0))),0)","v":0},0,{"$f":"IFERROR(IF(E14=\"ATK\", E147, IF(E14=\"DEF\",E148, IF(E14=\"HP\", E149, 0))),0)","v":0},0,{"$f":"IFERROR(IF(G14=\"ATK\", G147, IF(G14=\"DEF\",G148, IF(G14=\"HP\", G149, 0))),0)","v":0},0,{"$f":"IFERROR(IF(I14=\"ATK\", I147, IF(I14=\"DEF\",I148, IF(I14=\"HP\", I149, 0))),0)","v":0},0,{"$f":"IFERROR(IF(K14=\"ATK\", K147, IF(K14=\"DEF\",K148, IF(K14=\"HP\", K149, 0))),0)","v":0},0,0,0,{"$f":"IFERROR(IF(O14=\"ATK\", O147, IF(O14=\"DEF\",O148, IF(O14=\"HP\", O149, 0))),0)","v":0},{"$f":"IFERROR(IF(P14=\"ATK\", P147, IF(P14=\"DEF\",P148, IF(P14=\"HP\", P149, 0))),0)","v":0},0,{"$f":"IFERROR(IF(R14=\"ATK\", R147, IF(R14=\"DEF\",R148, IF(R14=\"HP\", R149, 0))),0)","v":0},0,0,0,null,{"$f":"IFERROR(IF(W14=\"ATK\", W147, IF(W14=\"DEF\",W148, IF(W14=\"HP\", W149, 0))),0)","v":0},{"$f":"IFERROR(IF(X14=\"ATK\", X147, IF(X14=\"DEF\",X148, IF(X14=\"HP\", X149, 0))),0)","v":0},{"$f":"IFERROR(IF(Y14=\"ATK\", Y147, IF(Y14=\"DEF\",Y148, IF(Y14=\"HP\", Y149, 0))),0)","v":0},0,0,{"$f":"IFERROR(IF(AB14=\"ATK\", AB147, IF(AB14=\"DEF\",AB148, IF(AB14=\"HP\", AB149, 0))),0)","v":0},{"$f":"IFERROR(IF(AC14=\"ATK\", AC147, IF(AC14=\"DEF\",AC148, IF(AC14=\"HP\", AC149, 0))),0)","v":0},0,0,0,0,0,0,0,0,0,0,0,0,0,0,0,0,0,0,0,0,0,0,0,0,0,0,0,0,0]
["DMG% Bonus",{"$f":"IFERROR(IF(B13 = \"None\", INDEX(B$161:B$167, MATCH(B$15&\" DMG%\", $A$161:$A$167, 0), 1), INDEX(B$244:B$250, MATCH(B$13, $A$244:$A$250, 0), 1)),0)","v":0},{"$f":"IFERROR(IF(C13 = \"None\", INDEX(C$161:C$167, MATCH(C$15&\" DMG%\", $A$161:$A$167, 0), 1), INDEX(C$244:C$250, MATCH(C$13, $A$244:$A$250, 0), 1)),0)","v":0},{"$f":"IFERROR(IF(D13 = \"None\", INDEX(D$161:D$167, MATCH(D$15&\" DMG%\", $A$161:$A$167, 0), 1), INDEX(D$244:D$250, MATCH(D$13, $A$244:$A$250, 0), 1)),0)","v":0},0,{"$f":"IFERROR(IF(F13 = \"None\", INDEX(F$161:F$167, MATCH(F$15&\" DMG%\", $A$161:$A$167, 0), 1), INDEX(F$244:F$250, MATCH(F$13, $A$244:$A$250, 0), 1)),0)","v":0},0,{"$f":"IFERROR(IF(H13 = \"None\", INDEX(H$161:H$167, MATCH(H$15&\" DMG%\", $A$161:$A$167, 0), 1), INDEX(H$244:H$250, MATCH(H$13, $A$244:$A$250, 0), 1)),0)","v":0},0,{"$f":"IFERROR(IF(J13 = \"None\", INDEX(J$161:J$167, MATCH(J$15&\" DMG%\", $A$161:$A$167, 0), 1), INDEX(J$244:J$250, MATCH(J$13, $A$244:$A$250, 0), 1)),0)","v":0},0,{"$f":"IFERROR(IF(L13 = \"None\", INDEX(L$161:L$167, MATCH(L$15&\" DMG%\", $A$161:$A$167, 0), 1), INDEX(L$244:L$250, MATCH(L$13, $A$244:$A$250, 0), 1)),0)","v":0},0,0,{"$f":"IFERROR(IF(O13 = \"None\", INDEX(O$161:O$167, MATCH(O$15&\" DMG%\", $A$161:$A$167, 0), 1), INDEX(O$244:O$250, MATCH(O$13, $A$244:$A$250, 0), 1)),0)","v":0},{"$f":"IFERROR(IF(P13 = \"None\", INDEX(P$161:P$167, MATCH(P$15&\" DMG%\", $A$161:$A$167, 0), 1), INDEX(P$244:P$250, MATCH(P$13, $A$244:$A$250, 0), 1)),0)","v":0},0,{"$f":"IFERROR(IF(R13 = \"None\", INDEX(R$161:R$167, MATCH(R$15&\" DMG%\", $A$161:$A$167, 0), 1), INDEX(R$244:R$250, MATCH(R$13, $A$244:$A$250, 0), 1)),0)","v":0},0,0,0,null,{"$f":"IFERROR(IF(W13 = \"None\", INDEX(W$161:W$167, MATCH(W$15&\" DMG%\", $A$161:$A$167, 0), 1), INDEX(W$244:W$250, MATCH(W$13, $A$244:$A$250, 0), 1)),0)","v":0},{"$f":"IFERROR(IF(X13 = \"None\", INDEX(X$161:X$167, MATCH(X$15&\" DMG%\", $A$161:$A$167, 0), 1), INDEX(X$244:X$250, MATCH(X$13, $A$244:$A$250, 0), 1)),0)","v":0},{"$f":"IFERROR(IF(Y13 = \"None\", INDEX(Y$161:Y$167, MATCH(Y$15&\" DMG%\", $A$161:$A$167, 0), 1), INDEX(Y$244:Y$250, MATCH(Y$13, $A$244:$A$250, 0), 1)),0)","v":0},0,0,{"$f":"IFERROR(IF(AB13 = \"None\", INDEX(AB$161:AB$167, MATCH(AB$15&\" DMG%\", $A$161:$A$167, 0), 1), INDEX(AB$244:AB$250, MATCH(AB$13, $A$244:$A$250, 0), 1)),0)","v":0},{"$f":"IFERROR(IF(AC13 = \"None\", INDEX(AC$161:AC$167, MATCH(AC$15&\" DMG%\", $A$161:$A$167, 0), 1), INDEX(AC$244:AC$250, MATCH(AC$13, $A$244:$A$250, 0), 1)),0)","v":0},0,0,{"$f":"IFERROR(IF(AF13 = \"None\", INDEX(AF$161:AF$167, MATCH(AF$15&\" DMG%\", $A$161:$A$167, 0), 1), INDEX(AF$244:AF$250, MATCH(AF$13, $A$244:$A$250, 0), 1)),0)","v":0},0,0,0,0,0,0,0,0,0,0,0,0,0,0,0,0,0,0,0,0,0,0,0,0,0,0]
["Crit Multiplier",{"$f":"IFERROR(1+(B157+IF(B13=\"Burst\", B192, 0)+IF(B13 = \"Skill\", B193))*(B158+IF(B13=\"Burst\", B194, 0)+IF(B13 = \"Skill\", B195, 0)),0)","v":1.81003552},{"$f":"IFERROR(1+(C157+IF(C13=\"Burst\", C192, 0)+IF(C13 = \"Skill\", C193))*(C158+IF(C13=\"Burst\", C194, 0)+IF(C13 = \"Skill\", C195, 0)),0)","v":1.81003552},{"$f":"IFERROR(1+(D157+IF(D13=\"Burst\", D192, 0)+IF(D13 = \"Skill\", D193))*(D158+IF(D13=\"Burst\", D194, 0)+IF(D13 = \"Skill\", D195, 0)),0)","v":1.7271795999999999},1.7271795999999999,{"$f":"IFERROR(1+(F157+IF(F13=\"Burst\", F192, 0)+IF(F13 = \"Skill\", F193))*(F158+IF(F13=\"Burst\", F194, 0)+IF(F13 = \"Skill\", F195, 0)),0)","v":1.81003552},1.81003552,{"$f":"IFERROR(1+(H157+IF(H13=\"Burst\", H192, 0)+IF(H13 = \"Skill\", H193))*(H158+IF(H13=\"Burst\", H194, 0)+IF(H13 = \"Skill\", H195, 0)),0)","v":2.6327167999999999},2.6327167999999999,{"$f":"IFERROR(1+(J157+IF(J13=\"Burst\", J192, 0)+IF(J13 = \"Skill\", J193))*(J158+IF(J13=\"Burst\", J194, 0)+IF(J13 = \"Skill\", J195, 0)),0)","v":2.6327167999999999},2.6327167999999999,{"$f":"IFERROR(1+(L157+IF(L13=\"Burst\", L192, 0)+IF(L13 = \"Skill\", L193))*(L158+IF(L13=\"Burst\", L194, 0)+IF(L13 = \"Skill\", L195, 0)),0)","v":2.6327167999999999},2.6327167999999999,2.6327167999999999,{"$f":"IFERROR(1+(O157+IF(O13=\"Burst\", O192, 0)+IF(O13 = \"Skill\", O193))*(O158+IF(O13=\"Burst\", O194, 0)+IF(O13 = \"Skill\", O195, 0)),0)","v":2.6327167999999999},{"$f":"IFERROR(1+(P157+IF(P13=\"Burst\", P192, 0)+IF(P13 = \"Skill\", P193))*(P158+IF(P13=\"Burst\", P194, 0)+IF(P13 = \"Skill\", P195, 0)),0)","v":2.6327167999999999},2.6327167999999999,{"$f":"IFERROR(1+(R157+IF(R13=\"Burst\", R192, 0)+IF(R13 = \"Skill\", R193))*(R158+IF(R13=\"Burst\", R194, 0)+IF(R13 = \"Skill\", R195, 0)),0)","v":2.6327167999999999},2.6327167999999999,2.6327167999999999,2.6327167999999999,null,{"$f":"IFERROR(1+(W157+IF(W13=\"Burst\", W192, 0)+IF(W13 = \"Skill\", W193))*(W158+IF(W13=\"Burst\", W194, 0)+IF(W13 = \"Skill\", W195, 0)),0)","v":1.7271795999999999},{"$f":"IFERROR(1+(X157+IF(X13=\"Burst\", X192, 0)+IF(X13 = \"Skill\", X193))*(X158+IF(X13=\"Burst\", X194, 0)+IF(X13 = \"Skill\", X195, 0)),0)","v":1.7271795999999999},{"$f":"IFERROR(1+(Y157+IF(Y13=\"Burst\", Y192, 0)+IF(Y13 = \"Skill\", Y193))*(Y158+IF(Y13=\"Burst\", Y194, 0)+IF(Y13 = \"Skill\", Y195, 0)),0)","v":1.57885568},1.57885568,1.57885568,{"$f":"IFERROR(1+(AB157+IF(AB13=\"Burst\", AB192, 0)+IF(AB13 = \"Skill\", AB193))*(AB158+IF(AB13=\"Burst\", AB194, 0)+IF(AB13 = \"Skill\", AB195, 0)),0)","v":2.6327167999999999},{"$f":"IFERROR(1+(AC157+IF(AC13=\"Burst\", AC192, 0)+IF(AC13 = \"Skill\", AC193))*(AC158+IF(AC13=\"Burst\", AC194, 0)+IF(AC13 = \"Skill\", AC195, 0)),0)","v":2.6327167999999999},1.81003552,2.6327167999999999,{"$f":"IFERROR(1+(AF157+IF(AF13=\"Burst\", AF192, 0)+IF(AF13 = \"Skill\", AF193))*(AF158+IF(AF13=\"Burst\", AF194, 0)+IF(AF13 = \"Skill\", AF195, 0)),0)","v":0},0,0,0,0,0,0,0,0,0,0,0,0,0,0,0,0,0,0,0,0,0,0,0,0,0,0]
["Defense Multiplier",{"$f":"(100+VLOOKUP(B$38, Lookups!$O$13:$P$17, 2, 0))/((100+VLOOKUP(B$38, Lookups!$O$13:$P$17, 2, 0))+(100+enemyLevel)*(1-B181))","v":0.48717948717948717},{"$f":"(100+VLOOKUP(C$38, Lookups!$O$13:$P$17, 2, 0))/((100+VLOOKUP(C$38, Lookups!$O$13:$P$17, 2, 0))+(100+enemyLevel)*(1-C181))","v":0.48717948717948717},{"$f":"(100+VLOOKUP(D$38, Lookups!$O$13:$P$17, 2, 0))/((100+VLOOKUP(D$38, Lookups!$O$13:$P$17, 2, 0))+(100+enemyLevel)*(1-D181))","v":0.48717948717948717},{"$f":"(100+VLOOKUP(E$38, Lookups!$O$13:$P$17, 2, 0))/((100+VLOOKUP(E$38, Lookups!$O$13:$P$17, 2, 0))+(100+enemyLevel)*(1-E181))","v":0.48717948717948717},{"$f":"(100+VLOOKUP(F$38, Lookups!$O$13:$P$17, 2, 0))/((100+VLOOKUP(F$38, Lookups!$O$13:$P$17, 2, 0))+(100+enemyLevel)*(1-F181))","v":0.48717948717948717},{"$f":"(100+VLOOKUP(G$38, Lookups!$O$13:$P$17, 2, 0))/((100+VLOOKUP(G$38, Lookups!$O$13:$P$17, 2, 0))+(100+enemyLevel)*(1-G181))","v":0.48717948717948717},{"$f":"(100+VLOOKUP(H$38, Lookups!$O$13:$P$17, 2, 0))/((100+VLOOKUP(H$38, Lookups!$O$13:$P$17, 2, 0))+(100+enemyLevel)*(1-H181))","v":0.48717948717948717},{"$f":"(100+VLOOKUP(I$38, Lookups!$O$13:$P$17, 2, 0))/((100+VLOOKUP(I$38, Lookups!$O$13:$P$17, 2, 0))+(100+enemyLevel)*(1-I181))","v":0.48717948717948717},{"$f":"(100+VLOOKUP(J$38, Lookups!$O$13:$P$17, 2, 0))/((100+VLOOKUP(J$38, Lookups!$O$13:$P$17, 2, 0))+(100+enemyLevel)*(1-J181))","v":0.48717948717948717},{"$f":"(100+VLOOKUP(K$38, Lookups!$O$13:$P$17, 2, 0))/((100+VLOOKUP(K$38, Lookups!$O$13:$P$17, 2, 0))+(100+enemyLevel)*(1-K181))","v":0.48717948717948717},{"$f":"(100+VLOOKUP(L$38, Lookups!$O$13:$P$17, 2, 0))/((100+VLOOKUP(L$38, Lookups!$O$13:$P$17, 2, 0))+(100+enemyLevel)*(1-L181))","v":0.48717948717948717},{"$f":"(100+VLOOKUP(M$38, Lookups!$O$13:$P$17, 2, 0))/((100+VLOOKUP(M$38, Lookups!$O$13:$P$17, 2, 0))+(100+enemyLevel)*(1-M181))","v":0.48717948717948717},{"$f":"(100+VLOOKUP(N$38, Lookups!$O$13:$P$17, 2, 0))/((100+VLOOKUP(N$38, Lookups!$O$13:$P$17, 2, 0))+(100+enemyLevel)*(1-N181))","v":0.48717948717948717},{"$f":"(100+VLOOKUP(O$38, Lookups!$O$13:$P$17, 2, 0))/((100+VLOOKUP(O$38, Lookups!$O$13:$P$17, 2, 0))+(100+enemyLevel)*(1-O181))","v":0.48717948717948717},{"$f":"(100+VLOOKUP(P$38, Lookups!$O$13:$P$17, 2, 0))/((100+VLOOKUP(P$38, Lookups!$O$13:$P$17, 2, 0))+(100+enemyLevel)*(1-P181))","v":0.48717948717948717},{"$f":"(100+VLOOKUP(Q$38, Lookups!$O$13:$P$17, 2, 0))/((100+VLOOKUP(Q$38, Lookups!$O$13:$P$17, 2, 0))+(100+enemyLevel)*(1-Q181))","v":0.48717948717948717},{"$f":"(100+VLOOKUP(R$38, Lookups!$O$13:$P$17, 2, 0))/((100+VLOOKUP(R$38, Lookups!$O$13:$P$17, 2, 0))+(100+enemyLevel)*(1-R181))","v":0.48717948717948717},{"$f":"(100+VLOOKUP(S$38, Lookups!$O$13:$P$17, 2, 0))/((100+VLOOKUP(S$38, Lookups!$O$13:$P$17, 2, 0))+(100+enemyLevel)*(1-S181))","v":0.48717948717948717},{"$f":"(100+VLOOKUP(T$38, Lookups!$O$13:$P$17, 2, 0))/((100+VLOOKUP(T$38, Lookups!$O$13:$P$17, 2, 0))+(100+enemyLevel)*(1-T181))","v":0.48717948717948717},{"$f":"(100+VLOOKUP(U$38, Lookups!$O$13:$P$17, 2, 0))/((100+VLOOKUP(U$38, Lookups!$O$13:$P$17, 2, 0))+(100+enemyLevel)*(1-U181))","v":0.48717948717948717},null,{"$f":"(100+VLOOKUP(W$38, Lookups!$O$13:$P$17, 2, 0))/((100+VLOOKUP(W$38, Lookups!$O$13:$P$17, 2, 0))+(100+enemyLevel)*(1-W181))","v":0.48717948717948717},{"$f":"(100+VLOOKUP(X$38, Lookups!$O$13:$P$17, 2, 0))/((100+VLOOKUP(X$38, Lookups!$O$13:$P$17, 2, 0))+(100+enemyLevel)*(1-X181))","v":0.48717948717948717},{"$f":"(100+VLOOKUP(Y$38, Lookups!$O$13:$P$17, 2, 0))/((100+VLOOKUP(Y$38, Lookups!$O$13:$P$17, 2, 0))+(100+enemyLevel)*(1-Y181))","v":0.48717948717948717},{"$f":"(100+VLOOKUP(Z$38, Lookups!$O$13:$P$17, 2, 0))/((100+VLOOKUP(Z$38, Lookups!$O$13:$P$17, 2, 0))+(100+enemyLevel)*(1-Z181))","v":0.48717948717948717},{"$f":"(100+VLOOKUP(AA$38, Lookups!$O$13:$P$17, 2, 0))/((100+VLOOKUP(AA$38, Lookups!$O$13:$P$17, 2, 0))+(100+enemyLevel)*(1-AA181))","v":0.48717948717948717},{"$f":"(100+VLOOKUP(AB$38, Lookups!$O$13:$P$17, 2, 0))/((100+VLOOKUP(AB$38, Lookups!$O$13:$P$17, 2, 0))+(100+enemyLevel)*(1-AB181))","v":0.48717948717948717},{"$f":"(100+VLOOKUP(AC$38, Lookups!$O$13:$P$17, 2, 0))/((100+VLOOKUP(AC$38, Lookups!$O$13:$P$17, 2, 0))+(100+enemyLevel)*(1-AC181))","v":0.48717948717948717},{"$f":"(100+VLOOKUP(AD$38, Lookups!$O$13:$P$17, 2, 0))/((100+VLOOKUP(AD$38, Lookups!$O$13:$P$17, 2, 0))+(100+enemyLevel)*(1-AD181))","v":0.48717948717948717},{"$f":"(100+VLOOKUP(AE$38, Lookups!$O$13:$P$17, 2, 0))/((100+VLOOKUP(AE$38, Lookups!$O$13:$P$17, 2, 0))+(100+enemyLevel)*(1-AE181))","v":0.48717948717948717},{"$f":"(100+VLOOKUP(AF$38, Lookups!$O$13:$P$17, 2, 0))/((100+VLOOKUP(AF$38, Lookups!$O$13:$P$17, 2, 0))+(100+enemyLevel)*(1-AF181))","v":{"$error":"#N/A"}},{"$f":"(100+VLOOKUP(AG$38, Lookups!$O$13:$P$17, 2, 0))/((100+VLOOKUP(AG$38, Lookups!$O$13:$P$17, 2, 0))+(100+enemyLevel)*(1-AG181))","v":{"$error":"#N/A"}},{"$f":"(100+VLOOKUP(AH$38, Lookups!$O$13:$P$17, 2, 0))/((100+VLOOKUP(AH$38, Lookups!$O$13:$P$17, 2, 0))+(100+enemyLevel)*(1-AH181))","v":{"$error":"#N/A"}},{"$f":"(100+VLOOKUP(AI$38, Lookups!$O$13:$P$17, 2, 0))/((100+VLOOKUP(AI$38, Lookups!$O$13:$P$17, 2, 0))+(100+enemyLevel)*(1-AI181))","v":{"$error":"#N/A"}},{"$f":"(100+VLOOKUP(AJ$38, Lookups!$O$13:$P$17, 2, 0))/((100+VLOOKUP(AJ$38, Lookups!$O$13:$P$17, 2, 0))+(100+enemyLevel)*(1-AJ181))","v":{"$error":"#N/A"}},{"$f":"(100+VLOOKUP(AK$38, Lookups!$O$13:$P$17, 2, 0))/((100+VLOOKUP(AK$38, Lookups!$O$13:$P$17, 2, 0))+(100+enemyLevel)*(1-AK181))","v":{"$error":"#N/A"}},{"$f":"(100+VLOOKUP(AL$38, Lookups!$O$13:$P$17, 2, 0))/((100+VLOOKUP(AL$38, Lookups!$O$13:$P$17, 2, 0))+(100+enemyLevel)*(1-AL181))","v":{"$error":"#N/A"}},{"$f":"(100+VLOOKUP(AM$38, Lookups!$O$13:$P$17, 2, 0))/((100+VLOOKUP(AM$38, Lookups!$O$13:$P$17, 2, 0))+(100+enemyLevel)*(1-AM181))","v":{"$error":"#N/A"}},{"$f":"(100+VLOOKUP(AN$38, Lookups!$O$13:$P$17, 2, 0))/((100+VLOOKUP(AN$38, Lookups!$O$13:$P$17, 2, 0))+(100+enemyLevel)*(1-AN181))","v":{"$error":"#N/A"}},{"$f":"(100+VLOOKUP(AO$38, Lookups!$O$13:$P$17, 2, 0))/((100+VLOOKUP(AO$38, Lookups!$O$13:$P$17, 2, 0))+(100+enemyLevel)*(1-AO181))","v":{"$error":"#N/A"}},{"$f":"(100+VLOOKUP(AP$38, Lookups!$O$13:$P$17, 2, 0))/((100+VLOOKUP(AP$38, Lookups!$O$13:$P$17, 2, 0))+(100+enemyLevel)*(1-AP181))","v":{"$error":"#N/A"}},{"$f":"(100+VLOOKUP(AQ$38, Lookups!$O$13:$P$17, 2, 0))/((100+VLOOKUP(AQ$38, Lookups!$O$13:$P$17, 2, 0))+(100+enemyLevel)*(1-AQ181))","v":{"$error":"#N/A"}},{"$f":"(100+VLOOKUP(AR$38, Lookups!$O$13:$P$17, 2, 0))/((100+VLOOKUP(AR$38, Lookups!$O$13:$P$17, 2, 0))+(100+enemyLevel)*(1-AR181))","v":{"$error":"#N/A"}},{"$f":"(100+VLOOKUP(AS$38, Lookups!$O$13:$P$17, 2, 0))/((100+VLOOKUP(AS$38, Lookups!$O$13:$P$17, 2, 0))+(100+enemyLevel)*(1-AS181))","v":{"$error":"#N/A"}},{"$f":"(100+VLOOKUP(AT$38, Lookups!$O$13:$P$17, 2, 0))/((100+VLOOKUP(AT$38, Lookups!$O$13:$P$17, 2, 0))+(100+enemyLevel)*(1-AT181))","v":{"$error":"#N/A"}},{"$f":"(100+VLOOKUP(AU$38, Lookups!$O$13:$P$17, 2, 0))/((100+VLOOKUP(AU$38, Lookups!$O$13:$P$17, 2, 0))+(100+enemyLevel)*(1-AU181))","v":{"$error":"#N/A"}},{"$f":"(100+VLOOKUP(AV$38, Lookups!$O$13:$P$17, 2, 0))/((100+VLOOKUP(AV$38, Lookups!$O$13:$P$17, 2, 0))+(100+enemyLevel)*(1-AV181))","v":{"$error":"#N/A"}},{"$f":"(100+VLOOKUP(AW$38, Lookups!$O$13:$P$17, 2, 0))/((100+VLOOKUP(AW$38, Lookups!$O$13:$P$17, 2, 0))+(100+enemyLevel)*(1-AW181))","v":{"$error":"#N/A"}},{"$f":"(100+VLOOKUP(AX$38, Lookups!$O$13:$P$17, 2, 0))/((100+VLOOKUP(AX$38, Lookups!$O$13:$P$17, 2, 0))+(100+enemyLevel)*(1-AX181))","v":{"$error":"#N/A"}},{"$f":"(100+VLOOKUP(AY$38, Lookups!$O$13:$P$17, 2, 0))/((100+VLOOKUP(AY$38, Lookups!$O$13:$P$17, 2, 0))+(100+enemyLevel)*(1-AY181))","v":{"$error":"#N/A"}},{"$f":"(100+VLOOKUP(AZ$38, Lookups!$O$13:$P$17, 2, 0))/((100+VLOOKUP(AZ$38, Lookups!$O$13:$P$17, 2, 0))+(100+enemyLevel)*(1-AZ181))","v":{"$error":"#N/A"}},{"$f":"(100+VLOOKUP(BA$38, Lookups!$O$13:$P$17, 2, 0))/((100+VLOOKUP(BA$38, Lookups!$O$13:$P$17, 2, 0))+(100+enemyLevel)*(1-BA181))","v":{"$error":"#N/A"}},{"$f":"(100+VLOOKUP(BB$38, Lookups!$O$13:$P$17, 2, 0))/((100+VLOOKUP(BB$38, Lookups!$O$13:$P$17, 2, 0))+(100+enemyLevel)*(1-BB181))","v":{"$error":"#N/A"}},{"$f":"(100+VLOOKUP(BC$38, Lookups!$O$13:$P$17, 2, 0))/((100+VLOOKUP(BC$38, Lookups!$O$13:$P$17, 2, 0))+(100+enemyLevel)*(1-BC181))","v":{"$error":"#N/A"}},{"$f":"(100+VLOOKUP(BD$38, Lookups!$O$13:$P$17, 2, 0))/((100+VLOOKUP(BD$38, Lookups!$O$13:$P$17, 2, 0))+(100+enemyLevel)*(1-BD181))","v":{"$error":"#N/A"}},{"$f":"(100+VLOOKUP(BE$38, Lookups!$O$13:$P$17, 2, 0))/((100+VLOOKUP(BE$38, Lookups!$O$13:$P$17, 2, 0))+(100+enemyLevel)*(1-BE181))","v":{"$error":"#N/A"}},{"$f":"(100+VLOOKUP(BF$38, Lookups!$O$13:$P$17, 2, 0))/((100+VLOOKUP(BF$38, Lookups!$O$13:$P$17, 2, 0))+(100+enemyLevel)*(1-BF181))","v":{"$error":"#N/A"}}]
["Resistance Multiplier",{"$f":"IFERROR((1-INDEX(B204:B210, MATCH(\"Effective \"&B15&\" Res\", $A$204:$A$210, 0), 1)),1)","v":1},{"$f":"IFERROR((1-INDEX(C204:C210, MATCH(\"Effective \"&C15&\" Res\", $A$204:$A$210, 0), 1)),1)","v":1},{"$f":"IFERROR((1-INDEX(D204:D210, MATCH(\"Effective \"&D15&\" Res\", $A$204:$A$210, 0), 1)),1)","v":1},1,{"$f":"IFERROR((1-INDEX(F204:F210, MATCH(\"Effective \"&F15&\" Res\", $A$204:$A$210, 0), 1)),1)","v":1},1,{"$f":"IFERROR((1-INDEX(H204:H210, MATCH(\"Effective \"&H15&\" Res\", $A$204:$A$210, 0), 1)),1)","v":1},1,{"$f":"IFERROR((1-INDEX(J204:J210, MATCH(\"Effective \"&J15&\" Res\", $A$204:$A$210, 0), 1)),1)","v":1},1,{"$f":"IFERROR((1-INDEX(L204:L210, MATCH(\"Effective \"&L15&\" Res\", $A$204:$A$210, 0), 1)),1)","v":1},1,1,{"$f":"IFERROR((1-INDEX(O204:O210, MATCH(\"Effective \"&O15&\" Res\", $A$204:$A$210, 0), 1)),1)","v":1},{"$f":"IFERROR((1-INDEX(P204:P210, MATCH(\"Effective \"&P15&\" Res\", $A$204:$A$210, 0), 1)),1)","v":1},1,{"$f":"IFERROR((1-INDEX(R204:R210, MATCH(\"Effective \"&R15&\" Res\", $A$204:$A$210, 0), 1)),1)","v":1},1,1,1,null,{"$f":"IFERROR((1-INDEX(W204:W210, MATCH(\"Effective \"&W15&\" Res\", $A$204:$A$210, 0), 1)),1)","v":1},{"$f":"IFERROR((1-INDEX(X204:X210, MATCH(\"Effective \"&X15&\" Res\", $A$204:$A$210, 0), 1)),1)","v":1},{"$f":"IFERROR((1-INDEX(Y204:Y210, MATCH(\"Effective \"&Y15&\" Res\", $A$204:$A$210, 0), 1)),1)","v":1},1,1,{"$f":"IFERROR((1-INDEX(AB204:AB210, MATCH(\"Effective \"&AB15&\" Res\", $A$204:$A$210, 0), 1)),1)","v":1},{"$f":"IFERROR((1-INDEX(AC204:AC210, MATCH(\"Effective \"&AC15&\" Res\", $A$204:$A$210, 0), 1)),1)","v":1},1,1,{"$f":"IFERROR((1-INDEX(AF204:AF210, MATCH(\"Effective \"&AF15&\" Res\", $A$204:$A$210, 0), 1)),1)","v":1},1,1,1,1,1,1,1,1,1,1,1,1,1,1,1,1,1,1,1,1,1,1,1,1,1,1]
["Amping Reaction Base Multiplier",{"$f":"VLOOKUP(B6, Lookups!$E$2:$F$6, 2, 0)","v":2},{"$f":"VLOOKUP(C6, Lookups!$E$2:$F$6, 2, 0)","v":1},{"$f":"VLOOKUP(D6, Lookups!$E$2:$F$6, 2, 0)","v":1},{"$f":"VLOOKUP(E6, Lookups!$E$2:$F$6, 2, 0)","v":1},{"$f":"VLOOKUP(F6, Lookups!$E$2:$F$6, 2, 0)","v":1},{"$f":"VLOOKUP(G6, Lookups!$E$2:$F$6, 2, 0)","v":1},{"$f":"VLOOKUP(H6, Lookups!$E$2:$F$6, 2, 0)","v":1.5},{"$f":"VLOOKUP(I6, Lookups!$E$2:$F$6, 2, 0)","v":1},{"$f":"VLOOKUP(J6, Lookups!$E$2:$F$6, 2, 0)","v":1.5},{"$f":"VLOOKUP(K6, Lookups!$E$2:$F$6, 2, 0)","v":1.5},{"$f":"VLOOKUP(L6, Lookups!$E$2:$F$6, 2, 0)","v":1},{"$f":"VLOOKUP(M6, Lookups!$E$2:$F$6, 2, 0)","v":1},{"$f":"VLOOKUP(N6, Lookups!$E$2:$F$6, 2, 0)","v":1.5},{"$f":"VLOOKUP(O6, Lookups!$E$2:$F$6, 2, 0)","v":1.5},{"$f":"VLOOKUP(P6, Lookups!$E$2:$F$6, 2, 0)","v":1},{"$f":"VLOOKUP(Q6, Lookups!$E$2:$F$6, 2, 0)","v":1.5},{"$f":"VLOOKUP(R6, Lookups!$E$2:$F$6, 2, 0)","v":1.5},{"$f":"VLOOKUP(S6, Lookups!$E$2:$F$6, 2, 0)","v":1},{"$f":"VLOOKUP(T6, Lookups!$E$2:$F$6, 2, 0)","v":1},{"$f":"VLOOKUP(U6, Lookups!$E$2:$F$6, 2, 0)","v":1.5},null,{"$f":"VLOOKUP(W6, Lookups!$E$2:$F$6, 2, 0)","v":1.5},{"$f":"VLOOKUP(X6, Lookups!$E$2:$F$6, 2, 0)","v":1},{"$f":"VLOOKUP(Y6, Lookups!$E$2:$F$6, 2, 0)","v":1},{"$f":"VLOOKUP(Z6, Lookups!$E$2:$F$6, 2, 0)","v":1},{"$f":"VLOOKUP(AA6, Lookups!$E$2:$F$6, 2, 0)","v":1},{"$f":"VLOOKUP(AB6, Lookups!$E$2:$F$6, 2, 0)","v":1},{"$f":"VLOOKUP(AC6, Lookups!$E$2:$F$6, 2, 0)","v":1},{"$f":"VLOOKUP(AD6, Lookups!$E$2:$F$6, 2, 0)","v":1},{"$f":"VLOOKUP(AE6, Lookups!$E$2:$F$6, 2, 0)","v":1},{"$f":"VLOOKUP(AF6, Lookups!$E$2:$F$6, 2, 0)","v":1},{"$f":"VLOOKUP(AG6, Lookups!$E$2:$F$6, 2, 0)","v":1},{"$f":"VLOOKUP(AH6, Lookups!$E$2:$F$6, 2, 0)","v":1},{"$f":"VLOOKUP(AI6, Lookups!$E$2:$F$6, 2, 0)","v":1},{"$f":"VLOOKUP(AJ6, Lookups!$E$2:$F$6, 2, 0)","v":1},{"$f":"VLOOKUP(AK6, Lookups!$E$2:$F$6, 2, 0)","v":1},{"$f":"VLOOKUP(AL6, Lookups!$E$2:$F$6, 2, 0)","v":1},{"$f":"VLOOKUP(AM6, Lookups!$E$2:$F$6, 2, 0)","v":1},{"$f":"VLOOKUP(AN6, Lookups!$E$2:$F$6, 2, 0)","v":1},{"$f":"VLOOKUP(AO6, Lookups!$E$2:$F$6, 2, 0)","v":1},{"$f":"VLOOKUP(AP6, Lookups!$E$2:$F$6, 2, 0)","v":1},{"$f":"VLOOKUP(AQ6, Lookups!$E$2:$F$6, 2, 0)","v":1},{"$f":"VLOOKUP(AR6, Lookups!$E$2:$F$6, 2, 0)","v":1},{"$f":"VLOOKUP(AS6, Lookups!$E$2:$F$6, 2, 0)","v":1},{"$f":"VLOOKUP(AT6, Lookups!$E$2:$F$6, 2, 0)","v":1},{"$f":"VLOOKUP(AU6, Lookups!$E$2:$F$6, 2, 0)","v":1},{"$f":"VLOOKUP(AV6, Lookups!$E$2:$F$6, 2, 0)","v":1},{"$f":"VLOOKUP(AW6, Lookups!$E$2:$F$6, 2, 0)","v":1},{"$f":"VLOOKUP(AX6, Lookups!$E$2:$F$6, 2, 0)","v":1},{"$f":"VLOOKUP(AY6, Lookups!$E$2:$F$6, 2, 0)","v":1},{"$f":"VLOOKUP(AZ6, Lookups!$E$2:$F$6, 2, 0)","v":1},{"$f":"VLOOKUP(BA6, Lookups!$E$2:$F$6, 2, 0)","v":1},{"$f":"VLOOKUP(BB6, Lookups!$E$2:$F$6, 2, 0)","v":1},{"$f":"VLOOKUP(BC6, Lookups!$E$2:$F$6, 2, 0)","v":1},{"$f":"VLOOKUP(BD6, Lookups!$E$2:$F$6, 2, 0)","v":1},{"$f":"VLOOKUP(BE6, Lookups!$E$2:$F$6, 2, 0)","v":1},{"$f":"VLOOKUP(BF6, Lookups!$E$2:$F$6, 2, 0)","v":1}]
["Amping Reaction Final Multiplier",{"$f":"IF(B257=1, 1, B257*(1+(2.78*B153)/(1400+B153)+B292))","v":2.1530927176238506},{"$f":"IF(C257=1, 1, C257*(1+(2.78*C153)/(1400+C153)+C292))","v":1},{"$f":"IF(D257=1, 1, D257*(1+(2.78*D153)/(1400+D153)+D292))","v":1},1,{"$f":"IF(F257=1, 1, F257*(1+(2.78*F153)/(1400+F153)+F292))","v":1},1,{"$f":"IF(H257=1, 1, H257*(1+(2.78*H153)/(1400+H153)+H292))","v":2.3060067378153737},1,{"$f":"IF(J257=1, 1, J257*(1+(2.78*J153)/(1400+J153)+J292))","v":2.3060067378153737},2.3060067378153737,{"$f":"IF(L257=1, 1, L257*(1+(2.78*L153)/(1400+L153)+L292))","v":1},1,2.3060067378153737,{"$f":"IF(O257=1, 1, O257*(1+(2.78*O153)/(1400+O153)+O292))","v":2.3060067378153737},{"$f":"IF(P257=1, 1, P257*(1+(2.78*P153)/(1400+P153)+P292))","v":1},2.3060067378153737,{"$f":"IF(R257=1, 1, R257*(1+(2.78*R153)/(1400+R153)+R292))","v":2.3060067378153737},1,1,2.3060067378153737,null,{"$f":"IF(W257=1, 1, W257*(1+(2.78*W153)/(1400+W153)+W292))","v":1.6148195382178878},{"$f":"IF(X257=1, 1, X257*(1+(2.78*X153)/(1400+X153)+X292))","v":1},{"$f":"IF(Y257=1, 1, Y257*(1+(2.78*Y153)/(1400+Y153)+Y292))","v":1},1,1,{"$f":"IF(AB257=1, 1, AB257*(1+(2.78*AB153)/(1400+AB153)+AB292))","v":1},{"$f":"IF(AC257=1, 1, AC257*(1+(2.78*AC153)/(1400+AC153)+AC292))","v":1},1,1,{"$f":"IF(AF257=1, 1, AF257*(1+(2.78*AF153)/(1400+AF153)+AF292))","v":1},1,1,1,1,1,1,1,1,1,1,1,1,1,1,1,1,1,1,1,1,1,1,1,1,1,1]
["Talent Multiplier",{"$f":"B16","v":0},{"$f":"C16","v":0},{"$f":"D16","v":0},0,{"$f":"F16","v":0},0,{"$f":"H16","v":0},0,{"$f":"J16","v":0},0,{"$f":"L16","v":0},0,0,{"$f":"O16","v":0},{"$f":"P16","v":0},0,{"$f":"R16","v":0},0,0,0,null,{"$f":"W16","v":0},{"$f":"X16","v":0},{"$f":"Y16","v":0},0,0,{"$f":"AB16","v":0},{"$f":"AC16","v":0},0,0,{"$f":"AF16","v":false},false,false,false,false,false,false,false,false,false,false,false,false,false,false,false,false,false,false,false,false,false,false,false,false,false,false]
["Weapon Proc Damage",{"$f":"B252*(1+B253)*B254*B255*B256*B258*B259*B31","v":0},{"$f":"C252*(1+C253)*C254*C255*C256*C258*C259*C31","v":0},{"$f":"D252*(1+D253)*D254*D255*D256*D258*D259*D31","v":0},0,{"$f":"F252*(1+F253)*F254*F255*F256*F258*F259*F31","v":0},0,{"$f":"H252*(1+H253)*H254*H255*H256*H258*H259*H31","v":0},0,{"$f":"J252*(1+J253)*J254*J255*J256*J258*J259*J31","v":0},0,{"$f":"L252*(1+L253)*L254*L255*L256*L258*L259*L31","v":0},0,0,{"$f":"O252*(1+O253)*O254*O255*O256*O258*O259*O31","v":0},{"$f":"P252*(1+P253)*P254*P255*P256*P258*P259*P31","v":0},0,{"$f":"R252*(1+R253)*R254*R255*R256*R258*R259*R31","v":0},0,0,0,null,{"$f":"W252*(1+W253)*W254*W255*W256*W258*W259*W31","v":0},{"$f":"X252*(1+X253)*X254*X255*X256*X258*X259*X31","v":0},{"$f":"Y252*(1+Y253)*Y254*Y255*Y256*Y258*Y259*Y31","v":0},0,0,{"$f":"AB252*(1+AB253)*AB254*AB255*AB256*AB258*AB259*AB31","v":0},{"$f":"AC252*(1+AC253)*AC254*AC255*AC256*AC258*AC259*AC31","v":0},0,0,{"$f":"AF252*(1+AF253)*AF254*AF255*AF256*AF258*AF259*AF31","v":{"$error":"#N/A"}},{"$error":"#N/A"},{"$error":"#N/A"},{"$error":"#N/A"},{"$error":"#N/A"},{"$error":"#N/A"},{"$error":"#N/A"},{"$error":"#N/A"},{"$error":"#N/A"},{"$error":"#N/A"},{"$error":"#N/A"},{"$error":"#N/A"},{"$error":"#N/A"},{"$error":"#N/A"},{"$error":"#N/A"},{"$error":"#N/A"},{"$error":"#N/A"},{"$error":"#N/A"},{"$error":"#N/A"},{"$error":"#N/A"},{"$error":"#N/A"},{"$error":"#N/A"},{"$error":"#N/A"},{"$error":"#N/A"},{"$error":"#N/A"},{"$error":"#N/A"},{"$error":"#N/A"}]
["Artifact Proc Calcs"]
["Multiplier",{"$f":"B29","v":0.35099999999999998},{"$f":"C29","v":0.35099999999999998},{"$f":"D29","v":""},"",{"$f":"F29","v":""},"",{"$f":"H29","v":""},"",{"$f":"J29","v":""},"",{"$f":"L29","v":""},"","",{"$f":"O29","v":""},{"$f":"P29","v":""},"",{"$f":"R29","v":""},"","","",null,{"$f":"W29","v":""},{"$f":"X29","v":""},{"$f":"Y29","v":""},"","",{"$f":"AB29","v":""},{"$f":"AC29","v":""},"","",{"$f":"AF29","v":""},"","","","","","","","","","","","","","","","","","","","","","","","","",""]
["Damage Bonus",{"$f":"IFERROR(INDEX(B244:B250, MATCH(B28,$A$244:$A$250, 0),1),0)","v":0},{"$f":"IFERROR(INDEX(C244:C250, MATCH(C28,$A$244:$A$250, 0),1),0)","v":0},{"$f":"IFERROR(INDEX(D244:D250, MATCH(D28,$A$244:$A$250, 0),1),0)","v":0},0,{"$f":"IFERROR(INDEX(F244:F250, MATCH(F28,$A$244:$A$250, 0),1),0)","v":0},0,{"$f":"IFERROR(INDEX(H244:H250, MATCH(H28,$A$244:$A$250, 0),1),0)","v":0},0,{"$f":"IFERROR(INDEX(J244:J250, MATCH(J28,$A$244:$A$250, 0),1),0)","v":0},0,{"$f":"IFERROR(INDEX(L244:L250, MATCH(L28,$A$244:$A$250, 0),1),0)","v":0},0,0,{"$f":"IFERROR(INDEX(O244:O250, MATCH(O28,$A$244:$A$250, 0),1),0)","v":0},{"$f":"IFERROR(INDEX(P244:P250, MATCH(P28,$A$244:$A$250, 0),1),0)","v":0},0,{"$f":"IFERROR(INDEX(R244:R250, MATCH(R28,$A$244:$A$250, 0),1),0)","v":0},0,0,0,null,{"$f":"IFERROR(INDEX(W244:W250, MATCH(W28,$A$244:$A$250, 0),1),0)","v":0},{"$f":"IFERROR(INDEX(X244:X250, MATCH(X28,$A$244:$A$250, 0),1),0)","v":0},{"$f":"IFERROR(INDEX(Y244:Y250, MATCH(Y28,$A$244:$A$250, 0),1),0)","v":0},0,0,{"$f":"IFERROR(INDEX(AB244:AB250, MATCH(AB28,$A$244:$A$250, 0),1),0)","v":0},{"$f":"IFERROR(INDEX(AC244:AC250, MATCH(AC28,$A$244:$A$250, 0),1),0)","v":0},0,0,{"$f":"IFERROR(INDEX(AF244:AF250, MATCH(AF28,$A$244:$A$250, 0),1),0)","v":0},0,0,0,0,0,0,0,0,0,0,0,0,0,0,0,0,0,0,0,0,0,0,0,0,0,0]
["Damage",{"$f":"IF(B3 = \"Normal\", IFERROR(B262*B274*(1+B263)*B288*B289*B290,0),0)","v":0},0,0,{"$f":"IF(E3 = \"Normal\", IFERROR(E262*E274*(1+E263)*E288*E289*E290,0),0)","v":0},0,{"$f":"IF(G3 = \"Normal\", IFERROR(G262*G274*(1+G263)*G288*G289*G290,0),0)","v":0},0,{"$f":"IF(I3 = \"Normal\", IFERROR(I262*I274*(1+I263)*I288*I289*I290,0),0)","v":0},0,{"$f":"IF(K3 = \"Normal\", IFERROR(K262*K274*(1+K263)*K288*K289*K290,0),0)","v":0},0,0,0,{"$f":"IF(O3 = \"Normal\", IFERROR(O262*O274*(1+O263)*O288*O289*O290,0),0)","v":0},{"$f":"IF(P3 = \"Normal\", IFERROR(P262*P274*(1+P263)*P288*P289*P290,0),0)","v":0},0,{"$f":"IF(R3 = \"Normal\", IFERROR(R262*R274*(1+R263)*R288*R289*R290,0),0)","v":0},0,0,0,null,{"$f":"IF(W3 = \"Normal\", IFERROR(W262*W274*(1+W263)*W288*W289*W290,0),0)","v":0},{"$f":"IF(X3 = \"Normal\", IFERROR(X262*X274*(1+X263)*X288*X289*X290,0),0)","v":0},{"$f":"IF(Y3 = \"Normal\", IFERROR(Y262*Y274*(1+Y263)*Y288*Y289*Y290,0),0)","v":0},0,0,{"$f":"IF(AB3 = \"Normal\", IFERROR(AB262*AB274*(1+AB263)*AB288*AB289*AB290,0),0)","v":0},{"$f":"IF(AC3 = \"Normal\", IFERROR(AC262*AC274*(1+AC263)*AC288*AC289*AC290,0),0)","v":0},0,0,{"$f":"IF(AF3 = \"Normal\", IFERROR(AF262*AF274*(1+AF263)*AF288*AF289*AF290,0),0)","v":0},0,0,0,0,0,0,0,0,0,0,0,0,0,0,0,0,0,0,0,0,0,0,0,0,0,0]
["Healing Calculations"]
["Weapon Proc or Kit?",{"$f":"IF(B9 = TRUE, IF(AND(B9, NOT(B2 = \"Weapon Proc\")), \"Kit\", \"Weapon Proc\"), \"Not Healing Move\")","v":"Not Healing Move"},{"$f":"IF(C9 = TRUE, IF(AND(C9, NOT(C2 = \"Weapon Proc\")), \"Kit\", \"Weapon Proc\"), \"Not Healing Move\")","v":"Not Healing Move"},{"$f":"IF(D9 = TRUE, IF(AND(D9, NOT(D2 = \"Weapon Proc\")), \"Kit\", \"Weapon Proc\"), \"Not Healing Move\")","v":"Not Healing Move"},"Not Healing Move",{"$f":"IF(F9 = TRUE, IF(AND(F9, NOT(F2 = \"Weapon Proc\")), \"Kit\", \"Weapon Proc\"), \"Not Healing Move\")","v":"Not Healing Move"},"Not Healing Move",{"$f":"IF(H9 = TRUE, IF(AND(H9, NOT(H2 = \"Weapon Proc\")), \"Kit\", \"Weapon Proc\"), \"Not Healing Move\")","v":"Not Healing Move"},"Not Healing Move",{"$f":"IF(J9 = TRUE, IF(AND(J9, NOT(J2 = \"Weapon Proc\")), \"Kit\", \"Weapon Proc\"), \"Not Healing Move\")","v":"Not Healing Move"},"Not Healing Move",{"$f":"IF(L9 = TRUE, IF(AND(L9, NOT(L2 = \"Weapon Proc\")), \"Kit\", \"Weapon Proc\"), \"Not Healing Move\")","v":"Not Healing Move"},"Not Healing Move","Not Healing Move",{"$f":"IF(O9 = TRUE, IF(AND(O9, NOT(O2 = \"Weapon Proc\")), \"Kit\", \"Weapon Proc\"), \"Not Healing Move\")","v":"Not Healing Move"},{"$f":"IF(P9 = TRUE, IF(AND(P9, NOT(P2 = \"Weapon Proc\")), \"Kit\", \"Weapon Proc\"), \"Not Healing Move\")","v":"Not Healing Move"},"Not Healing Move",{"$f":"IF(R9 = TRUE, IF(AND(R9, NOT(R2 = \"Weapon Proc\")), \"Kit\", \"Weapon Proc\"), \"Not Healing Move\")","v":"Not Healing Move"},"Not Healing Move","Not Healing Move","Not Healing Move",null,{"$f":"IF(W9 = TRUE, IF(AND(W9, NOT(W2 = \"Weapon Proc\")), \"Kit\", \"Weapon Proc\"), \"Not Healing Move\")","v":"Not Healing Move"},{"$f":"IF(X9 = TRUE, IF(AND(X9, NOT(X2 = \"Weapon Proc\")), \"Kit\", \"Weapon Proc\"), \"Not Healing Move\")","v":"Not Healing Move"},{"$f":"IF(Y9 = TRUE, IF(AND(Y9, NOT(Y2 = \"Weapon Proc\")), \"Kit\", \"Weapon Proc\"), \"Not Healing Move\")","v":"Not Healing Move"},"Not Healing Move","Not Healing Move",{"$f":"IF(AB9 = TRUE, IF(AND(AB9, NOT(AB2 = \"Weapon Proc\")), \"Kit\", \"Weapon Proc\"), \"Not Healing Move\")","v":"Not Healing Move"},{"$f":"IF(AC9 = TRUE, IF(AND(AC9, NOT(AC2 = \"Weapon Proc\")), \"Kit\", \"Weapon Proc\"), \"Not Healing Move\")","v":"Not Healing Move"},"Not Healing Move","Not Healing Move",{"$f":"IF(AF9 = TRUE, IF(AND(AF9, NOT(AF2 = \"Weapon Proc\")), \"Kit\", \"Weapon Proc\"), \"Not Healing Move\")","v":"Kit"},"Kit","Kit","Kit","Kit","Kit","Kit","Kit","Kit","Kit","Kit","Kit","Kit","Kit","Kit","Kit","Kit","Kit","Kit","Kit","Kit","Kit","Kit","Kit","Kit","Kit","Kit"]
["Scaling Stat",{"$f":"IF(B266 = \"Kit\", B5, IF(B266 = \"Weapon Proc\", B14, \"\"))","v":""},{"$f":"IF(C266 = \"Kit\", C5, IF(C266 = \"Weapon Proc\", C14, \"\"))","v":""},{"$f":"IF(D266 = \"Kit\", D5, IF(D266 = \"Weapon Proc\", D14, \"\"))","v":""},"",{"$f":"IF(F266 = \"Kit\", F5, IF(F266 = \"Weapon Proc\", F14, \"\"))","v":""},"",{"$f":"IF(H266 = \"Kit\", H5, IF(H266 = \"Weapon Proc\", H14, \"\"))","v":""},"",{"$f":"IF(J266 = \"Kit\", J5, IF(J266 = \"Weapon Proc\", J14, \"\"))","v":""},"",{"$f":"IF(L266 = \"Kit\", L5, IF(L266 = \"Weapon Proc\", L14, \"\"))","v":""},"","",{"$f":"IF(O266 = \"Kit\", O5, IF(O266 = \"Weapon Proc\", O14, \"\"))","v":""},{"$f":"IF(P266 = \"Kit\", P5, IF(P266 = \"Weapon Proc\", P14, \"\"))","v":""},"",{"$f":"IF(R266 = \"Kit\", R5, IF(R266 = \"Weapon Proc\", R14, \"\"))","v":""},"","","",null,{"$f":"IF(W266 = \"Kit\", W5, IF(W266 = \"Weapon Proc\", W14, \"\"))","v":""},{"$f":"IF(X266 = \"Kit\", X5, IF(X266 = \"Weapon Proc\", X14, \"\"))","v":""},{"$f":"IF(Y266 = \"Kit\", Y5, IF(Y266 = \"Weapon Proc\", Y14, \"\"))","v":""},"","",{"$f":"IF(AB266 = \"Kit\", AB5, IF(AB266 = \"Weapon Proc\", AB14, \"\"))","v":""},{"$f":"IF(AC266 = \"Kit\", AC5, IF(AC266 = \"Weapon Proc\", AC14, \"\"))","v":""},"","",{"$f":"IF(AF266 = \"Kit\", AF5, IF(AF266 = \"Weapon Proc\", AF14, \"\"))","v":""},"","","","","","","","","","","","","","","","","","","","","","","","","",""]
["Character Scaler",{"$f":"IFERROR(VLOOKUP(B8, Lookups!$A$1:$B$5, 2, 0),\"\")","v":""},{"$f":"IFERROR(VLOOKUP(C8, Lookups!$A$1:$B$5, 2, 0),\"\")","v":""},{"$f":"IFERROR(VLOOKUP(D8, Lookups!$A$1:$B$5, 2, 0),\"\")","v":""},{"$f":"IFERROR(VLOOKUP(E8, Lookups!$A$1:$B$5, 2, 0),\"\")","v":""},{"$f":"IFERROR(VLOOKUP(F8, Lookups!$A$1:$B$5, 2, 0),\"\")","v":""},{"$f":"IFERROR(VLOOKUP(G8, Lookups!$A$1:$B$5, 2, 0),\"\")","v":""},{"$f":"IFERROR(VLOOKUP(H8, Lookups!$A$1:$B$5, 2, 0),\"\")","v":""},{"$f":"IFERROR(VLOOKUP(I8, Lookups!$A$1:$B$5, 2, 0),\"\")","v":""},{"$f":"IFERROR(VLOOKUP(J8, Lookups!$A$1:$B$5, 2, 0),\"\")","v":""},{"$f":"IFERROR(VLOOKUP(K8, Lookups!$A$1:$B$5, 2, 0),\"\")","v":""},{"$f":"IFERROR(VLOOKUP(L8, Lookups!$A$1:$B$5, 2, 0),\"\")","v":""},{"$f":"IFERROR(VLOOKUP(M8, Lookups!$A$1:$B$5, 2, 0),\"\")","v":""},{"$f":"IFERROR(VLOOKUP(N8, Lookups!$A$1:$B$5, 2, 0),\"\")","v":""},{"$f":"IFERROR(VLOOKUP(O8, Lookups!$A$1:$B$5, 2, 0),\"\")","v":""},{"$f":"IFERROR(VLOOKUP(P8, Lookups!$A$1:$B$5, 2, 0),\"\")","v":""},{"$f":"IFERROR(VLOOKUP(Q8, Lookups!$A$1:$B$5, 2, 0),\"\")","v":""},{"$f":"IFERROR(VLOOKUP(R8, Lookups!$A$1:$B$5, 2, 0),\"\")","v":""},{"$f":"IFERROR(VLOOKUP(S8, Lookups!$A$1:$B$5, 2, 0),\"\")","v":""},{"$f":"IFERROR(VLOOKUP(T8, Lookups!$A$1:$B$5, 2, 0),\"\")","v":""},{"$f":"IFERROR(VLOOKUP(U8, Lookups!$A$1:$B$5, 2, 0),\"\")","v":""},null,{"$f":"IFERROR(VLOOKUP(W8, Lookups!$A$1:$B$5, 2, 0),\"\")","v":""},{"$f":"IFERROR(VLOOKUP(X8, Lookups!$A$1:$B$5, 2, 0),\"\")","v":""},{"$f":"IFERROR(VLOOKUP(Y8, Lookups!$A$1:$B$5, 2, 0),\"\")","v":""},{"$f":"IFERROR(VLOOKUP(Z8, Lookups!$A$1:$B$5, 2, 0),\"\")","v":""},{"$f":"IFERROR(VLOOKUP(AA8, Lookups!$A$1:$B$5, 2, 0),\"\")","v":""},{"$f":"IFERROR(VLOOKUP(AB8, Lookups!$A$1:$B$5, 2, 0),\"\")","v":""},{"$f":"IFERROR(VLOOKUP(AC8, Lookups!$A$1:$B$5, 2, 0),\"\")","v":""},{"$f":"IFERROR(VLOOKUP(AD8, Lookups!$A$1:$B$5, 2, 0),\"\")","v":""},{"$f":"IFERROR(VLOOKUP(AE8, Lookups!$A$1:$B$5, 2, 0),\"\")","v":""},{"$f":"IFERROR(VLOOKUP(AF8, Lookups!$A$1:$B$5, 2, 0),\"\")","v":""},{"$f":"IFERROR(VLOOKUP(AG8, Lookups!$A$1:$B$5, 2, 0),\"\")","v":""},{"$f":"IFERROR(VLOOKUP(AH8, Lookups!$A$1:$B$5, 2, 0),\"\")","v":""},{"$f":"IFERROR(VLOOKUP(AI8, Lookups!$A$1:$B$5, 2, 0),\"\")","v":""},{"$f":"IFERROR(VLOOKUP(AJ8, Lookups!$A$1:$B$5, 2, 0),\"\")","v":""},{"$f":"IFERROR(VLOOKUP(AK8, Lookups!$A$1:$B$5, 2, 0),\"\")","v":""},{"$f":"IFERROR(VLOOKUP(AL8, Lookups!$A$1:$B$5, 2, 0),\"\")","v":""},{"$f":"IFERROR(VLOOKUP(AM8, Lookups!$A$1:$B$5, 2, 0),\"\")","v":""},{"$f":"IFERROR(VLOOKUP(AN8, Lookups!$A$1:$B$5, 2, 0),\"\")","v":""},{"$f":"IFERROR(VLOOKUP(AO8, Lookups!$A$1:$B$5, 2, 0),\"\")","v":""},{"$f":"IFERROR(VLOOKUP(AP8, Lookups!$A$1:$B$5, 2, 0),\"\")","v":""},{"$f":"IFERROR(VLOOKUP(AQ8, Lookups!$A$1:$B$5, 2, 0),\"\")","v":""},{"$f":"IFERROR(VLOOKUP(AR8, Lookups!$A$1:$B$5, 2, 0),\"\")","v":""},{"$f":"IFERROR(VLOOKUP(AS8, Lookups!$A$1:$B$5, 2, 0),\"\")","v":""},{"$f":"IFERROR(VLOOKUP(AT8, Lookups!$A$1:$B$5, 2, 0),\"\")","v":""},{"$f":"IFERROR(VLOOKUP(AU8, Lookups!$A$1:$B$5, 2, 0),\"\")","v":""},{"$f":"IFERROR(VLOOKUP(AV8, Lookups!$A$1:$B$5, 2, 0),\"\")","v":""},{"$f":"IFERROR(VLOOKUP(AW8, Lookups!$A$1:$B$5, 2, 0),\"\")","v":""},{"$f":"IFERROR(VLOOKUP(AX8, Lookups!$A$1:$B$5, 2, 0),\"\")","v":""},{"$f":"IFERROR(VLOOKUP(AY8, Lookups!$A$1:$B$5, 2, 0),\"\")","v":""},{"$f":"IFERROR(VLOOKUP(AZ8, Lookups!$A$1:$B$5, 2, 0),\"\")","v":""},{"$f":"IFERROR(VLOOKUP(BA8, Lookups!$A$1:$B$5, 2, 0),\"\")","v":""},{"$f":"IFERROR(VLOOKUP(BB8, Lookups!$A$1:$B$5, 2, 0),\"\")","v":""},{"$f":"IFERROR(VLOOKUP(BC8, Lookups!$A$1:$B$5, 2, 0),\"\")","v":""},{"$f":"IFERROR(VLOOKUP(BD8, Lookups!$A$1:$B$5, 2, 0),\"\")","v":""},{"$f":"IFERROR(VLOOKUP(BE8, Lookups!$A$1:$B$5, 2, 0),\"\")","v":""},{"$f":"IFERROR(VLOOKUP(BF8, Lookups!$A$1:$B$5, 2, 0),\"\")","v":""}]
["Scaling Stat Value",{"$f":"IFERROR(INDEX(Lookups!$O$7:$R$11, MATCH(B268, Lookups!$O$7:$O$11, 0), MATCH('Rotation Assembler'!B267, Lookups!$O$7:$R$7, 0)),\"\")","v":""},{"$f":"IFERROR(INDEX(Lookups!$O$7:$R$11, MATCH(C268, Lookups!$O$7:$O$11, 0), MATCH('Rotation Assembler'!C267, Lookups!$O$7:$R$7, 0)),\"\")","v":""},{"$f":"IFERROR(INDEX(Lookups!$O$7:$R$11, MATCH(D268, Lookups!$O$7:$O$11, 0), MATCH('Rotation Assembler'!D267, Lookups!$O$7:$R$7, 0)),\"\")","v":""},{"$f":"IFERROR(INDEX(Lookups!$O$7:$R$11, MATCH(E268, Lookups!$O$7:$O$11, 0), MATCH('Rotation Assembler'!E267, Lookups!$O$7:$R$7, 0)),\"\")","v":""},{"$f":"IFERROR(INDEX(Lookups!$O$7:$R$11, MATCH(F268, Lookups!$O$7:$O$11, 0), MATCH('Rotation Assembler'!F267, Lookups!$O$7:$R$7, 0)),\"\")","v":""},{"$f":"IFERROR(INDEX(Lookups!$O$7:$R$11, MATCH(G268, Lookups!$O$7:$O$11, 0), MATCH('Rotation Assembler'!G267, Lookups!$O$7:$R$7, 0)),\"\")","v":""},{"$f":"IFERROR(INDEX(Lookups!$O$7:$R$11, MATCH(H268, Lookups!$O$7:$O$11, 0), MATCH('Rotation Assembler'!H267, Lookups!$O$7:$R$7, 0)),\"\")","v":""},{"$f":"IFERROR(INDEX(Lookups!$O$7:$R$11, MATCH(I268, Lookups!$O$7:$O$11, 0), MATCH('Rotation Assembler'!I267, Lookups!$O$7:$R$7, 0)),\"\")","v":""},{"$f":"IFERROR(INDEX(Lookups!$O$7:$R$11, MATCH(J268, Lookups!$O$7:$O$11, 0), MATCH('Rotation Assembler'!J267, Lookups!$O$7:$R$7, 0)),\"\")","v":""},{"$f":"IFERROR(INDEX(Lookups!$O$7:$R$11, MATCH(K268, Lookups!$O$7:$O$11, 0), MATCH('Rotation Assembler'!K267, Lookups!$O$7:$R$7, 0)),\"\")","v":""},{"$f":"IFERROR(INDEX(Lookups!$O$7:$R$11, MATCH(L268, Lookups!$O$7:$O$11, 0), MATCH('Rotation Assembler'!L267, Lookups!$O$7:$R$7, 0)),\"\")","v":""},{"$f":"IFERROR(INDEX(Lookups!$O$7:$R$11, MATCH(M268, Lookups!$O$7:$O$11, 0), MATCH('Rotation Assembler'!M267, Lookups!$O$7:$R$7, 0)),\"\")","v":""},{"$f":"IFERROR(INDEX(Lookups!$O$7:$R$11, MATCH(N268, Lookups!$O$7:$O$11, 0), MATCH('Rotation Assembler'!N267, Lookups!$O$7:$R$7, 0)),\"\")","v":""},{"$f":"IFERROR(INDEX(Lookups!$O$7:$R$11, MATCH(O268, Lookups!$O$7:$O$11, 0), MATCH('Rotation Assembler'!O267, Lookups!$O$7:$R$7, 0)),\"\")","v":""},{"$f":"IFERROR(INDEX(Lookups!$O$7:$R$11, MATCH(P268, Lookups!$O$7:$O$11, 0), MATCH('Rotation Assembler'!P267, Lookups!$O$7:$R$7, 0)),\"\")","v":""},{"$f":"IFERROR(INDEX(Lookups!$O$7:$R$11, MATCH(Q268, Lookups!$O$7:$O$11, 0), MATCH('Rotation Assembler'!Q267, Lookups!$O$7:$R$7, 0)),\"\")","v":""},{"$f":"IFERROR(INDEX(Lookups!$O$7:$R$11, MATCH(R268, Lookups!$O$7:$O$11, 0), MATCH('Rotation Assembler'!R267, Lookups!$O$7:$R$7, 0)),\"\")","v":""},{"$f":"IFERROR(INDEX(Lookups!$O$7:$R$11, MATCH(S268, Lookups!$O$7:$O$11, 0), MATCH('Rotation Assembler'!S267, Lookups!$O$7:$R$7, 0)),\"\")","v":""},{"$f":"IFERROR(INDEX(Lookups!$O$7:$R$11, MATCH(T268, Lookups!$O$7:$O$11, 0), MATCH('Rotation Assembler'!T267, Lookups!$O$7:$R$7, 0)),\"\")","v":""},{"$f":"IFERROR(INDEX(Lookups!$O$7:$R$11, MATCH(U268, Lookups!$O$7:$O$11, 0), MATCH('Rotation Assembler'!U267, Lookups!$O$7:$R$7, 0)),\"\")","v":""},null,{"$f":"IFERROR(INDEX(Lookups!$O$7:$R$11, MATCH(W268, Lookups!$O$7:$O$11, 0), MATCH('Rotation Assembler'!W267, Lookups!$O$7:$R$7, 0)),\"\")","v":""},{"$f":"IFERROR(INDEX(Lookups!$O$7:$R$11, MATCH(X268, Lookups!$O$7:$O$11, 0), MATCH('Rotation Assembler'!X267, Lookups!$O$7:$R$7, 0)),\"\")","v":""},{"$f":"IFERROR(INDEX(Lookups!$O$7:$R$11, MATCH(Y268, Lookups!$O$7:$O$11, 0), MATCH('Rotation Assembler'!Y267, Lookups!$O$7:$R$7, 0)),\"\")","v":""},{"$f":"IFERROR(INDEX(Lookups!$O$7:$R$11, MATCH(Z268, Lookups!$O$7:$O$11, 0), MATCH('Rotation Assembler'!Z267, Lookups!$O$7:$R$7, 0)),\"\")","v":""},{"$f":"IFERROR(INDEX(Lookups!$O$7:$R$11, MATCH(AA268, Lookups!$O$7:$O$11, 0), MATCH('Rotation Assembler'!AA267, Lookups!$O$7:$R$7, 0)),\"\")","v":""},{"$f":"IFERROR(INDEX(Lookups!$O$7:$R$11, MATCH(AB268, Lookups!$O$7:$O$11, 0), MATCH('Rotation Assembler'!AB267, Lookups!$O$7:$R$7, 0)),\"\")","v":""},{"$f":"IFERROR(INDEX(Lookups!$O$7:$R$11, MATCH(AC268, Lookups!$O$7:$O$11, 0), MATCH('Rotation Assembler'!AC267, Lookups!$O$7:$R$7, 0)),\"\")","v":""},{"$f":"IFERROR(INDEX(Lookups!$O$7:$R$11, MATCH(AD268, Lookups!$O$7:$O$11, 0), MATCH('Rotation Assembler'!AD267, Lookups!$O$7:$R$7, 0)),\"\")","v":""},{"$f":"IFERROR(INDEX(Lookups!$O$7:$R$11, MATCH(AE268, Lookups!$O$7:$O$11, 0), MATCH('Rotation Assembler'!AE267, Lookups!$O$7:$R$7, 0)),\"\")","v":""},{"$f":"IFERROR(INDEX(Lookups!$O$7:$R$11, MATCH(AF268, Lookups!$O$7:$O$11, 0), MATCH('Rotation Assembler'!AF267, Lookups!$O$7:$R$7, 0)),\"\")","v":""},{"$f":"IFERROR(INDEX(Lookups!$O$7:$R$11, MATCH(AG268, Lookups!$O$7:$O$11, 0), MATCH('Rotation Assembler'!AG267, Lookups!$O$7:$R$7, 0)),\"\")","v":""},{"$f":"IFERROR(INDEX(Lookups!$O$7:$R$11, MATCH(AH268, Lookups!$O$7:$O$11, 0), MATCH('Rotation Assembler'!AH267, Lookups!$O$7:$R$7, 0)),\"\")","v":""},{"$f":"IFERROR(INDEX(Lookups!$O$7:$R$11, MATCH(AI268, Lookups!$O$7:$O$11, 0), MATCH('Rotation Assembler'!AI267, Lookups!$O$7:$R$7, 0)),\"\")","v":""},{"$f":"IFERROR(INDEX(Lookups!$O$7:$R$11, MATCH(AJ268, Lookups!$O$7:$O$11, 0), MATCH('Rotation Assembler'!AJ267, Lookups!$O$7:$R$7, 0)),\"\")","v":""},{"$f":"IFERROR(INDEX(Lookups!$O$7:$R$11, MATCH(AK268, Lookups!$O$7:$O$11, 0), MATCH('Rotation Assembler'!AK267, Lookups!$O$7:$R$7, 0)),\"\")","v":""},{"$f":"IFERROR(INDEX(Lookups!$O$7:$R$11, MATCH(AL268, Lookups!$O$7:$O$11, 0), MATCH('Rotation Assembler'!AL267, Lookups!$O$7:$R$7, 0)),\"\")","v":""},{"$f":"IFERROR(INDEX(Lookups!$O$7:$R$11, MATCH(AM268, Lookups!$O$7:$O$11, 0), MATCH('Rotation Assembler'!AM267, Lookups!$O$7:$R$7, 0)),\"\")","v":""},{"$f":"IFERROR(INDEX(Lookups!$O$7:$R$11, MATCH(AN268, Lookups!$O$7:$O$11, 0), MATCH('Rotation Assembler'!AN267, Lookups!$O$7:$R$7, 0)),\"\")","v":""},{"$f":"IFERROR(INDEX(Lookups!$O$7:$R$11, MATCH(AO268, Lookups!$O$7:$O$11, 0), MATCH('Rotation Assembler'!AO267, Lookups!$O$7:$R$7, 0)),\"\")","v":""},{"$f":"IFERROR(INDEX(Lookups!$O$7:$R$11, MATCH(AP268, Lookups!$O$7:$O$11, 0), MATCH('Rotation Assembler'!AP267, Lookups!$O$7:$R$7, 0)),\"\")","v":""},{"$f":"IFERROR(INDEX(Lookups!$O$7:$R$11, MATCH(AQ268, Lookups!$O$7:$O$11, 0), MATCH('Rotation Assembler'!AQ267, Lookups!$O$7:$R$7, 0)),\"\")","v":""},{"$f":"IFERROR(INDEX(Lookups!$O$7:$R$11, MATCH(AR268, Lookups!$O$7:$O$11, 0), MATCH('Rotation Assembler'!AR267, Lookups!$O$7:$R$7, 0)),\"\")","v":""},{"$f":"IFERROR(INDEX(Lookups!$O$7:$R$11, MATCH(AS268, Lookups!$O$7:$O$11, 0), MATCH('Rotation Assembler'!AS267, Lookups!$O$7:$R$7, 0)),\"\")","v":""},{"$f":"IFERROR(INDEX(Lookups!$O$7:$R$11, MATCH(AT268, Lookups!$O$7:$O$11, 0), MATCH('Rotation Assembler'!AT267, Lookups!$O$7:$R$7, 0)),\"\")","v":""},{"$f":"IFERROR(INDEX(Lookups!$O$7:$R$11, MATCH(AU268, Lookups!$O$7:$O$11, 0), MATCH('Rotation Assembler'!AU267, Lookups!$O$7:$R$7, 0)),\"\")","v":""},{"$f":"IFERROR(INDEX(Lookups!$O$7:$R$11, MATCH(AV268, Lookups!$O$7:$O$11, 0), MATCH('Rotation Assembler'!AV267, Lookups!$O$7:$R$7, 0)),\"\")","v":""},{"$f":"IFERROR(INDEX(Lookups!$O$7:$R$11, MATCH(AW268, Lookups!$O$7:$O$11, 0), MATCH('Rotation Assembler'!AW267, Lookups!$O$7:$R$7, 0)),\"\")","v":""},{"$f":"IFERROR(INDEX(Lookups!$O$7:$R$11, MATCH(AX268, Lookups!$O$7:$O$11, 0), MATCH('Rotation Assembler'!AX267, Lookups!$O$7:$R$7, 0)),\"\")","v":""},{"$f":"IFERROR(INDEX(Lookups!$O$7:$R$11, MATCH(AY268, Lookups!$O$7:$O$11, 0), MATCH('Rotation Assembler'!AY267, Lookups!$O$7:$R$7, 0)),\"\")","v":""},{"$f":"IFERROR(INDEX(Lookups!$O$7:$R$11, MATCH(AZ268, Lookups!$O$7:$O$11, 0), MATCH('Rotation Assembler'!AZ267, Lookups!$O$7:$R$7, 0)),\"\")","v":""},{"$f":"IFERROR(INDEX(Lookups!$O$7:$R$11, MATCH(BA268, Lookups!$O$7:$O$11, 0), MATCH('Rotation Assembler'!BA267, Lookups!$O$7:$R$7, 0)),\"\")","v":""},{"$f":"IFERROR(INDEX(Lookups!$O$7:$R$11, MATCH(BB268, Lookups!$O$7:$O$11, 0), MATCH('Rotation Assembler'!BB267, Lookups!$O$7:$R$7, 0)),\"\")","v":""},{"$f":"IFERROR(INDEX(Lookups!$O$7:$R$11, MATCH(BC268, Lookups!$O$7:$O$11, 0), MATCH('Rotation Assembler'!BC267, Lookups!$O$7:$R$7, 0)),\"\")","v":""},{"$f":"IFERROR(INDEX(Lookups!$O$7:$R$11, MATCH(BD268, Lookups!$O$7:$O$11, 0), MATCH('Rotation Assembler'!BD267, Lookups!$O$7:$R$7, 0)),\"\")","v":""},{"$f":"IFERROR(INDEX(Lookups!$O$7:$R$11, MATCH(BE268, Lookups!$O$7:$O$11, 0), MATCH('Rotation Assembler'!BE267, Lookups!$O$7:$R$7, 0)),\"\")","v":""},{"$f":"IFERROR(INDEX(Lookups!$O$7:$R$11, MATCH(BF268, Lookups!$O$7:$O$11, 0), MATCH('Rotation Assembler'!BF267, Lookups!$O$7:$R$7, 0)),\"\")","v":""}]
["Percentage or Flat?",{"$f":"IF(B266 = \"Kit\", B10, IF(B266 = \"Weapon Proc\", \"Percentage\", \"\"))","v":""},{"$f":"IF(C266 = \"Kit\", C10, IF(C266 = \"Weapon Proc\", \"Percentage\", \"\"))","v":""},{"$f":"IF(D266 = \"Kit\", D10, IF(D266 = \"Weapon Proc\", \"Percentage\", \"\"))","v":""},"",{"$f":"IF(F266 = \"Kit\", F10, IF(F266 = \"Weapon Proc\", \"Percentage\", \"\"))","v":""},"",{"$f":"IF(H266 = \"Kit\", H10, IF(H266 = \"Weapon Proc\", \"Percentage\", \"\"))","v":""},"",{"$f":"IF(J266 = \"Kit\", J10, IF(J266 = \"Weapon Proc\", \"Percentage\", \"\"))","v":""},"",{"$f":"IF(L266 = \"Kit\", L10, IF(L266 = \"Weapon Proc\", \"Percentage\", \"\"))","v":""},"","",{"$f":"IF(O266 = \"Kit\", O10, IF(O266 = \"Weapon Proc\", \"Percentage\", \"\"))","v":""},{"$f":"IF(P266 = \"Kit\", P10, IF(P266 = \"Weapon Proc\", \"Percentage\", \"\"))","v":""},"",{"$f":"IF(R266 = \"Kit\", R10, IF(R266 = \"Weapon Proc\", \"Percentage\", \"\"))","v":""},"","","",null,{"$f":"IF(W266 = \"Kit\", W10, IF(W266 = \"Weapon Proc\", \"Percentage\", \"\"))","v":""},{"$f":"IF(X266 = \"Kit\", X10, IF(X266 = \"Weapon Proc\", \"Percentage\", \"\"))","v":""},{"$f":"IF(Y266 = \"Kit\", Y10, IF(Y266 = \"Weapon Proc\", \"Percentage\", \"\"))","v":""},"","",{"$f":"IF(AB266 = \"Kit\", AB10, IF(AB266 = \"Weapon Proc\", \"Percentage\", \"\"))","v":""},{"$f":"IF(AC266 = \"Kit\", AC10, IF(AC266 = \"Weapon Proc\", \"Percentage\", \"\"))","v":""},"","",{"$f":"IF(AF266 = \"Kit\", AF10, IF(AF266 = \"Weapon Proc\", \"Percentage\", \"\"))","v":{"$error":"#N/A"}},{"$error":"#N/A"},{"$error":"#N/A"},{"$error":"#N/A"},{"$error":"#N/A"},{"$error":"#N/A"},{"$error":"#N/A"},{"$error":"#N/A"},{"$error":"#N/A"},{"$error":"#N/A"},{"$error":"#N/A"},{"$error":"#N/A"},{"$error":"#N/A"},{"$error":"#N/A"},{"$error":"#N/A"},{"$error":"#N/A"},{"$error":"#N/A"},{"$error":"#N/A"},{"$error":"#N/A"},{"$error":"#N/A"},{"$error":"#N/A"},{"$error":"#N/A"},{"$error":"#N/A"},{"$error":"#N/A"},{"$error":"#N/A"},{"$error":"#N/A"},{"$error":"#N/A"}]
["Talent/Weapon Proc%",{"$f":"IF(B266 = \"Kit\", B36, IF(B266 = \"Weapon Proc\", B16, \"\"))","v":""},{"$f":"IF(C266 = \"Kit\", C36, IF(C266 = \"Weapon Proc\", C16, \"\"))","v":""},{"$f":"IF(D266 = \"Kit\", D36, IF(D266 = \"Weapon Proc\", D16, \"\"))","v":""},"",{"$f":"IF(F266 = \"Kit\", F36, IF(F266 = \"Weapon Proc\", F16, \"\"))","v":""},"",{"$f":"IF(H266 = \"Kit\", H36, IF(H266 = \"Weapon Proc\", H16, \"\"))","v":""},"",{"$f":"IF(J266 = \"Kit\", J36, IF(J266 = \"Weapon Proc\", J16, \"\"))","v":""},"",{"$f":"IF(L266 = \"Kit\", L36, IF(L266 = \"Weapon Proc\", L16, \"\"))","v":""},"","",{"$f":"IF(O266 = \"Kit\", O36, IF(O266 = \"Weapon Proc\", O16, \"\"))","v":""},{"$f":"IF(P266 = \"Kit\", P36, IF(P266 = \"Weapon Proc\", P16, \"\"))","v":""},"",{"$f":"IF(R266 = \"Kit\", R36, IF(R266 = \"Weapon Proc\", R16, \"\"))","v":""},"","","",null,{"$f":"IF(W266 = \"Kit\", W36, IF(W266 = \"Weapon Proc\", W16, \"\"))","v":""},{"$f":"IF(X266 = \"Kit\", X36, IF(X266 = \"Weapon Proc\", X16, \"\"))","v":""},{"$f":"IF(Y266 = \"Kit\", Y36, IF(Y266 = \"Weapon Proc\", Y16, \"\"))","v":""},"","",{"$f":"IF(AB266 = \"Kit\", AB36, IF(AB266 = \"Weapon Proc\", AB16, \"\"))","v":""},{"$f":"IF(AC266 = \"Kit\", AC36, IF(AC266 = \"Weapon Proc\", AC16, \"\"))","v":""},"","",{"$f":"IF(AF266 = \"Kit\", AF36, IF(AF266 = \"Weapon Proc\", AF16, \"\"))","v":{"$error":"#N/A"}},{"$error":"#N/A"},{"$error":"#N/A"},{"$error":"#N/A"},{"$error":"#N/A"},{"$error":"#N/A"},{"$error":"#N/A"},{"$error":"#N/A"},{"$error":"#N/A"},{"$error":"#N/A"},{"$error":"#N/A"},{"$error":"#N/A"},{"$error":"#N/A"},{"$error":"#N/A"},{"$error":"#N/A"},{"$error":"#N/A"},{"$error":"#N/A"},{"$error":"#N/A"},{"$error":"#N/A"},{"$error":"#N/A"},{"$error":"#N/A"},{"$error":"#N/A"},{"$error":"#N/A"},{"$error":"#N/A"},{"$error":"#N/A"},{"$error":"#N/A"},{"$error":"#N/A"}]
["Healing Amount",{"$f":"IFERROR(IF(B270=\"Percentage\",B269*B271,IF(B270=\"Flat\", B271, 0)),0)","v":0},{"$f":"IFERROR(IF(C270=\"Percentage\",C269*C271,IF(C270=\"Flat\", C271, 0)),0)","v":0},{"$f":"IFERROR(IF(D270=\"Percentage\",D269*D271,IF(D270=\"Flat\", D271, 0)),0)","v":0},0,{"$f":"IFERROR(IF(F270=\"Percentage\",F269*F271,IF(F270=\"Flat\", F271, 0)),0)","v":0},0,{"$f":"IFERROR(IF(H270=\"Percentage\",H269*H271,IF(H270=\"Flat\", H271, 0)),0)","v":0},0,{"$f":"IFERROR(IF(J270=\"Percentage\",J269*J271,IF(J270=\"Flat\", J271, 0)),0)","v":0},0,{"$f":"IFERROR(IF(L270=\"Percentage\",L269*L271,IF(L270=\"Flat\", L271, 0)),0)","v":0},0,0,{"$f":"IFERROR(IF(O270=\"Percentage\",O269*O271,IF(O270=\"Flat\", O271, 0)),0)","v":0},{"$f":"IFERROR(IF(P270=\"Percentage\",P269*P271,IF(P270=\"Flat\", P271, 0)),0)","v":0},0,{"$f":"IFERROR(IF(R270=\"Percentage\",R269*R271,IF(R270=\"Flat\", R271, 0)),0)","v":0},0,0,0,null,{"$f":"IFERROR(IF(W270=\"Percentage\",W269*W271,IF(W270=\"Flat\", W271, 0)),0)","v":0},{"$f":"IFERROR(IF(X270=\"Percentage\",X269*X271,IF(X270=\"Flat\", X271, 0)),0)","v":0},{"$f":"IFERROR(IF(Y270=\"Percentage\",Y269*Y271,IF(Y270=\"Flat\", Y271, 0)),0)","v":0},0,0,{"$f":"IFERROR(IF(AB270=\"Percentage\",AB269*AB271,IF(AB270=\"Flat\", AB271, 0)),0)","v":0},{"$f":"IFERROR(IF(AC270=\"Percentage\",AC269*AC271,IF(AC270=\"Flat\", AC271, 0)),0)","v":0},0,0,{"$f":"IFERROR(IF(AF270=\"Percentage\",AF269*AF271,IF(AF270=\"Flat\", AF271, 0)),0)","v":0},0,0,0,0,0,0,0,0,0,0,0,0,0,0,0,0,0,0,0,0,0,0,0,0,0,0]
["Stats for Calcing"]
["Base Scaling (ATK/DEF/HP)",{"$f":"IFERROR(INDEX(B147:B149, MATCH(B5, $A$147:$A$149, 0), 1),0)","v":2987.2287999999999},{"$f":"IFERROR(INDEX(C147:C149, MATCH(C5, $A$147:$A$149, 0), 1),0)","v":2987.2287999999999},{"$f":"IFERROR(INDEX(D147:D149, MATCH(D5, $A$147:$A$149, 0), 1),0)","v":1515.2751999999998},2666.4751999999999,{"$f":"IFERROR(INDEX(F147:F149, MATCH(F5, $A$147:$A$149, 0), 1),0)","v":2987.2287999999999},1987.2287999999999,{"$f":"IFERROR(INDEX(H147:H149, MATCH(H5, $A$147:$A$149, 0), 1),0)","v":2822.154},2822.154,{"$f":"IFERROR(INDEX(J147:J149, MATCH(J5, $A$147:$A$149, 0), 1),0)","v":2822.154},2822.154,{"$f":"IFERROR(INDEX(L147:L149, MATCH(L5, $A$147:$A$149, 0), 1),0)","v":2822.154},2822.154,2822.154,{"$f":"IFERROR(INDEX(O147:O149, MATCH(O5, $A$147:$A$149, 0), 1),0)","v":2822.154},{"$f":"IFERROR(INDEX(P147:P149, MATCH(P5, $A$147:$A$149, 0), 1),0)","v":2822.154},2822.154,{"$f":"IFERROR(INDEX(R147:R149, MATCH(R5, $A$147:$A$149, 0), 1),0)","v":2822.154},2822.154,2822.154,2822.154,null,{"$f":"IFERROR(INDEX(W147:W149, MATCH(W5, $A$147:$A$149, 0), 1),0)","v":1515.2751999999998},{"$f":"IFERROR(INDEX(X147:X149, MATCH(X5, $A$147:$A$149, 0), 1),0)","v":1515.2751999999998},{"$f":"IFERROR(INDEX(Y147:Y149, MATCH(Y5, $A$147:$A$149, 0), 1),0)","v":1281.346},1160.346,54460.289000000004,{"$f":"IFERROR(INDEX(AB147:AB149, MATCH(AB5, $A$147:$A$149, 0), 1),0)","v":1653.1539999999998},{"$f":"IFERROR(INDEX(AC147:AC149, MATCH(AC5, $A$147:$A$149, 0), 1),0)","v":1653.1539999999998},1856.0288,1653.1539999999998,{"$f":"IFERROR(INDEX(AF147:AF149, MATCH(AF5, $A$147:$A$149, 0), 1),0)","v":0},0,0,0,0,0,0,0,0,0,0,0,0,0,0,0,0,0,0,0,0,0,0,0,0,0,0]
["Base x Talent",{"$f":"B274*B36","v":15055.633151999999},{"$f":"C274*C36","v":15055.633151999999},{"$f":"D274*D36","v":4170.037350399999},12415.108531199998,{"$f":"F274*F36","v":3242.3381395199995},2156.9381395199998,{"$f":"H274*H36","v":9787.2300720000003},2878.59708,{"$f":"J274*J36","v":4650.6275765999999},4528.9927392,{"$f":"L274*L36","v":4650.6275765999999},4543.6679400000003,4682.5179168000004,{"$f":"O274*O36","v":4650.6275765999999},{"$f":"P274*P36","v":4543.6679400000003},6179.3883984000004,{"$f":"R274*R36","v":4650.6275765999999},4543.6679400000003,5123.3383715999998,6947.014286399999,null,{"$f":"W274*W36","v":1240.10122368},{"$f":"X274*X36","v":4170.037350399999},{"$f":"Y274*Y36","v":1742.6305600000001},315.61411200000003,1034.7454910000001,{"$f":"AB274*AB36","v":2724.2324765999997},{"$f":"AC274*AC36","v":2661.5779399999997},2014.5336595199999,2724.2324765999997,{"$f":"AF274*AF36","v":{"$error":"#N/A"}},{"$error":"#N/A"},{"$error":"#N/A"},{"$error":"#N/A"},{"$error":"#N/A"},{"$error":"#N/A"},{"$error":"#N/A"},{"$error":"#N/A"},{"$error":"#N/A"},{"$error":"#N/A"},{"$error":"#N/A"},{"$error":"#N/A"},{"$error":"#N/A"},{"$error":"#N/A"},{"$error":"#N/A"},{"$error":"#N/A"},{"$error":"#N/A"},{"$error":"#N/A"},{"$error":"#N/A"},{"$error":"#N/A"},{"$error":"#N/A"},{"$error":"#N/A"},{"$error":"#N/A"},{"$error":"#N/A"},{"$error":"#N/A"},{"$error":"#N/A"},{"$error":"#N/A"}]
["Yoimiya Final Base x Talent x Bonus",{"$f":"IF(AND(B3 = \"Normal\", B25 = \"Yes\"), Lookups!$B$87*B275, B275)","v":15055.633151999999},{"$f":"IF(AND(C3 = \"Normal\", C25 = \"Yes\"), Lookups!$B$87*C275, C275)","v":15055.633151999999},{"$f":"IF(AND(D3 = \"Normal\", D25 = \"Yes\"), Lookups!$B$87*D275, D275)","v":4170.037350399999},{"$f":"IF(AND(E3 = \"Normal\", E25 = \"Yes\"), Lookups!$B$87*E275, E275)","v":12415.108531199998},{"$f":"IF(AND(F3 = \"Normal\", F25 = \"Yes\"), Lookups!$B$87*F275, F275)","v":3242.3381395199995},{"$f":"IF(AND(G3 = \"Normal\", G25 = \"Yes\"), Lookups!$B$87*G275, G275)","v":2156.9381395199998},{"$f":"IF(AND(H3 = \"Normal\", H25 = \"Yes\"), Lookups!$B$87*H275, H275)","v":9787.2300720000003},{"$f":"IF(AND(I3 = \"Normal\", I25 = \"Yes\"), Lookups!$B$87*I275, I275)","v":2878.59708},{"$f":"IF(AND(J3 = \"Normal\", J25 = \"Yes\"), Lookups!$B$87*J275, J275)","v":4650.6275765999999},{"$f":"IF(AND(K3 = \"Normal\", K25 = \"Yes\"), Lookups!$B$87*K275, K275)","v":4528.9927392},{"$f":"IF(AND(L3 = \"Normal\", L25 = \"Yes\"), Lookups!$B$87*L275, L275)","v":4650.6275765999999},{"$f":"IF(AND(M3 = \"Normal\", M25 = \"Yes\"), Lookups!$B$87*M275, M275)","v":4543.6679400000003},{"$f":"IF(AND(N3 = \"Normal\", N25 = \"Yes\"), Lookups!$B$87*N275, N275)","v":4682.5179168000004},{"$f":"IF(AND(O3 = \"Normal\", O25 = \"Yes\"), Lookups!$B$87*O275, O275)","v":4650.6275765999999},{"$f":"IF(AND(P3 = \"Normal\", P25 = \"Yes\"), Lookups!$B$87*P275, P275)","v":4543.6679400000003},{"$f":"IF(AND(Q3 = \"Normal\", Q25 = \"Yes\"), Lookups!$B$87*Q275, Q275)","v":6179.3883984000004},{"$f":"IF(AND(R3 = \"Normal\", R25 = \"Yes\"), Lookups!$B$87*R275, R275)","v":4650.6275765999999},{"$f":"IF(AND(S3 = \"Normal\", S25 = \"Yes\"), Lookups!$B$87*S275, S275)","v":4543.6679400000003},{"$f":"IF(AND(T3 = \"Normal\", T25 = \"Yes\"), Lookups!$B$87*T275, T275)","v":5123.3383715999998},{"$f":"IF(AND(U3 = \"Normal\", U25 = \"Yes\"), Lookups!$B$87*U275, U275)","v":6947.014286399999},null,{"$f":"IF(AND(W3 = \"Normal\", W25 = \"Yes\"), Lookups!$B$87*W275, W275)","v":1240.10122368},{"$f":"IF(AND(X3 = \"Normal\", X25 = \"Yes\"), Lookups!$B$87*X275, X275)","v":4170.037350399999},{"$f":"IF(AND(Y3 = \"Normal\", Y25 = \"Yes\"), Lookups!$B$87*Y275, Y275)","v":1742.6305600000001},{"$f":"IF(AND(Z3 = \"Normal\", Z25 = \"Yes\"), Lookups!$B$87*Z275, Z275)","v":315.61411200000003},{"$f":"IF(AND(AA3 = \"Normal\", AA25 = \"Yes\"), Lookups!$B$87*AA275, AA275)","v":1034.7454910000001},{"$f":"IF(AND(AB3 = \"Normal\", AB25 = \"Yes\"), Lookups!$B$87*AB275, AB275)","v":2724.2324765999997},{"$f":"IF(AND(AC3 = \"Normal\", AC25 = \"Yes\"), Lookups!$B$87*AC275, AC275)","v":2661.5779399999997},{"$f":"IF(AND(AD3 = \"Normal\", AD25 = \"Yes\"), Lookups!$B$87*AD275, AD275)","v":2014.5336595199999},{"$f":"IF(AND(AE3 = \"Normal\", AE25 = \"Yes\"), Lookups!$B$87*AE275, AE275)","v":2724.2324765999997},{"$f":"IF(AND(AF3 = \"Normal\", AF25 = \"Yes\"), Lookups!$B$87*AF275, AF275)","v":{"$error":"#N/A"}},{"$f":"IF(AND(AG3 = \"Normal\", AG25 = \"Yes\"), Lookups!$B$87*AG275, AG275)","v":{"$error":"#N/A"}},{"$f":"IF(AND(AH3 = \"Normal\", AH25 = \"Yes\"), Lookups!$B$87*AH275, AH275)","v":{"$error":"#N/A"}},{"$f":"IF(AND(AI3 = \"Normal\", AI25 = \"Yes\"), Lookups!$B$87*AI275, AI275)","v":{"$error":"#N/A"}},{"$f":"IF(AND(AJ3 = \"Normal\", AJ25 = \"Yes\"), Lookups!$B$87*AJ275, AJ275)","v":{"$error":"#N/A"}},{"$f":"IF(AND(AK3 = \"Normal\", AK25 = \"Yes\"), Lookups!$B$87*AK275, AK275)","v":{"$error":"#N/A"}},{"$f":"IF(AND(AL3 = \"Normal\", AL25 = \"Yes\"), Lookups!$B$87*AL275, AL275)","v":{"$error":"#N/A"}},{"$f":"IF(AND(AM3 = \"Normal\", AM25 = \"Yes\"), Lookups!$B$87*AM275, AM275)","v":{"$error":"#N/A"}},{"$f":"IF(AND(AN3 = \"Normal\", AN25 = \"Yes\"), Lookups!$B$87*AN275, AN275)","v":{"$error":"#N/A"}},{"$f":"IF(AND(AO3 = \"Normal\", AO25 = \"Yes\"), Lookups!$B$87*AO275, AO275)","v":{"$error":"#N/A"}},{"$f":"IF(AND(AP3 = \"Normal\", AP25 = \"Yes\"), Lookups!$B$87*AP275, AP275)","v":{"$error":"#N/A"}},{"$f":"IF(AND(AQ3 = \"Normal\", AQ25 = \"Yes\"), Lookups!$B$87*AQ275, AQ275)","v":{"$error":"#N/A"}},{"$f":"IF(AND(AR3 = \"Normal\", AR25 = \"Yes\"), Lookups!$B$87*AR275, AR275)","v":{"$error":"#N/A"}},{"$f":"IF(AND(AS3 = \"Normal\", AS25 = \"Yes\"), Lookups!$B$87*AS275, AS275)","v":{"$error":"#N/A"}},{"$f":"IF(AND(AT3 = \"Normal\", AT25 = \"Yes\"), Lookups!$B$87*AT275, AT275)","v":{"$error":"#N/A"}},{"$f":"IF(AND(AU3 = \"Normal\", AU25 = \"Yes\"), Lookups!$B$87*AU275, AU275)","v":{"$error":"#N/A"}},{"$f":"IF(AND(AV3 = \"Normal\", AV25 = \"Yes\"), Lookups!$B$87*AV275, AV275)","v":{"$error":"#N/A"}},{"$f":"IF(AND(AW3 = \"Normal\", AW25 = \"Yes\"), Lookups!$B$87*AW275, AW275)","v":{"$error":"#N/A"}},{"$f":"IF(AND(AX3 = \"Normal\", AX25 = \"Yes\"), Lookups!$B$87*AX275, AX275)","v":{"$error":"#N/A"}},{"$f":"IF(AND(AY3 = \"Normal\", AY25 = \"Yes\"), Lookups!$B$87*AY275, AY275)","v":{"$error":"#N/A"}},{"$f":"IF(AND(AZ3 = \"Normal\", AZ25 = \"Yes\"), Lookups!$B$87*AZ275, AZ275)","v":{"$error":"#N/A"}},{"$f":"IF(AND(BA3 = \"Normal\", BA25 = \"Yes\"), Lookups!$B$87*BA275, BA275)","v":{"$error":"#N/A"}},{"$f":"IF(AND(BB3 = \"Normal\", BB25 = \"Yes\"), Lookups!$B$87*BB275, BB275)","v":{"$error":"#N/A"}},{"$f":"IF(AND(BC3 = \"Normal\", BC25 = \"Yes\"), Lookups!$B$87*BC275, BC275)","v":{"$error":"#N/A"}},{"$f":"IF(AND(BD3 = \"Normal\", BD25 = \"Yes\"), Lookups!$B$87*BD275, BD275)","v":{"$error":"#N/A"}},{"$f":"IF(AND(BE3 = \"Normal\", BE25 = \"Yes\"), Lookups!$B$87*BE275, BE275)","v":{"$error":"#N/A"}},{"$f":"IF(AND(BF3 = \"Normal\", BF25 = \"Yes\"), Lookups!$B$87*BF275, BF275)","v":{"$error":"#N/A"}}]
["Yunjin/Shenhe Base Stat Value",{"$f":"IFERROR(VLOOKUP(B18, Lookups!$A$68:$H$70, 8, 0), 0)","v":0},{"$f":"IFERROR(VLOOKUP(C18, Lookups!$A$68:$H$70, 8, 0), 0)","v":0},{"$f":"IFERROR(VLOOKUP(D18, Lookups!$A$68:$H$70, 8, 0), 0)","v":0},{"$f":"IFERROR(VLOOKUP(E18, Lookups!$A$68:$H$70, 8, 0), 0)","v":0},{"$f":"IFERROR(VLOOKUP(F18, Lookups!$A$68:$H$70, 8, 0), 0)","v":0},{"$f":"IFERROR(VLOOKUP(G18, Lookups!$A$68:$H$70, 8, 0), 0)","v":0},{"$f":"IFERROR(VLOOKUP(H18, Lookups!$A$68:$H$70, 8, 0), 0)","v":0},{"$f":"IFERROR(VLOOKUP(I18, Lookups!$A$68:$H$70, 8, 0), 0)","v":0},{"$f":"IFERROR(VLOOKUP(J18, Lookups!$A$68:$H$70, 8, 0), 0)","v":0},{"$f":"IFERROR(VLOOKUP(K18, Lookups!$A$68:$H$70, 8, 0), 0)","v":0},{"$f":"IFERROR(VLOOKUP(L18, Lookups!$A$68:$H$70, 8, 0), 0)","v":0},{"$f":"IFERROR(VLOOKUP(M18, Lookups!$A$68:$H$70, 8, 0), 0)","v":0},{"$f":"IFERROR(VLOOKUP(N18, Lookups!$A$68:$H$70, 8, 0), 0)","v":0},{"$f":"IFERROR(VLOOKUP(O18, Lookups!$A$68:$H$70, 8, 0), 0)","v":0},{"$f":"IFERROR(VLOOKUP(P18, Lookups!$A$68:$H$70, 8, 0), 0)","v":0},{"$f":"IFERROR(VLOOKUP(Q18, Lookups!$A$68:$H$70, 8, 0), 0)","v":0},{"$f":"IFERROR(VLOOKUP(R18, Lookups!$A$68:$H$70, 8, 0), 0)","v":0},{"$f":"IFERROR(VLOOKUP(S18, Lookups!$A$68:$H$70, 8, 0), 0)","v":0},{"$f":"IFERROR(VLOOKUP(T18, Lookups!$A$68:$H$70, 8, 0), 0)","v":0},{"$f":"IFERROR(VLOOKUP(U18, Lookups!$A$68:$H$70, 8, 0), 0)","v":0},null,{"$f":"IFERROR(VLOOKUP(W18, Lookups!$A$68:$H$70, 8, 0), 0)","v":0},{"$f":"IFERROR(VLOOKUP(X18, Lookups!$A$68:$H$70, 8, 0), 0)","v":0},{"$f":"IFERROR(VLOOKUP(Y18, Lookups!$A$68:$H$70, 8, 0), 0)","v":0},{"$f":"IFERROR(VLOOKUP(Z18, Lookups!$A$68:$H$70, 8, 0), 0)","v":0},{"$f":"IFERROR(VLOOKUP(AA18, Lookups!$A$68:$H$70, 8, 0), 0)","v":0},{"$f":"IFERROR(VLOOKUP(AB18, Lookups!$A$68:$H$70, 8, 0), 0)","v":0},{"$f":"IFERROR(VLOOKUP(AC18, Lookups!$A$68:$H$70, 8, 0), 0)","v":0},{"$f":"IFERROR(VLOOKUP(AD18, Lookups!$A$68:$H$70, 8, 0), 0)","v":0},{"$f":"IFERROR(VLOOKUP(AE18, Lookups!$A$68:$H$70, 8, 0), 0)","v":0},{"$f":"IFERROR(VLOOKUP(AF18, Lookups!$A$68:$H$70, 8, 0), 0)","v":0},{"$f":"IFERROR(VLOOKUP(AG18, Lookups!$A$68:$H$70, 8, 0), 0)","v":0},{"$f":"IFERROR(VLOOKUP(AH18, Lookups!$A$68:$H$70, 8, 0), 0)","v":0},{"$f":"IFERROR(VLOOKUP(AI18, Lookups!$A$68:$H$70, 8, 0), 0)","v":0},{"$f":"IFERROR(VLOOKUP(AJ18, Lookups!$A$68:$H$70, 8, 0), 0)","v":0},{"$f":"IFERROR(VLOOKUP(AK18, Lookups!$A$68:$H$70, 8, 0), 0)","v":0},{"$f":"IFERROR(VLOOKUP(AL18, Lookups!$A$68:$H$70, 8, 0), 0)","v":0},{"$f":"IFERROR(VLOOKUP(AM18, Lookups!$A$68:$H$70, 8, 0), 0)","v":0},{"$f":"IFERROR(VLOOKUP(AN18, Lookups!$A$68:$H$70, 8, 0), 0)","v":0},{"$f":"IFERROR(VLOOKUP(AO18, Lookups!$A$68:$H$70, 8, 0), 0)","v":0},{"$f":"IFERROR(VLOOKUP(AP18, Lookups!$A$68:$H$70, 8, 0), 0)","v":0},{"$f":"IFERROR(VLOOKUP(AQ18, Lookups!$A$68:$H$70, 8, 0), 0)","v":0},{"$f":"IFERROR(VLOOKUP(AR18, Lookups!$A$68:$H$70, 8, 0), 0)","v":0},{"$f":"IFERROR(VLOOKUP(AS18, Lookups!$A$68:$H$70, 8, 0), 0)","v":0},{"$f":"IFERROR(VLOOKUP(AT18, Lookups!$A$68:$H$70, 8, 0), 0)","v":0},{"$f":"IFERROR(VLOOKUP(AU18, Lookups!$A$68:$H$70, 8, 0), 0)","v":0},{"$f":"IFERROR(VLOOKUP(AV18, Lookups!$A$68:$H$70, 8, 0), 0)","v":0},{"$f":"IFERROR(VLOOKUP(AW18, Lookups!$A$68:$H$70, 8, 0), 0)","v":0},{"$f":"IFERROR(VLOOKUP(AX18, Lookups!$A$68:$H$70, 8, 0), 0)","v":0},{"$f":"IFERROR(VLOOKUP(AY18, Lookups!$A$68:$H$70, 8, 0), 0)","v":0},{"$f":"IFERROR(VLOOKUP(AZ18, Lookups!$A$68:$H$70, 8, 0), 0)","v":0},{"$f":"IFERROR(VLOOKUP(BA18, Lookups!$A$68:$H$70, 8, 0), 0)","v":0},{"$f":"IFERROR(VLOOKUP(BB18, Lookups!$A$68:$H$70, 8, 0), 0)","v":0},{"$f":"IFERROR(VLOOKUP(BC18, Lookups!$A$68:$H$70, 8, 0), 0)","v":0},{"$f":"IFERROR(VLOOKUP(BD18, Lookups!$A$68:$H$70, 8, 0), 0)","v":0},{"$f":"IFERROR(VLOOKUP(BE18, Lookups!$A$68:$H$70, 8, 0), 0)","v":0},{"$f":"IFERROR(VLOOKUP(BF18, Lookups!$A$68:$H$70, 8, 0), 0)","v":0}]
["Yunjin Char Number",{"$f":"IFERROR(VLOOKUP(\"Yunjin\", Lookups!$A$2:$B$5, 2, 0),\"\")","v":""},{"$f":"IFERROR(VLOOKUP(\"Yunjin\", Lookups!$A$2:$B$5, 2, 0),\"\")","v":""},{"$f":"IFERROR(VLOOKUP(\"Yunjin\", Lookups!$A$2:$B$5, 2, 0),\"\")","v":""},{"$f":"IFERROR(VLOOKUP(\"Yunjin\", Lookups!$A$2:$B$5, 2, 0),\"\")","v":""},{"$f":"IFERROR(VLOOKUP(\"Yunjin\", Lookups!$A$2:$B$5, 2, 0),\"\")","v":""},{"$f":"IFERROR(VLOOKUP(\"Yunjin\", Lookups!$A$2:$B$5, 2, 0),\"\")","v":""},{"$f":"IFERROR(VLOOKUP(\"Yunjin\", Lookups!$A$2:$B$5, 2, 0),\"\")","v":""},{"$f":"IFERROR(VLOOKUP(\"Yunjin\", Lookups!$A$2:$B$5, 2, 0),\"\")","v":""},{"$f":"IFERROR(VLOOKUP(\"Yunjin\", Lookups!$A$2:$B$5, 2, 0),\"\")","v":""},{"$f":"IFERROR(VLOOKUP(\"Yunjin\", Lookups!$A$2:$B$5, 2, 0),\"\")","v":""},{"$f":"IFERROR(VLOOKUP(\"Yunjin\", Lookups!$A$2:$B$5, 2, 0),\"\")","v":""},{"$f":"IFERROR(VLOOKUP(\"Yunjin\", Lookups!$A$2:$B$5, 2, 0),\"\")","v":""},{"$f":"IFERROR(VLOOKUP(\"Yunjin\", Lookups!$A$2:$B$5, 2, 0),\"\")","v":""},{"$f":"IFERROR(VLOOKUP(\"Yunjin\", Lookups!$A$2:$B$5, 2, 0),\"\")","v":""},{"$f":"IFERROR(VLOOKUP(\"Yunjin\", Lookups!$A$2:$B$5, 2, 0),\"\")","v":""},{"$f":"IFERROR(VLOOKUP(\"Yunjin\", Lookups!$A$2:$B$5, 2, 0),\"\")","v":""},{"$f":"IFERROR(VLOOKUP(\"Yunjin\", Lookups!$A$2:$B$5, 2, 0),\"\")","v":""},{"$f":"IFERROR(VLOOKUP(\"Yunjin\", Lookups!$A$2:$B$5, 2, 0),\"\")","v":""},{"$f":"IFERROR(VLOOKUP(\"Yunjin\", Lookups!$A$2:$B$5, 2, 0),\"\")","v":""},{"$f":"IFERROR(VLOOKUP(\"Yunjin\", Lookups!$A$2:$B$5, 2, 0),\"\")","v":""},null,{"$f":"IFERROR(VLOOKUP(\"Yunjin\", Lookups!$A$2:$B$5, 2, 0),\"\")","v":""},{"$f":"IFERROR(VLOOKUP(\"Yunjin\", Lookups!$A$2:$B$5, 2, 0),\"\")","v":""},{"$f":"IFERROR(VLOOKUP(\"Yunjin\", Lookups!$A$2:$B$5, 2, 0),\"\")","v":""},{"$f":"IFERROR(VLOOKUP(\"Yunjin\", Lookups!$A$2:$B$5, 2, 0),\"\")","v":""},{"$f":"IFERROR(VLOOKUP(\"Yunjin\", Lookups!$A$2:$B$5, 2, 0),\"\")","v":""},{"$f":"IFERROR(VLOOKUP(\"Yunjin\", Lookups!$A$2:$B$5, 2, 0),\"\")","v":""},{"$f":"IFERROR(VLOOKUP(\"Yunjin\", Lookups!$A$2:$B$5, 2, 0),\"\")","v":""},{"$f":"IFERROR(VLOOKUP(\"Yunjin\", Lookups!$A$2:$B$5, 2, 0),\"\")","v":""},{"$f":"IFERROR(VLOOKUP(\"Yunjin\", Lookups!$A$2:$B$5, 2, 0),\"\")","v":""},{"$f":"IFERROR(VLOOKUP(\"Yunjin\", Lookups!$A$2:$B$5, 2, 0),\"\")","v":""},{"$f":"IFERROR(VLOOKUP(\"Yunjin\", Lookups!$A$2:$B$5, 2, 0),\"\")","v":""},{"$f":"IFERROR(VLOOKUP(\"Yunjin\", Lookups!$A$2:$B$5, 2, 0),\"\")","v":""},{"$f":"IFERROR(VLOOKUP(\"Yunjin\", Lookups!$A$2:$B$5, 2, 0),\"\")","v":""},{"$f":"IFERROR(VLOOKUP(\"Yunjin\", Lookups!$A$2:$B$5, 2, 0),\"\")","v":""},{"$f":"IFERROR(VLOOKUP(\"Yunjin\", Lookups!$A$2:$B$5, 2, 0),\"\")","v":""},{"$f":"IFERROR(VLOOKUP(\"Yunjin\", Lookups!$A$2:$B$5, 2, 0),\"\")","v":""},{"$f":"IFERROR(VLOOKUP(\"Yunjin\", Lookups!$A$2:$B$5, 2, 0),\"\")","v":""},{"$f":"IFERROR(VLOOKUP(\"Yunjin\", Lookups!$A$2:$B$5, 2, 0),\"\")","v":""},{"$f":"IFERROR(VLOOKUP(\"Yunjin\", Lookups!$A$2:$B$5, 2, 0),\"\")","v":""},{"$f":"IFERROR(VLOOKUP(\"Yunjin\", Lookups!$A$2:$B$5, 2, 0),\"\")","v":""},{"$f":"IFERROR(VLOOKUP(\"Yunjin\", Lookups!$A$2:$B$5, 2, 0),\"\")","v":""},{"$f":"IFERROR(VLOOKUP(\"Yunjin\", Lookups!$A$2:$B$5, 2, 0),\"\")","v":""},{"$f":"IFERROR(VLOOKUP(\"Yunjin\", Lookups!$A$2:$B$5, 2, 0),\"\")","v":""},{"$f":"IFERROR(VLOOKUP(\"Yunjin\", Lookups!$A$2:$B$5, 2, 0),\"\")","v":""},{"$f":"IFERROR(VLOOKUP(\"Yunjin\", Lookups!$A$2:$B$5, 2, 0),\"\")","v":""},{"$f":"IFERROR(VLOOKUP(\"Yunjin\", Lookups!$A$2:$B$5, 2, 0),\"\")","v":""},{"$f":"IFERROR(VLOOKUP(\"Yunjin\", Lookups!$A$2:$B$5, 2, 0),\"\")","v":""},{"$f":"IFERROR(VLOOKUP(\"Yunjin\", Lookups!$A$2:$B$5, 2, 0),\"\")","v":""},{"$f":"IFERROR(VLOOKUP(\"Yunjin\", Lookups!$A$2:$B$5, 2, 0),\"\")","v":""},{"$f":"IFERROR(VLOOKUP(\"Yunjin\", Lookups!$A$2:$B$5, 2, 0),\"\")","v":""},{"$f":"IFERROR(VLOOKUP(\"Yunjin\", Lookups!$A$2:$B$5, 2, 0),\"\")","v":""},{"$f":"IFERROR(VLOOKUP(\"Yunjin\", Lookups!$A$2:$B$5, 2, 0),\"\")","v":""},{"$f":"IFERROR(VLOOKUP(\"Yunjin\", Lookups!$A$2:$B$5, 2, 0),\"\")","v":""},{"$f":"IFERROR(VLOOKUP(\"Yunjin\", Lookups!$A$2:$B$5, 2, 0),\"\")","v":""},{"$f":"IFERROR(VLOOKUP(\"Yunjin\", Lookups!$A$2:$B$5, 2, 0),\"\")","v":""},{"$f":"IFERROR(VLOOKUP(\"Yunjin\", Lookups!$A$2:$B$5, 2, 0),\"\")","v":""}]
["Shenhe Char Number",{"$f":"IFERROR(VLOOKUP(\"Shenhe\", Lookups!$A$2:$B$5, 2, 0),\"\")","v":""},{"$f":"IFERROR(VLOOKUP(\"Shenhe\", Lookups!$A$2:$B$5, 2, 0),\"\")","v":""},{"$f":"IFERROR(VLOOKUP(\"Shenhe\", Lookups!$A$2:$B$5, 2, 0),\"\")","v":""},{"$f":"IFERROR(VLOOKUP(\"Shenhe\", Lookups!$A$2:$B$5, 2, 0),\"\")","v":""},{"$f":"IFERROR(VLOOKUP(\"Shenhe\", Lookups!$A$2:$B$5, 2, 0),\"\")","v":""},{"$f":"IFERROR(VLOOKUP(\"Shenhe\", Lookups!$A$2:$B$5, 2, 0),\"\")","v":""},{"$f":"IFERROR(VLOOKUP(\"Shenhe\", Lookups!$A$2:$B$5, 2, 0),\"\")","v":""},{"$f":"IFERROR(VLOOKUP(\"Shenhe\", Lookups!$A$2:$B$5, 2, 0),\"\")","v":""},{"$f":"IFERROR(VLOOKUP(\"Shenhe\", Lookups!$A$2:$B$5, 2, 0),\"\")","v":""},{"$f":"IFERROR(VLOOKUP(\"Shenhe\", Lookups!$A$2:$B$5, 2, 0),\"\")","v":""},{"$f":"IFERROR(VLOOKUP(\"Shenhe\", Lookups!$A$2:$B$5, 2, 0),\"\")","v":""},{"$f":"IFERROR(VLOOKUP(\"Shenhe\", Lookups!$A$2:$B$5, 2, 0),\"\")","v":""},{"$f":"IFERROR(VLOOKUP(\"Shenhe\", Lookups!$A$2:$B$5, 2, 0),\"\")","v":""},{"$f":"IFERROR(VLOOKUP(\"Shenhe\", Lookups!$A$2:$B$5, 2, 0),\"\")","v":""},{"$f":"IFERROR(VLOOKUP(\"Shenhe\", Lookups!$A$2:$B$5, 2, 0),\"\")","v":""},{"$f":"IFERROR(VLOOKUP(\"Shenhe\", Lookups!$A$2:$B$5, 2, 0),\"\")","v":""},{"$f":"IFERROR(VLOOKUP(\"Shenhe\", Lookups!$A$2:$B$5, 2, 0),\"\")","v":""},{"$f":"IFERROR(VLOOKUP(\"Shenhe\", Lookups!$A$2:$B$5, 2, 0),\"\")","v":""},{"$f":"IFERROR(VLOOKUP(\"Shenhe\", Lookups!$A$2:$B$5, 2, 0),\"\")","v":""},{"$f":"IFERROR(VLOOKUP(\"Shenhe\", Lookups!$A$2:$B$5, 2, 0),\"\")","v":""},null,{"$f":"IFERROR(VLOOKUP(\"Shenhe\", Lookups!$A$2:$B$5, 2, 0),\"\")","v":""},{"$f":"IFERROR(VLOOKUP(\"Shenhe\", Lookups!$A$2:$B$5, 2, 0),\"\")","v":""},{"$f":"IFERROR(VLOOKUP(\"Shenhe\", Lookups!$A$2:$B$5, 2, 0),\"\")","v":""},{"$f":"IFERROR(VLOOKUP(\"Shenhe\", Lookups!$A$2:$B$5, 2, 0),\"\")","v":""},{"$f":"IFERROR(VLOOKUP(\"Shenhe\", Lookups!$A$2:$B$5, 2, 0),\"\")","v":""},{"$f":"IFERROR(VLOOKUP(\"Shenhe\", Lookups!$A$2:$B$5, 2, 0),\"\")","v":""},{"$f":"IFERROR(VLOOKUP(\"Shenhe\", Lookups!$A$2:$B$5, 2, 0),\"\")","v":""},{"$f":"IFERROR(VLOOKUP(\"Shenhe\", Lookups!$A$2:$B$5, 2, 0),\"\")","v":""},{"$f":"IFERROR(VLOOKUP(\"Shenhe\", Lookups!$A$2:$B$5, 2, 0),\"\")","v":""},{"$f":"IFERROR(VLOOKUP(\"Shenhe\", Lookups!$A$2:$B$5, 2, 0),\"\")","v":""},{"$f":"IFERROR(VLOOKUP(\"Shenhe\", Lookups!$A$2:$B$5, 2, 0),\"\")","v":""},{"$f":"IFERROR(VLOOKUP(\"Shenhe\", Lookups!$A$2:$B$5, 2, 0),\"\")","v":""},{"$f":"IFERROR(VLOOKUP(\"Shenhe\", Lookups!$A$2:$B$5, 2, 0),\"\")","v":""},{"$f":"IFERROR(VLOOKUP(\"Shenhe\", Lookups!$A$2:$B$5, 2, 0),\"\")","v":""},{"$f":"IFERROR(VLOOKUP(\"Shenhe\", Lookups!$A$2:$B$5, 2, 0),\"\")","v":""},{"$f":"IFERROR(VLOOKUP(\"Shenhe\", Lookups!$A$2:$B$5, 2, 0),\"\")","v":""},{"$f":"IFERROR(VLOOKUP(\"Shenhe\", Lookups!$A$2:$B$5, 2, 0),\"\")","v":""},{"$f":"IFERROR(VLOOKUP(\"Shenhe\", Lookups!$A$2:$B$5, 2, 0),\"\")","v":""},{"$f":"IFERROR(VLOOKUP(\"Shenhe\", Lookups!$A$2:$B$5, 2, 0),\"\")","v":""},{"$f":"IFERROR(VLOOKUP(\"Shenhe\", Lookups!$A$2:$B$5, 2, 0),\"\")","v":""},{"$f":"IFERROR(VLOOKUP(\"Shenhe\", Lookups!$A$2:$B$5, 2, 0),\"\")","v":""},{"$f":"IFERROR(VLOOKUP(\"Shenhe\", Lookups!$A$2:$B$5, 2, 0),\"\")","v":""},{"$f":"IFERROR(VLOOKUP(\"Shenhe\", Lookups!$A$2:$B$5, 2, 0),\"\")","v":""},{"$f":"IFERROR(VLOOKUP(\"Shenhe\", Lookups!$A$2:$B$5, 2, 0),\"\")","v":""},{"$f":"IFERROR(VLOOKUP(\"Shenhe\", Lookups!$A$2:$B$5, 2, 0),\"\")","v":""},{"$f":"IFERROR(VLOOKUP(\"Shenhe\", Lookups!$A$2:$B$5, 2, 0),\"\")","v":""},{"$f":"IFERROR(VLOOKUP(\"Shenhe\", Lookups!$A$2:$B$5, 2, 0),\"\")","v":""},{"$f":"IFERROR(VLOOKUP(\"Shenhe\", Lookups!$A$2:$B$5, 2, 0),\"\")","v":""},{"$f":"IFERROR(VLOOKUP(\"Shenhe\", Lookups!$A$2:$B$5, 2, 0),\"\")","v":""},{"$f":"IFERROR(VLOOKUP(\"Shenhe\", Lookups!$A$2:$B$5, 2, 0),\"\")","v":""},{"$f":"IFERROR(VLOOKUP(\"Shenhe\", Lookups!$A$2:$B$5, 2, 0),\"\")","v":""},{"$f":"IFERROR(VLOOKUP(\"Shenhe\", Lookups!$A$2:$B$5, 2, 0),\"\")","v":""},{"$f":"IFERROR(VLOOKUP(\"Shenhe\", Lookups!$A$2:$B$5, 2, 0),\"\")","v":""},{"$f":"IFERROR(VLOOKUP(\"Shenhe\", Lookups!$A$2:$B$5, 2, 0),\"\")","v":""},{"$f":"IFERROR(VLOOKUP(\"Shenhe\", Lookups!$A$2:$B$5, 2, 0),\"\")","v":""},{"$f":"IFERROR(VLOOKUP(\"Shenhe\", Lookups!$A$2:$B$5, 2, 0),\"\")","v":""}]
["Total ATK% Bonus",{"$f":"IFERROR(VLOOKUP(B$39, Lookups!$J$74:$N$78, 2, 0)+B20, 0)","v":0},{"$f":"IFERROR(VLOOKUP(C$39, Lookups!$J$74:$N$78, 2, 0)+C20, 0)","v":0},{"$f":"IFERROR(VLOOKUP(D$39, Lookups!$J$74:$N$78, 2, 0)+D20, 0)","v":0},{"$f":"IFERROR(VLOOKUP(E$39, Lookups!$J$74:$N$78, 2, 0)+E20, 0)","v":0},{"$f":"IFERROR(VLOOKUP(F$39, Lookups!$J$74:$N$78, 2, 0)+F20, 0)","v":0},{"$f":"IFERROR(VLOOKUP(G$39, Lookups!$J$74:$N$78, 2, 0)+G20, 0)","v":0},{"$f":"IFERROR(VLOOKUP(H$39, Lookups!$J$74:$N$78, 2, 0)+H20, 0)","v":0},{"$f":"IFERROR(VLOOKUP(I$39, Lookups!$J$74:$N$78, 2, 0)+I20, 0)","v":0},{"$f":"IFERROR(VLOOKUP(J$39, Lookups!$J$74:$N$78, 2, 0)+J20, 0)","v":0},{"$f":"IFERROR(VLOOKUP(K$39, Lookups!$J$74:$N$78, 2, 0)+K20, 0)","v":0},{"$f":"IFERROR(VLOOKUP(L$39, Lookups!$J$74:$N$78, 2, 0)+L20, 0)","v":0},{"$f":"IFERROR(VLOOKUP(M$39, Lookups!$J$74:$N$78, 2, 0)+M20, 0)","v":0},{"$f":"IFERROR(VLOOKUP(N$39, Lookups!$J$74:$N$78, 2, 0)+N20, 0)","v":0},{"$f":"IFERROR(VLOOKUP(O$39, Lookups!$J$74:$N$78, 2, 0)+O20, 0)","v":0},{"$f":"IFERROR(VLOOKUP(P$39, Lookups!$J$74:$N$78, 2, 0)+P20, 0)","v":0},{"$f":"IFERROR(VLOOKUP(Q$39, Lookups!$J$74:$N$78, 2, 0)+Q20, 0)","v":0},{"$f":"IFERROR(VLOOKUP(R$39, Lookups!$J$74:$N$78, 2, 0)+R20, 0)","v":0},{"$f":"IFERROR(VLOOKUP(S$39, Lookups!$J$74:$N$78, 2, 0)+S20, 0)","v":0},{"$f":"IFERROR(VLOOKUP(T$39, Lookups!$J$74:$N$78, 2, 0)+T20, 0)","v":0},{"$f":"IFERROR(VLOOKUP(U$39, Lookups!$J$74:$N$78, 2, 0)+U20, 0)","v":0},null,{"$f":"IFERROR(VLOOKUP(W$39, Lookups!$J$74:$N$78, 2, 0)+W20, 0)","v":0},{"$f":"IFERROR(VLOOKUP(X$39, Lookups!$J$74:$N$78, 2, 0)+X20, 0)","v":0},{"$f":"IFERROR(VLOOKUP(Y$39, Lookups!$J$74:$N$78, 2, 0)+Y20, 0)","v":0},{"$f":"IFERROR(VLOOKUP(Z$39, Lookups!$J$74:$N$78, 2, 0)+Z20, 0)","v":0},{"$f":"IFERROR(VLOOKUP(AA$39, Lookups!$J$74:$N$78, 2, 0)+AA20, 0)","v":0},{"$f":"IFERROR(VLOOKUP(AB$39, Lookups!$J$74:$N$78, 2, 0)+AB20, 0)","v":0},{"$f":"IFERROR(VLOOKUP(AC$39, Lookups!$J$74:$N$78, 2, 0)+AC20, 0)","v":0},{"$f":"IFERROR(VLOOKUP(AD$39, Lookups!$J$74:$N$78, 2, 0)+AD20, 0)","v":0},{"$f":"IFERROR(VLOOKUP(AE$39, Lookups!$J$74:$N$78, 2, 0)+AE20, 0)","v":0},{"$f":"IFERROR(VLOOKUP(AF$39, Lookups!$J$74:$N$78, 2, 0)+AF20, 0)","v":0},{"$f":"IFERROR(VLOOKUP(AG$39, Lookups!$J$74:$N$78, 2, 0)+AG20, 0)","v":0},{"$f":"IFERROR(VLOOKUP(AH$39, Lookups!$J$74:$N$78, 2, 0)+AH20, 0)","v":0},{"$f":"IFERROR(VLOOKUP(AI$39, Lookups!$J$74:$N$78, 2, 0)+AI20, 0)","v":0},{"$f":"IFERROR(VLOOKUP(AJ$39, Lookups!$J$74:$N$78, 2, 0)+AJ20, 0)","v":0},{"$f":"IFERROR(VLOOKUP(AK$39, Lookups!$J$74:$N$78, 2, 0)+AK20, 0)","v":0},{"$f":"IFERROR(VLOOKUP(AL$39, Lookups!$J$74:$N$78, 2, 0)+AL20, 0)","v":0},{"$f":"IFERROR(VLOOKUP(AM$39, Lookups!$J$74:$N$78, 2, 0)+AM20, 0)","v":0},{"$f":"IFERROR(VLOOKUP(AN$39, Lookups!$J$74:$N$78, 2, 0)+AN20, 0)","v":0},{"$f":"IFERROR(VLOOKUP(AO$39, Lookups!$J$74:$N$78, 2, 0)+AO20, 0)","v":0},{"$f":"IFERROR(VLOOKUP(AP$39, Lookups!$J$74:$N$78, 2, 0)+AP20, 0)","v":0},{"$f":"IFERROR(VLOOKUP(AQ$39, Lookups!$J$74:$N$78, 2, 0)+AQ20, 0)","v":0},{"$f":"IFERROR(VLOOKUP(AR$39, Lookups!$J$74:$N$78, 2, 0)+AR20, 0)","v":0},{"$f":"IFERROR(VLOOKUP(AS$39, Lookups!$J$74:$N$78, 2, 0)+AS20, 0)","v":0},{"$f":"IFERROR(VLOOKUP(AT$39, Lookups!$J$74:$N$78, 2, 0)+AT20, 0)","v":0},{"$f":"IFERROR(VLOOKUP(AU$39, Lookups!$J$74:$N$78, 2, 0)+AU20, 0)","v":0},{"$f":"IFERROR(VLOOKUP(AV$39, Lookups!$J$74:$N$78, 2, 0)+AV20, 0)","v":0},{"$f":"IFERROR(VLOOKUP(AW$39, Lookups!$J$74:$N$78, 2, 0)+AW20, 0)","v":0},{"$f":"IFERROR(VLOOKUP(AX$39, Lookups!$J$74:$N$78, 2, 0)+AX20, 0)","v":0},{"$f":"IFERROR(VLOOKUP(AY$39, Lookups!$J$74:$N$78, 2, 0)+AY20, 0)","v":0},{"$f":"IFERROR(VLOOKUP(AZ$39, Lookups!$J$74:$N$78, 2, 0)+AZ20, 0)","v":0},{"$f":"IFERROR(VLOOKUP(BA$39, Lookups!$J$74:$N$78, 2, 0)+BA20, 0)","v":0},{"$f":"IFERROR(VLOOKUP(BB$39, Lookups!$J$74:$N$78, 2, 0)+BB20, 0)","v":0},{"$f":"IFERROR(VLOOKUP(BC$39, Lookups!$J$74:$N$78, 2, 0)+BC20, 0)","v":0},{"$f":"IFERROR(VLOOKUP(BD$39, Lookups!$J$74:$N$78, 2, 0)+BD20, 0)","v":0},{"$f":"IFERROR(VLOOKUP(BE$39, Lookups!$J$74:$N$78, 2, 0)+BE20, 0)","v":0},{"$f":"IFERROR(VLOOKUP(BF$39, Lookups!$J$74:$N$78, 2, 0)+BF20, 0)","v":0}]
["Total Flat ATK Bonus",{"$f":"IFERROR(VLOOKUP(B$38, Lookups!$J$74:$N$78, 3, 0)+B21, 0)","v":344.08},{"$f":"IFERROR(VLOOKUP(C$38, Lookups!$J$74:$N$78, 3, 0)+C21, 0)","v":344.08},{"$f":"IFERROR(VLOOKUP(D$38, Lookups!$J$74:$N$78, 3, 0)+D21, 0)","v":344.08},{"$f":"IFERROR(VLOOKUP(E$38, Lookups!$J$74:$N$78, 3, 0)+E21, 0)","v":344.08},{"$f":"IFERROR(VLOOKUP(F$38, Lookups!$J$74:$N$78, 3, 0)+F21, 0)","v":344.08},{"$f":"IFERROR(VLOOKUP(G$38, Lookups!$J$74:$N$78, 3, 0)+G21, 0)","v":344.08},{"$f":"IFERROR(VLOOKUP(H$38, Lookups!$J$74:$N$78, 3, 0)+H21, 0)","v":344.08},{"$f":"IFERROR(VLOOKUP(I$38, Lookups!$J$74:$N$78, 3, 0)+I21, 0)","v":344.08},{"$f":"IFERROR(VLOOKUP(J$38, Lookups!$J$74:$N$78, 3, 0)+J21, 0)","v":344.08},{"$f":"IFERROR(VLOOKUP(K$38, Lookups!$J$74:$N$78, 3, 0)+K21, 0)","v":344.08},{"$f":"IFERROR(VLOOKUP(L$38, Lookups!$J$74:$N$78, 3, 0)+L21, 0)","v":344.08},{"$f":"IFERROR(VLOOKUP(M$38, Lookups!$J$74:$N$78, 3, 0)+M21, 0)","v":344.08},{"$f":"IFERROR(VLOOKUP(N$38, Lookups!$J$74:$N$78, 3, 0)+N21, 0)","v":344.08},{"$f":"IFERROR(VLOOKUP(O$38, Lookups!$J$74:$N$78, 3, 0)+O21, 0)","v":344.08},{"$f":"IFERROR(VLOOKUP(P$38, Lookups!$J$74:$N$78, 3, 0)+P21, 0)","v":344.08},{"$f":"IFERROR(VLOOKUP(Q$38, Lookups!$J$74:$N$78, 3, 0)+Q21, 0)","v":344.08},{"$f":"IFERROR(VLOOKUP(R$38, Lookups!$J$74:$N$78, 3, 0)+R21, 0)","v":344.08},{"$f":"IFERROR(VLOOKUP(S$38, Lookups!$J$74:$N$78, 3, 0)+S21, 0)","v":344.08},{"$f":"IFERROR(VLOOKUP(T$38, Lookups!$J$74:$N$78, 3, 0)+T21, 0)","v":344.08},{"$f":"IFERROR(VLOOKUP(U$38, Lookups!$J$74:$N$78, 3, 0)+U21, 0)","v":344.08},null,{"$f":"IFERROR(VLOOKUP(W$38, Lookups!$J$74:$N$78, 3, 0)+W21, 0)","v":344.08},{"$f":"IFERROR(VLOOKUP(X$38, Lookups!$J$74:$N$78, 3, 0)+X21, 0)","v":344.08},{"$f":"IFERROR(VLOOKUP(Y$38, Lookups!$J$74:$N$78, 3, 0)+Y21, 0)","v":344.08},{"$f":"IFERROR(VLOOKUP(Z$38, Lookups!$J$74:$N$78, 3, 0)+Z21, 0)","v":344.08},{"$f":"IFERROR(VLOOKUP(AA$38, Lookups!$J$74:$N$78, 3, 0)+AA21, 0)","v":344.08},{"$f":"IFERROR(VLOOKUP(AB$38, Lookups!$J$74:$N$78, 3, 0)+AB21, 0)","v":344.08},{"$f":"IFERROR(VLOOKUP(AC$38, Lookups!$J$74:$N$78, 3, 0)+AC21, 0)","v":344.08},{"$f":"IFERROR(VLOOKUP(AD$38, Lookups!$J$74:$N$78, 3, 0)+AD21, 0)","v":344.08},{"$f":"IFERROR(VLOOKUP(AE$38, Lookups!$J$74:$N$78, 3, 0)+AE21, 0)","v":344.08},{"$f":"IFERROR(VLOOKUP(AF$38, Lookups!$J$74:$N$78, 3, 0)+AF21, 0)","v":0},{"$f":"IFERROR(VLOOKUP(AG$38, Lookups!$J$74:$N$78, 3, 0)+AG21, 0)","v":0},{"$f":"IFERROR(VLOOKUP(AH$38, Lookups!$J$74:$N$78, 3, 0)+AH21, 0)","v":0},{"$f":"IFERROR(VLOOKUP(AI$38, Lookups!$J$74:$N$78, 3, 0)+AI21, 0)","v":0},{"$f":"IFERROR(VLOOKUP(AJ$38, Lookups!$J$74:$N$78, 3, 0)+AJ21, 0)","v":0},{"$f":"IFERROR(VLOOKUP(AK$38, Lookups!$J$74:$N$78, 3, 0)+AK21, 0)","v":0},{"$f":"IFERROR(VLOOKUP(AL$38, Lookups!$J$74:$N$78, 3, 0)+AL21, 0)","v":0},{"$f":"IFERROR(VLOOKUP(AM$38, Lookups!$J$74:$N$78, 3, 0)+AM21, 0)","v":0},{"$f":"IFERROR(VLOOKUP(AN$38, Lookups!$J$74:$N$78, 3, 0)+AN21, 0)","v":0},{"$f":"IFERROR(VLOOKUP(AO$38, Lookups!$J$74:$N$78, 3, 0)+AO21, 0)","v":0},{"$f":"IFERROR(VLOOKUP(AP$38, Lookups!$J$74:$N$78, 3, 0)+AP21, 0)","v":0},{"$f":"IFERROR(VLOOKUP(AQ$38, Lookups!$J$74:$N$78, 3, 0)+AQ21, 0)","v":0},{"$f":"IFERROR(VLOOKUP(AR$38, Lookups!$J$74:$N$78, 3, 0)+AR21, 0)","v":0},{"$f":"IFERROR(VLOOKUP(AS$38, Lookups!$J$74:$N$78, 3, 0)+AS21, 0)","v":0},{"$f":"IFERROR(VLOOKUP(AT$38, Lookups!$J$74:$N$78, 3, 0)+AT21, 0)","v":0},{"$f":"IFERROR(VLOOKUP(AU$38, Lookups!$J$74:$N$78, 3, 0)+AU21, 0)","v":0},{"$f":"IFERROR(VLOOKUP(AV$38, Lookups!$J$74:$N$78, 3, 0)+AV21, 0)","v":0},{"$f":"IFERROR(VLOOKUP(AW$38, Lookups!$J$74:$N$78, 3, 0)+AW21, 0)","v":0},{"$f":"IFERROR(VLOOKUP(AX$38, Lookups!$J$74:$N$78, 3, 0)+AX21, 0)","v":0},{"$f":"IFERROR(VLOOKUP(AY$38, Lookups!$J$74:$N$78, 3, 0)+AY21, 0)","v":0},{"$f":"IFERROR(VLOOKUP(AZ$38, Lookups!$J$74:$N$78, 3, 0)+AZ21, 0)","v":0},{"$f":"IFERROR(VLOOKUP(BA$38, Lookups!$J$74:$N$78, 3, 0)+BA21, 0)","v":0},{"$f":"IFERROR(VLOOKUP(BB$38, Lookups!$J$74:$N$78, 3, 0)+BB21, 0)","v":0},{"$f":"IFERROR(VLOOKUP(BC$38, Lookups!$J$74:$N$78, 3, 0)+BC21, 0)","v":0},{"$f":"IFERROR(VLOOKUP(BD$38, Lookups!$J$74:$N$78, 3, 0)+BD21, 0)","v":0},{"$f":"IFERROR(VLOOKUP(BE$38, Lookups!$J$74:$N$78, 3, 0)+BE21, 0)","v":0},{"$f":"IFERROR(VLOOKUP(BF$38, Lookups!$J$74:$N$78, 3, 0)+BF21, 0)","v":0}]
["Total DEF% Bonus",{"$f":"IFERROR(VLOOKUP(B278, Lookups!$J$74:$N$78, 4, 0)+B22, 0)","v":0},{"$f":"IFERROR(VLOOKUP(C278, Lookups!$J$74:$N$78, 4, 0)+C22, 0)","v":0},{"$f":"IFERROR(VLOOKUP(D278, Lookups!$J$74:$N$78, 4, 0)+D22, 0)","v":0},{"$f":"IFERROR(VLOOKUP(E278, Lookups!$J$74:$N$78, 4, 0)+E22, 0)","v":0},{"$f":"IFERROR(VLOOKUP(F278, Lookups!$J$74:$N$78, 4, 0)+F22, 0)","v":0},{"$f":"IFERROR(VLOOKUP(G278, Lookups!$J$74:$N$78, 4, 0)+G22, 0)","v":0},{"$f":"IFERROR(VLOOKUP(H278, Lookups!$J$74:$N$78, 4, 0)+H22, 0)","v":0},{"$f":"IFERROR(VLOOKUP(I278, Lookups!$J$74:$N$78, 4, 0)+I22, 0)","v":0},{"$f":"IFERROR(VLOOKUP(J278, Lookups!$J$74:$N$78, 4, 0)+J22, 0)","v":0},{"$f":"IFERROR(VLOOKUP(K278, Lookups!$J$74:$N$78, 4, 0)+K22, 0)","v":0},{"$f":"IFERROR(VLOOKUP(L278, Lookups!$J$74:$N$78, 4, 0)+L22, 0)","v":0},{"$f":"IFERROR(VLOOKUP(M278, Lookups!$J$74:$N$78, 4, 0)+M22, 0)","v":0},{"$f":"IFERROR(VLOOKUP(N278, Lookups!$J$74:$N$78, 4, 0)+N22, 0)","v":0},{"$f":"IFERROR(VLOOKUP(O278, Lookups!$J$74:$N$78, 4, 0)+O22, 0)","v":0},{"$f":"IFERROR(VLOOKUP(P278, Lookups!$J$74:$N$78, 4, 0)+P22, 0)","v":0},{"$f":"IFERROR(VLOOKUP(Q278, Lookups!$J$74:$N$78, 4, 0)+Q22, 0)","v":0},{"$f":"IFERROR(VLOOKUP(R278, Lookups!$J$74:$N$78, 4, 0)+R22, 0)","v":0},{"$f":"IFERROR(VLOOKUP(S278, Lookups!$J$74:$N$78, 4, 0)+S22, 0)","v":0},{"$f":"IFERROR(VLOOKUP(T278, Lookups!$J$74:$N$78, 4, 0)+T22, 0)","v":0},{"$f":"IFERROR(VLOOKUP(U278, Lookups!$J$74:$N$78, 4, 0)+U22, 0)","v":0},null,{"$f":"IFERROR(VLOOKUP(W278, Lookups!$J$74:$N$78, 4, 0)+W22, 0)","v":0},{"$f":"IFERROR(VLOOKUP(X278, Lookups!$J$74:$N$78, 4, 0)+X22, 0)","v":0},{"$f":"IFERROR(VLOOKUP(Y278, Lookups!$J$74:$N$78, 4, 0)+Y22, 0)","v":0},{"$f":"IFERROR(VLOOKUP(Z278, Lookups!$J$74:$N$78, 4, 0)+Z22, 0)","v":0},{"$f":"IFERROR(VLOOKUP(AA278, Lookups!$J$74:$N$78, 4, 0)+AA22, 0)","v":0},{"$f":"IFERROR(VLOOKUP(AB278, Lookups!$J$74:$N$78, 4, 0)+AB22, 0)","v":0},{"$f":"IFERROR(VLOOKUP(AC278, Lookups!$J$74:$N$78, 4, 0)+AC22, 0)","v":0},{"$f":"IFERROR(VLOOKUP(AD278, Lookups!$J$74:$N$78, 4, 0)+AD22, 0)","v":0},{"$f":"IFERROR(VLOOKUP(AE278, Lookups!$J$74:$N$78, 4, 0)+AE22, 0)","v":0},{"$f":"IFERROR(VLOOKUP(AF278, Lookups!$J$74:$N$78, 4, 0)+AF22, 0)","v":0},{"$f":"IFERROR(VLOOKUP(AG278, Lookups!$J$74:$N$78, 4, 0)+AG22, 0)","v":0},{"$f":"IFERROR(VLOOKUP(AH278, Lookups!$J$74:$N$78, 4, 0)+AH22, 0)","v":0},{"$f":"IFERROR(VLOOKUP(AI278, Lookups!$J$74:$N$78, 4, 0)+AI22, 0)","v":0},{"$f":"IFERROR(VLOOKUP(AJ278, Lookups!$J$74:$N$78, 4, 0)+AJ22, 0)","v":0},{"$f":"IFERROR(VLOOKUP(AK278, Lookups!$J$74:$N$78, 4, 0)+AK22, 0)","v":0},{"$f":"IFERROR(VLOOKUP(AL278, Lookups!$J$74:$N$78, 4, 0)+AL22, 0)","v":0},{"$f":"IFERROR(VLOOKUP(AM278, Lookups!$J$74:$N$78, 4, 0)+AM22, 0)","v":0},{"$f":"IFERROR(VLOOKUP(AN278, Lookups!$J$74:$N$78, 4, 0)+AN22, 0)","v":0},{"$f":"IFERROR(VLOOKUP(AO278, Lookups!$J$74:$N$78, 4, 0)+AO22, 0)","v":0},{"$f":"IFERROR(VLOOKUP(AP278, Lookups!$J$74:$N$78, 4, 0)+AP22, 0)","v":0},{"$f":"IFERROR(VLOOKUP(AQ278, Lookups!$J$74:$N$78, 4, 0)+AQ22, 0)","v":0},{"$f":"IFERROR(VLOOKUP(AR278, Lookups!$J$74:$N$78, 4, 0)+AR22, 0)","v":0},{"$f":"IFERROR(VLOOKUP(AS278, Lookups!$J$74:$N$78, 4, 0)+AS22, 0)","v":0},{"$f":"IFERROR(VLOOKUP(AT278, Lookups!$J$74:$N$78, 4, 0)+AT22, 0)","v":0},{"$f":"IFERROR(VLOOKUP(AU278, Lookups!$J$74:$N$78, 4, 0)+AU22, 0)","v":0},{"$f":"IFERROR(VLOOKUP(AV278, Lookups!$J$74:$N$78, 4, 0)+AV22, 0)","v":0},{"$f":"IFERROR(VLOOKUP(AW278, Lookups!$J$74:$N$78, 4, 0)+AW22, 0)","v":0},{"$f":"IFERROR(VLOOKUP(AX278, Lookups!$J$74:$N$78, 4, 0)+AX22, 0)","v":0},{"$f":"IFERROR(VLOOKUP(AY278, Lookups!$J$74:$N$78, 4, 0)+AY22, 0)","v":0},{"$f":"IFERROR(VLOOKUP(AZ278, Lookups!$J$74:$N$78, 4, 0)+AZ22, 0)","v":0},{"$f":"IFERROR(VLOOKUP(BA278, Lookups!$J$74:$N$78, 4, 0)+BA22, 0)","v":0},{"$f":"IFERROR(VLOOKUP(BB278, Lookups!$J$74:$N$78, 4, 0)+BB22, 0)","v":0},{"$f":"IFERROR(VLOOKUP(BC278, Lookups!$J$74:$N$78, 4, 0)+BC22, 0)","v":0},{"$f":"IFERROR(VLOOKUP(BD278, Lookups!$J$74:$N$78, 4, 0)+BD22, 0)","v":0},{"$f":"IFERROR(VLOOKUP(BE278, Lookups!$J$74:$N$78, 4, 0)+BE22, 0)","v":0},{"$f":"IFERROR(VLOOKUP(BF278, Lookups!$J$74:$N$78, 4, 0)+BF22, 0)","v":0}]
["Total Flat DEF Bonus",{"$f":"IFERROR(VLOOKUP(B$38, Lookups!$J$74:$N$78, 5, 0)+B23, 0)","v":39.36},{"$f":"IFERROR(VLOOKUP(C$38, Lookups!$J$74:$N$78, 5, 0)+C23, 0)","v":39.36},{"$f":"IFERROR(VLOOKUP(D$38, Lookups!$J$74:$N$78, 5, 0)+D23, 0)","v":39.36},{"$f":"IFERROR(VLOOKUP(E$38, Lookups!$J$74:$N$78, 5, 0)+E23, 0)","v":39.36},{"$f":"IFERROR(VLOOKUP(F$38, Lookups!$J$74:$N$78, 5, 0)+F23, 0)","v":39.36},{"$f":"IFERROR(VLOOKUP(G$38, Lookups!$J$74:$N$78, 5, 0)+G23, 0)","v":39.36},{"$f":"IFERROR(VLOOKUP(H$38, Lookups!$J$74:$N$78, 5, 0)+H23, 0)","v":39.36},{"$f":"IFERROR(VLOOKUP(I$38, Lookups!$J$74:$N$78, 5, 0)+I23, 0)","v":39.36},{"$f":"IFERROR(VLOOKUP(J$38, Lookups!$J$74:$N$78, 5, 0)+J23, 0)","v":39.36},{"$f":"IFERROR(VLOOKUP(K$38, Lookups!$J$74:$N$78, 5, 0)+K23, 0)","v":39.36},{"$f":"IFERROR(VLOOKUP(L$38, Lookups!$J$74:$N$78, 5, 0)+L23, 0)","v":39.36},{"$f":"IFERROR(VLOOKUP(M$38, Lookups!$J$74:$N$78, 5, 0)+M23, 0)","v":39.36},{"$f":"IFERROR(VLOOKUP(N$38, Lookups!$J$74:$N$78, 5, 0)+N23, 0)","v":39.36},{"$f":"IFERROR(VLOOKUP(O$38, Lookups!$J$74:$N$78, 5, 0)+O23, 0)","v":39.36},{"$f":"IFERROR(VLOOKUP(P$38, Lookups!$J$74:$N$78, 5, 0)+P23, 0)","v":39.36},{"$f":"IFERROR(VLOOKUP(Q$38, Lookups!$J$74:$N$78, 5, 0)+Q23, 0)","v":39.36},{"$f":"IFERROR(VLOOKUP(R$38, Lookups!$J$74:$N$78, 5, 0)+R23, 0)","v":39.36},{"$f":"IFERROR(VLOOKUP(S$38, Lookups!$J$74:$N$78, 5, 0)+S23, 0)","v":39.36},{"$f":"IFERROR(VLOOKUP(T$38, Lookups!$J$74:$N$78, 5, 0)+T23, 0)","v":39.36},{"$f":"IFERROR(VLOOKUP(U$38, Lookups!$J$74:$N$78, 5, 0)+U23, 0)","v":39.36},null,{"$f":"IFERROR(VLOOKUP(W$38, Lookups!$J$74:$N$78, 5, 0)+W23, 0)","v":39.36},{"$f":"IFERROR(VLOOKUP(X$38, Lookups!$J$74:$N$78, 5, 0)+X23, 0)","v":39.36},{"$f":"IFERROR(VLOOKUP(Y$38, Lookups!$J$74:$N$78, 5, 0)+Y23, 0)","v":39.36},{"$f":"IFERROR(VLOOKUP(Z$38, Lookups!$J$74:$N$78, 5, 0)+Z23, 0)","v":39.36},{"$f":"IFERROR(VLOOKUP(AA$38, Lookups!$J$74:$N$78, 5, 0)+AA23, 0)","v":39.36},{"$f":"IFERROR(VLOOKUP(AB$38, Lookups!$J$74:$N$78, 5, 0)+AB23, 0)","v":39.36},{"$f":"IFERROR(VLOOKUP(AC$38, Lookups!$J$74:$N$78, 5, 0)+AC23, 0)","v":39.36},{"$f":"IFERROR(VLOOKUP(AD$38, Lookups!$J$74:$N$78, 5, 0)+AD23, 0)","v":39.36},{"$f":"IFERROR(VLOOKUP(AE$38, Lookups!$J$74:$N$78, 5, 0)+AE23, 0)","v":39.36},{"$f":"IFERROR(VLOOKUP(AF$38, Lookups!$J$74:$N$78, 5, 0)+AF23, 0)","v":0},{"$f":"IFERROR(VLOOKUP(AG$38, Lookups!$J$74:$N$78, 5, 0)+AG23, 0)","v":0},{"$f":"IFERROR(VLOOKUP(AH$38, Lookups!$J$74:$N$78, 5, 0)+AH23, 0)","v":0},{"$f":"IFERROR(VLOOKUP(AI$38, Lookups!$J$74:$N$78, 5, 0)+AI23, 0)","v":0},{"$f":"IFERROR(VLOOKUP(AJ$38, Lookups!$J$74:$N$78, 5, 0)+AJ23, 0)","v":0},{"$f":"IFERROR(VLOOKUP(AK$38, Lookups!$J$74:$N$78, 5, 0)+AK23, 0)","v":0},{"$f":"IFERROR(VLOOKUP(AL$38, Lookups!$J$74:$N$78, 5, 0)+AL23, 0)","v":0},{"$f":"IFERROR(VLOOKUP(AM$38, Lookups!$J$74:$N$78, 5, 0)+AM23, 0)","v":0},{"$f":"IFERROR(VLOOKUP(AN$38, Lookups!$J$74:$N$78, 5, 0)+AN23, 0)","v":0},{"$f":"IFERROR(VLOOKUP(AO$38, Lookups!$J$74:$N$78, 5, 0)+AO23, 0)","v":0},{"$f":"IFERROR(VLOOKUP(AP$38, Lookups!$J$74:$N$78, 5, 0)+AP23, 0)","v":0},{"$f":"IFERROR(VLOOKUP(AQ$38, Lookups!$J$74:$N$78, 5, 0)+AQ23, 0)","v":0},{"$f":"IFERROR(VLOOKUP(AR$38, Lookups!$J$74:$N$78, 5, 0)+AR23, 0)","v":0},{"$f":"IFERROR(VLOOKUP(AS$38, Lookups!$J$74:$N$78, 5, 0)+AS23, 0)","v":0},{"$f":"IFERROR(VLOOKUP(AT$38, Lookups!$J$74:$N$78, 5, 0)+AT23, 0)","v":0},{"$f":"IFERROR(VLOOKUP(AU$38, Lookups!$J$74:$N$78, 5, 0)+AU23, 0)","v":0},{"$f":"IFERROR(VLOOKUP(AV$38, Lookups!$J$74:$N$78, 5, 0)+AV23, 0)","v":0},{"$f":"IFERROR(VLOOKUP(AW$38, Lookups!$J$74:$N$78, 5, 0)+AW23, 0)","v":0},{"$f":"IFERROR(VLOOKUP(AX$38, Lookups!$J$74:$N$78, 5, 0)+AX23, 0)","v":0},{"$f":"IFERROR(VLOOKUP(AY$38, Lookups!$J$74:$N$78, 5, 0)+AY23, 0)","v":0},{"$f":"IFERROR(VLOOKUP(AZ$38, Lookups!$J$74:$N$78, 5, 0)+AZ23, 0)","v":0},{"$f":"IFERROR(VLOOKUP(BA$38, Lookups!$J$74:$N$78, 5, 0)+BA23, 0)","v":0},{"$f":"IFERROR(VLOOKUP(BB$38, Lookups!$J$74:$N$78, 5, 0)+BB23, 0)","v":0},{"$f":"IFERROR(VLOOKUP(BC$38, Lookups!$J$74:$N$78, 5, 0)+BC23, 0)","v":0},{"$f":"IFERROR(VLOOKUP(BD$38, Lookups!$J$74:$N$78, 5, 0)+BD23, 0)","v":0},{"$f":"IFERROR(VLOOKUP(BE$38, Lookups!$J$74:$N$78, 5, 0)+BE23, 0)","v":0},{"$f":"IFERROR(VLOOKUP(BF$38, Lookups!$J$74:$N$78, 5, 0)+BF23, 0)","v":0}]
["Scaling Stat",{"$f":"VLOOKUP(B18, Lookups!$A$68:$H$70, 5, 0)","v":{"$error":"#N/A"}},{"$f":"VLOOKUP(C18, Lookups!$A$68:$H$70, 5, 0)","v":{"$error":"#N/A"}},{"$f":"VLOOKUP(D18, Lookups!$A$68:$H$70, 5, 0)","v":{"$error":"#N/A"}},{"$f":"VLOOKUP(E18, Lookups!$A$68:$H$70, 5, 0)","v":{"$error":"#N/A"}},{"$f":"VLOOKUP(F18, Lookups!$A$68:$H$70, 5, 0)","v":{"$error":"#N/A"}},{"$f":"VLOOKUP(G18, Lookups!$A$68:$H$70, 5, 0)","v":{"$error":"#N/A"}},{"$f":"VLOOKUP(H18, Lookups!$A$68:$H$70, 5, 0)","v":{"$error":"#N/A"}},{"$f":"VLOOKUP(I18, Lookups!$A$68:$H$70, 5, 0)","v":{"$error":"#N/A"}},{"$f":"VLOOKUP(J18, Lookups!$A$68:$H$70, 5, 0)","v":{"$error":"#N/A"}},{"$f":"VLOOKUP(K18, Lookups!$A$68:$H$70, 5, 0)","v":{"$error":"#N/A"}},{"$f":"VLOOKUP(L18, Lookups!$A$68:$H$70, 5, 0)","v":{"$error":"#N/A"}},{"$f":"VLOOKUP(M18, Lookups!$A$68:$H$70, 5, 0)","v":{"$error":"#N/A"}},{"$f":"VLOOKUP(N18, Lookups!$A$68:$H$70, 5, 0)","v":{"$error":"#N/A"}},{"$f":"VLOOKUP(O18, Lookups!$A$68:$H$70, 5, 0)","v":{"$error":"#N/A"}},{"$f":"VLOOKUP(P18, Lookups!$A$68:$H$70, 5, 0)","v":{"$error":"#N/A"}},{"$f":"VLOOKUP(Q18, Lookups!$A$68:$H$70, 5, 0)","v":{"$error":"#N/A"}},{"$f":"VLOOKUP(R18, Lookups!$A$68:$H$70, 5, 0)","v":{"$error":"#N/A"}},{"$f":"VLOOKUP(S18, Lookups!$A$68:$H$70, 5, 0)","v":{"$error":"#N/A"}},{"$f":"VLOOKUP(T18, Lookups!$A$68:$H$70, 5, 0)","v":{"$error":"#N/A"}},{"$f":"VLOOKUP(U18, Lookups!$A$68:$H$70, 5, 0)","v":{"$error":"#N/A"}},null,{"$f":"VLOOKUP(W18, Lookups!$A$68:$H$70, 5, 0)","v":{"$error":"#N/A"}},{"$f":"VLOOKUP(X18, Lookups!$A$68:$H$70, 5, 0)","v":{"$error":"#N/A"}},{"$f":"VLOOKUP(Y18, Lookups!$A$68:$H$70, 5, 0)","v":{"$error":"#N/A"}},{"$f":"VLOOKUP(Z18, Lookups!$A$68:$H$70, 5, 0)","v":{"$error":"#N/A"}},{"$f":"VLOOKUP(AA18, Lookups!$A$68:$H$70, 5, 0)","v":{"$error":"#N/A"}},{"$f":"VLOOKUP(AB18, Lookups!$A$68:$H$70, 5, 0)","v":{"$error":"#N/A"}},{"$f":"VLOOKUP(AC18, Lookups!$A$68:$H$70, 5, 0)","v":{"$error":"#N/A"}},{"$f":"VLOOKUP(AD18, Lookups!$A$68:$H$70, 5, 0)","v":{"$error":"#N/A"}},{"$f":"VLOOKUP(AE18, Lookups!$A$68:$H$70, 5, 0)","v":{"$error":"#N/A"}},{"$f":"VLOOKUP(AF18, Lookups!$A$68:$H$70, 5, 0)","v":{"$error":"#N/A"}},{"$f":"VLOOKUP(AG18, Lookups!$A$68:$H$70, 5, 0)","v":{"$error":"#N/A"}},{"$f":"VLOOKUP(AH18, Lookups!$A$68:$H$70, 5, 0)","v":{"$error":"#N/A"}},{"$f":"VLOOKUP(AI18, Lookups!$A$68:$H$70, 5, 0)","v":{"$error":"#N/A"}},{"$f":"VLOOKUP(AJ18, Lookups!$A$68:$H$70, 5, 0)","v":{"$error":"#N/A"}},{"$f":"VLOOKUP(AK18, Lookups!$A$68:$H$70, 5, 0)","v":{"$error":"#N/A"}},{"$f":"VLOOKUP(AL18, Lookups!$A$68:$H$70, 5, 0)","v":{"$error":"#N/A"}},{"$f":"VLOOKUP(AM18, Lookups!$A$68:$H$70, 5, 0)","v":{"$error":"#N/A"}},{"$f":"VLOOKUP(AN18, Lookups!$A$68:$H$70, 5, 0)","v":{"$error":"#N/A"}},{"$f":"VLOOKUP(AO18, Lookups!$A$68:$H$70, 5, 0)","v":{"$error":"#N/A"}},{"$f":"VLOOKUP(AP18, Lookups!$A$68:$H$70, 5, 0)","v":{"$error":"#N/A"}},{"$f":"VLOOKUP(AQ18, Lookups!$A$68:$H$70, 5, 0)","v":{"$error":"#N/A"}},{"$f":"VLOOKUP(AR18, Lookups!$A$68:$H$70, 5, 0)","v":{"$error":"#N/A"}},{"$f":"VLOOKUP(AS18, Lookups!$A$68:$H$70, 5, 0)","v":{"$error":"#N/A"}},{"$f":"VLOOKUP(AT18, Lookups!$A$68:$H$70, 5, 0)","v":{"$error":"#N/A"}},{"$f":"VLOOKUP(AU18, Lookups!$A$68:$H$70, 5, 0)","v":{"$error":"#N/A"}},{"$f":"VLOOKUP(AV18, Lookups!$A$68:$H$70, 5, 0)","v":{"$error":"#N/A"}},{"$f":"VLOOKUP(AW18, Lookups!$A$68:$H$70, 5, 0)","v":{"$error":"#N/A"}},{"$f":"VLOOKUP(AX18, Lookups!$A$68:$H$70, 5, 0)","v":{"$error":"#N/A"}},{"$f":"VLOOKUP(AY18, Lookups!$A$68:$H$70, 5, 0)","v":{"$error":"#N/A"}},{"$f":"VLOOKUP(AZ18, Lookups!$A$68:$H$70, 5, 0)","v":{"$error":"#N/A"}},{"$f":"VLOOKUP(BA18, Lookups!$A$68:$H$70, 5, 0)","v":{"$error":"#N/A"}},{"$f":"VLOOKUP(BB18, Lookups!$A$68:$H$70, 5, 0)","v":{"$error":"#N/A"}},{"$f":"VLOOKUP(BC18, Lookups!$A$68:$H$70, 5, 0)","v":{"$error":"#N/A"}},{"$f":"VLOOKUP(BD18, Lookups!$A$68:$H$70, 5, 0)","v":{"$error":"#N/A"}},{"$f":"VLOOKUP(BE18, Lookups!$A$68:$H$70, 5, 0)","v":{"$error":"#N/A"}},{"$f":"VLOOKUP(BF18, Lookups!$A$68:$H$70, 5, 0)","v":{"$error":"#N/A"}}]
["Final Yunjin/Shenhe Bonus",{"$f":"IFERROR((IF(B284=\"ATK\", B277*(1+B280)+B281, IF(B284 = \"DEF\", B277*(1+B282)+B283, 0))*VLOOKUP(B18, Lookups!$A$68:$H$70, 4, 0)*B19),0)","v":0},{"$f":"IFERROR((IF(C284=\"ATK\", C277*(1+C280)+C281, IF(C284 = \"DEF\", C277*(1+C282)+C283, 0))*VLOOKUP(C18, Lookups!$A$68:$H$70, 4, 0)*C19),0)","v":0},{"$f":"IFERROR((IF(D284=\"ATK\", D277*(1+D280)+D281, IF(D284 = \"DEF\", D277*(1+D282)+D283, 0))*VLOOKUP(D18, Lookups!$A$68:$H$70, 4, 0)*D19),0)","v":0},{"$f":"IFERROR((IF(E284=\"ATK\", E277*(1+E280)+E281, IF(E284 = \"DEF\", E277*(1+E282)+E283, 0))*VLOOKUP(E18, Lookups!$A$68:$H$70, 4, 0)*E19),0)","v":0},{"$f":"IFERROR((IF(F284=\"ATK\", F277*(1+F280)+F281, IF(F284 = \"DEF\", F277*(1+F282)+F283, 0))*VLOOKUP(F18, Lookups!$A$68:$H$70, 4, 0)*F19),0)","v":0},{"$f":"IFERROR((IF(G284=\"ATK\", G277*(1+G280)+G281, IF(G284 = \"DEF\", G277*(1+G282)+G283, 0))*VLOOKUP(G18, Lookups!$A$68:$H$70, 4, 0)*G19),0)","v":0},{"$f":"IFERROR((IF(H284=\"ATK\", H277*(1+H280)+H281, IF(H284 = \"DEF\", H277*(1+H282)+H283, 0))*VLOOKUP(H18, Lookups!$A$68:$H$70, 4, 0)*H19),0)","v":0},{"$f":"IFERROR((IF(I284=\"ATK\", I277*(1+I280)+I281, IF(I284 = \"DEF\", I277*(1+I282)+I283, 0))*VLOOKUP(I18, Lookups!$A$68:$H$70, 4, 0)*I19),0)","v":0},{"$f":"IFERROR((IF(J284=\"ATK\", J277*(1+J280)+J281, IF(J284 = \"DEF\", J277*(1+J282)+J283, 0))*VLOOKUP(J18, Lookups!$A$68:$H$70, 4, 0)*J19),0)","v":0},{"$f":"IFERROR((IF(K284=\"ATK\", K277*(1+K280)+K281, IF(K284 = \"DEF\", K277*(1+K282)+K283, 0))*VLOOKUP(K18, Lookups!$A$68:$H$70, 4, 0)*K19),0)","v":0},{"$f":"IFERROR((IF(L284=\"ATK\", L277*(1+L280)+L281, IF(L284 = \"DEF\", L277*(1+L282)+L283, 0))*VLOOKUP(L18, Lookups!$A$68:$H$70, 4, 0)*L19),0)","v":0},{"$f":"IFERROR((IF(M284=\"ATK\", M277*(1+M280)+M281, IF(M284 = \"DEF\", M277*(1+M282)+M283, 0))*VLOOKUP(M18, Lookups!$A$68:$H$70, 4, 0)*M19),0)","v":0},{"$f":"IFERROR((IF(N284=\"ATK\", N277*(1+N280)+N281, IF(N284 = \"DEF\", N277*(1+N282)+N283, 0))*VLOOKUP(N18, Lookups!$A$68:$H$70, 4, 0)*N19),0)","v":0},{"$f":"IFERROR((IF(O284=\"ATK\", O277*(1+O280)+O281, IF(O284 = \"DEF\", O277*(1+O282)+O283, 0))*VLOOKUP(O18, Lookups!$A$68:$H$70, 4, 0)*O19),0)","v":0},{"$f":"IFERROR((IF(P284=\"ATK\", P277*(1+P280)+P281, IF(P284 = \"DEF\", P277*(1+P282)+P283, 0))*VLOOKUP(P18, Lookups!$A$68:$H$70, 4, 0)*P19),0)","v":0},{"$f":"IFERROR((IF(Q284=\"ATK\", Q277*(1+Q280)+Q281, IF(Q284 = \"DEF\", Q277*(1+Q282)+Q283, 0))*VLOOKUP(Q18, Lookups!$A$68:$H$70, 4, 0)*Q19),0)","v":0},{"$f":"IFERROR((IF(R284=\"ATK\", R277*(1+R280)+R281, IF(R284 = \"DEF\", R277*(1+R282)+R283, 0))*VLOOKUP(R18, Lookups!$A$68:$H$70, 4, 0)*R19),0)","v":0},{"$f":"IFERROR((IF(S284=\"ATK\", S277*(1+S280)+S281, IF(S284 = \"DEF\", S277*(1+S282)+S283, 0))*VLOOKUP(S18, Lookups!$A$68:$H$70, 4, 0)*S19),0)","v":0},{"$f":"IFERROR((IF(T284=\"ATK\", T277*(1+T280)+T281, IF(T284 = \"DEF\", T277*(1+T282)+T283, 0))*VLOOKUP(T18, Lookups!$A$68:$H$70, 4, 0)*T19),0)","v":0},{"$f":"IFERROR((IF(U284=\"ATK\", U277*(1+U280)+U281, IF(U284 = \"DEF\", U277*(1+U282)+U283, 0))*VLOOKUP(U18, Lookups!$A$68:$H$70, 4, 0)*U19),0)","v":0},null,{"$f":"IFERROR((IF(W284=\"ATK\", W277*(1+W280)+W281, IF(W284 = \"DEF\", W277*(1+W282)+W283, 0))*VLOOKUP(W18, Lookups!$A$68:$H$70, 4, 0)*W19),0)","v":0},{"$f":"IFERROR((IF(X284=\"ATK\", X277*(1+X280)+X281, IF(X284 = \"DEF\", X277*(1+X282)+X283, 0))*VLOOKUP(X18, Lookups!$A$68:$H$70, 4, 0)*X19),0)","v":0},{"$f":"IFERROR((IF(Y284=\"ATK\", Y277*(1+Y280)+Y281, IF(Y284 = \"DEF\", Y277*(1+Y282)+Y283, 0))*VLOOKUP(Y18, Lookups!$A$68:$H$70, 4, 0)*Y19),0)","v":0},{"$f":"IFERROR((IF(Z284=\"ATK\", Z277*(1+Z280)+Z281, IF(Z284 = \"DEF\", Z277*(1+Z282)+Z283, 0))*VLOOKUP(Z18, Lookups!$A$68:$H$70, 4, 0)*Z19),0)","v":0},{"$f":"IFERROR((IF(AA284=\"ATK\", AA277*(1+AA280)+AA281, IF(AA284 = \"DEF\", AA277*(1+AA282)+AA283, 0))*VLOOKUP(AA18, Lookups!$A$68:$H$70, 4, 0)*AA19),0)","v":0},{"$f":"IFERROR((IF(AB284=\"ATK\", AB277*(1+AB280)+AB281, IF(AB284 = \"DEF\", AB277*(1+AB282)+AB283, 0))*VLOOKUP(AB18, Lookups!$A$68:$H$70, 4, 0)*AB19),0)","v":0},{"$f":"IFERROR((IF(AC284=\"ATK\", AC277*(1+AC280)+AC281, IF(AC284 = \"DEF\", AC277*(1+AC282)+AC283, 0))*VLOOKUP(AC18, Lookups!$A$68:$H$70, 4, 0)*AC19),0)","v":0},{"$f":"IFERROR((IF(AD284=\"ATK\", AD277*(1+AD280)+AD281, IF(AD284 = \"DEF\", AD277*(1+AD282)+AD283, 0))*VLOOKUP(AD18, Lookups!$A$68:$H$70, 4, 0)*AD19),0)","v":0},{"$f":"IFERROR((IF(AE284=\"ATK\", AE277*(1+AE280)+AE281, IF(AE284 = \"DEF\", AE277*(1+AE282)+AE283, 0))*VLOOKUP(AE18, Lookups!$A$68:$H$70, 4, 0)*AE19),0)","v":0},{"$f":"IFERROR((IF(AF284=\"ATK\", AF277*(1+AF280)+AF281, IF(AF284 = \"DEF\", AF277*(1+AF282)+AF283, 0))*VLOOKUP(AF18, Lookups!$A$68:$H$70, 4, 0)*AF19),0)","v":0},{"$f":"IFERROR((IF(AG284=\"ATK\", AG277*(1+AG280)+AG281, IF(AG284 = \"DEF\", AG277*(1+AG282)+AG283, 0))*VLOOKUP(AG18, Lookups!$A$68:$H$70, 4, 0)*AG19),0)","v":0},{"$f":"IFERROR((IF(AH284=\"ATK\", AH277*(1+AH280)+AH281, IF(AH284 = \"DEF\", AH277*(1+AH282)+AH283, 0))*VLOOKUP(AH18, Lookups!$A$68:$H$70, 4, 0)*AH19),0)","v":0},{"$f":"IFERROR((IF(AI284=\"ATK\", AI277*(1+AI280)+AI281, IF(AI284 = \"DEF\", AI277*(1+AI282)+AI283, 0))*VLOOKUP(AI18, Lookups!$A$68:$H$70, 4, 0)*AI19),0)","v":0},{"$f":"IFERROR((IF(AJ284=\"ATK\", AJ277*(1+AJ280)+AJ281, IF(AJ284 = \"DEF\", AJ277*(1+AJ282)+AJ283, 0))*VLOOKUP(AJ18, Lookups!$A$68:$H$70, 4, 0)*AJ19),0)","v":0},{"$f":"IFERROR((IF(AK284=\"ATK\", AK277*(1+AK280)+AK281, IF(AK284 = \"DEF\", AK277*(1+AK282)+AK283, 0))*VLOOKUP(AK18, Lookups!$A$68:$H$70, 4, 0)*AK19),0)","v":0},{"$f":"IFERROR((IF(AL284=\"ATK\", AL277*(1+AL280)+AL281, IF(AL284 = \"DEF\", AL277*(1+AL282)+AL283, 0))*VLOOKUP(AL18, Lookups!$A$68:$H$70, 4, 0)*AL19),0)","v":0},{"$f":"IFERROR((IF(AM284=\"ATK\", AM277*(1+AM280)+AM281, IF(AM284 = \"DEF\", AM277*(1+AM282)+AM283, 0))*VLOOKUP(AM18, Lookups!$A$68:$H$70, 4, 0)*AM19),0)","v":0},{"$f":"IFERROR((IF(AN284=\"ATK\", AN277*(1+AN280)+AN281, IF(AN284 = \"DEF\", AN277*(1+AN282)+AN283, 0))*VLOOKUP(AN18, Lookups!$A$68:$H$70, 4, 0)*AN19),0)","v":0},{"$f":"IFERROR((IF(AO284=\"ATK\", AO277*(1+AO280)+AO281, IF(AO284 = \"DEF\", AO277*(1+AO282)+AO283, 0))*VLOOKUP(AO18, Lookups!$A$68:$H$70, 4, 0)*AO19),0)","v":0},{"$f":"IFERROR((IF(AP284=\"ATK\", AP277*(1+AP280)+AP281, IF(AP284 = \"DEF\", AP277*(1+AP282)+AP283, 0))*VLOOKUP(AP18, Lookups!$A$68:$H$70, 4, 0)*AP19),0)","v":0},{"$f":"IFERROR((IF(AQ284=\"ATK\", AQ277*(1+AQ280)+AQ281, IF(AQ284 = \"DEF\", AQ277*(1+AQ282)+AQ283, 0))*VLOOKUP(AQ18, Lookups!$A$68:$H$70, 4, 0)*AQ19),0)","v":0},{"$f":"IFERROR((IF(AR284=\"ATK\", AR277*(1+AR280)+AR281, IF(AR284 = \"DEF\", AR277*(1+AR282)+AR283, 0))*VLOOKUP(AR18, Lookups!$A$68:$H$70, 4, 0)*AR19),0)","v":0},{"$f":"IFERROR((IF(AS284=\"ATK\", AS277*(1+AS280)+AS281, IF(AS284 = \"DEF\", AS277*(1+AS282)+AS283, 0))*VLOOKUP(AS18, Lookups!$A$68:$H$70, 4, 0)*AS19),0)","v":0},{"$f":"IFERROR((IF(AT284=\"ATK\", AT277*(1+AT280)+AT281, IF(AT284 = \"DEF\", AT277*(1+AT282)+AT283, 0))*VLOOKUP(AT18, Lookups!$A$68:$H$70, 4, 0)*AT19),0)","v":0},{"$f":"IFERROR((IF(AU284=\"ATK\", AU277*(1+AU280)+AU281, IF(AU284 = \"DEF\", AU277*(1+AU282)+AU283, 0))*VLOOKUP(AU18, Lookups!$A$68:$H$70, 4, 0)*AU19),0)","v":0},{"$f":"IFERROR((IF(AV284=\"ATK\", AV277*(1+AV280)+AV281, IF(AV284 = \"DEF\", AV277*(1+AV282)+AV283, 0))*VLOOKUP(AV18, Lookups!$A$68:$H$70, 4, 0)*AV19),0)","v":0},{"$f":"IFERROR((IF(AW284=\"ATK\", AW277*(1+AW280)+AW281, IF(AW284 = \"DEF\", AW277*(1+AW282)+AW283, 0))*VLOOKUP(AW18, Lookups!$A$68:$H$70, 4, 0)*AW19),0)","v":0},{"$f":"IFERROR((IF(AX284=\"ATK\", AX277*(1+AX280)+AX281, IF(AX284 = \"DEF\", AX277*(1+AX282)+AX283, 0))*VLOOKUP(AX18, Lookups!$A$68:$H$70, 4, 0)*AX19),0)","v":0},{"$f":"IFERROR((IF(AY284=\"ATK\", AY277*(1+AY280)+AY281, IF(AY284 = \"DEF\", AY277*(1+AY282)+AY283, 0))*VLOOKUP(AY18, Lookups!$A$68:$H$70, 4, 0)*AY19),0)","v":0},{"$f":"IFERROR((IF(AZ284=\"ATK\", AZ277*(1+AZ280)+AZ281, IF(AZ284 = \"DEF\", AZ277*(1+AZ282)+AZ283, 0))*VLOOKUP(AZ18, Lookups!$A$68:$H$70, 4, 0)*AZ19),0)","v":0},{"$f":"IFERROR((IF(BA284=\"ATK\", BA277*(1+BA280)+BA281, IF(BA284 = \"DEF\", BA277*(1+BA282)+BA283, 0))*VLOOKUP(BA18, Lookups!$A$68:$H$70, 4, 0)*BA19),0)","v":0},{"$f":"IFERROR((IF(BB284=\"ATK\", BB277*(1+BB280)+BB281, IF(BB284 = \"DEF\", BB277*(1+BB282)+BB283, 0))*VLOOKUP(BB18, Lookups!$A$68:$H$70, 4, 0)*BB19),0)","v":0},{"$f":"IFERROR((IF(BC284=\"ATK\", BC277*(1+BC280)+BC281, IF(BC284 = \"DEF\", BC277*(1+BC282)+BC283, 0))*VLOOKUP(BC18, Lookups!$A$68:$H$70, 4, 0)*BC19),0)","v":0},{"$f":"IFERROR((IF(BD284=\"ATK\", BD277*(1+BD280)+BD281, IF(BD284 = \"DEF\", BD277*(1+BD282)+BD283, 0))*VLOOKUP(BD18, Lookups!$A$68:$H$70, 4, 0)*BD19),0)","v":0},{"$f":"IFERROR((IF(BE284=\"ATK\", BE277*(1+BE280)+BE281, IF(BE284 = \"DEF\", BE277*(1+BE282)+BE283, 0))*VLOOKUP(BE18, Lookups!$A$68:$H$70, 4, 0)*BE19),0)","v":0},{"$f":"IFERROR((IF(BF284=\"ATK\", BF277*(1+BF280)+BF281, IF(BF284 = \"DEF\", BF277*(1+BF282)+BF283, 0))*VLOOKUP(BF18, Lookups!$A$68:$H$70, 4, 0)*BF19),0)","v":0}]
["Base Damage",{"$f":"B276+B285","v":15055.633151999999},{"$f":"C276+C285","v":15055.633151999999},{"$f":"D276+D285","v":4170.037350399999},12415.108531199998,{"$f":"F276+F285","v":3242.3381395199995},2156.9381395199998,{"$f":"H276+H285","v":9787.2300720000003},2878.59708,{"$f":"J276+J285","v":4650.6275765999999},4528.9927392,{"$f":"L276+L285","v":4650.6275765999999},4543.6679400000003,4682.5179168000004,{"$f":"O276+O285","v":4650.6275765999999},{"$f":"P276+P285","v":4543.6679400000003},6179.3883984000004,{"$f":"R276+R285","v":4650.6275765999999},4543.6679400000003,5123.3383715999998,6947.014286399999,null,{"$f":"W276+W285","v":1240.10122368},{"$f":"X276+X285","v":4170.037350399999},{"$f":"Y276+Y285","v":1742.6305600000001},315.61411200000003,1034.7454910000001,{"$f":"AB276+AB285","v":2724.2324765999997},{"$f":"AC276+AC285","v":2661.5779399999997},2014.5336595199999,2724.2324765999997,{"$f":"AF276+AF285","v":{"$error":"#N/A"}},{"$error":"#N/A"},{"$error":"#N/A"},{"$error":"#N/A"},{"$error":"#N/A"},{"$error":"#N/A"},{"$error":"#N/A"},{"$error":"#N/A"},{"$error":"#N/A"},{"$error":"#N/A"},{"$error":"#N/A"},{"$error":"#N/A"},{"$error":"#N/A"},{"$error":"#N/A"},{"$error":"#N/A"},{"$error":"#N/A"},{"$error":"#N/A"},{"$error":"#N/A"},{"$error":"#N/A"},{"$error":"#N/A"},{"$error":"#N/A"},{"$error":"#N/A"},{"$error":"#N/A"},{"$error":"#N/A"},{"$error":"#N/A"},{"$error":"#N/A"},{"$error":"#N/A"}]
["DMG% Bonus",{"$f":"IFERROR(INDEX(B$244:B$250, MATCH(B$3, $A$244:$A$250, 0), 1),0)","v":0.46600000000000003},{"$f":"IFERROR(INDEX(C$244:C$250, MATCH(C$3, $A$244:$A$250, 0), 1),0)","v":0.46600000000000003},{"$f":"IFERROR(INDEX(D$244:D$250, MATCH(D$3, $A$244:$A$250, 0), 1),0)","v":0.46600000000000003},0.66600000000000004,0.98812499999999992,0.98812499999999992,1.1160000000000001,1.1160000000000001,1.1160000000000001,1.1910000000000001,1.1910000000000001,1.1910000000000001,1.266,1.266,1.266,1.3410000000000002,1.3410000000000002,1.3410000000000002,1.3410000000000002,1.3410000000000002,null,0,0.46600000000000003,1.0880000000000001,1.0880000000000001,1.0880000000000001,1.3410000000000002,1.3410000000000002,0.98812499999999992,0.3,0,0,0,0,0,0,0,0,0,0,0,0,0,0,0,0,0,0,0,0,0,0,0,0,0,0,0]
["Crit Multiplier",{"$f":"IFERROR(1+(B157+IF(B3=\"Burst\", B192, 0)+IF(B3 = \"Skill\", B193))*(B158+IF(B3=\"Burst\", B194, 0)+IF(B3 = \"Skill\", B195, 0)),0)","v":1.81003552},{"$f":"IFERROR(1+(C157+IF(C3=\"Burst\", C192, 0)+IF(C3 = \"Skill\", C193))*(C158+IF(C3=\"Burst\", C194, 0)+IF(C3 = \"Skill\", C195, 0)),0)","v":1.81003552},{"$f":"IFERROR(1+(D157+IF(D3=\"Burst\", D192, 0)+IF(D3 = \"Skill\", D193))*(D158+IF(D3=\"Burst\", D194, 0)+IF(D3 = \"Skill\", D195, 0)),0)","v":1.7271795999999999},1.7271795999999999,{"$f":"IFERROR(1+(F157+IF(F3=\"Burst\", F192, 0)+IF(F3 = \"Skill\", F193))*(F158+IF(F3=\"Burst\", F194, 0)+IF(F3 = \"Skill\", F195, 0)),0)","v":1.81003552},1.81003552,{"$f":"IFERROR(1+(H157+IF(H3=\"Burst\", H192, 0)+IF(H3 = \"Skill\", H193))*(H158+IF(H3=\"Burst\", H194, 0)+IF(H3 = \"Skill\", H195, 0)),0)","v":2.6327167999999999},2.6327167999999999,{"$f":"IFERROR(1+(J157+IF(J3=\"Burst\", J192, 0)+IF(J3 = \"Skill\", J193))*(J158+IF(J3=\"Burst\", J194, 0)+IF(J3 = \"Skill\", J195, 0)),0)","v":2.6327167999999999},2.6327167999999999,{"$f":"IFERROR(1+(L157+IF(L3=\"Burst\", L192, 0)+IF(L3 = \"Skill\", L193))*(L158+IF(L3=\"Burst\", L194, 0)+IF(L3 = \"Skill\", L195, 0)),0)","v":2.6327167999999999},2.6327167999999999,2.6327167999999999,{"$f":"IFERROR(1+(O157+IF(O3=\"Burst\", O192, 0)+IF(O3 = \"Skill\", O193))*(O158+IF(O3=\"Burst\", O194, 0)+IF(O3 = \"Skill\", O195, 0)),0)","v":2.6327167999999999},{"$f":"IFERROR(1+(P157+IF(P3=\"Burst\", P192, 0)+IF(P3 = \"Skill\", P193))*(P158+IF(P3=\"Burst\", P194, 0)+IF(P3 = \"Skill\", P195, 0)),0)","v":2.6327167999999999},2.6327167999999999,{"$f":"IFERROR(1+(R157+IF(R3=\"Burst\", R192, 0)+IF(R3 = \"Skill\", R193))*(R158+IF(R3=\"Burst\", R194, 0)+IF(R3 = \"Skill\", R195, 0)),0)","v":2.6327167999999999},2.6327167999999999,2.6327167999999999,2.6327167999999999,null,{"$f":"IFERROR(1+(W157+IF(W3=\"Burst\", W192, 0)+IF(W3 = \"Skill\", W193))*(W158+IF(W3=\"Burst\", W194, 0)+IF(W3 = \"Skill\", W195, 0)),0)","v":1.7271795999999999},{"$f":"IFERROR(1+(X157+IF(X3=\"Burst\", X192, 0)+IF(X3 = \"Skill\", X193))*(X158+IF(X3=\"Burst\", X194, 0)+IF(X3 = \"Skill\", X195, 0)),0)","v":1.7271795999999999},{"$f":"IFERROR(1+(Y157+IF(Y3=\"Burst\", Y192, 0)+IF(Y3 = \"Skill\", Y193))*(Y158+IF(Y3=\"Burst\", Y194, 0)+IF(Y3 = \"Skill\", Y195, 0)),0)","v":1.57885568},1.57885568,1.57885568,{"$f":"IFERROR(1+(AB157+IF(AB3=\"Burst\", AB192, 0)+IF(AB3 = \"Skill\", AB193))*(AB158+IF(AB3=\"Burst\", AB194, 0)+IF(AB3 = \"Skill\", AB195, 0)),0)","v":2.6327167999999999},{"$f":"IFERROR(1+(AC157+IF(AC3=\"Burst\", AC192, 0)+IF(AC3 = \"Skill\", AC193))*(AC158+IF(AC3=\"Burst\", AC194, 0)+IF(AC3 = \"Skill\", AC195, 0)),0)","v":2.6327167999999999},1.81003552,2.6327167999999999,{"$f":"IFERROR(1+(AF157+IF(AF3=\"Burst\", AF192, 0)+IF(AF3 = \"Skill\", AF193))*(AF158+IF(AF3=\"Burst\", AF194, 0)+IF(AF3 = \"Skill\", AF195, 0)),0)","v":0},0,0,0,0,0,0,0,0,0,0,0,0,0,0,0,0,0,0,0,0,0,0,0,0,0,0]
["Defense Multiplier",{"$f":"(100+VLOOKUP(B38, Lookups!$O$13:$Q$17, 2, 0))/((VLOOKUP(B38, Lookups!$O$13:$Q$17, 2, 0)+100)+(enemyLevel+100)*(1-B181))","v":0.48717948717948717},{"$f":"(100+VLOOKUP(C38, Lookups!$O$13:$Q$17, 2, 0))/((VLOOKUP(C38, Lookups!$O$13:$Q$17, 2, 0)+100)+(enemyLevel+100)*(1-C181))","v":0.48717948717948717},{"$f":"(100+VLOOKUP(D38, Lookups!$O$13:$Q$17, 2, 0))/((VLOOKUP(D38, Lookups!$O$13:$Q$17, 2, 0)+100)+(enemyLevel+100)*(1-D181))","v":0.48717948717948717},{"$f":"(100+VLOOKUP(E38, Lookups!$O$13:$Q$17, 2, 0))/((VLOOKUP(E38, Lookups!$O$13:$Q$17, 2, 0)+100)+(enemyLevel+100)*(1-E181))","v":0.48717948717948717},{"$f":"(100+VLOOKUP(F38, Lookups!$O$13:$Q$17, 2, 0))/((VLOOKUP(F38, Lookups!$O$13:$Q$17, 2, 0)+100)+(enemyLevel+100)*(1-F181))","v":0.48717948717948717},{"$f":"(100+VLOOKUP(G38, Lookups!$O$13:$Q$17, 2, 0))/((VLOOKUP(G38, Lookups!$O$13:$Q$17, 2, 0)+100)+(enemyLevel+100)*(1-G181))","v":0.48717948717948717},{"$f":"(100+VLOOKUP(H38, Lookups!$O$13:$Q$17, 2, 0))/((VLOOKUP(H38, Lookups!$O$13:$Q$17, 2, 0)+100)+(enemyLevel+100)*(1-H181))","v":0.48717948717948717},{"$f":"(100+VLOOKUP(I38, Lookups!$O$13:$Q$17, 2, 0))/((VLOOKUP(I38, Lookups!$O$13:$Q$17, 2, 0)+100)+(enemyLevel+100)*(1-I181))","v":0.48717948717948717},{"$f":"(100+VLOOKUP(J38, Lookups!$O$13:$Q$17, 2, 0))/((VLOOKUP(J38, Lookups!$O$13:$Q$17, 2, 0)+100)+(enemyLevel+100)*(1-J181))","v":0.48717948717948717},{"$f":"(100+VLOOKUP(K38, Lookups!$O$13:$Q$17, 2, 0))/((VLOOKUP(K38, Lookups!$O$13:$Q$17, 2, 0)+100)+(enemyLevel+100)*(1-K181))","v":0.48717948717948717},{"$f":"(100+VLOOKUP(L38, Lookups!$O$13:$Q$17, 2, 0))/((VLOOKUP(L38, Lookups!$O$13:$Q$17, 2, 0)+100)+(enemyLevel+100)*(1-L181))","v":0.48717948717948717},{"$f":"(100+VLOOKUP(M38, Lookups!$O$13:$Q$17, 2, 0))/((VLOOKUP(M38, Lookups!$O$13:$Q$17, 2, 0)+100)+(enemyLevel+100)*(1-M181))","v":0.48717948717948717},{"$f":"(100+VLOOKUP(N38, Lookups!$O$13:$Q$17, 2, 0))/((VLOOKUP(N38, Lookups!$O$13:$Q$17, 2, 0)+100)+(enemyLevel+100)*(1-N181))","v":0.48717948717948717},{"$f":"(100+VLOOKUP(O38, Lookups!$O$13:$Q$17, 2, 0))/((VLOOKUP(O38, Lookups!$O$13:$Q$17, 2, 0)+100)+(enemyLevel+100)*(1-O181))","v":0.48717948717948717},{"$f":"(100+VLOOKUP(P38, Lookups!$O$13:$Q$17, 2, 0))/((VLOOKUP(P38, Lookups!$O$13:$Q$17, 2, 0)+100)+(enemyLevel+100)*(1-P181))","v":0.48717948717948717},{"$f":"(100+VLOOKUP(Q38, Lookups!$O$13:$Q$17, 2, 0))/((VLOOKUP(Q38, Lookups!$O$13:$Q$17, 2, 0)+100)+(enemyLevel+100)*(1-Q181))","v":0.48717948717948717},{"$f":"(100+VLOOKUP(R38, Lookups!$O$13:$Q$17, 2, 0))/((VLOOKUP(R38, Lookups!$O$13:$Q$17, 2, 0)+100)+(enemyLevel+100)*(1-R181))","v":0.48717948717948717},{"$f":"(100+VLOOKUP(S38, Lookups!$O$13:$Q$17, 2, 0))/((VLOOKUP(S38, Lookups!$O$13:$Q$17, 2, 0)+100)+(enemyLevel+100)*(1-S181))","v":0.48717948717948717},{"$f":"(100+VLOOKUP(T38, Lookups!$O$13:$Q$17, 2, 0))/((VLOOKUP(T38, Lookups!$O$13:$Q$17, 2, 0)+100)+(enemyLevel+100)*(1-T181))","v":0.48717948717948717},{"$f":"(100+VLOOKUP(U38, Lookups!$O$13:$Q$17, 2, 0))/((VLOOKUP(U38, Lookups!$O$13:$Q$17, 2, 0)+100)+(enemyLevel+100)*(1-U181))","v":0.48717948717948717},null,{"$f":"(100+VLOOKUP(W38, Lookups!$O$13:$Q$17, 2, 0))/((VLOOKUP(W38, Lookups!$O$13:$Q$17, 2, 0)+100)+(enemyLevel+100)*(1-W181))","v":0.48717948717948717},{"$f":"(100+VLOOKUP(X38, Lookups!$O$13:$Q$17, 2, 0))/((VLOOKUP(X38, Lookups!$O$13:$Q$17, 2, 0)+100)+(enemyLevel+100)*(1-X181))","v":0.48717948717948717},{"$f":"(100+VLOOKUP(Y38, Lookups!$O$13:$Q$17, 2, 0))/((VLOOKUP(Y38, Lookups!$O$13:$Q$17, 2, 0)+100)+(enemyLevel+100)*(1-Y181))","v":0.48717948717948717},{"$f":"(100+VLOOKUP(Z38, Lookups!$O$13:$Q$17, 2, 0))/((VLOOKUP(Z38, Lookups!$O$13:$Q$17, 2, 0)+100)+(enemyLevel+100)*(1-Z181))","v":0.48717948717948717},{"$f":"(100+VLOOKUP(AA38, Lookups!$O$13:$Q$17, 2, 0))/((VLOOKUP(AA38, Lookups!$O$13:$Q$17, 2, 0)+100)+(enemyLevel+100)*(1-AA181))","v":0.48717948717948717},{"$f":"(100+VLOOKUP(AB38, Lookups!$O$13:$Q$17, 2, 0))/((VLOOKUP(AB38, Lookups!$O$13:$Q$17, 2, 0)+100)+(enemyLevel+100)*(1-AB181))","v":0.48717948717948717},{"$f":"(100+VLOOKUP(AC38, Lookups!$O$13:$Q$17, 2, 0))/((VLOOKUP(AC38, Lookups!$O$13:$Q$17, 2, 0)+100)+(enemyLevel+100)*(1-AC181))","v":0.48717948717948717},{"$f":"(100+VLOOKUP(AD38, Lookups!$O$13:$Q$17, 2, 0))/((VLOOKUP(AD38, Lookups!$O$13:$Q$17, 2, 0)+100)+(enemyLevel+100)*(1-AD181))","v":0.48717948717948717},{"$f":"(100+VLOOKUP(AE38, Lookups!$O$13:$Q$17, 2, 0))/((VLOOKUP(AE38, Lookups!$O$13:$Q$17, 2, 0)+100)+(enemyLevel+100)*(1-AE181))","v":0.48717948717948717},{"$f":"(100+VLOOKUP(AF38, Lookups!$O$13:$Q$17, 2, 0))/((VLOOKUP(AF38, Lookups!$O$13:$Q$17, 2, 0)+100)+(enemyLevel+100)*(1-AF181))","v":{"$error":"#N/A"}},{"$f":"(100+VLOOKUP(AG38, Lookups!$O$13:$Q$17, 2, 0))/((VLOOKUP(AG38, Lookups!$O$13:$Q$17, 2, 0)+100)+(enemyLevel+100)*(1-AG181))","v":{"$error":"#N/A"}},{"$f":"(100+VLOOKUP(AH38, Lookups!$O$13:$Q$17, 2, 0))/((VLOOKUP(AH38, Lookups!$O$13:$Q$17, 2, 0)+100)+(enemyLevel+100)*(1-AH181))","v":{"$error":"#N/A"}},{"$f":"(100+VLOOKUP(AI38, Lookups!$O$13:$Q$17, 2, 0))/((VLOOKUP(AI38, Lookups!$O$13:$Q$17, 2, 0)+100)+(enemyLevel+100)*(1-AI181))","v":{"$error":"#N/A"}},{"$f":"(100+VLOOKUP(AJ38, Lookups!$O$13:$Q$17, 2, 0))/((VLOOKUP(AJ38, Lookups!$O$13:$Q$17, 2, 0)+100)+(enemyLevel+100)*(1-AJ181))","v":{"$error":"#N/A"}},{"$f":"(100+VLOOKUP(AK38, Lookups!$O$13:$Q$17, 2, 0))/((VLOOKUP(AK38, Lookups!$O$13:$Q$17, 2, 0)+100)+(enemyLevel+100)*(1-AK181))","v":{"$error":"#N/A"}},{"$f":"(100+VLOOKUP(AL38, Lookups!$O$13:$Q$17, 2, 0))/((VLOOKUP(AL38, Lookups!$O$13:$Q$17, 2, 0)+100)+(enemyLevel+100)*(1-AL181))","v":{"$error":"#N/A"}},{"$f":"(100+VLOOKUP(AM38, Lookups!$O$13:$Q$17, 2, 0))/((VLOOKUP(AM38, Lookups!$O$13:$Q$17, 2, 0)+100)+(enemyLevel+100)*(1-AM181))","v":{"$error":"#N/A"}},{"$f":"(100+VLOOKUP(AN38, Lookups!$O$13:$Q$17, 2, 0))/((VLOOKUP(AN38, Lookups!$O$13:$Q$17, 2, 0)+100)+(enemyLevel+100)*(1-AN181))","v":{"$error":"#N/A"}},{"$f":"(100+VLOOKUP(AO38, Lookups!$O$13:$Q$17, 2, 0))/((VLOOKUP(AO38, Lookups!$O$13:$Q$17, 2, 0)+100)+(enemyLevel+100)*(1-AO181))","v":{"$error":"#N/A"}},{"$f":"(100+VLOOKUP(AP38, Lookups!$O$13:$Q$17, 2, 0))/((VLOOKUP(AP38, Lookups!$O$13:$Q$17, 2, 0)+100)+(enemyLevel+100)*(1-AP181))","v":{"$error":"#N/A"}},{"$f":"(100+VLOOKUP(AQ38, Lookups!$O$13:$Q$17, 2, 0))/((VLOOKUP(AQ38, Lookups!$O$13:$Q$17, 2, 0)+100)+(enemyLevel+100)*(1-AQ181))","v":{"$error":"#N/A"}},{"$f":"(100+VLOOKUP(AR38, Lookups!$O$13:$Q$17, 2, 0))/((VLOOKUP(AR38, Lookups!$O$13:$Q$17, 2, 0)+100)+(enemyLevel+100)*(1-AR181))","v":{"$error":"#N/A"}},{"$f":"(100+VLOOKUP(AS38, Lookups!$O$13:$Q$17, 2, 0))/((VLOOKUP(AS38, Lookups!$O$13:$Q$17, 2, 0)+100)+(enemyLevel+100)*(1-AS181))","v":{"$error":"#N/A"}},{"$f":"(100+VLOOKUP(AT38, Lookups!$O$13:$Q$17, 2, 0))/((VLOOKUP(AT38, Lookups!$O$13:$Q$17, 2, 0)+100)+(enemyLevel+100)*(1-AT181))","v":{"$error":"#N/A"}},{"$f":"(100+VLOOKUP(AU38, Lookups!$O$13:$Q$17, 2, 0))/((VLOOKUP(AU38, Lookups!$O$13:$Q$17, 2, 0)+100)+(enemyLevel+100)*(1-AU181))","v":{"$error":"#N/A"}},{"$f":"(100+VLOOKUP(AV38, Lookups!$O$13:$Q$17, 2, 0))/((VLOOKUP(AV38, Lookups!$O$13:$Q$17, 2, 0)+100)+(enemyLevel+100)*(1-AV181))","v":{"$error":"#N/A"}},{"$f":"(100+VLOOKUP(AW38, Lookups!$O$13:$Q$17, 2, 0))/((VLOOKUP(AW38, Lookups!$O$13:$Q$17, 2, 0)+100)+(enemyLevel+100)*(1-AW181))","v":{"$error":"#N/A"}},{"$f":"(100+VLOOKUP(AX38, Lookups!$O$13:$Q$17, 2, 0))/((VLOOKUP(AX38, Lookups!$O$13:$Q$17, 2, 0)+100)+(enemyLevel+100)*(1-AX181))","v":{"$error":"#N/A"}},{"$f":"(100+VLOOKUP(AY38, Lookups!$O$13:$Q$17, 2, 0))/((VLOOKUP(AY38, Lookups!$O$13:$Q$17, 2, 0)+100)+(enemyLevel+100)*(1-AY181))","v":{"$error":"#N/A"}},{"$f":"(100+VLOOKUP(AZ38, Lookups!$O$13:$Q$17, 2, 0))/((VLOOKUP(AZ38, Lookups!$O$13:$Q$17, 2, 0)+100)+(enemyLevel+100)*(1-AZ181))","v":{"$error":"#N/A"}},{"$f":"(100+VLOOKUP(BA38, Lookups!$O$13:$Q$17, 2, 0))/((VLOOKUP(BA38, Lookups!$O$13:$Q$17, 2, 0)+100)+(enemyLevel+100)*(1-BA181))","v":{"$error":"#N/A"}},{"$f":"(100+VLOOKUP(BB38, Lookups!$O$13:$Q$17, 2, 0))/((VLOOKUP(BB38, Lookups!$O$13:$Q$17, 2, 0)+100)+(enemyLevel+100)*(1-BB181))","v":{"$error":"#N/A"}},{"$f":"(100+VLOOKUP(BC38, Lookups!$O$13:$Q$17, 2, 0))/((VLOOKUP(BC38, Lookups!$O$13:$Q$17, 2, 0)+100)+(enemyLevel+100)*(1-BC181))","v":{"$error":"#N/A"}},{"$f":"(100+VLOOKUP(BD38, Lookups!$O$13:$Q$17, 2, 0))/((VLOOKUP(BD38, Lookups!$O$13:$Q$17, 2, 0)+100)+(enemyLevel+100)*(1-BD181))","v":{"$error":"#N/A"}},{"$f":"(100+VLOOKUP(BE38, Lookups!$O$13:$Q$17, 2, 0))/((VLOOKUP(BE38, Lookups!$O$13:$Q$17, 2, 0)+100)+(enemyLevel+100)*(1-BE181))","v":{"$error":"#N/A"}},{"$f":"(100+VLOOKUP(BF38, Lookups!$O$13:$Q$17, 2, 0))/((VLOOKUP(BF38, Lookups!$O$13:$Q$17, 2, 0)+100)+(enemyLevel+100)*(1-BF181))","v":{"$error":"#N/A"}}]
["Resistance Multiplier",{"$f":"IFERROR(IF(NOT(B3 = \"Transformative\"), 1-INDEX(B230:B236,MATCH(B3,$A$230:$A$236,0)), 1-INDEX(B204:B210, MATCH(\"Effective \"&VLOOKUP(B2, Lookups!$I$55:$J$62, 2, 0)&\" Res\", $A$204:$A$210, 0), 1)),100%)","v":1.05},{"$f":"IFERROR(IF(NOT(C3 = \"Transformative\"), 1-INDEX(C230:C236,MATCH(C3,$A$230:$A$236,0)), 1-INDEX(C204:C210, MATCH(\"Effective \"&VLOOKUP(C2, Lookups!$I$55:$J$62, 2, 0)&\" Res\", $A$204:$A$210, 0), 1)),100%)","v":1.05},{"$f":"IFERROR(IF(NOT(D3 = \"Transformative\"), 1-INDEX(D230:D236,MATCH(D3,$A$230:$A$236,0)), 1-INDEX(D204:D210, MATCH(\"Effective \"&VLOOKUP(D2, Lookups!$I$55:$J$62, 2, 0)&\" Res\", $A$204:$A$210, 0), 1)),100%)","v":1.05},{"$f":"IFERROR(IF(NOT(E3 = \"Transformative\"), 1-INDEX(E230:E236,MATCH(E3,$A$230:$A$236,0)), 1-INDEX(E204:E210, MATCH(\"Effective \"&VLOOKUP(E2, Lookups!$I$55:$J$62, 2, 0)&\" Res\", $A$204:$A$210, 0), 1)),100%)","v":1.05},{"$f":"IFERROR(IF(NOT(F3 = \"Transformative\"), 1-INDEX(F230:F236,MATCH(F3,$A$230:$A$236,0)), 1-INDEX(F204:F210, MATCH(\"Effective \"&VLOOKUP(F2, Lookups!$I$55:$J$62, 2, 0)&\" Res\", $A$204:$A$210, 0), 1)),100%)","v":1.05},{"$f":"IFERROR(IF(NOT(G3 = \"Transformative\"), 1-INDEX(G230:G236,MATCH(G3,$A$230:$A$236,0)), 1-INDEX(G204:G210, MATCH(\"Effective \"&VLOOKUP(G2, Lookups!$I$55:$J$62, 2, 0)&\" Res\", $A$204:$A$210, 0), 1)),100%)","v":1.125},{"$f":"IFERROR(IF(NOT(H3 = \"Transformative\"), 1-INDEX(H230:H236,MATCH(H3,$A$230:$A$236,0)), 1-INDEX(H204:H210, MATCH(\"Effective \"&VLOOKUP(H2, Lookups!$I$55:$J$62, 2, 0)&\" Res\", $A$204:$A$210, 0), 1)),100%)","v":1.05},{"$f":"IFERROR(IF(NOT(I3 = \"Transformative\"), 1-INDEX(I230:I236,MATCH(I3,$A$230:$A$236,0)), 1-INDEX(I204:I210, MATCH(\"Effective \"&VLOOKUP(I2, Lookups!$I$55:$J$62, 2, 0)&\" Res\", $A$204:$A$210, 0), 1)),100%)","v":1.05},{"$f":"IFERROR(IF(NOT(J3 = \"Transformative\"), 1-INDEX(J230:J236,MATCH(J3,$A$230:$A$236,0)), 1-INDEX(J204:J210, MATCH(\"Effective \"&VLOOKUP(J2, Lookups!$I$55:$J$62, 2, 0)&\" Res\", $A$204:$A$210, 0), 1)),100%)","v":1.05},{"$f":"IFERROR(IF(NOT(K3 = \"Transformative\"), 1-INDEX(K230:K236,MATCH(K3,$A$230:$A$236,0)), 1-INDEX(K204:K210, MATCH(\"Effective \"&VLOOKUP(K2, Lookups!$I$55:$J$62, 2, 0)&\" Res\", $A$204:$A$210, 0), 1)),100%)","v":1.05},{"$f":"IFERROR(IF(NOT(L3 = \"Transformative\"), 1-INDEX(L230:L236,MATCH(L3,$A$230:$A$236,0)), 1-INDEX(L204:L210, MATCH(\"Effective \"&VLOOKUP(L2, Lookups!$I$55:$J$62, 2, 0)&\" Res\", $A$204:$A$210, 0), 1)),100%)","v":1.05},{"$f":"IFERROR(IF(NOT(M3 = \"Transformative\"), 1-INDEX(M230:M236,MATCH(M3,$A$230:$A$236,0)), 1-INDEX(M204:M210, MATCH(\"Effective \"&VLOOKUP(M2, Lookups!$I$55:$J$62, 2, 0)&\" Res\", $A$204:$A$210, 0), 1)),100%)","v":1.05},{"$f":"IFERROR(IF(NOT(N3 = \"Transformative\"), 1-INDEX(N230:N236,MATCH(N3,$A$230:$A$236,0)), 1-INDEX(N204:N210, MATCH(\"Effective \"&VLOOKUP(N2, Lookups!$I$55:$J$62, 2, 0)&\" Res\", $A$204:$A$210, 0), 1)),100%)","v":1.05},{"$f":"IFERROR(IF(NOT(O3 = \"Transformative\"), 1-INDEX(O230:O236,MATCH(O3,$A$230:$A$236,0)), 1-INDEX(O204:O210, MATCH(\"Effective \"&VLOOKUP(O2, Lookups!$I$55:$J$62, 2, 0)&\" Res\", $A$204:$A$210, 0), 1)),100%)","v":1.05},{"$f":"IFERROR(IF(NOT(P3 = \"Transformative\"), 1-INDEX(P230:P236,MATCH(P3,$A$230:$A$236,0)), 1-INDEX(P204:P210, MATCH(\"Effective \"&VLOOKUP(P2, Lookups!$I$55:$J$62, 2, 0)&\" Res\", $A$204:$A$210, 0), 1)),100%)","v":1.05},{"$f":"IFERROR(IF(NOT(Q3 = \"Transformative\"), 1-INDEX(Q230:Q236,MATCH(Q3,$A$230:$A$236,0)), 1-INDEX(Q204:Q210, MATCH(\"Effective \"&VLOOKUP(Q2, Lookups!$I$55:$J$62, 2, 0)&\" Res\", $A$204:$A$210, 0), 1)),100%)","v":1.05},{"$f":"IFERROR(IF(NOT(R3 = \"Transformative\"), 1-INDEX(R230:R236,MATCH(R3,$A$230:$A$236,0)), 1-INDEX(R204:R210, MATCH(\"Effective \"&VLOOKUP(R2, Lookups!$I$55:$J$62, 2, 0)&\" Res\", $A$204:$A$210, 0), 1)),100%)","v":1.05},{"$f":"IFERROR(IF(NOT(S3 = \"Transformative\"), 1-INDEX(S230:S236,MATCH(S3,$A$230:$A$236,0)), 1-INDEX(S204:S210, MATCH(\"Effective \"&VLOOKUP(S2, Lookups!$I$55:$J$62, 2, 0)&\" Res\", $A$204:$A$210, 0), 1)),100%)","v":1.05},{"$f":"IFERROR(IF(NOT(T3 = \"Transformative\"), 1-INDEX(T230:T236,MATCH(T3,$A$230:$A$236,0)), 1-INDEX(T204:T210, MATCH(\"Effective \"&VLOOKUP(T2, Lookups!$I$55:$J$62, 2, 0)&\" Res\", $A$204:$A$210, 0), 1)),100%)","v":1.05},{"$f":"IFERROR(IF(NOT(U3 = \"Transformative\"), 1-INDEX(U230:U236,MATCH(U3,$A$230:$A$236,0)), 1-INDEX(U204:U210, MATCH(\"Effective \"&VLOOKUP(U2, Lookups!$I$55:$J$62, 2, 0)&\" Res\", $A$204:$A$210, 0), 1)),100%)","v":1.05},null,{"$f":"IFERROR(IF(NOT(W3 = \"Transformative\"), 1-INDEX(W230:W236,MATCH(W3,$A$230:$A$236,0)), 1-INDEX(W204:W210, MATCH(\"Effective \"&VLOOKUP(W2, Lookups!$I$55:$J$62, 2, 0)&\" Res\", $A$204:$A$210, 0), 1)),100%)","v":0.9},{"$f":"IFERROR(IF(NOT(X3 = \"Transformative\"), 1-INDEX(X230:X236,MATCH(X3,$A$230:$A$236,0)), 1-INDEX(X204:X210, MATCH(\"Effective \"&VLOOKUP(X2, Lookups!$I$55:$J$62, 2, 0)&\" Res\", $A$204:$A$210, 0), 1)),100%)","v":1.05},{"$f":"IFERROR(IF(NOT(Y3 = \"Transformative\"), 1-INDEX(Y230:Y236,MATCH(Y3,$A$230:$A$236,0)), 1-INDEX(Y204:Y210, MATCH(\"Effective \"&VLOOKUP(Y2, Lookups!$I$55:$J$62, 2, 0)&\" Res\", $A$204:$A$210, 0), 1)),100%)","v":0.9},{"$f":"IFERROR(IF(NOT(Z3 = \"Transformative\"), 1-INDEX(Z230:Z236,MATCH(Z3,$A$230:$A$236,0)), 1-INDEX(Z204:Z210, MATCH(\"Effective \"&VLOOKUP(Z2, Lookups!$I$55:$J$62, 2, 0)&\" Res\", $A$204:$A$210, 0), 1)),100%)","v":0.9},{"$f":"IFERROR(IF(NOT(AA3 = \"Transformative\"), 1-INDEX(AA230:AA236,MATCH(AA3,$A$230:$A$236,0)), 1-INDEX(AA204:AA210, MATCH(\"Effective \"&VLOOKUP(AA2, Lookups!$I$55:$J$62, 2, 0)&\" Res\", $A$204:$A$210, 0), 1)),100%)","v":0.9},{"$f":"IFERROR(IF(NOT(AB3 = \"Transformative\"), 1-INDEX(AB230:AB236,MATCH(AB3,$A$230:$A$236,0)), 1-INDEX(AB204:AB210, MATCH(\"Effective \"&VLOOKUP(AB2, Lookups!$I$55:$J$62, 2, 0)&\" Res\", $A$204:$A$210, 0), 1)),100%)","v":1.05},{"$f":"IFERROR(IF(NOT(AC3 = \"Transformative\"), 1-INDEX(AC230:AC236,MATCH(AC3,$A$230:$A$236,0)), 1-INDEX(AC204:AC210, MATCH(\"Effective \"&VLOOKUP(AC2, Lookups!$I$55:$J$62, 2, 0)&\" Res\", $A$204:$A$210, 0), 1)),100%)","v":1.05},{"$f":"IFERROR(IF(NOT(AD3 = \"Transformative\"), 1-INDEX(AD230:AD236,MATCH(AD3,$A$230:$A$236,0)), 1-INDEX(AD204:AD210, MATCH(\"Effective \"&VLOOKUP(AD2, Lookups!$I$55:$J$62, 2, 0)&\" Res\", $A$204:$A$210, 0), 1)),100%)","v":1.125},{"$f":"IFERROR(IF(NOT(AE3 = \"Transformative\"), 1-INDEX(AE230:AE236,MATCH(AE3,$A$230:$A$236,0)), 1-INDEX(AE204:AE210, MATCH(\"Effective \"&VLOOKUP(AE2, Lookups!$I$55:$J$62, 2, 0)&\" Res\", $A$204:$A$210, 0), 1)),100%)","v":1.05},{"$f":"IFERROR(IF(NOT(AF3 = \"Transformative\"), 1-INDEX(AF230:AF236,MATCH(AF3,$A$230:$A$236,0)), 1-INDEX(AF204:AF210, MATCH(\"Effective \"&VLOOKUP(AF2, Lookups!$I$55:$J$62, 2, 0)&\" Res\", $A$204:$A$210, 0), 1)),100%)","v":1},{"$f":"IFERROR(IF(NOT(AG3 = \"Transformative\"), 1-INDEX(AG230:AG236,MATCH(AG3,$A$230:$A$236,0)), 1-INDEX(AG204:AG210, MATCH(\"Effective \"&VLOOKUP(AG2, Lookups!$I$55:$J$62, 2, 0)&\" Res\", $A$204:$A$210, 0), 1)),100%)","v":1},{"$f":"IFERROR(IF(NOT(AH3 = \"Transformative\"), 1-INDEX(AH230:AH236,MATCH(AH3,$A$230:$A$236,0)), 1-INDEX(AH204:AH210, MATCH(\"Effective \"&VLOOKUP(AH2, Lookups!$I$55:$J$62, 2, 0)&\" Res\", $A$204:$A$210, 0), 1)),100%)","v":1},{"$f":"IFERROR(IF(NOT(AI3 = \"Transformative\"), 1-INDEX(AI230:AI236,MATCH(AI3,$A$230:$A$236,0)), 1-INDEX(AI204:AI210, MATCH(\"Effective \"&VLOOKUP(AI2, Lookups!$I$55:$J$62, 2, 0)&\" Res\", $A$204:$A$210, 0), 1)),100%)","v":1},{"$f":"IFERROR(IF(NOT(AJ3 = \"Transformative\"), 1-INDEX(AJ230:AJ236,MATCH(AJ3,$A$230:$A$236,0)), 1-INDEX(AJ204:AJ210, MATCH(\"Effective \"&VLOOKUP(AJ2, Lookups!$I$55:$J$62, 2, 0)&\" Res\", $A$204:$A$210, 0), 1)),100%)","v":1},{"$f":"IFERROR(IF(NOT(AK3 = \"Transformative\"), 1-INDEX(AK230:AK236,MATCH(AK3,$A$230:$A$236,0)), 1-INDEX(AK204:AK210, MATCH(\"Effective \"&VLOOKUP(AK2, Lookups!$I$55:$J$62, 2, 0)&\" Res\", $A$204:$A$210, 0), 1)),100%)","v":1},{"$f":"IFERROR(IF(NOT(AL3 = \"Transformative\"), 1-INDEX(AL230:AL236,MATCH(AL3,$A$230:$A$236,0)), 1-INDEX(AL204:AL210, MATCH(\"Effective \"&VLOOKUP(AL2, Lookups!$I$55:$J$62, 2, 0)&\" Res\", $A$204:$A$210, 0), 1)),100%)","v":1},{"$f":"IFERROR(IF(NOT(AM3 = \"Transformative\"), 1-INDEX(AM230:AM236,MATCH(AM3,$A$230:$A$236,0)), 1-INDEX(AM204:AM210, MATCH(\"Effective \"&VLOOKUP(AM2, Lookups!$I$55:$J$62, 2, 0)&\" Res\", $A$204:$A$210, 0), 1)),100%)","v":1},{"$f":"IFERROR(IF(NOT(AN3 = \"Transformative\"), 1-INDEX(AN230:AN236,MATCH(AN3,$A$230:$A$236,0)), 1-INDEX(AN204:AN210, MATCH(\"Effective \"&VLOOKUP(AN2, Lookups!$I$55:$J$62, 2, 0)&\" Res\", $A$204:$A$210, 0), 1)),100%)","v":1},{"$f":"IFERROR(IF(NOT(AO3 = \"Transformative\"), 1-INDEX(AO230:AO236,MATCH(AO3,$A$230:$A$236,0)), 1-INDEX(AO204:AO210, MATCH(\"Effective \"&VLOOKUP(AO2, Lookups!$I$55:$J$62, 2, 0)&\" Res\", $A$204:$A$210, 0), 1)),100%)","v":1},{"$f":"IFERROR(IF(NOT(AP3 = \"Transformative\"), 1-INDEX(AP230:AP236,MATCH(AP3,$A$230:$A$236,0)), 1-INDEX(AP204:AP210, MATCH(\"Effective \"&VLOOKUP(AP2, Lookups!$I$55:$J$62, 2, 0)&\" Res\", $A$204:$A$210, 0), 1)),100%)","v":1},{"$f":"IFERROR(IF(NOT(AQ3 = \"Transformative\"), 1-INDEX(AQ230:AQ236,MATCH(AQ3,$A$230:$A$236,0)), 1-INDEX(AQ204:AQ210, MATCH(\"Effective \"&VLOOKUP(AQ2, Lookups!$I$55:$J$62, 2, 0)&\" Res\", $A$204:$A$210, 0), 1)),100%)","v":1},{"$f":"IFERROR(IF(NOT(AR3 = \"Transformative\"), 1-INDEX(AR230:AR236,MATCH(AR3,$A$230:$A$236,0)), 1-INDEX(AR204:AR210, MATCH(\"Effective \"&VLOOKUP(AR2, Lookups!$I$55:$J$62, 2, 0)&\" Res\", $A$204:$A$210, 0), 1)),100%)","v":1},{"$f":"IFERROR(IF(NOT(AS3 = \"Transformative\"), 1-INDEX(AS230:AS236,MATCH(AS3,$A$230:$A$236,0)), 1-INDEX(AS204:AS210, MATCH(\"Effective \"&VLOOKUP(AS2, Lookups!$I$55:$J$62, 2, 0)&\" Res\", $A$204:$A$210, 0), 1)),100%)","v":1},{"$f":"IFERROR(IF(NOT(AT3 = \"Transformative\"), 1-INDEX(AT230:AT236,MATCH(AT3,$A$230:$A$236,0)), 1-INDEX(AT204:AT210, MATCH(\"Effective \"&VLOOKUP(AT2, Lookups!$I$55:$J$62, 2, 0)&\" Res\", $A$204:$A$210, 0), 1)),100%)","v":1},{"$f":"IFERROR(IF(NOT(AU3 = \"Transformative\"), 1-INDEX(AU230:AU236,MATCH(AU3,$A$230:$A$236,0)), 1-INDEX(AU204:AU210, MATCH(\"Effective \"&VLOOKUP(AU2, Lookups!$I$55:$J$62, 2, 0)&\" Res\", $A$204:$A$210, 0), 1)),100%)","v":1},{"$f":"IFERROR(IF(NOT(AV3 = \"Transformative\"), 1-INDEX(AV230:AV236,MATCH(AV3,$A$230:$A$236,0)), 1-INDEX(AV204:AV210, MATCH(\"Effective \"&VLOOKUP(AV2, Lookups!$I$55:$J$62, 2, 0)&\" Res\", $A$204:$A$210, 0), 1)),100%)","v":1},{"$f":"IFERROR(IF(NOT(AW3 = \"Transformative\"), 1-INDEX(AW230:AW236,MATCH(AW3,$A$230:$A$236,0)), 1-INDEX(AW204:AW210, MATCH(\"Effective \"&VLOOKUP(AW2, Lookups!$I$55:$J$62, 2, 0)&\" Res\", $A$204:$A$210, 0), 1)),100%)","v":1},{"$f":"IFERROR(IF(NOT(AX3 = \"Transformative\"), 1-INDEX(AX230:AX236,MATCH(AX3,$A$230:$A$236,0)), 1-INDEX(AX204:AX210, MATCH(\"Effective \"&VLOOKUP(AX2, Lookups!$I$55:$J$62, 2, 0)&\" Res\", $A$204:$A$210, 0), 1)),100%)","v":1},{"$f":"IFERROR(IF(NOT(AY3 = \"Transformative\"), 1-INDEX(AY230:AY236,MATCH(AY3,$A$230:$A$236,0)), 1-INDEX(AY204:AY210, MATCH(\"Effective \"&VLOOKUP(AY2, Lookups!$I$55:$J$62, 2, 0)&\" Res\", $A$204:$A$210, 0), 1)),100%)","v":1},{"$f":"IFERROR(IF(NOT(AZ3 = \"Transformative\"), 1-INDEX(AZ230:AZ236,MATCH(AZ3,$A$230:$A$236,0)), 1-INDEX(AZ204:AZ210, MATCH(\"Effective \"&VLOOKUP(AZ2, Lookups!$I$55:$J$62, 2, 0)&\" Res\", $A$204:$A$210, 0), 1)),100%)","v":1},{"$f":"IFERROR(IF(NOT(BA3 = \"Transformative\"), 1-INDEX(BA230:BA236,MATCH(BA3,$A$230:$A$236,0)), 1-INDEX(BA204:BA210, MATCH(\"Effective \"&VLOOKUP(BA2, Lookups!$I$55:$J$62, 2, 0)&\" Res\", $A$204:$A$210, 0), 1)),100%)","v":1},{"$f":"IFERROR(IF(NOT(BB3 = \"Transformative\"), 1-INDEX(BB230:BB236,MATCH(BB3,$A$230:$A$236,0)), 1-INDEX(BB204:BB210, MATCH(\"Effective \"&VLOOKUP(BB2, Lookups!$I$55:$J$62, 2, 0)&\" Res\", $A$204:$A$210, 0), 1)),100%)","v":1},{"$f":"IFERROR(IF(NOT(BC3 = \"Transformative\"), 1-INDEX(BC230:BC236,MATCH(BC3,$A$230:$A$236,0)), 1-INDEX(BC204:BC210, MATCH(\"Effective \"&VLOOKUP(BC2, Lookups!$I$55:$J$62, 2, 0)&\" Res\", $A$204:$A$210, 0), 1)),100%)","v":1},{"$f":"IFERROR(IF(NOT(BD3 = \"Transformative\"), 1-INDEX(BD230:BD236,MATCH(BD3,$A$230:$A$236,0)), 1-INDEX(BD204:BD210, MATCH(\"Effective \"&VLOOKUP(BD2, Lookups!$I$55:$J$62, 2, 0)&\" Res\", $A$204:$A$210, 0), 1)),100%)","v":1},{"$f":"IFERROR(IF(NOT(BE3 = \"Transformative\"), 1-INDEX(BE230:BE236,MATCH(BE3,$A$230:$A$236,0)), 1-INDEX(BE204:BE210, MATCH(\"Effective \"&VLOOKUP(BE2, Lookups!$I$55:$J$62, 2, 0)&\" Res\", $A$204:$A$210, 0), 1)),100%)","v":1},{"$f":"IFERROR(IF(NOT(BF3 = \"Transformative\"), 1-INDEX(BF230:BF236,MATCH(BF3,$A$230:$A$236,0)), 1-INDEX(BF204:BF210, MATCH(\"Effective \"&VLOOKUP(BF2, Lookups!$I$55:$J$62, 2, 0)&\" Res\", $A$204:$A$210, 0), 1)),100%)","v":1}]
["Amping Reaction Base Multiplier",{"$f":"VLOOKUP(B6, Lookups!$E$2:$F$6, 2, 0)","v":2},{"$f":"VLOOKUP(C6, Lookups!$E$2:$F$6, 2, 0)","v":1},{"$f":"VLOOKUP(D6, Lookups!$E$2:$F$6, 2, 0)","v":1},{"$f":"VLOOKUP(E6, Lookups!$E$2:$F$6, 2, 0)","v":1},{"$f":"VLOOKUP(F6, Lookups!$E$2:$F$6, 2, 0)","v":1},{"$f":"VLOOKUP(G6, Lookups!$E$2:$F$6, 2, 0)","v":1},{"$f":"VLOOKUP(H6, Lookups!$E$2:$F$6, 2, 0)","v":1.5},{"$f":"VLOOKUP(I6, Lookups!$E$2:$F$6, 2, 0)","v":1},{"$f":"VLOOKUP(J6, Lookups!$E$2:$F$6, 2, 0)","v":1.5},{"$f":"VLOOKUP(K6, Lookups!$E$2:$F$6, 2, 0)","v":1.5},{"$f":"VLOOKUP(L6, Lookups!$E$2:$F$6, 2, 0)","v":1},{"$f":"VLOOKUP(M6, Lookups!$E$2:$F$6, 2, 0)","v":1},{"$f":"VLOOKUP(N6, Lookups!$E$2:$F$6, 2, 0)","v":1.5},{"$f":"VLOOKUP(O6, Lookups!$E$2:$F$6, 2, 0)","v":1.5},{"$f":"VLOOKUP(P6, Lookups!$E$2:$F$6, 2, 0)","v":1},{"$f":"VLOOKUP(Q6, Lookups!$E$2:$F$6, 2, 0)","v":1.5},{"$f":"VLOOKUP(R6, Lookups!$E$2:$F$6, 2, 0)","v":1.5},{"$f":"VLOOKUP(S6, Lookups!$E$2:$F$6, 2, 0)","v":1},{"$f":"VLOOKUP(T6, Lookups!$E$2:$F$6, 2, 0)","v":1},{"$f":"VLOOKUP(U6, Lookups!$E$2:$F$6, 2, 0)","v":1.5},null,{"$f":"VLOOKUP(W6, Lookups!$E$2:$F$6, 2, 0)","v":1.5},{"$f":"VLOOKUP(X6, Lookups!$E$2:$F$6, 2, 0)","v":1},{"$f":"VLOOKUP(Y6, Lookups!$E$2:$F$6, 2, 0)","v":1},{"$f":"VLOOKUP(Z6, Lookups!$E$2:$F$6, 2, 0)","v":1},{"$f":"VLOOKUP(AA6, Lookups!$E$2:$F$6, 2, 0)","v":1},{"$f":"VLOOKUP(AB6, Lookups!$E$2:$F$6, 2, 0)","v":1},{"$f":"VLOOKUP(AC6, Lookups!$E$2:$F$6, 2, 0)","v":1},{"$f":"VLOOKUP(AD6, Lookups!$E$2:$F$6, 2, 0)","v":1},{"$f":"VLOOKUP(AE6, Lookups!$E$2:$F$6, 2, 0)","v":1},{"$f":"VLOOKUP(AF6, Lookups!$E$2:$F$6, 2, 0)","v":1},{"$f":"VLOOKUP(AG6, Lookups!$E$2:$F$6, 2, 0)","v":1},{"$f":"VLOOKUP(AH6, Lookups!$E$2:$F$6, 2, 0)","v":1},{"$f":"VLOOKUP(AI6, Lookups!$E$2:$F$6, 2, 0)","v":1},{"$f":"VLOOKUP(AJ6, Lookups!$E$2:$F$6, 2, 0)","v":1},{"$f":"VLOOKUP(AK6, Lookups!$E$2:$F$6, 2, 0)","v":1},{"$f":"VLOOKUP(AL6, Lookups!$E$2:$F$6, 2, 0)","v":1},{"$f":"VLOOKUP(AM6, Lookups!$E$2:$F$6, 2, 0)","v":1},{"$f":"VLOOKUP(AN6, Lookups!$E$2:$F$6, 2, 0)","v":1},{"$f":"VLOOKUP(AO6, Lookups!$E$2:$F$6, 2, 0)","v":1},{"$f":"VLOOKUP(AP6, Lookups!$E$2:$F$6, 2, 0)","v":1},{"$f":"VLOOKUP(AQ6, Lookups!$E$2:$F$6, 2, 0)","v":1},{"$f":"VLOOKUP(AR6, Lookups!$E$2:$F$6, 2, 0)","v":1},{"$f":"VLOOKUP(AS6, Lookups!$E$2:$F$6, 2, 0)","v":1},{"$f":"VLOOKUP(AT6, Lookups!$E$2:$F$6, 2, 0)","v":1},{"$f":"VLOOKUP(AU6, Lookups!$E$2:$F$6, 2, 0)","v":1},{"$f":"VLOOKUP(AV6, Lookups!$E$2:$F$6, 2, 0)","v":1},{"$f":"VLOOKUP(AW6, Lookups!$E$2:$F$6, 2, 0)","v":1},{"$f":"VLOOKUP(AX6, Lookups!$E$2:$F$6, 2, 0)","v":1},{"$f":"VLOOKUP(AY6, Lookups!$E$2:$F$6, 2, 0)","v":1},{"$f":"VLOOKUP(AZ6, Lookups!$E$2:$F$6, 2, 0)","v":1},{"$f":"VLOOKUP(BA6, Lookups!$E$2:$F$6, 2, 0)","v":1},{"$f":"VLOOKUP(BB6, Lookups!$E$2:$F$6, 2, 0)","v":1},{"$f":"VLOOKUP(BC6, Lookups!$E$2:$F$6, 2, 0)","v":1},{"$f":"VLOOKUP(BD6, Lookups!$E$2:$F$6, 2, 0)","v":1},{"$f":"VLOOKUP(BE6, Lookups!$E$2:$F$6, 2, 0)","v":1},{"$f":"VLOOKUP(BF6, Lookups!$E$2:$F$6, 2, 0)","v":1}]
["Amping Reaction Bonus",{"$f":"IF(OR(B6 = \"Vape\", B6 = \"Reverse Vape\"), B180, IF(OR(B6 = \"Melt\", B6 = \"Reverse Melt\"), B179, 0))","v":0},{"$f":"IF(OR(C6 = \"Vape\", C6 = \"Reverse Vape\"), C180, IF(OR(C6 = \"Melt\", C6 = \"Reverse Melt\"), C179, 0))","v":0},{"$f":"IF(OR(D6 = \"Vape\", D6 = \"Reverse Vape\"), D180, IF(OR(D6 = \"Melt\", D6 = \"Reverse Melt\"), D179, 0))","v":0},0,{"$f":"IF(OR(F6 = \"Vape\", F6 = \"Reverse Vape\"), F180, IF(OR(F6 = \"Melt\", F6 = \"Reverse Melt\"), F179, 0))","v":0},0,{"$f":"IF(OR(H6 = \"Vape\", H6 = \"Reverse Vape\"), H180, IF(OR(H6 = \"Melt\", H6 = \"Reverse Melt\"), H179, 0))","v":0.15},0,{"$f":"IF(OR(J6 = \"Vape\", J6 = \"Reverse Vape\"), J180, IF(OR(J6 = \"Melt\", J6 = \"Reverse Melt\"), J179, 0))","v":0.15},0.15,{"$f":"IF(OR(L6 = \"Vape\", L6 = \"Reverse Vape\"), L180, IF(OR(L6 = \"Melt\", L6 = \"Reverse Melt\"), L179, 0))","v":0},0,0.15,{"$f":"IF(OR(O6 = \"Vape\", O6 = \"Reverse Vape\"), O180, IF(OR(O6 = \"Melt\", O6 = \"Reverse Melt\"), O179, 0))","v":0.15},{"$f":"IF(OR(P6 = \"Vape\", P6 = \"Reverse Vape\"), P180, IF(OR(P6 = \"Melt\", P6 = \"Reverse Melt\"), P179, 0))","v":0},0.15,{"$f":"IF(OR(R6 = \"Vape\", R6 = \"Reverse Vape\"), R180, IF(OR(R6 = \"Melt\", R6 = \"Reverse Melt\"), R179, 0))","v":0.15},0,0,0.15,null,{"$f":"IF(OR(W6 = \"Vape\", W6 = \"Reverse Vape\"), W180, IF(OR(W6 = \"Melt\", W6 = \"Reverse Melt\"), W179, 0))","v":0},{"$f":"IF(OR(X6 = \"Vape\", X6 = \"Reverse Vape\"), X180, IF(OR(X6 = \"Melt\", X6 = \"Reverse Melt\"), X179, 0))","v":0},{"$f":"IF(OR(Y6 = \"Vape\", Y6 = \"Reverse Vape\"), Y180, IF(OR(Y6 = \"Melt\", Y6 = \"Reverse Melt\"), Y179, 0))","v":0},0,0,{"$f":"IF(OR(AB6 = \"Vape\", AB6 = \"Reverse Vape\"), AB180, IF(OR(AB6 = \"Melt\", AB6 = \"Reverse Melt\"), AB179, 0))","v":0},{"$f":"IF(OR(AC6 = \"Vape\", AC6 = \"Reverse Vape\"), AC180, IF(OR(AC6 = \"Melt\", AC6 = \"Reverse Melt\"), AC179, 0))","v":0},0,0,{"$f":"IF(OR(AF6 = \"Vape\", AF6 = \"Reverse Vape\"), AF180, IF(OR(AF6 = \"Melt\", AF6 = \"Reverse Melt\"), AF179, 0))","v":0},0,0,0,0,0,0,0,0,0,0,0,0,0,0,0,0,0,0,0,0,0,0,0,0,0,0]
["Amping Reaction Final Mult",{"$f":"IF(B291=1, 1, B291*(1+(2.78*B153)/(1400+B153)+B292))","v":2.1530927176238506},{"$f":"IF(C291=1, 1, C291*(1+(2.78*C153)/(1400+C153)+C292))","v":1},{"$f":"IF(D291=1, 1, D291*(1+(2.78*D153)/(1400+D153)+D292))","v":1},1,{"$f":"IF(F291=1, 1, F291*(1+(2.78*F153)/(1400+F153)+F292))","v":1},1,{"$f":"IF(H291=1, 1, H291*(1+(2.78*H153)/(1400+H153)+H292))","v":2.3060067378153737},1,{"$f":"IF(J291=1, 1, J291*(1+(2.78*J153)/(1400+J153)+J292))","v":2.3060067378153737},2.3060067378153737,{"$f":"IF(L291=1, 1, L291*(1+(2.78*L153)/(1400+L153)+L292))","v":1},1,2.3060067378153737,{"$f":"IF(O291=1, 1, O291*(1+(2.78*O153)/(1400+O153)+O292))","v":2.3060067378153737},{"$f":"IF(P291=1, 1, P291*(1+(2.78*P153)/(1400+P153)+P292))","v":1},2.3060067378153737,{"$f":"IF(R291=1, 1, R291*(1+(2.78*R153)/(1400+R153)+R292))","v":2.3060067378153737},1,1,2.3060067378153737,null,{"$f":"IF(W291=1, 1, W291*(1+(2.78*W153)/(1400+W153)+W292))","v":1.6148195382178878},{"$f":"IF(X291=1, 1, X291*(1+(2.78*X153)/(1400+X153)+X292))","v":1},{"$f":"IF(Y291=1, 1, Y291*(1+(2.78*Y153)/(1400+Y153)+Y292))","v":1},1,1,{"$f":"IF(AB291=1, 1, AB291*(1+(2.78*AB153)/(1400+AB153)+AB292))","v":1},{"$f":"IF(AC291=1, 1, AC291*(1+(2.78*AC153)/(1400+AC153)+AC292))","v":1},1,1,{"$f":"IF(AF291=1, 1, AF291*(1+(2.78*AF153)/(1400+AF153)+AF292))","v":1},1,1,1,1,1,1,1,1,1,1,1,1,1,1,1,1,1,1,1,1,1,1,1,1,1,1]
["Talent Multiplier",{"$f":"IF(B36=\"\",0,B36)","v":5.04},{"$f":"IF(C36=\"\",0,C36)","v":5.04},{"$f":"IFERROR(IF(D36=\"\",0,D36),0)","v":2.7519999999999998},4.6559999999999997,{"$f":"IFERROR(IF(F36=\"\",0,F36),0)","v":1.0853999999999999},1.0853999999999999,{"$f":"IFERROR(IF(H36=\"\",0,H36),0)","v":3.468},1.02,{"$f":"IFERROR(IF(J36=\"\",0,J36),0)","v":1.6478999999999999},1.6048,{"$f":"IFERROR(IF(L36=\"\",0,L36),0)","v":1.6478999999999999},1.61,1.6592,{"$f":"IFERROR(IF(O36=\"\",0,O36),0)","v":1.6478999999999999},{"$f":"IFERROR(IF(P36=\"\",0,P36),0)","v":1.61},2.1896,{"$f":"IFERROR(IF(R36=\"\",0,R36),0)","v":1.6478999999999999},1.61,1.8153999999999999,2.4615999999999998,null,{"$f":"IFERROR(IF(W36=\"\",0,W36),0)","v":0.81840000000000002},{"$f":"IFERROR(IF(X36=\"\",0,X36),0)","v":2.7519999999999998},{"$f":"IFERROR(IF(Y36=\"\",0,Y36),0)","v":1.36},0.27200000000000002,1.9E-2,{"$f":"IFERROR(IF(AB36=\"\",0,AB36),0)","v":1.6478999999999999},{"$f":"IFERROR(IF(AC36=\"\",0,AC36),0)","v":1.61},1.0853999999999999,1.6478999999999999,{"$f":"IFERROR(IF(AF36=\"\",0,AF36),0)","v":0},0,0,0,0,0,0,0,0,0,0,0,0,0,0,0,0,0,0,0,0,0,0,0,0,0,0]
["Damage/Healing"]
["Damage",{"$f":"IFERROR(IF(B9=TRUE, 0, IF(ISBLANK(B32), IF(B3 = \"Transformative\", INDEX(B212:B220, MATCH(B2,$A$212:$A$220, 0), 1)*B293*B31,IF(B3 = \"Weapon Proc\", B260, (B286*(1+B287)*B288*B289*B290*B293+B264)*B31)), B32)),0)","v":44000.855146813032},{"$f":"IFERROR(IF(C9=TRUE, 0, IF(ISBLANK(C32), IF(C3 = \"Transformative\", INDEX(C212:C220, MATCH(C2,$A$212:$A$220, 0), 1)*C293*C31,IF(C3 = \"Weapon Proc\", C260, (C286*(1+C287)*C288*C289*C290*C293+C264)*C31)), C32)),0)","v":20436.117212533372},5401.1931479992254,{"$f":"IFERROR(IF(E9=TRUE, 0, IF(ISBLANK(E32), IF(E3 = \"Transformative\", INDEX(E212:E220, MATCH(E2,$A$212:$A$220, 0), 1)*E293*E31,IF(E3 = \"Weapon Proc\", E260, (E286*(1+E287)*E288*E289*E290*E293+E264)*E31)), E32)),0)","v":18274.323568935772},11937.060020707586,{"$f":"IFERROR(IF(G9=TRUE, 0, IF(ISBLANK(G32), IF(G3 = \"Transformative\", INDEX(G212:G220, MATCH(G2,$A$212:$A$220, 0), 1)*G293*G31,IF(G3 = \"Weapon Proc\", G260, (G286*(1+G287)*G288*G289*G290*G293+G264)*G31)), G32)),0)","v":97844.817193891198},64315.917670564479,{"$f":"IFERROR(IF(I9=TRUE, 0, IF(ISBLANK(I32), IF(I3 = \"Transformative\", INDEX(I212:I220, MATCH(I2,$A$212:$A$220, 0), 1)*I293*I31,IF(I3 = \"Weapon Proc\", I260, (I286*(1+I287)*I288*I289*I290*I293+I264)*I31)), I32)),0)","v":24609.355293926219},30561.188214914422,{"$f":"IFERROR(IF(K9=TRUE, 0, IF(ISBLANK(K32), IF(K3 = \"Transformative\", INDEX(K212:K220, MATCH(K2,$A$212:$A$220, 0), 1)*K293*K31,IF(K3 = \"Weapon Proc\", K260, (K286*(1+K287)*K288*K289*K290*K293+K264)*K31)), K32)),0)","v":30816.762524023125},13722.599164503637,13406.993540172862,32952.044315695341,{"$f":"IFERROR(IF(O9=TRUE, 0, IF(ISBLANK(O32), IF(O3 = \"Transformative\", INDEX(O212:O220, MATCH(O2,$A$212:$A$220, 0), 1)*O293*O31,IF(O3 = \"Weapon Proc\", O260, (O286*(1+O287)*O288*O289*O290*O293+O264)*O31)), O32)),0)","v":32727.624052455609},{"$f":"IFERROR(IF(P9=TRUE, 0, IF(ISBLANK(P32), IF(P3 = \"Transformative\", INDEX(P212:P220, MATCH(P2,$A$212:$A$220, 0), 1)*P293*P31,IF(P3 = \"Weapon Proc\", P260, (P286*(1+P287)*P288*P289*P290*P293+P264)*P31)), P32)),0)","v":13865.927595632913},44925.189380543059,{"$f":"IFERROR(IF(R9=TRUE, 0, IF(ISBLANK(R32), IF(R3 = \"Transformative\", INDEX(R212:R220, MATCH(R2,$A$212:$A$220, 0), 1)*R293*R31,IF(R3 = \"Weapon Proc\", R260, (R286*(1+R287)*R288*R289*R290*R293+R264)*R31)), R32)),0)","v":33810.841971226211},14324.861651092961,16152.393690306932,50505.958247691255,null,{"$f":"IFERROR(IF(W9=TRUE, 0, IF(ISBLANK(W32), IF(W3 = \"Transformative\", INDEX(W212:W220, MATCH(W2,$A$212:$A$220, 0), 1)*W293*W31,IF(W3 = \"Weapon Proc\", W260, (W286*(1+W287)*W288*W289*W290*W293+W264)*W31)), W32)),0)","v":1516.5269575926741},{"$f":"IFERROR(IF(X9=TRUE, 0, IF(ISBLANK(X32), IF(X3 = \"Transformative\", INDEX(X212:X220, MATCH(X2,$A$212:$A$220, 0), 1)*X293*X31,IF(X3 = \"Weapon Proc\", X260, (X286*(1+X287)*X288*X289*X290*X293+X264)*X31)), X32)),0)","v":5401.1931479992254},{"$f":"IFERROR(IF(Y9=TRUE, 0, IF(ISBLANK(Y32), IF(Y3 = \"Transformative\", INDEX(Y212:Y220, MATCH(Y2,$A$212:$A$220, 0), 1)*Y293*Y31,IF(Y3 = \"Weapon Proc\", Y260, (Y286*(1+Y287)*Y288*Y289*Y290*Y293+Y264)*Y31)), Y32)),0)","v":2518.8932197879758},4562.0584479260069,14956.7754710217,{"$f":"IFERROR(IF(AB9=TRUE, 0, IF(ISBLANK(AB32), IF(AB3 = \"Transformative\", INDEX(AB212:AB220, MATCH(AB2,$A$212:$A$220, 0), 1)*AB293*AB31,IF(AB3 = \"Weapon Proc\", AB260, (AB286*(1+AB287)*AB288*AB289*AB290*AB293+AB264)*AB31)), AB32)),0)","v":8588.7115537561367},{"$f":"IFERROR(IF(AC9=TRUE, 0, IF(ISBLANK(AC32), IF(AC3 = \"Transformative\", INDEX(AC212:AC220, MATCH(AC2,$A$212:$A$220, 0), 1)*AC293*AC31,IF(AC3 = \"Weapon Proc\", AC260, (AC286*(1+AC287)*AC288*AC289*AC290*AC293+AC264)*AC31)), AC32)),0)","v":8391.1800482719682},59598.878503768421,4769.4681844865327,0,0,0,0,0,0,0,0,0,0,0,0,0,0,0,0,0,0,0,0,0,0,0,0,0,0,0]
["Healing",{"$f":"B272","v":0},{"$f":"C272","v":0},{"$f":"D272","v":0},0,{"$f":"F272","v":0},0,{"$f":"H272","v":0},0,{"$f":"J272","v":0},0,{"$f":"L272","v":0},0,0,{"$f":"O272","v":0},{"$f":"P272","v":0},0,{"$f":"R272","v":0},0,0,0,null,{"$f":"W272","v":0},{"$f":"X272","v":0},{"$f":"Y272","v":0},0,0,{"$f":"AB272","v":0},{"$f":"AC272","v":0},0,0,{"$f":"AF272","v":0},0,0,0,0,0,0,0,0,0,0,0,0,0,0,0,0,0,0,0,0,0,0,0,0,0,0]
[]
[]
["Ocean-Hued Clam Calcs"]
["Damage Multiplier",{"$f":"B204","v":0.1},{"$f":"C204","v":0.1},{"$f":"D204","v":0.1},0.1,{"$f":"F204","v":0.1},0.1,{"$f":"H204","v":0.1},0.1,{"$f":"J204","v":0.1},0.1,{"$f":"L204","v":0.1},0.1,0.1,{"$f":"O204","v":0.1},{"$f":"P204","v":0.1},0.1,{"$f":"R204","v":0.1},0.1,0.1,0.1,null,{"$f":"W204","v":0.1},{"$f":"X204","v":0.1},{"$f":"Y204","v":0.1},0.1,0.1,{"$f":"AB204","v":0.1},{"$f":"AC204","v":0.1},0.1,0.1,{"$f":"AF204","v":0.1},0.1,0.1,0.1,0.1,0.1,0.1,0.1,0.1,0.1,0.1,0.1,0.1,0.1,0.1,0.1,0.1,0.1,0.1,0.1,0.1,0.1,0.1,0.1,0.1,0.1,0.1]
["Raw Damage"]
["Final Adjusted Damage",{"$f":"B301*B302","v":0},{"$f":"C301*C302","v":0},{"$f":"D301*D302","v":0},0,{"$f":"F301*F302","v":0},0,{"$f":"H301*H302","v":0},0,{"$f":"J301*J302","v":0},0,{"$f":"L301*L302","v":0},0,0,{"$f":"O301*O302","v":0},{"$f":"P301*P302","v":0},0,{"$f":"R301*R302","v":0},0,0,0,null,{"$f":"W301*W302","v":0},{"$f":"X301*X302","v":0},{"$f":"Y301*Y302","v":0},0,0,{"$f":"AB301*AB302","v":0},{"$f":"AC301*AC302","v":0},0,0,{"$f":"AF301*AF302","v":0},0,0,0,0,0,0,0,0,0,0,0,0,0,0,0,0,0,0,0,0,0,0,0,0,0,0]
["Total OHC Damage",{"$f":"SUM(303:303)","v":0},{"$f":"SUM(303:303)","v":0}]
[null,null,null,null,"Zhongli Hold E >  Bennett EQ > Xingqiu EQ N1 > Diluc N1 Q N1 E N2 E N2 E N4 > Bennett N1 E > Diluc N2 "]
["Cumulative Damage:",{"$f":"SUM(B296:XFD296)+B304","v":724895.70913823985},null,null,"Cumulative Damage:",724895.70913823985]
["Cumulative Healing:",{"$f":"SUM(B297:XFD297)","v":0},null,null,"Cumulative Healing:",0]
["Rotation Length:",21,null,null,"Rotation Length:",21]
["Team DPS:",{"$f":"SUM(B312:B315)/B308","v":34518.843292297133},null,null,"Team DPS:",34518.843292297133]
[]
["Breakdown by Character","Damage","Percentage of Total",null,"Breakdown by Character","Damage","Percentage of Total","DPS"]
[{"$f":"IFERROR(\"Total \"&char1Name&\" Damage\", \"No Char 1\")","v":"Total Diluc Damage"},{"$f":"SUMIF($B$1:$XFD$1, char1Name, $B$296:$XFD$296)","v":438447.01709926367},{"$f":"B312/B306","v":0.60484151247148643},null,"Total Diluc Damage",438447.01709926367,0.60484151247148643,{"$f":"$F$309*G312","v":20878.429385679221}]
[{"$f":"IFERROR(\"Total \"&char2Name&\" Damage\", \"No Char 2\")","v":"Total Xingqiu Damage"},{"$f":"SUMIF($B$1:$XFD$1, char2Name, $B$296:$XFD$296)","v":233817.7280777136},{"$f":"B313/B306","v":0.32255361030578794},null,"Total Xingqiu Damage",233817.7280777136,0.32255361030578794,{"$f":"$F$309*G313","v":11134.177527510172}]
[{"$f":"IFERROR(\"Total \"&char3Name&\" Damage\", \"No Char 3\")","v":"Total Zhongli Damage"},{"$f":"SUMIF($B$1:$XFD$1, char3Name, $B$296:$XFD$296)","v":22037.727138735681},{"$f":"B314/B306","v":3.0401238220783864E-2},null,"Total Zhongli Damage",22037.727138735681,3.0401238220783864E-2,1049.4155780350322]
[{"$f":"IFERROR(\"Total \"&char4Name&\" Damage\", \"No Char 4\")","v":"Total Bennett Damage"},{"$f":"SUMIF($B$1:$XFD$1, char4Name, $B$296:$XFD$296)","v":30593.236822526895},{"$f":"B315/B306","v":4.2203639001941823E-2},null,"Total Bennett Damage",30593.236822526895,4.2203639001941823E-2,1456.8208010727092]

{"sheet":"Calcs","index":7,"n_rows":207,"n_cols":33,"rows_kept":207,"cut":false,"hidden":false,"merged":[[106,2,107,10],[158,2,159,10],[54,14,55,16],[56,14,56,15],[2,2,3,10],[2,14,3,16],[4,14,4,15],[54,2,55,10],[43,14,44,16],[45,14,45,15],[46,14,46,15],[47,14,47,15],[65,14,66,16],[67,14,67,15],[68,14,68,15],[69,14,69,15],[73,14,74,16],[75,14,75,15],[76,14,76,15],[77,14,77,15],[78,14,78,15],[82,14,83,16],[84,14,84,15],[85,14,85,15],[89,14,90,16],[91,14,91,15],[106,14,107,16],[95,14,96,16],[97,14,97,15],[98,14,98,15],[99,14,99,15],[117,14,118,16],[119,14,119,15],[120,14,120,15],[121,14,121,15],[108,14,108,15],[125,14,126,16],[127,14,127,15],[128,14,128,15],[129,14,129,15],[130,14,130,15],[149,14,149,15],[150,14,150,15],[151,14,151,15],[158,14,159,16],[134,14,135,16],[136,14,136,15],[137,14,137,15],[141,14,142,16],[143,14,143,15],[201,14,201,15],[202,14,202,15],[203,14,203,15],[186,14,187,16],[188,14,188,15],[189,14,189,15],[193,14,194,16],[195,14,195,15],[26,14,26,15],[25,14,25,15],[24,14,24,15],[23,14,23,15],[199,14,200,16],[177,14,178,16],[179,14,179,15],[180,14,180,15],[181,14,181,15],[182,14,182,15],[169,14,170,16],[171,14,171,15],[172,14,172,15],[173,14,173,15],[160,14,160,15],[147,14,148,16],[60,14,60,15],[112,14,112,15],[164,14,164,15],[2,28,3,32],[37,14,38,16],[33,14,33,15],[32,14,32,15],[30,14,31,16],[35,14,35,15],[21,14,22,16],[17,14,17,15],[16,14,16,15],[15,14,15,15],[13,14,14,16],[8,14,8,15],[39,14,39,15]]}
[]
[null,null,null,null,null,null,null,null,null,null,null,null,null,null,null,null,null,null,null,null,"Stat","Level","Start Row","Value"]
[null,null,"Stat Block - Character 1",null,null,null,null,null,null,null,null,null,null,null,"Lookup Stuff",null,null,null,null,"Flower","Flat HP",{"$f":"'Char 1'!$L$23","v":20},{"$f":"MATCH('Char 1'!$L$24, 'Artifact Database'!$F$1:$F$66, 0)+1","v":2},{"$f":"INDEX('Artifact Database'!$F$1:$W$66, Calcs!W3+V3, MATCH(Calcs!U3,'Artifact Database'!$F$1:$W$1, 0))","v":4780},null,null,null,null,"Final Stats per Character"]
[null,null,null,null,null,null,null,null,null,null,null,null,null,null,null,null,null,null,null,"Feather","Flat ATK",{"$f":"'Char 1'!$L$25","v":20},{"$f":"MATCH('Char 1'!$L$26, 'Artifact Database'!$F$1:$F$66, 0)+1","v":2},{"$f":"INDEX('Artifact Database'!$F$1:$W$66, Calcs!W4+V4, MATCH(Calcs!U4,'Artifact Database'!$F$1:$W$1, 0))","v":311}]
[null,null,"Stat","Artifact Mainstats","Character Base","Weapon Bonus","Set Bonus Stats","Artifact Substats","Buffs","Cons/Ascension Bonus (WIP)","Total",null,null,null,"Character Level",null,{"$f":"char1Level","v":90},null,null,"Sands",{"$f":"'Char 1'!$L$28","v":"EM"},{"$f":"'Char 1'!$L$27","v":20},{"$f":"MATCH('Char 1'!$L$29, 'Artifact Database'!$F$1:$F$66, 0)+1","v":2},{"$f":"INDEX('Artifact Database'!$F$1:$W$66, Calcs!W5+V5, MATCH(Calcs!U5,'Artifact Database'!$F$1:$W$1, 0))","v":187},null,null,null,null,"Stat","char1","char2","char3","char4"]
[null,null,"Flat ATK",{"$f":"X4","v":311},0,{"$f":"IFERROR(INDEX(char1Weapons, MATCH(C6, weapons!$A$1:$A$47, 0), MATCH(char1WeaponName, weapons!$A$1:$DB$1, 0)),0)","v":0},{"$f":"IFERROR(INDEX(char1ArtiSetStats, MATCH('Char 1'!$L$14, artisDB!$A$1:$A$59, 0), MATCH(Calcs!C6, artisDB!$A$1:$AP$1, 0))+INDEX(char1ArtiSetStats, MATCH('Char 1'!$L$15, artisDB!$A$1:$A$59, 0), MATCH(Calcs!C6, artisDB!$A$1:$AP$1, 0)),0)","v":0},{"$f":"IF($Q$9 = TRUE, SUM('Char 1'!$AL14:$AP14), IFERROR(INDEX('Char 1'!$X$27:$Z$36, MATCH(C6, 'Char 1'!$X$27:$X$36, 0), 3)*HLOOKUP('Char 1'!$Z$7, artifactSubstatValues, MATCH(Calcs!C6, 'Artifact Database'!$A$1:$A$11, 0)),0))","v":33.08},{"$f":"VLOOKUP(C6, 'Char 1'!$R$5:$T$50, 3,0)","v":0},null,{"$f":"SUM(D6:J6)","v":344.08},null,null,null,null,null,null,null,null,"Goblet",{"$f":"'Char 1'!$L$31","v":"Pyro DMG%"},{"$f":"'Char 1'!$L$30","v":20},{"$f":"MATCH('Char 1'!$L$32, 'Artifact Database'!$F$1:$F$66, 0)+1","v":2},{"$f":"INDEX('Artifact Database'!$F$1:$W$66, Calcs!W6+V6, MATCH(Calcs!U6,'Artifact Database'!$F$1:$W$1, 0))","v":46.6},null,null,null,null,"Flat ATK",{"$f":"K6","v":344.08},{"$f":"K58","v":344.08},{"$f":"K110","v":344.08},{"$f":"K162","v":344.08}]
[null,null,"Flat DEF",0,0,{"$f":"IFERROR(INDEX(char1Weapons, MATCH(C7, weapons!$A$1:$A$47, 0), MATCH(char1WeaponName, weapons!$A$1:$DB$1, 0)),0)","v":0},{"$f":"IFERROR(INDEX(char1ArtiSetStats, MATCH('Char 1'!$L$14, artisDB!$A$1:$A$59, 0), MATCH(Calcs!C7, artisDB!$A$1:$AP$1, 0))+INDEX(char1ArtiSetStats, MATCH('Char 1'!$L$15, artisDB!$A$1:$A$59, 0), MATCH(Calcs!C7, artisDB!$A$1:$AP$1, 0)),0)","v":0},{"$f":"IF($Q$9 = TRUE, SUM('Char 1'!$AL15:$AP15), IFERROR(INDEX('Char 1'!$X$27:$Z$36, MATCH(C7, 'Char 1'!$X$27:$X$36, 0), 3)*HLOOKUP('Char 1'!$Z$7, artifactSubstatValues, MATCH(Calcs!C7, 'Artifact Database'!$A$1:$A$11, 0)),0))","v":39.36},{"$f":"VLOOKUP(C7, 'Char 1'!$R$5:$T$50, 3,0)","v":0},null,{"$f":"SUM(D7:J7)","v":39.36},null,null,null,null,null,null,null,null,"Circlet",{"$f":"'Char 1'!$L$34","v":"CDMG%"},{"$f":"'Char 1'!$L$33","v":20},{"$f":"MATCH('Char 1'!$L$35, 'Artifact Database'!$F$1:$F$66, 0)+1","v":2},{"$f":"INDEX('Artifact Database'!$F$1:$W$66, Calcs!W7+V7, MATCH(Calcs!U7,'Artifact Database'!$F$1:$W$1, 0))","v":62.2},null,null,null,null,"Flat DEF",39.36,39.36,39.36,39.36]
[null,null,"Flat HP",{"$f":"X3","v":4780},0,{"$f":"IFERROR(INDEX(char1Weapons, MATCH(C8, weapons!$A$1:$A$47, 0), MATCH(char1WeaponName, weapons!$A$1:$DB$1, 0)),0)","v":0},{"$f":"IFERROR(INDEX(char1ArtiSetStats, MATCH('Char 1'!$L$14, artisDB!$A$1:$A$59, 0), MATCH(Calcs!C8, artisDB!$A$1:$AP$1, 0))+INDEX(char1ArtiSetStats, MATCH('Char 1'!$L$15, artisDB!$A$1:$A$59, 0), MATCH(Calcs!C8, artisDB!$A$1:$AP$1, 0)),0)","v":0},{"$f":"IF($Q$9 = TRUE, SUM('Char 1'!$AL16:$AP16), IFERROR(INDEX('Char 1'!$X$27:$Z$36, MATCH(C8, 'Char 1'!$X$27:$X$36, 0), 3)*HLOOKUP('Char 1'!$Z$7, artifactSubstatValues, MATCH(Calcs!C8, 'Artifact Database'!$A$1:$A$11, 0)),0))","v":507.88},{"$f":"VLOOKUP(C8, 'Char 1'!$R$5:$T$50, 3,0)","v":0},null,5287.88,null,null,null,null,null,null,null,null,null,null,null,null,null,null,null,null,null,"Flat HP",5287.88,5287.88,5287.88,5287.88]
[null,null,"EM",{"$f":"IF(C9=$U$5, $X$5, 0)+IF(C9=$U$6, $X$6, 0)+IF(C9 = $U$7, $X$7, 0)","v":187},{"$f":"IFERROR(VLOOKUP(C9,$T$10:$U$15, 2, 0), 0)","v":0},{"$f":"IFERROR(INDEX(char1Weapons, MATCH(C9, weapons!$A$1:$A$47, 0), MATCH(char1WeaponName, weapons!$A$1:$DB$1, 0)),0)","v":0},{"$f":"IFERROR(INDEX(char1ArtiSetStats, MATCH('Char 1'!$L$14, artisDB!$A$1:$A$59, 0), MATCH(Calcs!C9, artisDB!$A$1:$AP$1, 0))+INDEX(char1ArtiSetStats, MATCH('Char 1'!$L$15, artisDB!$A$1:$A$59, 0), MATCH(Calcs!C9, artisDB!$A$1:$AP$1, 0)),0)","v":0},{"$f":"IF($Q$9 = TRUE, SUM('Char 1'!$AL17:$AP17), IFERROR(INDEX('Char 1'!$X$27:$Z$36, MATCH(C9, 'Char 1'!$X$27:$X$36, 0), 3)*HLOOKUP('Char 1'!$Z$7, artifactSubstatValues, MATCH(Calcs!C9, 'Artifact Database'!$A$1:$A$11, 0)),0))","v":39.64},{"$f":"VLOOKUP(C9, 'Char 1'!$R$5:$T$50, 3,0)","v":0},null,226.64,null,null,null,"Personal Subs?",null,false,null,null,"Start Row",{"$f":"MATCH(char1Name, 'Char Stats'!$A$1:$A$795, 0)","v":136},null,null,null,null,null,null,null,"EM",226.64,39.64,39.64,39.64]
[null,null,"ATK%",{"$f":"(IF(C10=$U$5, $X$5, 0)+IF(C10=$U$6, $X$6, 0)+IF(C10 = $U$7, $X$7, 0))/100","v":0},{"$f":"IFERROR(VLOOKUP(C10,$T$10:$U$15, 2, 0), 0)","v":0},{"$f":"IFERROR(INDEX(char1Weapons, MATCH(C10, weapons!$A$1:$A$47, 0), MATCH(char1WeaponName, weapons!$A$1:$DB$1, 0)),0)","v":0},{"$f":"IFERROR(INDEX(char1ArtiSetStats, MATCH('Char 1'!$L$14, artisDB!$A$1:$A$59, 0), MATCH(Calcs!C10, artisDB!$A$1:$AP$1, 0))+INDEX(char1ArtiSetStats, MATCH('Char 1'!$L$15, artisDB!$A$1:$A$59, 0), MATCH(Calcs!C10, artisDB!$A$1:$AP$1, 0)),0)","v":0},{"$f":"IF($Q$9 = TRUE, SUM('Char 1'!$AL18:$AP18), IFERROR(INDEX('Char 1'!$X$27:$Z$36, MATCH(C10, 'Char 1'!$X$27:$X$36, 0), 3)*HLOOKUP('Char 1'!$Z$7, artifactSubstatValues, MATCH(Calcs!C10, 'Artifact Database'!$A$1:$A$11, 0)),0))","v":9.9199999999999997E-2},{"$f":"VLOOKUP(C10, 'Char 1'!$R$5:$T$50, 3,0)","v":0},null,9.9199999999999997E-2,null,null,null,null,null,null,null,null,"Base HP",{"$f":"INDEX('Char Stats'!$A$1:$G$795, MATCH(Calcs!$Q$5, 'Char Stats'!$A$1:$A$15, 0)+$U$9-1, MATCH(Calcs!T10, 'Char Stats'!$A$1:$G$1, 0))","v":12981},null,null,null,null,null,null,null,"ATK%",9.9199999999999997E-2,0.8548,9.9199999999999997E-2,9.9199999999999997E-2]
[null,null,"DEF%",0,{"$f":"IFERROR(VLOOKUP(C11,$T$10:$U$15, 2, 0), 0)","v":0},{"$f":"IFERROR(INDEX(char1Weapons, MATCH(C11, weapons!$A$1:$A$47, 0), MATCH(char1WeaponName, weapons!$A$1:$DB$1, 0)),0)","v":0},{"$f":"IFERROR(INDEX(char1ArtiSetStats, MATCH('Char 1'!$L$14, artisDB!$A$1:$A$59, 0), MATCH(Calcs!C11, artisDB!$A$1:$AP$1, 0))+INDEX(char1ArtiSetStats, MATCH('Char 1'!$L$15, artisDB!$A$1:$A$59, 0), MATCH(Calcs!C11, artisDB!$A$1:$AP$1, 0)),0)","v":0},{"$f":"IF($Q$9 = TRUE, SUM('Char 1'!$AL19:$AP19), IFERROR(INDEX('Char 1'!$X$27:$Z$36, MATCH(C11, 'Char 1'!$X$27:$X$36, 0), 3)*HLOOKUP('Char 1'!$Z$7, artifactSubstatValues, MATCH(Calcs!C11, 'Artifact Database'!$A$1:$A$11, 0)),0))","v":0.124},{"$f":"VLOOKUP(C11, 'Char 1'!$R$5:$T$50, 3,0)","v":0},null,{"$f":"SUM(D11:J11)","v":0.124},null,null,null,null,null,null,null,null,"Base ATK",{"$f":"INDEX('Char Stats'!$A$1:$G$795, MATCH(Calcs!$Q$5, 'Char Stats'!$A$1:$A$15, 0)+$U$9-1, MATCH(Calcs!T11, 'Char Stats'!$A$1:$G$1, 0))","v":335},null,null,null,null,null,null,null,"DEF%",0.124,0.124,0.124,0.124]
[null,null,"HP%",0,0,{"$f":"IFERROR(INDEX(char1Weapons, MATCH(C12, weapons!$A$1:$A$47, 0), MATCH(char1WeaponName, weapons!$A$1:$DB$1, 0)),0)","v":0},{"$f":"IFERROR(INDEX(char1ArtiSetStats, MATCH('Char 1'!$L$14, artisDB!$A$1:$A$59, 0), MATCH(Calcs!C12, artisDB!$A$1:$AP$1, 0))+INDEX(char1ArtiSetStats, MATCH('Char 1'!$L$15, artisDB!$A$1:$A$59, 0), MATCH(Calcs!C12, artisDB!$A$1:$AP$1, 0)),0)","v":0},{"$f":"IF($Q$9 = TRUE, SUM('Char 1'!$AL20:$AP20), IFERROR(INDEX('Char 1'!$X$27:$Z$36, MATCH(C12, 'Char 1'!$X$27:$X$36, 0), 3)*HLOOKUP('Char 1'!$Z$7, artifactSubstatValues, MATCH(Calcs!C12, 'Artifact Database'!$A$1:$A$11, 0)),0))","v":9.9199999999999997E-2},{"$f":"VLOOKUP(C12, 'Char 1'!$R$5:$T$50, 3,0)","v":0},null,9.9199999999999997E-2,null,null,null,null,null,null,null,null,"Base DEF",{"$f":"INDEX('Char Stats'!$A$1:$G$795, MATCH(Calcs!$Q$5, 'Char Stats'!$A$1:$A$15, 0)+$U$9-1, MATCH(Calcs!T12, 'Char Stats'!$A$1:$G$1, 0))","v":784},null,null,null,null,null,null,null,"HP%",9.9199999999999997E-2,9.9199999999999997E-2,2.3462000000000005,9.9199999999999997E-2]
[null,null,"CR%",0,0.24199999999999999,{"$f":"IFERROR(INDEX(char1Weapons, MATCH(C13, weapons!$A$1:$A$47, 0), MATCH(char1WeaponName, weapons!$A$1:$DB$1, 0)),0)","v":0.27600000000000002},{"$f":"IFERROR(INDEX(char1ArtiSetStats, MATCH('Char 1'!$L$14, artisDB!$A$1:$A$59, 0), MATCH(Calcs!C13, artisDB!$A$1:$AP$1, 0))+INDEX(char1ArtiSetStats, MATCH('Char 1'!$L$15, artisDB!$A$1:$A$59, 0), MATCH(Calcs!C13, artisDB!$A$1:$AP$1, 0)),0)","v":0},{"$f":"IF($Q$9 = TRUE, SUM('Char 1'!$AL21:$AP21), IFERROR(INDEX('Char 1'!$X$27:$Z$36, MATCH(C13, 'Char 1'!$X$27:$X$36, 0), 3)*HLOOKUP('Char 1'!$Z$7, artifactSubstatValues, MATCH(Calcs!C13, 'Artifact Database'!$A$1:$A$11, 0)),0))","v":0.3972},{"$f":"VLOOKUP(C13, 'Char 1'!$R$5:$T$50, 3,0)","v":0},null,{"$f":"IF(SUM(D13:J13)>100%, 100%, IF(SUM(D13:J13)<0%, 0%, SUM(D13:J13)))","v":0.91520000000000001},null,null,null,null,null,null,null,null,{"$f":"INDEX('Char Stats'!$A$1:$G$795, Calcs!$U$9, 5)","v":"CR%"},{"$f":"INDEX(INDIRECT(char1Name&\"BaseStats\"), MATCH(char1Level,  INDEX(INDIRECT(char1Name&\"BaseStats\"), 0, 1), 0), MATCH(T13, INDEX(INDIRECT(char1Name&\"BaseStats\"), 1, 0), 0))*IF(NOT(T13=\"EM\"), 0.01, 1)","v":0.24199999999999999},null,null,null,null,null,null,null,"CR%",{"$f":"K13","v":0.91520000000000001},0.62579999999999991,0.44719999999999999,0.62579999999999991]
[null,null,"CDMG%",0.622,0.5,{"$f":"IFERROR(INDEX(char1Weapons, MATCH(C14, weapons!$A$1:$A$47, 0), MATCH(char1WeaponName, weapons!$A$1:$DB$1, 0)),0)","v":0},{"$f":"IFERROR(INDEX(char1ArtiSetStats, MATCH('Char 1'!$L$14, artisDB!$A$1:$A$59, 0), MATCH(Calcs!C14, artisDB!$A$1:$AP$1, 0))+INDEX(char1ArtiSetStats, MATCH('Char 1'!$L$15, artisDB!$A$1:$A$59, 0), MATCH(Calcs!C14, artisDB!$A$1:$AP$1, 0)),0)","v":0},{"$f":"IF($Q$9 = TRUE, SUM('Char 1'!$AL22:$AP22), IFERROR(INDEX('Char 1'!$X$27:$Z$36, MATCH(C14, 'Char 1'!$X$27:$X$36, 0), 3)*HLOOKUP('Char 1'!$Z$7, artifactSubstatValues, MATCH(Calcs!C14, 'Artifact Database'!$A$1:$A$11, 0)),0))","v":0.66199999999999992},{"$f":"VLOOKUP(C14, 'Char 1'!$R$5:$T$50, 3,0)","v":0},null,1.7839999999999998,null,null,null,"Transformative Rxn Mults",null,null,null,null,{"$f":"INDEX('Char Stats'!$A$1:$G$795, Calcs!$U$9, 6)","v":"CDMG%"},{"$f":"INDEX(INDIRECT(char1Name&\"BaseStats\"), MATCH(char1Level,  INDEX(INDIRECT(char1Name&\"BaseStats\"), 0, 1), 0), MATCH(T14, INDEX(INDIRECT(char1Name&\"BaseStats\"), 1, 0), 0))*IF(NOT(T14=\"EM\"), 0.01, 1)","v":0.5},null,null,null,null,null,null,null,"CDMG%",1.7839999999999998,1.2944,1.2944,1.1619999999999999]
[null,null,"ER%",0,0,{"$f":"IFERROR(INDEX(char1Weapons, MATCH(C15, weapons!$A$1:$A$47, 0), MATCH(char1WeaponName, weapons!$A$1:$DB$1, 0)),0)","v":0},{"$f":"IFERROR(INDEX(char1ArtiSetStats, MATCH('Char 1'!$L$14, artisDB!$A$1:$A$59, 0), MATCH(Calcs!C15, artisDB!$A$1:$AP$1, 0))+INDEX(char1ArtiSetStats, MATCH('Char 1'!$L$15, artisDB!$A$1:$A$59, 0), MATCH(Calcs!C15, artisDB!$A$1:$AP$1, 0)),0)","v":0},{"$f":"IF($Q$9 = TRUE, SUM('Char 1'!$AL23:$AP23), IFERROR(INDEX('Char 1'!$X$27:$Z$36, MATCH(C15, 'Char 1'!$X$27:$X$36, 0), 3)*HLOOKUP('Char 1'!$Z$7, artifactSubstatValues, MATCH(Calcs!C15, 'Artifact Database'!$A$1:$A$11, 0)),0))","v":0.22040000000000001},{"$f":"VLOOKUP(C15, 'Char 1'!$R$5:$T$50, 3,0)","v":0},null,{"$f":"SUM(D15:J15)+100%","v":1.2203999999999999},null,null,null,null,null,null,null,null,{"$f":"IF(INDEX('Char Stats'!$A$1:$G$795, Calcs!$U$9, 7)=0, \"\", INDEX('Char Stats'!$A$1:$G$795, Calcs!$U$9, 7))","v":"CDMG%"},{"$f":"INDEX(INDIRECT(char1Name&\"BaseStats\"), MATCH(char1Level, INDEX(INDIRECT(char1Name&\"BaseStats\"), 0, 1), 0), MATCH(T15, INDEX(INDIRECT(char1Name&\"BaseStats\"), 1, 0), 0))*IF(NOT(T15=\"EM\"), 0.01, 1)","v":0.5},null,null,null,null,null,null,null,"ER%",1.2203999999999999,2.0884999999999998,1.1102000000000001,2.2258]
[null,null,"DMG%",0,0,{"$f":"IFERROR(INDEX(char1Weapons, MATCH(C16, weapons!$A$1:$A$47, 0), MATCH(char1WeaponName, weapons!$A$1:$DB$1, 0)),0)","v":0.3},{"$f":"IFERROR(INDEX(char1ArtiSetStats, MATCH('Char 1'!$L$14, artisDB!$A$1:$A$59, 0), MATCH(Calcs!C16, artisDB!$A$1:$AP$1, 0))+INDEX(char1ArtiSetStats, MATCH('Char 1'!$L$15, artisDB!$A$1:$A$59, 0), MATCH(Calcs!C16, artisDB!$A$1:$AP$1, 0)),0)","v":0},{"$f":"IFERROR(INDEX('Char 1'!$X$27:$Z$36, MATCH(Calcs!C16, 'Char 1'!$X$27:$X$36, 0), 3)*HLOOKUP('Char 1'!$Z$7, artifactSubstatValues, MATCH(Calcs!C16, 'Artifact Database'!$A$1:$A$11, 0)),0)","v":0},{"$f":"VLOOKUP(C16, 'Char 1'!$R$5:$T$50, 3,0)","v":0},null,0.3,null,null,null,"Character Level",null,{"$f":"VALUE(LEFT(Q5, 2))","v":90},null,null,null,null,null,null,null,null,null,null,null,"DMG%",0.3,0,0.8,0]
[null,null,"Phys DMG%",0,0,{"$f":"IFERROR(INDEX(char1Weapons, MATCH(C17, weapons!$A$1:$A$47, 0), MATCH(char1WeaponName, weapons!$A$1:$DB$1, 0)),0)","v":0},{"$f":"IFERROR(INDEX(char1ArtiSetStats, MATCH('Char 1'!$L$14, artisDB!$A$1:$A$59, 0), MATCH(Calcs!C17, artisDB!$A$1:$AP$1, 0))+INDEX(char1ArtiSetStats, MATCH('Char 1'!$L$15, artisDB!$A$1:$A$59, 0), MATCH(Calcs!C17, artisDB!$A$1:$AP$1, 0)),0)","v":0},{"$f":"IFERROR(INDEX('Char 1'!$X$27:$Z$36, MATCH(Calcs!C17, 'Char 1'!$X$27:$X$36, 0), 3)*HLOOKUP('Char 1'!$Z$7, artifactSubstatValues, MATCH(Calcs!C17, 'Artifact Database'!$A$1:$A$11, 0)),0)","v":0},{"$f":"VLOOKUP(C17, 'Char 1'!$R$5:$T$50, 3,0)","v":0},null,0,null,null,null,"Enemy Level",null,{"$f":"'Char 1'!E29","v":100},null,null,null,null,null,null,null,null,null,null,null,"Phys DMG%",0,0,0,0.34499999999999997]
[null,null,"Anemo DMG%",0,0,{"$f":"IFERROR(INDEX(char1Weapons, MATCH(C18, weapons!$A$1:$A$47, 0), MATCH(char1WeaponName, weapons!$A$1:$DB$1, 0)),0)","v":0},{"$f":"IFERROR(INDEX(char1ArtiSetStats, MATCH('Char 1'!$L$14, artisDB!$A$1:$A$59, 0), MATCH(Calcs!C18, artisDB!$A$1:$AP$1, 0))+INDEX(char1ArtiSetStats, MATCH('Char 1'!$L$15, artisDB!$A$1:$A$59, 0), MATCH(Calcs!C18, artisDB!$A$1:$AP$1, 0)),0)","v":0},{"$f":"IFERROR(INDEX('Char 1'!$X$27:$Z$36, MATCH(Calcs!C18, 'Char 1'!$X$27:$X$36, 0), 3)*HLOOKUP('Char 1'!$Z$7, artifactSubstatValues, MATCH(Calcs!C18, 'Artifact Database'!$A$1:$A$11, 0)),0)","v":0},{"$f":"VLOOKUP(C18, 'Char 1'!$R$5:$T$50, 3,0)","v":0},null,0,null,null,null,"Reaction Multiplier",null,{"$f":"IF(Q16<60, 0.0002325*Q16^3+0.05547*Q16^2-0.2523*Q16+14.47, 0.00194*Q16^3-0.319*Q16^2+30.7*Q16-868)","v":725.3599999999999},null,null,null,null,null,null,null,null,null,null,null,"Anemo DMG%",0,0,0,0]
[null,null,"Geo DMG%",0,0,{"$f":"IFERROR(INDEX(char1Weapons, MATCH(C19, weapons!$A$1:$A$47, 0), MATCH(char1WeaponName, weapons!$A$1:$DB$1, 0)),0)","v":0},{"$f":"IFERROR(INDEX(char1ArtiSetStats, MATCH('Char 1'!$L$14, artisDB!$A$1:$A$59, 0), MATCH(Calcs!C19, artisDB!$A$1:$AP$1, 0))+INDEX(char1ArtiSetStats, MATCH('Char 1'!$L$15, artisDB!$A$1:$A$59, 0), MATCH(Calcs!C19, artisDB!$A$1:$AP$1, 0)),0)","v":0},{"$f":"IFERROR(INDEX('Char 1'!$X$27:$Z$36, MATCH(Calcs!C19, 'Char 1'!$X$27:$X$36, 0), 3)*HLOOKUP('Char 1'!$Z$7, artifactSubstatValues, MATCH(Calcs!C19, 'Artifact Database'!$A$1:$A$11, 0)),0)","v":0},{"$f":"VLOOKUP(C19, 'Char 1'!$R$5:$T$50, 3,0)","v":0},null,0,null,null,null,null,null,null,null,null,null,null,null,null,null,null,null,null,null,"Geo DMG%",0,0,0.28800000000000003,0]
[null,null,"Pyro DMG%",0.46600000000000003,0,{"$f":"IFERROR(INDEX(char1Weapons, MATCH(C20, weapons!$A$1:$A$47, 0), MATCH(char1WeaponName, weapons!$A$1:$DB$1, 0)),0)","v":0},{"$f":"IFERROR(INDEX(char1ArtiSetStats, MATCH('Char 1'!$L$14, artisDB!$A$1:$A$59, 0), MATCH(Calcs!C20, artisDB!$A$1:$AP$1, 0))+INDEX(char1ArtiSetStats, MATCH('Char 1'!$L$15, artisDB!$A$1:$A$59, 0), MATCH(Calcs!C20, artisDB!$A$1:$AP$1, 0)),0)","v":0.15},{"$f":"IFERROR(INDEX('Char 1'!$X$27:$Z$36, MATCH(Calcs!C20, 'Char 1'!$X$27:$X$36, 0), 3)*HLOOKUP('Char 1'!$Z$7, artifactSubstatValues, MATCH(Calcs!C20, 'Artifact Database'!$A$1:$A$11, 0)),0)","v":0},{"$f":"VLOOKUP(C20, 'Char 1'!$R$5:$T$50, 3,0)","v":0.2},null,{"$f":"SUM(D20:J20)","v":0.81600000000000006},null,null,null,null,null,null,null,null,null,null,null,null,null,null,null,null,null,"Pyro DMG%",0.81600000000000006,0,0,0.46600000000000003]
[null,null,"Cryo DMG%",0,0,{"$f":"IFERROR(INDEX(char1Weapons, MATCH(C21, weapons!$A$1:$A$47, 0), MATCH(char1WeaponName, weapons!$A$1:$DB$1, 0)),0)","v":0},{"$f":"IFERROR(INDEX(char1ArtiSetStats, MATCH('Char 1'!$L$14, artisDB!$A$1:$A$59, 0), MATCH(Calcs!C21, artisDB!$A$1:$AP$1, 0))+INDEX(char1ArtiSetStats, MATCH('Char 1'!$L$15, artisDB!$A$1:$A$59, 0), MATCH(Calcs!C21, artisDB!$A$1:$AP$1, 0)),0)","v":0},{"$f":"IFERROR(INDEX('Char 1'!$X$27:$Z$36, MATCH(Calcs!C21, 'Char 1'!$X$27:$X$36, 0), 3)*HLOOKUP('Char 1'!$Z$7, artifactSubstatValues, MATCH(Calcs!C21, 'Artifact Database'!$A$1:$A$11, 0)),0)","v":0},{"$f":"VLOOKUP(C21, 'Char 1'!$R$5:$T$50, 3,0)","v":0},null,0,null,null,null,null,null,null,null,null,null,null,null,null,null,null,null,null,null,"Cryo DMG%",0,0,0,0]
[null,null,"Hydro DMG%",0,0,{"$f":"IFERROR(INDEX(char1Weapons, MATCH(C22, weapons!$A$1:$A$47, 0), MATCH(char1WeaponName, weapons!$A$1:$DB$1, 0)),0)","v":0},{"$f":"IFERROR(INDEX(char1ArtiSetStats, MATCH('Char 1'!$L$14, artisDB!$A$1:$A$59, 0), MATCH(Calcs!C22, artisDB!$A$1:$AP$1, 0))+INDEX(char1ArtiSetStats, MATCH('Char 1'!$L$15, artisDB!$A$1:$A$59, 0), MATCH(Calcs!C22, artisDB!$A$1:$AP$1, 0)),0)","v":0},{"$f":"IFERROR(INDEX('Char 1'!$X$27:$Z$36, MATCH(Calcs!C22, 'Char 1'!$X$27:$X$36, 0), 3)*HLOOKUP('Char 1'!$Z$7, artifactSubstatValues, MATCH(Calcs!C22, 'Artifact Database'!$A$1:$A$11, 0)),0)","v":0},{"$f":"VLOOKUP(C22, 'Char 1'!$R$5:$T$50, 3,0)","v":0},null,0,null,null,null,"Calc Information",null,null,null,null,null,null,null,null,null,null,null,null,null,"Hydro DMG%",0,0.46600000000000003,0,0]
[null,null,"Electro DMG%",0,0,{"$f":"IFERROR(INDEX(char1Weapons, MATCH(C23, weapons!$A$1:$A$47, 0), MATCH(char1WeaponName, weapons!$A$1:$DB$1, 0)),0)","v":0},{"$f":"IFERROR(INDEX(char1ArtiSetStats, MATCH('Char 1'!$L$14, artisDB!$A$1:$A$59, 0), MATCH(Calcs!C23, artisDB!$A$1:$AP$1, 0))+INDEX(char1ArtiSetStats, MATCH('Char 1'!$L$15, artisDB!$A$1:$A$59, 0), MATCH(Calcs!C23, artisDB!$A$1:$AP$1, 0)),0)","v":0},{"$f":"IFERROR(INDEX('Char 1'!$X$27:$Z$36, MATCH(Calcs!C23, 'Char 1'!$X$27:$X$36, 0), 3)*HLOOKUP('Char 1'!$Z$7, artifactSubstatValues, MATCH(Calcs!C23, 'Artifact Database'!$A$1:$A$11, 0)),0)","v":0},{"$f":"VLOOKUP(C23, 'Char 1'!$R$5:$T$50, 3,0)","v":0},null,0,null,null,null,null,null,null,null,null,null,null,null,null,null,null,null,null,null,"Electro DMG%",0,0,0,0]
[null,null,"Normal DMG%",0,0,{"$f":"IFERROR(INDEX(char1Weapons, MATCH(C24, weapons!$A$1:$A$47, 0), MATCH(char1WeaponName, weapons!$A$1:$DB$1, 0)),0)","v":0},{"$f":"IFERROR(INDEX(char1ArtiSetStats, MATCH('Char 1'!$L$14, artisDB!$A$1:$A$59, 0), MATCH(Calcs!C24, artisDB!$A$1:$AP$1, 0))+INDEX(char1ArtiSetStats, MATCH('Char 1'!$L$15, artisDB!$A$1:$A$59, 0), MATCH(Calcs!C24, artisDB!$A$1:$AP$1, 0)),0)","v":0},{"$f":"IFERROR(INDEX('Char 1'!$X$27:$Z$36, MATCH(Calcs!C24, 'Char 1'!$X$27:$X$36, 0), 3)*HLOOKUP('Char 1'!$Z$7, artifactSubstatValues, MATCH(Calcs!C24, 'Artifact Database'!$A$1:$A$11, 0)),0)","v":0},{"$f":"VLOOKUP(C24, 'Char 1'!$R$5:$T$50, 3,0)","v":0},null,0,null,null,null,"Weapon Base ATK",null,{"$f":"INDEX(char1Weapons, MATCH(\"Base ATK\", weapons!$A$1:$A$47, 0), MATCH(char1WeaponName, weapons!$A$1:$DB$1, 0))","v":510},null,null,null,null,null,null,null,null,null,null,null,"Normal DMG%",0,0,0,0]
[null,null,"Charged DMG%",0,0,{"$f":"IFERROR(INDEX(char1Weapons, MATCH(C25, weapons!$A$1:$A$47, 0), MATCH(char1WeaponName, weapons!$A$1:$DB$1, 0)),0)","v":0},{"$f":"IFERROR(INDEX(char1ArtiSetStats, MATCH('Char 1'!$L$14, artisDB!$A$1:$A$59, 0), MATCH(Calcs!C25, artisDB!$A$1:$AP$1, 0))+INDEX(char1ArtiSetStats, MATCH('Char 1'!$L$15, artisDB!$A$1:$A$59, 0), MATCH(Calcs!C25, artisDB!$A$1:$AP$1, 0)),0)","v":0},{"$f":"IFERROR(INDEX('Char 1'!$X$27:$Z$36, MATCH(Calcs!C25, 'Char 1'!$X$27:$X$36, 0), 3)*HLOOKUP('Char 1'!$Z$7, artifactSubstatValues, MATCH(Calcs!C25, 'Artifact Database'!$A$1:$A$11, 0)),0)","v":0},{"$f":"VLOOKUP(C25, 'Char 1'!$R$5:$T$50, 3,0)","v":0},null,0,null,null,null,"Character Base ATK",null,{"$f":"U11","v":335},null,null,null,null,null,null,null,null,null,null,null,"Charged DMG%",0,0,0,0]
[null,null,"Plunging DMG%",0,0,{"$f":"IFERROR(INDEX(char1Weapons, MATCH(C26, weapons!$A$1:$A$47, 0), MATCH(char1WeaponName, weapons!$A$1:$DB$1, 0)),0)","v":0},{"$f":"IFERROR(INDEX(char1ArtiSetStats, MATCH('Char 1'!$L$14, artisDB!$A$1:$A$59, 0), MATCH(Calcs!C26, artisDB!$A$1:$AP$1, 0))+INDEX(char1ArtiSetStats, MATCH('Char 1'!$L$15, artisDB!$A$1:$A$59, 0), MATCH(Calcs!C26, artisDB!$A$1:$AP$1, 0)),0)","v":0},{"$f":"IFERROR(INDEX('Char 1'!$X$27:$Z$36, MATCH(Calcs!C26, 'Char 1'!$X$27:$X$36, 0), 3)*HLOOKUP('Char 1'!$Z$7, artifactSubstatValues, MATCH(Calcs!C26, 'Artifact Database'!$A$1:$A$11, 0)),0)","v":0},{"$f":"VLOOKUP(C26, 'Char 1'!$R$5:$T$50, 3,0)","v":0},null,0,null,null,null,"Character Base DEF",null,{"$f":"U12","v":784},null,null,null,null,null,null,null,null,null,null,null,"Plunging DMG%",0,0,0,0]
[null,null,"Skill DMG%",0,0,{"$f":"IFERROR(INDEX(char1Weapons, MATCH(C27, weapons!$A$1:$A$47, 0), MATCH(char1WeaponName, weapons!$A$1:$DB$1, 0)),0)","v":0},{"$f":"IFERROR(INDEX(char1ArtiSetStats, MATCH('Char 1'!$L$14, artisDB!$A$1:$A$59, 0), MATCH(Calcs!C27, artisDB!$A$1:$AP$1, 0))+INDEX(char1ArtiSetStats, MATCH('Char 1'!$L$15, artisDB!$A$1:$A$59, 0), MATCH(Calcs!C27, artisDB!$A$1:$AP$1, 0)),0)","v":0},{"$f":"IFERROR(INDEX('Char 1'!$X$27:$Z$36, MATCH(Calcs!C27, 'Char 1'!$X$27:$X$36, 0), 3)*HLOOKUP('Char 1'!$Z$7, artifactSubstatValues, MATCH(Calcs!C27, 'Artifact Database'!$A$1:$A$11, 0)),0)","v":0},{"$f":"VLOOKUP(C27, 'Char 1'!$R$5:$T$50, 3,0)","v":0},null,0,null,null,null,"Character Base HP",null,{"$f":"U10","v":12981},null,null,null,null,null,null,null,null,null,null,null,"Skill DMG%",0,0,0,0]
[null,null,"Burst DMG%",0,0,{"$f":"IFERROR(INDEX(char1Weapons, MATCH(C28, weapons!$A$1:$A$47, 0), MATCH(char1WeaponName, weapons!$A$1:$DB$1, 0)),0)","v":0},{"$f":"IFERROR(INDEX(char1ArtiSetStats, MATCH('Char 1'!$L$14, artisDB!$A$1:$A$59, 0), MATCH(Calcs!C28, artisDB!$A$1:$AP$1, 0))+INDEX(char1ArtiSetStats, MATCH('Char 1'!$L$15, artisDB!$A$1:$A$59, 0), MATCH(Calcs!C28, artisDB!$A$1:$AP$1, 0)),0)","v":0},{"$f":"IFERROR(INDEX('Char 1'!$X$27:$Z$36, MATCH(Calcs!C28, 'Char 1'!$X$27:$X$36, 0), 3)*HLOOKUP('Char 1'!$Z$7, artifactSubstatValues, MATCH(Calcs!C28, 'Artifact Database'!$A$1:$A$11, 0)),0)","v":0},{"$f":"VLOOKUP(C28, 'Char 1'!$R$5:$T$50, 3,0)","v":0},null,0,null,null,null,null,null,null,null,null,null,null,null,null,null,null,null,null,null,"Burst DMG%",0,0.52212499999999995,0,0.2]
[null,null,"Swirl%",0,0,{"$f":"IFERROR(INDEX(char1Weapons, MATCH(C29, weapons!$A$1:$A$47, 0), MATCH(char1WeaponName, weapons!$A$1:$DB$1, 0)),0)","v":0},{"$f":"IFERROR(INDEX(char1ArtiSetStats, MATCH('Char 1'!$L$14, artisDB!$A$1:$A$59, 0), MATCH(Calcs!C29, artisDB!$A$1:$AP$1, 0))+INDEX(char1ArtiSetStats, MATCH('Char 1'!$L$15, artisDB!$A$1:$A$59, 0), MATCH(Calcs!C29, artisDB!$A$1:$AP$1, 0)),0)","v":0},{"$f":"IFERROR(INDEX('Char 1'!$X$27:$Z$36, MATCH(Calcs!C29, 'Char 1'!$X$27:$X$36, 0), 3)*HLOOKUP('Char 1'!$Z$7, artifactSubstatValues, MATCH(Calcs!C29, 'Artifact Database'!$A$1:$A$11, 0)),0)","v":0},{"$f":"VLOOKUP(C29, 'Char 1'!$R$5:$T$50, 3,0)","v":0},null,0,null,null,null,null,null,null,null,null,null,null,null,null,null,null,null,null,null,"Swirl%",0,0,0,0]
[null,null,"Overload%",0,0,{"$f":"IFERROR(INDEX(char1Weapons, MATCH(C30, weapons!$A$1:$A$47, 0), MATCH(char1WeaponName, weapons!$A$1:$DB$1, 0)),0)","v":0},{"$f":"IFERROR(INDEX(char1ArtiSetStats, MATCH('Char 1'!$L$14, artisDB!$A$1:$A$59, 0), MATCH(Calcs!C30, artisDB!$A$1:$AP$1, 0))+INDEX(char1ArtiSetStats, MATCH('Char 1'!$L$15, artisDB!$A$1:$A$59, 0), MATCH(Calcs!C30, artisDB!$A$1:$AP$1, 0)),0)","v":0.4},{"$f":"IFERROR(INDEX('Char 1'!$X$27:$Z$36, MATCH(Calcs!C30, 'Char 1'!$X$27:$X$36, 0), 3)*HLOOKUP('Char 1'!$Z$7, artifactSubstatValues, MATCH(Calcs!C30, 'Artifact Database'!$A$1:$A$11, 0)),0)","v":0},{"$f":"VLOOKUP(C30, 'Char 1'!$R$5:$T$50, 3,0)","v":0},null,0.4,null,null,null,null,null,null,null,null,null,null,null,null,null,null,null,null,null,"Overload%",0.4,0,0,0]
[null,null,"Crystallize%",0,0,{"$f":"IFERROR(INDEX(char1Weapons, MATCH(C31, weapons!$A$1:$A$47, 0), MATCH(char1WeaponName, weapons!$A$1:$DB$1, 0)),0)","v":0},{"$f":"IFERROR(INDEX(char1ArtiSetStats, MATCH('Char 1'!$L$14, artisDB!$A$1:$A$59, 0), MATCH(Calcs!C31, artisDB!$A$1:$AP$1, 0))+INDEX(char1ArtiSetStats, MATCH('Char 1'!$L$15, artisDB!$A$1:$A$59, 0), MATCH(Calcs!C31, artisDB!$A$1:$AP$1, 0)),0)","v":0},{"$f":"IFERROR(INDEX('Char 1'!$X$27:$Z$36, MATCH(Calcs!C31, 'Char 1'!$X$27:$X$36, 0), 3)*HLOOKUP('Char 1'!$Z$7, artifactSubstatValues, MATCH(Calcs!C31, 'Artifact Database'!$A$1:$A$11, 0)),0)","v":0},{"$f":"VLOOKUP(C31, 'Char 1'!$R$5:$T$50, 3,0)","v":0},null,0,null,null,null,"Attack DMG Type Info",null,null,null,null,null,null,null,null,null,null,null,null,null,"Crystallize%",0,0,0,0]
[null,null,"Electrocharged%",0,0,{"$f":"IFERROR(INDEX(char1Weapons, MATCH(C32, weapons!$A$1:$A$47, 0), MATCH(char1WeaponName, weapons!$A$1:$DB$1, 0)),0)","v":0},{"$f":"IFERROR(INDEX(char1ArtiSetStats, MATCH('Char 1'!$L$14, artisDB!$A$1:$A$59, 0), MATCH(Calcs!C32, artisDB!$A$1:$AP$1, 0))+INDEX(char1ArtiSetStats, MATCH('Char 1'!$L$15, artisDB!$A$1:$A$59, 0), MATCH(Calcs!C32, artisDB!$A$1:$AP$1, 0)),0)","v":0},{"$f":"IFERROR(INDEX('Char 1'!$X$27:$Z$36, MATCH(Calcs!C32, 'Char 1'!$X$27:$X$36, 0), 3)*HLOOKUP('Char 1'!$Z$7, artifactSubstatValues, MATCH(Calcs!C32, 'Artifact Database'!$A$1:$A$11, 0)),0)","v":0},{"$f":"VLOOKUP(C32, 'Char 1'!$R$5:$T$50, 3,0)","v":0},null,0,null,null,null,null,null,null,null,null,null,null,null,null,null,null,null,null,null,"Electrocharged%",0,0,0,0]
[null,null,"Superconduct%",0,0,{"$f":"IFERROR(INDEX(char1Weapons, MATCH(C33, weapons!$A$1:$A$47, 0), MATCH(char1WeaponName, weapons!$A$1:$DB$1, 0)),0)","v":0},{"$f":"IFERROR(INDEX(char1ArtiSetStats, MATCH('Char 1'!$L$14, artisDB!$A$1:$A$59, 0), MATCH(Calcs!C33, artisDB!$A$1:$AP$1, 0))+INDEX(char1ArtiSetStats, MATCH('Char 1'!$L$15, artisDB!$A$1:$A$59, 0), MATCH(Calcs!C33, artisDB!$A$1:$AP$1, 0)),0)","v":0},{"$f":"IFERROR(INDEX('Char 1'!$X$27:$Z$36, MATCH(Calcs!C33, 'Char 1'!$X$27:$X$36, 0), 3)*HLOOKUP('Char 1'!$Z$7, artifactSubstatValues, MATCH(Calcs!C33, 'Artifact Database'!$A$1:$A$11, 0)),0)","v":0},{"$f":"VLOOKUP(C33, 'Char 1'!$R$5:$T$50, 3,0)","v":0},null,0,null,null,null,"Skill Echo Type",null,{"$f":"'Char 1'!E20","v":"Skill"},null,null,null,null,null,null,null,null,null,null,null,"Superconduct%",0,0,0,0]
[null,null,"Shatter%",0,0,{"$f":"IFERROR(INDEX(char1Weapons, MATCH(C34, weapons!$A$1:$A$47, 0), MATCH(char1WeaponName, weapons!$A$1:$DB$1, 0)),0)","v":0},{"$f":"IFERROR(INDEX(char1ArtiSetStats, MATCH('Char 1'!$L$14, artisDB!$A$1:$A$59, 0), MATCH(Calcs!C34, artisDB!$A$1:$AP$1, 0))+INDEX(char1ArtiSetStats, MATCH('Char 1'!$L$15, artisDB!$A$1:$A$59, 0), MATCH(Calcs!C34, artisDB!$A$1:$AP$1, 0)),0)","v":0},{"$f":"IFERROR(INDEX('Char 1'!$X$27:$Z$36, MATCH(Calcs!C34, 'Char 1'!$X$27:$X$36, 0), 3)*HLOOKUP('Char 1'!$Z$7, artifactSubstatValues, MATCH(Calcs!C34, 'Artifact Database'!$A$1:$A$11, 0)),0)","v":0},{"$f":"VLOOKUP(C34, 'Char 1'!$R$5:$T$50, 3,0)","v":0},null,0,null,null,null,"Burst Echo Type",null,{"$f":"'Char 1'!E23","v":"Burst"},null,null,null,null,null,null,null,null,null,null,null,"Shatter%",0,0,0,0]
[null,null,"Melt%",0,0,{"$f":"IFERROR(INDEX(char1Weapons, MATCH(C35, weapons!$A$1:$A$47, 0), MATCH(char1WeaponName, weapons!$A$1:$DB$1, 0)),0)","v":0},{"$f":"IFERROR(INDEX(char1ArtiSetStats, MATCH('Char 1'!$L$14, artisDB!$A$1:$A$59, 0), MATCH(Calcs!C35, artisDB!$A$1:$AP$1, 0))+INDEX(char1ArtiSetStats, MATCH('Char 1'!$L$15, artisDB!$A$1:$A$59, 0), MATCH(Calcs!C35, artisDB!$A$1:$AP$1, 0)),0)","v":0.15},{"$f":"IFERROR(INDEX('Char 1'!$X$27:$Z$36, MATCH(Calcs!C35, 'Char 1'!$X$27:$X$36, 0), 3)*HLOOKUP('Char 1'!$Z$7, artifactSubstatValues, MATCH(Calcs!C35, 'Artifact Database'!$A$1:$A$11, 0)),0)","v":0},{"$f":"VLOOKUP(C35, 'Char 1'!$R$5:$T$50, 3,0)","v":0},null,0.15,null,null,null,null,null,null,null,null,null,null,null,null,null,null,null,null,null,"Melt%",0.15,0,0,0]
[null,null,"Vaporize%",0,0,{"$f":"IFERROR(INDEX(char1Weapons, MATCH(C36, weapons!$A$1:$A$47, 0), MATCH(char1WeaponName, weapons!$A$1:$DB$1, 0)),0)","v":0},{"$f":"IFERROR(INDEX(char1ArtiSetStats, MATCH('Char 1'!$L$14, artisDB!$A$1:$A$59, 0), MATCH(Calcs!C36, artisDB!$A$1:$AP$1, 0))+INDEX(char1ArtiSetStats, MATCH('Char 1'!$L$15, artisDB!$A$1:$A$59, 0), MATCH(Calcs!C36, artisDB!$A$1:$AP$1, 0)),0)","v":0.15},{"$f":"IFERROR(INDEX('Char 1'!$X$27:$Z$36, MATCH(Calcs!C36, 'Char 1'!$X$27:$X$36, 0), 3)*HLOOKUP('Char 1'!$Z$7, artifactSubstatValues, MATCH(Calcs!C36, 'Artifact Database'!$A$1:$A$11, 0)),0)","v":0},{"$f":"VLOOKUP(C36, 'Char 1'!$R$5:$T$50, 3,0)","v":0},null,0.15,null,null,null,null,null,null,null,null,null,null,null,null,null,null,null,null,null,"Vaporize%",0.15,0,0,0]
[null,null,"DEF Shred",0,0,{"$f":"IFERROR(INDEX(char1Weapons, MATCH(C37, weapons!$A$1:$A$47, 0), MATCH(char1WeaponName, weapons!$A$1:$DB$1, 0)),0)","v":0},{"$f":"IFERROR(INDEX(char1ArtiSetStats, MATCH('Char 1'!$L$14, artisDB!$A$1:$A$59, 0), MATCH(Calcs!C37, artisDB!$A$1:$AP$1, 0))+INDEX(char1ArtiSetStats, MATCH('Char 1'!$L$15, artisDB!$A$1:$A$59, 0), MATCH(Calcs!C37, artisDB!$A$1:$AP$1, 0)),0)","v":0},{"$f":"IFERROR(INDEX('Char 1'!$X$27:$Z$36, MATCH(Calcs!C37, 'Char 1'!$X$27:$X$36, 0), 3)*HLOOKUP('Char 1'!$Z$7, artifactSubstatValues, MATCH(Calcs!C37, 'Artifact Database'!$A$1:$A$11, 0)),0)","v":0},{"$f":"VLOOKUP(C37, 'Char 1'!$R$5:$T$50, 3,0)","v":0},null,0,null,null,null,null,null,null,null,null,null,null,null,null,null,null,null,null,null,"DEF Shred",0,0,0,0]
[null,null,"Shield Strength%",0,0,{"$f":"IFERROR(INDEX(char1Weapons, MATCH(C38, weapons!$A$1:$A$47, 0), MATCH(char1WeaponName, weapons!$A$1:$DB$1, 0)),0)","v":0},{"$f":"IFERROR(INDEX(char1ArtiSetStats, MATCH('Char 1'!$L$14, artisDB!$A$1:$A$59, 0), MATCH(Calcs!C38, artisDB!$A$1:$AP$1, 0))+INDEX(char1ArtiSetStats, MATCH('Char 1'!$L$15, artisDB!$A$1:$A$59, 0), MATCH(Calcs!C38, artisDB!$A$1:$AP$1, 0)),0)","v":0},{"$f":"IFERROR(INDEX('Char 1'!$X$27:$Z$36, MATCH(Calcs!C38, 'Char 1'!$X$27:$X$36, 0), 3)*HLOOKUP('Char 1'!$Z$7, artifactSubstatValues, MATCH(Calcs!C38, 'Artifact Database'!$A$1:$A$11, 0)),0)","v":0},{"$f":"VLOOKUP(C38, 'Char 1'!$R$5:$T$50, 3,0)","v":0},null,0,null,null,null,"Enemy Defense Mult",null,null,null,null,null,null,null,null,null,null,null,null,null,"Shield Strength%",0,0,0,0]
[null,null,"Phys RES%",0,0,{"$f":"IFERROR(INDEX(char1Weapons, MATCH(C39, weapons!$A$1:$A$47, 0), MATCH(char1WeaponName, weapons!$A$1:$DB$1, 0)),0)","v":0},{"$f":"IFERROR(INDEX(char1ArtiSetStats, MATCH('Char 1'!$L$14, artisDB!$A$1:$A$59, 0), MATCH(Calcs!C39, artisDB!$A$1:$AP$1, 0))+INDEX(char1ArtiSetStats, MATCH('Char 1'!$L$15, artisDB!$A$1:$A$59, 0), MATCH(Calcs!C39, artisDB!$A$1:$AP$1, 0)),0)","v":0},{"$f":"IFERROR(INDEX('Char 1'!$X$27:$Z$36, MATCH(Calcs!C39, 'Char 1'!$X$27:$X$36, 0), 3)*HLOOKUP('Char 1'!$Z$7, artifactSubstatValues, MATCH(Calcs!C39, 'Artifact Database'!$A$1:$A$11, 0)),0)","v":0},{"$f":"VLOOKUP(C39, 'Char 1'!$R$5:$T$50, 3,0)","v":0},null,0,null,null,null,null,null,null,null,null,null,null,null,null,null,null,null,null,null,"Phys RES%",0,0,0,0]
[null,null,"Healing Bonus%",0,0,{"$f":"IFERROR(INDEX(char1Weapons, MATCH(C40, weapons!$A$1:$A$47, 0), MATCH(char1WeaponName, weapons!$A$1:$DB$1, 0)),0)","v":0},{"$f":"IFERROR(INDEX(char1ArtiSetStats, MATCH('Char 1'!$L$14, artisDB!$A$1:$A$59, 0), MATCH(Calcs!C40, artisDB!$A$1:$AP$1, 0))+INDEX(char1ArtiSetStats, MATCH('Char 1'!$L$15, artisDB!$A$1:$A$59, 0), MATCH(Calcs!C40, artisDB!$A$1:$AP$1, 0)),0)","v":0},{"$f":"IFERROR(INDEX('Char 1'!$X$27:$Z$36, MATCH(Calcs!C40, 'Char 1'!$X$27:$X$36, 0), 3)*HLOOKUP('Char 1'!$Z$7, artifactSubstatValues, MATCH(Calcs!C40, 'Artifact Database'!$A$1:$A$11, 0)),0)","v":0},{"$f":"VLOOKUP(C40, 'Char 1'!$R$5:$T$50, 3,0)","v":0},{"$f":"IF(char1Name = \"Kokomi\", 25%, 0%)","v":0},0,null,null,null,"Multiplier",null,{"$f":"(char1LevelNum+100)/((char1LevelNum+100)+(enemyLevel+100)*(1-char1FinalDEFShred))","v":0.48717948717948717},null,null,null,null,null,null,null,null,null,null,null,"Healing Bonus%",0,0,0,0]
[null,null,"Healing Received%",0,0,{"$f":"IFERROR(INDEX(char1Weapons, MATCH(C41, weapons!$A$1:$A$47, 0), MATCH(char1WeaponName, weapons!$A$1:$DB$1, 0)),0)","v":0},{"$f":"IFERROR(INDEX(char1ArtiSetStats, MATCH('Char 1'!$L$14, artisDB!$A$1:$A$59, 0), MATCH(Calcs!C41, artisDB!$A$1:$AP$1, 0))+INDEX(char1ArtiSetStats, MATCH('Char 1'!$L$15, artisDB!$A$1:$A$59, 0), MATCH(Calcs!C41, artisDB!$A$1:$AP$1, 0)),0)","v":0},{"$f":"IFERROR(INDEX('Char 1'!$X$27:$Z$36, MATCH(Calcs!C41, 'Char 1'!$X$27:$X$36, 0), 3)*HLOOKUP('Char 1'!$Z$7, artifactSubstatValues, MATCH(Calcs!C41, 'Artifact Database'!$A$1:$A$11, 0)),0)","v":0},{"$f":"VLOOKUP(C41, 'Char 1'!$R$5:$T$50, 3,0)","v":0},null,0,null,null,null,null,null,null,null,null,null,null,null,null,null,null,null,null,null,"Healing Received%",0,0,0,0]
[null,null,"Anemo RES%",0,0,{"$f":"IFERROR(INDEX(char1Weapons, MATCH(C42, weapons!$A$1:$A$47, 0), MATCH(char1WeaponName, weapons!$A$1:$DB$1, 0)),0)","v":0},{"$f":"IFERROR(INDEX(char1ArtiSetStats, MATCH('Char 1'!$L$14, artisDB!$A$1:$A$59, 0), MATCH(Calcs!C42, artisDB!$A$1:$AP$1, 0))+INDEX(char1ArtiSetStats, MATCH('Char 1'!$L$15, artisDB!$A$1:$A$59, 0), MATCH(Calcs!C42, artisDB!$A$1:$AP$1, 0)),0)","v":0},{"$f":"IFERROR(INDEX('Char 1'!$X$27:$Z$36, MATCH(Calcs!C42, 'Char 1'!$X$27:$X$36, 0), 3)*HLOOKUP('Char 1'!$Z$7, artifactSubstatValues, MATCH(Calcs!C42, 'Artifact Database'!$A$1:$A$11, 0)),0)","v":0},{"$f":"VLOOKUP(C42, 'Char 1'!$R$5:$T$50, 3,0)","v":0},null,0,null,null,null,null,null,null,null,null,null,null,null,null,null,null,null,null,null,"Anemo RES%",0,0,0,0]
[null,null,"Geo RES%",0,0,{"$f":"IFERROR(INDEX(char1Weapons, MATCH(C43, weapons!$A$1:$A$47, 0), MATCH(char1WeaponName, weapons!$A$1:$DB$1, 0)),0)","v":0},{"$f":"IFERROR(INDEX(char1ArtiSetStats, MATCH('Char 1'!$L$14, artisDB!$A$1:$A$59, 0), MATCH(Calcs!C43, artisDB!$A$1:$AP$1, 0))+INDEX(char1ArtiSetStats, MATCH('Char 1'!$L$15, artisDB!$A$1:$A$59, 0), MATCH(Calcs!C43, artisDB!$A$1:$AP$1, 0)),0)","v":0},{"$f":"IFERROR(INDEX('Char 1'!$X$27:$Z$36, MATCH(Calcs!C43, 'Char 1'!$X$27:$X$36, 0), 3)*HLOOKUP('Char 1'!$Z$7, artifactSubstatValues, MATCH(Calcs!C43, 'Artifact Database'!$A$1:$A$11, 0)),0)","v":0},{"$f":"VLOOKUP(C43, 'Char 1'!$R$5:$T$50, 3,0)","v":0},null,0,null,null,null,null,null,null,null,null,null,null,null,null,null,null,null,null,null,"Geo RES%",0,0,0,0]
[null,null,"Pyro RES%",0,0,{"$f":"IFERROR(INDEX(char1Weapons, MATCH(C44, weapons!$A$1:$A$47, 0), MATCH(char1WeaponName, weapons!$A$1:$DB$1, 0)),0)","v":0},{"$f":"IFERROR(INDEX(char1ArtiSetStats, MATCH('Char 1'!$L$14, artisDB!$A$1:$A$59, 0), MATCH(Calcs!C44, artisDB!$A$1:$AP$1, 0))+INDEX(char1ArtiSetStats, MATCH('Char 1'!$L$15, artisDB!$A$1:$A$59, 0), MATCH(Calcs!C44, artisDB!$A$1:$AP$1, 0)),0)","v":0},{"$f":"IFERROR(INDEX('Char 1'!$X$27:$Z$36, MATCH(Calcs!C44, 'Char 1'!$X$27:$X$36, 0), 3)*HLOOKUP('Char 1'!$Z$7, artifactSubstatValues, MATCH(Calcs!C44, 'Artifact Database'!$A$1:$A$11, 0)),0)","v":0},{"$f":"VLOOKUP(C44, 'Char 1'!$R$5:$T$50, 3,0)","v":0},null,0,null,null,null,"Final Info",null,null,null,null,null,null,null,null,null,null,null,null,null,"Pyro RES%",0,0,0,0]
[null,null,"Cryo RES%",0,0,{"$f":"IFERROR(INDEX(char1Weapons, MATCH(C45, weapons!$A$1:$A$47, 0), MATCH(char1WeaponName, weapons!$A$1:$DB$1, 0)),0)","v":0},{"$f":"IFERROR(INDEX(char1ArtiSetStats, MATCH('Char 1'!$L$14, artisDB!$A$1:$A$59, 0), MATCH(Calcs!C45, artisDB!$A$1:$AP$1, 0))+INDEX(char1ArtiSetStats, MATCH('Char 1'!$L$15, artisDB!$A$1:$A$59, 0), MATCH(Calcs!C45, artisDB!$A$1:$AP$1, 0)),0)","v":0},{"$f":"IFERROR(INDEX('Char 1'!$X$27:$Z$36, MATCH(Calcs!C45, 'Char 1'!$X$27:$X$36, 0), 3)*HLOOKUP('Char 1'!$Z$7, artifactSubstatValues, MATCH(Calcs!C45, 'Artifact Database'!$A$1:$A$11, 0)),0)","v":0},{"$f":"VLOOKUP(C45, 'Char 1'!$R$5:$T$50, 3,0)","v":0},null,0,null,null,null,null,null,null,null,null,null,null,null,null,null,null,null,null,null,"Cryo RES%",0,0,0,0]
[null,null,"Hydro RES%",0,0,{"$f":"IFERROR(INDEX(char1Weapons, MATCH(C46, weapons!$A$1:$A$47, 0), MATCH(char1WeaponName, weapons!$A$1:$DB$1, 0)),0)","v":0},{"$f":"IFERROR(INDEX(char1ArtiSetStats, MATCH('Char 1'!$L$14, artisDB!$A$1:$A$59, 0), MATCH(Calcs!C46, artisDB!$A$1:$AP$1, 0))+INDEX(char1ArtiSetStats, MATCH('Char 1'!$L$15, artisDB!$A$1:$A$59, 0), MATCH(Calcs!C46, artisDB!$A$1:$AP$1, 0)),0)","v":0},{"$f":"IFERROR(INDEX('Char 1'!$X$27:$Z$36, MATCH(Calcs!C46, 'Char 1'!$X$27:$X$36, 0), 3)*HLOOKUP('Char 1'!$Z$7, artifactSubstatValues, MATCH(Calcs!C46, 'Artifact Database'!$A$1:$A$11, 0)),0)","v":0},{"$f":"VLOOKUP(C46, 'Char 1'!$R$5:$T$50, 3,0)","v":0},null,0,null,null,null,"Final HP",null,{"$f":"char1BaseHP*(1+char1FinalHPPercent)+char1FinalFlatHP","v":19556.5952},null,null,null,null,null,null,null,null,null,null,null,"Hydro RES%",0,0,0,0]
[null,null,"Electro RES%",0,0,{"$f":"IFERROR(INDEX(char1Weapons, MATCH(C47, weapons!$A$1:$A$47, 0), MATCH(char1WeaponName, weapons!$A$1:$DB$1, 0)),0)","v":0},{"$f":"IFERROR(INDEX(char1ArtiSetStats, MATCH('Char 1'!$L$14, artisDB!$A$1:$A$59, 0), MATCH(Calcs!C47, artisDB!$A$1:$AP$1, 0))+INDEX(char1ArtiSetStats, MATCH('Char 1'!$L$15, artisDB!$A$1:$A$59, 0), MATCH(Calcs!C47, artisDB!$A$1:$AP$1, 0)),0)","v":0},{"$f":"IFERROR(INDEX('Char 1'!$X$27:$Z$36, MATCH(Calcs!C47, 'Char 1'!$X$27:$X$36, 0), 3)*HLOOKUP('Char 1'!$Z$7, artifactSubstatValues, MATCH(Calcs!C47, 'Artifact Database'!$A$1:$A$11, 0)),0)","v":0},{"$f":"VLOOKUP(C47, 'Char 1'!$R$5:$T$50, 3,0)","v":0},null,0,null,null,null,"Final DEF",null,{"$f":"char1BaseDEF*(1+char1FinalDEFPercent)+char1FinalFlatDEF","v":920.57600000000014},null,null,null,null,null,null,null,null,null,null,null,"Electro RES%",0,0,0,0]
[null,null,"Burst CR%",0,0,{"$f":"IFERROR(INDEX(char1Weapons, MATCH(C48, weapons!$A$1:$A$47, 0), MATCH(char1WeaponName, weapons!$A$1:$DB$1, 0)),0)","v":0},{"$f":"IFERROR(INDEX(char1ArtiSetStats, MATCH('Char 1'!$L$14, artisDB!$A$1:$A$59, 0), MATCH(Calcs!C48, artisDB!$A$1:$AP$1, 0))+INDEX(char1ArtiSetStats, MATCH('Char 1'!$L$15, artisDB!$A$1:$A$59, 0), MATCH(Calcs!C48, artisDB!$A$1:$AP$1, 0)),0)","v":0},{"$f":"IFERROR(INDEX('Char 1'!$X$27:$Z$36, MATCH(Calcs!C48, 'Char 1'!$X$27:$X$36, 0), 3)*HLOOKUP('Char 1'!$Z$7, artifactSubstatValues, MATCH(Calcs!C48, 'Artifact Database'!$A$1:$A$11, 0)),0)","v":0},{"$f":"VLOOKUP(C48, 'Char 1'!$R$5:$T$50, 3,0)","v":0},null,0,null,null,null,"Final ATK",null,{"$f":"(char1WeaponBaseATK+char1BaseATK)*(1+char1FinalATKPercent)+char1FinalFlatATK","v":1272.904},null,null,null,null,null,null,null,null,null,null,null,"Burst CR%",0,0,0,0]
[null,null,"Skill CR%",0,0,{"$f":"IFERROR(INDEX(char1Weapons, MATCH(C49, weapons!$A$1:$A$47, 0), MATCH(char1WeaponName, weapons!$A$1:$DB$1, 0)),0)","v":0},{"$f":"IFERROR(INDEX(char1ArtiSetStats, MATCH('Char 1'!$L$14, artisDB!$A$1:$A$59, 0), MATCH(Calcs!C49, artisDB!$A$1:$AP$1, 0))+INDEX(char1ArtiSetStats, MATCH('Char 1'!$L$15, artisDB!$A$1:$A$59, 0), MATCH(Calcs!C49, artisDB!$A$1:$AP$1, 0)),0)","v":0},{"$f":"IFERROR(INDEX('Char 1'!$X$27:$Z$36, MATCH(Calcs!C49, 'Char 1'!$X$27:$X$36, 0), 3)*HLOOKUP('Char 1'!$Z$7, artifactSubstatValues, MATCH(Calcs!C49, 'Artifact Database'!$A$1:$A$11, 0)),0)","v":0},{"$f":"VLOOKUP(C49, 'Char 1'!$R$5:$T$50, 3,0)","v":0},null,0,null,null,null,null,null,null,null,null,null,null,null,null,null,null,null,null,null,"Skill CR%",0,0,0,0]
[null,null,"Burst CDMG%",0,0,{"$f":"IFERROR(INDEX(char1Weapons, MATCH(C50, weapons!$A$1:$A$47, 0), MATCH(char1WeaponName, weapons!$A$1:$DB$1, 0)),0)","v":0},{"$f":"IFERROR(INDEX(char1ArtiSetStats, MATCH('Char 1'!$L$14, artisDB!$A$1:$A$59, 0), MATCH(Calcs!C50, artisDB!$A$1:$AP$1, 0))+INDEX(char1ArtiSetStats, MATCH('Char 1'!$L$15, artisDB!$A$1:$A$59, 0), MATCH(Calcs!C50, artisDB!$A$1:$AP$1, 0)),0)","v":0},{"$f":"IFERROR(INDEX('Char 1'!$X$27:$Z$36, MATCH(Calcs!C50, 'Char 1'!$X$27:$X$36, 0), 3)*HLOOKUP('Char 1'!$Z$7, artifactSubstatValues, MATCH(Calcs!C50, 'Artifact Database'!$A$1:$A$11, 0)),0)","v":0},{"$f":"VLOOKUP(C50, 'Char 1'!$R$5:$T$50, 3,0)","v":0},null,0,null,null,null,null,null,null,null,null,null,null,null,null,null,null,null,null,null,"Burst CDMG%",0,0,0,0]
[null,null,"Skill CDMG%",0,0,{"$f":"IFERROR(INDEX(char1Weapons, MATCH(C51, weapons!$A$1:$A$47, 0), MATCH(char1WeaponName, weapons!$A$1:$DB$1, 0)),0)","v":0},{"$f":"IFERROR(INDEX(char1ArtiSetStats, MATCH('Char 1'!$L$14, artisDB!$A$1:$A$59, 0), MATCH(Calcs!C51, artisDB!$A$1:$AP$1, 0))+INDEX(char1ArtiSetStats, MATCH('Char 1'!$L$15, artisDB!$A$1:$A$59, 0), MATCH(Calcs!C51, artisDB!$A$1:$AP$1, 0)),0)","v":0},{"$f":"IFERROR(INDEX('Char 1'!$X$27:$Z$36, MATCH(Calcs!C51, 'Char 1'!$X$27:$X$36, 0), 3)*HLOOKUP('Char 1'!$Z$7, artifactSubstatValues, MATCH(Calcs!C51, 'Artifact Database'!$A$1:$A$11, 0)),0)","v":0},{"$f":"VLOOKUP(C51, 'Char 1'!$R$5:$T$50, 3,0)","v":0},null,0,null,null,null,null,null,null,null,null,null,null,null,null,null,null,null,null,null,"Skill CDMG%",0,0,0,0]
[]
[]
[null,null,null,null,null,null,null,null,null,null,null,null,null,null,null,null,null,null,null,null,"Stat","Level","Start Row","Value"]
[null,null,"Stat Block - Character 2",null,null,null,null,null,null,null,null,null,null,null,"Lookup Stuff",null,null,null,null,"Flower","Flat HP",{"$f":"'Char 2'!$L$23","v":20},{"$f":"MATCH('Char 2'!$L$24, 'Artifact Database'!$F$1:$F$66, 0)+1","v":2},{"$f":"INDEX('Artifact Database'!$F$1:$W$66, Calcs!W55+V55, MATCH(Calcs!U55,'Artifact Database'!$F$1:$W$1, 0))","v":4780}]
[null,null,null,null,null,null,null,null,null,null,null,null,null,null,null,null,null,null,null,"Feather","Flat ATK",{"$f":"'Char 2'!$L$25","v":20},{"$f":"MATCH('Char 2'!$L$26, 'Artifact Database'!$F$1:$F$66, 0)+1","v":2},{"$f":"INDEX('Artifact Database'!$F$1:$W$66, Calcs!W56+V56, MATCH(Calcs!U56,'Artifact Database'!$F$1:$W$1, 0))","v":311}]
[null,null,"Stat","Artifact Mainstats","Character Base","Weapon Bonus","Set Bonus Stats","Artifact Substats","Buffs","Cons/Ascension Bonus (WIP)","Total",null,null,null,"Character Level",null,{"$f":"char2Level","v":90},null,null,"Sands",{"$f":"'Char 2'!L28","v":"ATK%"},{"$f":"'Char 2'!$L$27","v":20},{"$f":"MATCH('Char 2'!$L$29, 'Artifact Database'!$F$1:$F$66, 0)+1","v":2},{"$f":"INDEX('Artifact Database'!$F$1:$W$66, Calcs!W57+V57, MATCH(Calcs!U57,'Artifact Database'!$F$1:$W$1, 0))","v":46.6}]
[null,null,"Flat ATK",{"$f":"X56","v":311},0,{"$f":"IFERROR(INDEX(char2Weapons, MATCH(C58, weapons!$A$67:$A$131, 0), MATCH(char2WeaponName,weapons!$A$67:$DB$67, 0)),0)","v":0},{"$f":"IFERROR(INDEX(char2ArtiSetStats, MATCH('Char 2'!$L$14,artisDB!$A$59:$A$115, 0), MATCH(C58, artisDB!$A$59:$AP$59, 0))+INDEX(char2ArtiSetStats, MATCH('Char 2'!$L$15,artisDB!$A$59:$A$115, 0), MATCH(C58, artisDB!$A$59:$AP$59, 0)),0)","v":0},{"$f":"IF($Q$61 = TRUE, SUM('Char 2'!$AL14:$AP14), IFERROR(INDEX('Char 2'!$X$27:$Z$36, MATCH(C58, 'Char 2'!$X$27:$X$36, 0), 3)*HLOOKUP('Char 2'!$Z$7, artifactSubstatValues, MATCH(C58, 'Artifact Database'!$A$1:$A$11, 0)),0))","v":33.08},{"$f":"VLOOKUP(C58, 'Char 2'!$R$5:$T$50, 3,0)","v":0},null,{"$f":"SUM(D58:J58)","v":344.08},null,null,null,null,null,null,null,null,"Goblet",{"$f":"'Char 2'!L31","v":"Hydro DMG%"},{"$f":"'Char 2'!$L$30","v":20},{"$f":"MATCH('Char 2'!$L$32, 'Artifact Database'!$F$1:$F$66, 0)+1","v":2},{"$f":"INDEX('Artifact Database'!$F$1:$W$66, Calcs!W58+V58, MATCH(Calcs!U58,'Artifact Database'!$F$1:$W$1, 0))","v":46.6}]
[null,null,"Flat DEF",0,0,{"$f":"IFERROR(INDEX(char2Weapons, MATCH(C59, weapons!$A$67:$A$131, 0), MATCH(char2WeaponName,weapons!$A$67:$DB$67, 0)),0)","v":0},{"$f":"IFERROR(INDEX(char2ArtiSetStats, MATCH('Char 2'!$L$14,artisDB!$A$59:$A$115, 0), MATCH(C59, artisDB!$A$59:$AP$59, 0))+INDEX(char2ArtiSetStats, MATCH('Char 2'!$L$15,artisDB!$A$59:$A$115, 0), MATCH(C59, artisDB!$A$59:$AP$59, 0)),0)","v":0},{"$f":"IF($Q$61 = TRUE, SUM('Char 2'!$AL15:$AP15), IFERROR(INDEX('Char 2'!$X$27:$Z$36, MATCH(C59, 'Char 2'!$X$27:$X$36, 0), 3)*HLOOKUP('Char 2'!$Z$7, artifactSubstatValues, MATCH(C59, 'Artifact Database'!$A$1:$A$11, 0)),0))","v":39.36},{"$f":"VLOOKUP(C59, 'Char 2'!$R$5:$T$50, 3,0)","v":0},null,{"$f":"SUM(D59:J59)","v":39.36},null,null,null,null,null,null,null,null,"Circlet",{"$f":"'Char 2'!L34","v":"CR%"},{"$f":"'Char 2'!$L$33","v":20},{"$f":"MATCH('Char 2'!$L$35, 'Artifact Database'!$F$1:$F$66, 0)+1","v":2},{"$f":"INDEX('Artifact Database'!$F$1:$W$66, Calcs!W59+V59, MATCH(Calcs!U59,'Artifact Database'!$F$1:$W$1, 0))","v":31.1}]
[null,null,"Flat HP",{"$f":"X55","v":4780},0,{"$f":"IFERROR(INDEX(char2Weapons, MATCH(C60, weapons!$A$67:$A$131, 0), MATCH(char2WeaponName,weapons!$A$67:$DB$67, 0)),0)","v":0},{"$f":"IFERROR(INDEX(char2ArtiSetStats, MATCH('Char 2'!$L$14,artisDB!$A$59:$A$115, 0), MATCH(C60, artisDB!$A$59:$AP$59, 0))+INDEX(char2ArtiSetStats, MATCH('Char 2'!$L$15,artisDB!$A$59:$A$115, 0), MATCH(C60, artisDB!$A$59:$AP$59, 0)),0)","v":0},{"$f":"IF($Q$61 = TRUE, SUM('Char 2'!$AL16:$AP16), IFERROR(INDEX('Char 2'!$X$27:$Z$36, MATCH(C60, 'Char 2'!$X$27:$X$36, 0), 3)*HLOOKUP('Char 2'!$Z$7, artifactSubstatValues, MATCH(C60, 'Artifact Database'!$A$1:$A$11, 0)),0))","v":507.88},{"$f":"VLOOKUP(C60, 'Char 2'!$R$5:$T$50, 3,0)","v":0},null,5287.88]
[null,null,"EM",{"$f":"IF(C61=$U$57, $X$57, 0)+IF(C61=$U$58, $X$58, 0)+IF(C61 = $U$59, $X$59, 0)","v":0},{"$f":"IFERROR(VLOOKUP(C61,$T$62:$U$67, 2, 0), 0)","v":0},{"$f":"IFERROR(INDEX(char2Weapons, MATCH(C61, weapons!$A$67:$A$131, 0), MATCH(char2WeaponName,weapons!$A$67:$DB$67, 0)),0)","v":0},{"$f":"IFERROR(INDEX(char2ArtiSetStats, MATCH('Char 2'!$L$14,artisDB!$A$59:$A$115, 0), MATCH(C61, artisDB!$A$59:$AP$59, 0))+INDEX(char2ArtiSetStats, MATCH('Char 2'!$L$15,artisDB!$A$59:$A$115, 0), MATCH(C61, artisDB!$A$59:$AP$59, 0)),0)","v":0},{"$f":"IF($Q$61 = TRUE, SUM('Char 2'!$AL17:$AP17), IFERROR(INDEX('Char 2'!$X$27:$Z$36, MATCH(C61, 'Char 2'!$X$27:$X$36, 0), 3)*HLOOKUP('Char 2'!$Z$7, artifactSubstatValues, MATCH(C61, 'Artifact Database'!$A$1:$A$11, 0)),0))","v":39.64},{"$f":"VLOOKUP(C61, 'Char 2'!$R$5:$T$50, 3,0)","v":0},null,39.64,null,null,null,"Personal Subs?",null,false,null,null,"Start Row",{"$f":"MATCH(char2Name, 'Char Stats'!$A$1:$A$795, 0)","v":526}]
[null,null,"ATK%",{"$f":"(IF(C62=$U$57, $X$57, 0)+IF(C62=$U$58, $X$58, 0)+IF(C62 = $U$59, $X$59, 0))/100","v":0.46600000000000003},{"$f":"IFERROR(VLOOKUP(C62,$T$62:$U$67, 2, 0), 0)","v":0.24},{"$f":"IFERROR(INDEX(char2Weapons, MATCH(C62, weapons!$A$67:$A$131, 0), MATCH(char2WeaponName,weapons!$A$67:$DB$67, 0)),0)","v":0},{"$f":"IFERROR(INDEX(char2ArtiSetStats, MATCH('Char 2'!$L$14,artisDB!$A$59:$A$115, 0), MATCH(C62, artisDB!$A$59:$AP$59, 0))+INDEX(char2ArtiSetStats, MATCH('Char 2'!$L$15,artisDB!$A$59:$A$115, 0), MATCH(C62, artisDB!$A$59:$AP$59, 0)),0)","v":0},{"$f":"IF($Q$61 = TRUE, SUM('Char 2'!$AL18:$AP18), IFERROR(INDEX('Char 2'!$X$27:$Z$36, MATCH(C62, 'Char 2'!$X$27:$X$36, 0), 3)*HLOOKUP('Char 2'!$Z$7, artifactSubstatValues, MATCH(C62, 'Artifact Database'!$A$1:$A$11, 0)),0))","v":0.14879999999999999},{"$f":"VLOOKUP(C62, 'Char 2'!$R$5:$T$50, 3,0)","v":0},null,0.8548,null,null,null,null,null,null,null,null,"Base HP",{"$f":"INDEX('Char Stats'!$A$1:$G$795, MATCH(Calcs!$Q$57, 'Char Stats'!$A$1:$A$15, 0)+$U$61-1, MATCH(Calcs!T62, 'Char Stats'!$A$1:$G$1, 0))","v":10222}]
[null,null,"DEF%",0,0,{"$f":"IFERROR(INDEX(char2Weapons, MATCH(C63, weapons!$A$67:$A$131, 0), MATCH(char2WeaponName,weapons!$A$67:$DB$67, 0)),0)","v":0},{"$f":"IFERROR(INDEX(char2ArtiSetStats, MATCH('Char 2'!$L$14,artisDB!$A$59:$A$115, 0), MATCH(C63, artisDB!$A$59:$AP$59, 0))+INDEX(char2ArtiSetStats, MATCH('Char 2'!$L$15,artisDB!$A$59:$A$115, 0), MATCH(C63, artisDB!$A$59:$AP$59, 0)),0)","v":0},{"$f":"IF($Q$61 = TRUE, SUM('Char 2'!$AL19:$AP19), IFERROR(INDEX('Char 2'!$X$27:$Z$36, MATCH(C63, 'Char 2'!$X$27:$X$36, 0), 3)*HLOOKUP('Char 2'!$Z$7, artifactSubstatValues, MATCH(C63, 'Artifact Database'!$A$1:$A$11, 0)),0))","v":0.124},{"$f":"VLOOKUP(C63, 'Char 2'!$R$5:$T$50, 3,0)","v":0},null,0.124,null,null,null,null,null,null,null,null,"Base ATK",{"$f":"INDEX('Char Stats'!$A$1:$G$795, MATCH(Calcs!$Q$57, 'Char Stats'!$A$1:$A$15, 0)+$U$61-1, MATCH(Calcs!T63, 'Char Stats'!$A$1:$G$1, 0))","v":202}]
[null,null,"HP%",0,0,{"$f":"IFERROR(INDEX(char2Weapons, MATCH(C64, weapons!$A$67:$A$131, 0), MATCH(char2WeaponName,weapons!$A$67:$DB$67, 0)),0)","v":0},{"$f":"IFERROR(INDEX(char2ArtiSetStats, MATCH('Char 2'!$L$14,artisDB!$A$59:$A$115, 0), MATCH(C64, artisDB!$A$59:$AP$59, 0))+INDEX(char2ArtiSetStats, MATCH('Char 2'!$L$15,artisDB!$A$59:$A$115, 0), MATCH(C64, artisDB!$A$59:$AP$59, 0)),0)","v":0},{"$f":"IF($Q$61 = TRUE, SUM('Char 2'!$AL20:$AP20), IFERROR(INDEX('Char 2'!$X$27:$Z$36, MATCH(C64, 'Char 2'!$X$27:$X$36, 0), 3)*HLOOKUP('Char 2'!$Z$7, artifactSubstatValues, MATCH(C64, 'Artifact Database'!$A$1:$A$11, 0)),0))","v":9.9199999999999997E-2},{"$f":"VLOOKUP(C64, 'Char 2'!$R$5:$T$50, 3,0)","v":0},null,9.9199999999999997E-2,null,null,null,null,null,null,null,null,"Base DEF",{"$f":"INDEX('Char Stats'!$A$1:$G$795, MATCH(Calcs!$Q$57, 'Char Stats'!$A$1:$A$15, 0)+$U$61-1, MATCH(Calcs!T64, 'Char Stats'!$A$1:$G$1, 0))","v":758}]
[null,null,"CR%",0.311,0.05,{"$f":"IFERROR(INDEX(char2Weapons, MATCH(C65, weapons!$A$67:$A$131, 0), MATCH(char2WeaponName,weapons!$A$67:$DB$67, 0)),0)","v":0},{"$f":"IFERROR(INDEX(char2ArtiSetStats, MATCH('Char 2'!$L$14,artisDB!$A$59:$A$115, 0), MATCH(C65, artisDB!$A$59:$AP$59, 0))+INDEX(char2ArtiSetStats, MATCH('Char 2'!$L$15,artisDB!$A$59:$A$115, 0), MATCH(C65, artisDB!$A$59:$AP$59, 0)),0)","v":0},{"$f":"IF($Q$61 = TRUE, SUM('Char 2'!$AL21:$AP21), IFERROR(INDEX('Char 2'!$X$27:$Z$36, MATCH(C65, 'Char 2'!$X$27:$X$36, 0), 3)*HLOOKUP('Char 2'!$Z$7, artifactSubstatValues, MATCH(C65, 'Artifact Database'!$A$1:$A$11, 0)),0))","v":0.26479999999999998},{"$f":"VLOOKUP(C65, 'Char 2'!$R$5:$T$50, 3,0)","v":0},null,{"$f":"IF(SUM(D65:J65)>100%, 100%, IF(SUM(D65:J65)<0%, 0%, SUM(D65:J65)))","v":0.62579999999999991},null,null,null,null,null,null,null,null,{"$f":"INDEX('Char Stats'!$A$1:$G$795, $U$61, 5)","v":"ATK%"},{"$f":"INDEX(INDIRECT(char2Name&\"BaseStats\"), MATCH(char2Level,  INDEX(INDIRECT(char2Name&\"BaseStats\"), 0, 1), 0), MATCH(T65, INDEX(INDIRECT(char2Name&\"BaseStats\"), 1, 0), 0))*IF(NOT(T65=\"EM\"), 0.01, 1)","v":0.24}]
[null,null,"CDMG%",0,0.5,{"$f":"IFERROR(INDEX(char2Weapons, MATCH(C66, weapons!$A$67:$A$131, 0), MATCH(char2WeaponName,weapons!$A$67:$DB$67, 0)),0)","v":0},{"$f":"IFERROR(INDEX(char2ArtiSetStats, MATCH('Char 2'!$L$14,artisDB!$A$59:$A$115, 0), MATCH(C66, artisDB!$A$59:$AP$59, 0))+INDEX(char2ArtiSetStats, MATCH('Char 2'!$L$15,artisDB!$A$59:$A$115, 0), MATCH(C66, artisDB!$A$59:$AP$59, 0)),0)","v":0},{"$f":"IF($Q$61 = TRUE, SUM('Char 2'!$AL22:$AP22), IFERROR(INDEX('Char 2'!$X$27:$Z$36, MATCH(C66, 'Char 2'!$X$27:$X$36, 0), 3)*HLOOKUP('Char 2'!$Z$7, artifactSubstatValues, MATCH(C66, 'Artifact Database'!$A$1:$A$11, 0)),0))","v":0.7944},{"$f":"VLOOKUP(C66, 'Char 2'!$R$5:$T$50, 3,0)","v":0},null,1.2944,null,null,null,"Transformative Rxn Mults",null,null,null,null,{"$f":"INDEX('Char Stats'!$A$1:$G$795, $U$61, 6)","v":"CR%"},{"$f":"INDEX(INDIRECT(char2Name&\"BaseStats\"), MATCH(char2Level,  INDEX(INDIRECT(char2Name&\"BaseStats\"), 0, 1), 0), MATCH(T66, INDEX(INDIRECT(char2Name&\"BaseStats\"), 1, 0), 0))*IF(NOT(T66=\"EM\"), 0.01, 1)","v":0.05}]
[null,null,"ER%",0,0,{"$f":"IFERROR(INDEX(char2Weapons, MATCH(C67, weapons!$A$67:$A$131, 0), MATCH(char2WeaponName,weapons!$A$67:$DB$67, 0)),0)","v":0.61299999999999999},{"$f":"IFERROR(INDEX(char2ArtiSetStats, MATCH('Char 2'!$L$14,artisDB!$A$59:$A$115, 0), MATCH(C67, artisDB!$A$59:$AP$59, 0))+INDEX(char2ArtiSetStats, MATCH('Char 2'!$L$15,artisDB!$A$59:$A$115, 0), MATCH(C67, artisDB!$A$59:$AP$59, 0)),0)","v":0.2},{"$f":"IF($Q$61 = TRUE, SUM('Char 2'!$AL23:$AP23), IFERROR(INDEX('Char 2'!$X$27:$Z$36, MATCH(C67, 'Char 2'!$X$27:$X$36, 0), 3)*HLOOKUP('Char 2'!$Z$7, artifactSubstatValues, MATCH(C67, 'Artifact Database'!$A$1:$A$11, 0)),0))","v":0.27550000000000002},{"$f":"VLOOKUP(C67, 'Char 2'!$R$5:$T$50, 3,0)","v":0},null,{"$f":"SUM(D67:J67)+100%","v":2.0884999999999998},null,null,null,null,null,null,null,null,{"$f":"INDEX('Char Stats'!$A$1:$G$795, $U$61, 7)","v":"CDMG%"},{"$f":"INDEX(INDIRECT(char2Name&\"BaseStats\"), MATCH(char2Level, INDEX(INDIRECT(char2Name&\"BaseStats\"), 0, 1), 0), MATCH(T67, INDEX(INDIRECT(char2Name&\"BaseStats\"), 1, 0), 0))*IF(NOT(T67=\"EM\"), 0.01, 1)","v":0.5}]
[null,null,"DMG%",0,0,{"$f":"IFERROR(INDEX(char2Weapons, MATCH(C68, weapons!$A$67:$A$131, 0), MATCH(char2WeaponName,weapons!$A$67:$DB$67, 0)),0)","v":0},{"$f":"IFERROR(INDEX(char2ArtiSetStats, MATCH('Char 2'!$L$14,artisDB!$A$59:$A$115, 0), MATCH(C68, artisDB!$A$59:$AP$59, 0))+INDEX(char2ArtiSetStats, MATCH('Char 2'!$L$15,artisDB!$A$59:$A$115, 0), MATCH(C68, artisDB!$A$59:$AP$59, 0)),0)","v":0},{"$f":"IFERROR(INDEX('Char 2'!$X$27:$Z$36, MATCH(C68, 'Char 2'!$X$27:$X$36, 0), 3)*HLOOKUP('Char 2'!$Z$7, artifactSubstatValues, MATCH(C68, 'Artifact Database'!$A$1:$A$11, 0)),0)","v":0},{"$f":"VLOOKUP(C68, 'Char 2'!$R$5:$T$50, 3,0)","v":0},null,0,null,null,null,"Character Level",null,{"$f":"VALUE(LEFT(Q57, 2))","v":90}]
[null,null,"Phys DMG%",0,0,{"$f":"IFERROR(INDEX(char2Weapons, MATCH(C69, weapons!$A$67:$A$131, 0), MATCH(char2WeaponName,weapons!$A$67:$DB$67, 0)),0)","v":0},{"$f":"IFERROR(INDEX(char2ArtiSetStats, MATCH('Char 2'!$L$14,artisDB!$A$59:$A$115, 0), MATCH(C69, artisDB!$A$59:$AP$59, 0))+INDEX(char2ArtiSetStats, MATCH('Char 2'!$L$15,artisDB!$A$59:$A$115, 0), MATCH(C69, artisDB!$A$59:$AP$59, 0)),0)","v":0},{"$f":"IFERROR(INDEX('Char 2'!$X$27:$Z$36, MATCH(C69, 'Char 2'!$X$27:$X$36, 0), 3)*HLOOKUP('Char 2'!$Z$7, artifactSubstatValues, MATCH(C69, 'Artifact Database'!$A$1:$A$11, 0)),0)","v":0},{"$f":"VLOOKUP(C69, 'Char 2'!$R$5:$T$50, 3,0)","v":0},null,{"$f":"SUM(D69:J69)","v":0},null,null,null,"Enemy Level",null,{"$f":"'Char 1'!$E$29","v":100}]
[null,null,"Anemo DMG%",0,0,{"$f":"IFERROR(INDEX(char2Weapons, MATCH(C70, weapons!$A$67:$A$131, 0), MATCH(char2WeaponName,weapons!$A$67:$DB$67, 0)),0)","v":0},{"$f":"IFERROR(INDEX(char2ArtiSetStats, MATCH('Char 2'!$L$14,artisDB!$A$59:$A$115, 0), MATCH(C70, artisDB!$A$59:$AP$59, 0))+INDEX(char2ArtiSetStats, MATCH('Char 2'!$L$15,artisDB!$A$59:$A$115, 0), MATCH(C70, artisDB!$A$59:$AP$59, 0)),0)","v":0},{"$f":"IFERROR(INDEX('Char 2'!$X$27:$Z$36, MATCH(C70, 'Char 2'!$X$27:$X$36, 0), 3)*HLOOKUP('Char 2'!$Z$7, artifactSubstatValues, MATCH(C70, 'Artifact Database'!$A$1:$A$11, 0)),0)","v":0},{"$f":"VLOOKUP(C70, 'Char 2'!$R$5:$T$50, 3,0)","v":0},null,0,null,null,null,"Reaction Multiplier",null,{"$f":"IF(Q68<60, 0.0002325*Q68^3+0.05547*Q68^2-0.2523*Q68+14.47, 0.00194*Q68^3-0.319*Q68^2+30.7*Q68-868)","v":725.3599999999999}]
[null,null,"Geo DMG%",0,0,{"$f":"IFERROR(INDEX(char2Weapons, MATCH(C71, weapons!$A$67:$A$131, 0), MATCH(char2WeaponName,weapons!$A$67:$DB$67, 0)),0)","v":0},{"$f":"IFERROR(INDEX(char2ArtiSetStats, MATCH('Char 2'!$L$14,artisDB!$A$59:$A$115, 0), MATCH(C71, artisDB!$A$59:$AP$59, 0))+INDEX(char2ArtiSetStats, MATCH('Char 2'!$L$15,artisDB!$A$59:$A$115, 0), MATCH(C71, artisDB!$A$59:$AP$59, 0)),0)","v":0},{"$f":"IFERROR(INDEX('Char 2'!$X$27:$Z$36, MATCH(C71, 'Char 2'!$X$27:$X$36, 0), 3)*HLOOKUP('Char 2'!$Z$7, artifactSubstatValues, MATCH(C71, 'Artifact Database'!$A$1:$A$11, 0)),0)","v":0},{"$f":"VLOOKUP(C71, 'Char 2'!$R$5:$T$50, 3,0)","v":0},null,0]
[null,null,"Pyro DMG%",0,0,{"$f":"IFERROR(INDEX(char2Weapons, MATCH(C72, weapons!$A$67:$A$131, 0), MATCH(char2WeaponName,weapons!$A$67:$DB$67, 0)),0)","v":0},{"$f":"IFERROR(INDEX(char2ArtiSetStats, MATCH('Char 2'!$L$14,artisDB!$A$59:$A$115, 0), MATCH(C72, artisDB!$A$59:$AP$59, 0))+INDEX(char2ArtiSetStats, MATCH('Char 2'!$L$15,artisDB!$A$59:$A$115, 0), MATCH(C72, artisDB!$A$59:$AP$59, 0)),0)","v":0},{"$f":"IFERROR(INDEX('Char 2'!$X$27:$Z$36, MATCH(C72, 'Char 2'!$X$27:$X$36, 0), 3)*HLOOKUP('Char 2'!$Z$7, artifactSubstatValues, MATCH(C72, 'Artifact Database'!$A$1:$A$11, 0)),0)","v":0},{"$f":"VLOOKUP(C72, 'Char 2'!$R$5:$T$50, 3,0)","v":0},null,0]
[null,null,"Cryo DMG%",0,0,{"$f":"IFERROR(INDEX(char2Weapons, MATCH(C73, weapons!$A$67:$A$131, 0), MATCH(char2WeaponName,weapons!$A$67:$DB$67, 0)),0)","v":0},{"$f":"IFERROR(INDEX(char2ArtiSetStats, MATCH('Char 2'!$L$14,artisDB!$A$59:$A$115, 0), MATCH(C73, artisDB!$A$59:$AP$59, 0))+INDEX(char2ArtiSetStats, MATCH('Char 2'!$L$15,artisDB!$A$59:$A$115, 0), MATCH(C73, artisDB!$A$59:$AP$59, 0)),0)","v":0},{"$f":"IFERROR(INDEX('Char 2'!$X$27:$Z$36, MATCH(C73, 'Char 2'!$X$27:$X$36, 0), 3)*HLOOKUP('Char 2'!$Z$7, artifactSubstatValues, MATCH(C73, 'Artifact Database'!$A$1:$A$11, 0)),0)","v":0},{"$f":"VLOOKUP(C73, 'Char 2'!$R$5:$T$50, 3,0)","v":0},null,0]
[null,null,"Hydro DMG%",0.46600000000000003,0,{"$f":"IFERROR(INDEX(char2Weapons, MATCH(C74, weapons!$A$67:$A$131, 0), MATCH(char2WeaponName,weapons!$A$67:$DB$67, 0)),0)","v":0},{"$f":"IFERROR(INDEX(char2ArtiSetStats, MATCH('Char 2'!$L$14,artisDB!$A$59:$A$115, 0), MATCH(C74, artisDB!$A$59:$AP$59, 0))+INDEX(char2ArtiSetStats, MATCH('Char 2'!$L$15,artisDB!$A$59:$A$115, 0), MATCH(C74, artisDB!$A$59:$AP$59, 0)),0)","v":0},{"$f":"IFERROR(INDEX('Char 2'!$X$27:$Z$36, MATCH(C74, 'Char 2'!$X$27:$X$36, 0), 3)*HLOOKUP('Char 2'!$Z$7, artifactSubstatValues, MATCH(C74, 'Artifact Database'!$A$1:$A$11, 0)),0)","v":0},{"$f":"VLOOKUP(C74, 'Char 2'!$R$5:$T$50, 3,0)","v":0},null,0.46600000000000003,null,null,null,"Calc Information"]
[null,null,"Electro DMG%",0,0,{"$f":"IFERROR(INDEX(char2Weapons, MATCH(C75, weapons!$A$67:$A$131, 0), MATCH(char2WeaponName,weapons!$A$67:$DB$67, 0)),0)","v":0},{"$f":"IFERROR(INDEX(char2ArtiSetStats, MATCH('Char 2'!$L$14,artisDB!$A$59:$A$115, 0), MATCH(C75, artisDB!$A$59:$AP$59, 0))+INDEX(char2ArtiSetStats, MATCH('Char 2'!$L$15,artisDB!$A$59:$A$115, 0), MATCH(C75, artisDB!$A$59:$AP$59, 0)),0)","v":0},{"$f":"IFERROR(INDEX('Char 2'!$X$27:$Z$36, MATCH(C75, 'Char 2'!$X$27:$X$36, 0), 3)*HLOOKUP('Char 2'!$Z$7, artifactSubstatValues, MATCH(C75, 'Artifact Database'!$A$1:$A$11, 0)),0)","v":0},{"$f":"VLOOKUP(C75, 'Char 2'!$R$5:$T$50, 3,0)","v":0},null,0]
[null,null,"Normal DMG%",0,0,{"$f":"IFERROR(INDEX(char2Weapons, MATCH(C76, weapons!$A$67:$A$131, 0), MATCH(char2WeaponName,weapons!$A$67:$DB$67, 0)),0)","v":0},{"$f":"IFERROR(INDEX(char2ArtiSetStats, MATCH('Char 2'!$L$14,artisDB!$A$59:$A$115, 0), MATCH(C76, artisDB!$A$59:$AP$59, 0))+INDEX(char2ArtiSetStats, MATCH('Char 2'!$L$15,artisDB!$A$59:$A$115, 0), MATCH(C76, artisDB!$A$59:$AP$59, 0)),0)","v":0},{"$f":"IFERROR(INDEX('Char 2'!$X$27:$Z$36, MATCH(C76, 'Char 2'!$X$27:$X$36, 0), 3)*HLOOKUP('Char 2'!$Z$7, artifactSubstatValues, MATCH(C76, 'Artifact Database'!$A$1:$A$11, 0)),0)","v":0},{"$f":"VLOOKUP(C76, 'Char 2'!$R$5:$T$50, 3,0)","v":0},null,0,null,null,null,"Weapon Base ATK",null,{"$f":"INDEX(char2Weapons, MATCH(\"Base ATK\", weapons!$A$67:$A$131, 0), MATCH(char2WeaponName, weapons!$A$67:$DB$67, 0))","v":454}]
[null,null,"Charged DMG%",0,0,{"$f":"IFERROR(INDEX(char2Weapons, MATCH(C77, weapons!$A$67:$A$131, 0), MATCH(char2WeaponName,weapons!$A$67:$DB$67, 0)),0)","v":0},{"$f":"IFERROR(INDEX(char2ArtiSetStats, MATCH('Char 2'!$L$14,artisDB!$A$59:$A$115, 0), MATCH(C77, artisDB!$A$59:$AP$59, 0))+INDEX(char2ArtiSetStats, MATCH('Char 2'!$L$15,artisDB!$A$59:$A$115, 0), MATCH(C77, artisDB!$A$59:$AP$59, 0)),0)","v":0},{"$f":"IFERROR(INDEX('Char 2'!$X$27:$Z$36, MATCH(C77, 'Char 2'!$X$27:$X$36, 0), 3)*HLOOKUP('Char 2'!$Z$7, artifactSubstatValues, MATCH(C77, 'Artifact Database'!$A$1:$A$11, 0)),0)","v":0},{"$f":"VLOOKUP(C77, 'Char 2'!$R$5:$T$50, 3,0)","v":0},null,0,null,null,null,"Character Base ATK",null,{"$f":"U63","v":202}]
[null,null,"Plunging DMG%",0,0,{"$f":"IFERROR(INDEX(char2Weapons, MATCH(C78, weapons!$A$67:$A$131, 0), MATCH(char2WeaponName,weapons!$A$67:$DB$67, 0)),0)","v":0},{"$f":"IFERROR(INDEX(char2ArtiSetStats, MATCH('Char 2'!$L$14,artisDB!$A$59:$A$115, 0), MATCH(C78, artisDB!$A$59:$AP$59, 0))+INDEX(char2ArtiSetStats, MATCH('Char 2'!$L$15,artisDB!$A$59:$A$115, 0), MATCH(C78, artisDB!$A$59:$AP$59, 0)),0)","v":0},{"$f":"IFERROR(INDEX('Char 2'!$X$27:$Z$36, MATCH(C78, 'Char 2'!$X$27:$X$36, 0), 3)*HLOOKUP('Char 2'!$Z$7, artifactSubstatValues, MATCH(C78, 'Artifact Database'!$A$1:$A$11, 0)),0)","v":0},{"$f":"VLOOKUP(C78, 'Char 2'!$R$5:$T$50, 3,0)","v":0},null,0,null,null,null,"Character Base DEF",null,{"$f":"U64","v":758}]
[null,null,"Skill DMG%",0,0,{"$f":"IFERROR(INDEX(char2Weapons, MATCH(C79, weapons!$A$67:$A$131, 0), MATCH(char2WeaponName,weapons!$A$67:$DB$67, 0)),0)","v":0},{"$f":"IFERROR(INDEX(char2ArtiSetStats, MATCH('Char 2'!$L$14,artisDB!$A$59:$A$115, 0), MATCH(C79, artisDB!$A$59:$AP$59, 0))+INDEX(char2ArtiSetStats, MATCH('Char 2'!$L$15,artisDB!$A$59:$A$115, 0), MATCH(C79, artisDB!$A$59:$AP$59, 0)),0)","v":0},{"$f":"IFERROR(INDEX('Char 2'!$X$27:$Z$36, MATCH(C79, 'Char 2'!$X$27:$X$36, 0), 3)*HLOOKUP('Char 2'!$Z$7, artifactSubstatValues, MATCH(C79, 'Artifact Database'!$A$1:$A$11, 0)),0)","v":0},{"$f":"VLOOKUP(C79, 'Char 2'!$R$5:$T$50, 3,0)","v":0},null,0,null,null,null,"Character Base HP",null,{"$f":"U62","v":10222}]
[null,null,"Burst DMG%",0,0,{"$f":"IFERROR(INDEX(char2Weapons, MATCH(C80, weapons!$A$67:$A$131, 0), MATCH(char2WeaponName,weapons!$A$67:$DB$67, 0)),0)","v":0},{"$f":"IFERROR(INDEX(char2ArtiSetStats, MATCH('Char 2'!$L$14,artisDB!$A$59:$A$115, 0), MATCH(C80, artisDB!$A$59:$AP$59, 0))+INDEX(char2ArtiSetStats, MATCH('Char 2'!$L$15,artisDB!$A$59:$A$115, 0), MATCH(C80, artisDB!$A$59:$AP$59, 0)),0)","v":0.52212499999999995},{"$f":"IFERROR(INDEX('Char 2'!$X$27:$Z$36, MATCH(C80, 'Char 2'!$X$27:$X$36, 0), 3)*HLOOKUP('Char 2'!$Z$7, artifactSubstatValues, MATCH(C80, 'Artifact Database'!$A$1:$A$11, 0)),0)","v":0},{"$f":"VLOOKUP(C80, 'Char 2'!$R$5:$T$50, 3,0)","v":0},null,0.52212499999999995]
[null,null,"Swirl%",0,0,{"$f":"IFERROR(INDEX(char2Weapons, MATCH(C81, weapons!$A$67:$A$131, 0), MATCH(char2WeaponName,weapons!$A$67:$DB$67, 0)),0)","v":0},{"$f":"IFERROR(INDEX(char2ArtiSetStats, MATCH('Char 2'!$L$14,artisDB!$A$59:$A$115, 0), MATCH(C81, artisDB!$A$59:$AP$59, 0))+INDEX(char2ArtiSetStats, MATCH('Char 2'!$L$15,artisDB!$A$59:$A$115, 0), MATCH(C81, artisDB!$A$59:$AP$59, 0)),0)","v":0},{"$f":"IFERROR(INDEX('Char 2'!$X$27:$Z$36, MATCH(C81, 'Char 2'!$X$27:$X$36, 0), 3)*HLOOKUP('Char 2'!$Z$7, artifactSubstatValues, MATCH(C81, 'Artifact Database'!$A$1:$A$11, 0)),0)","v":0},{"$f":"VLOOKUP(C81, 'Char 2'!$R$5:$T$50, 3,0)","v":0},null,0]
[null,null,"Overload%",0,0,{"$f":"IFERROR(INDEX(char2Weapons, MATCH(C82, weapons!$A$67:$A$131, 0), MATCH(char2WeaponName,weapons!$A$67:$DB$67, 0)),0)","v":0},{"$f":"IFERROR(INDEX(char2ArtiSetStats, MATCH('Char 2'!$L$14,artisDB!$A$59:$A$115, 0), MATCH(C82, artisDB!$A$59:$AP$59, 0))+INDEX(char2ArtiSetStats, MATCH('Char 2'!$L$15,artisDB!$A$59:$A$115, 0), MATCH(C82, artisDB!$A$59:$AP$59, 0)),0)","v":0},{"$f":"IFERROR(INDEX('Char 2'!$X$27:$Z$36, MATCH(C82, 'Char 2'!$X$27:$X$36, 0), 3)*HLOOKUP('Char 2'!$Z$7, artifactSubstatValues, MATCH(C82, 'Artifact Database'!$A$1:$A$11, 0)),0)","v":0},{"$f":"VLOOKUP(C82, 'Char 2'!$R$5:$T$50, 3,0)","v":0},null,0]
[null,null,"Crystallize%",0,0,{"$f":"IFERROR(INDEX(char2Weapons, MATCH(C83, weapons!$A$67:$A$131, 0), MATCH(char2WeaponName,weapons!$A$67:$DB$67, 0)),0)","v":0},{"$f":"IFERROR(INDEX(char2ArtiSetStats, MATCH('Char 2'!$L$14,artisDB!$A$59:$A$115, 0), MATCH(C83, artisDB!$A$59:$AP$59, 0))+INDEX(char2ArtiSetStats, MATCH('Char 2'!$L$15,artisDB!$A$59:$A$115, 0), MATCH(C83, artisDB!$A$59:$AP$59, 0)),0)","v":0},{"$f":"IFERROR(INDEX('Char 2'!$X$27:$Z$36, MATCH(C83, 'Char 2'!$X$27:$X$36, 0), 3)*HLOOKUP('Char 2'!$Z$7, artifactSubstatValues, MATCH(C83, 'Artifact Database'!$A$1:$A$11, 0)),0)","v":0},{"$f":"VLOOKUP(C83, 'Char 2'!$R$5:$T$50, 3,0)","v":0},null,0,null,null,null,"Attack DMG Type Info"]
[null,null,"Electrocharged%",0,0,{"$f":"IFERROR(INDEX(char2Weapons, MATCH(C84, weapons!$A$67:$A$131, 0), MATCH(char2WeaponName,weapons!$A$67:$DB$67, 0)),0)","v":0},{"$f":"IFERROR(INDEX(char2ArtiSetStats, MATCH('Char 2'!$L$14,artisDB!$A$59:$A$115, 0), MATCH(C84, artisDB!$A$59:$AP$59, 0))+INDEX(char2ArtiSetStats, MATCH('Char 2'!$L$15,artisDB!$A$59:$A$115, 0), MATCH(C84, artisDB!$A$59:$AP$59, 0)),0)","v":0},{"$f":"IFERROR(INDEX('Char 2'!$X$27:$Z$36, MATCH(C84, 'Char 2'!$X$27:$X$36, 0), 3)*HLOOKUP('Char 2'!$Z$7, artifactSubstatValues, MATCH(C84, 'Artifact Database'!$A$1:$A$11, 0)),0)","v":0},{"$f":"VLOOKUP(C84, 'Char 2'!$R$5:$T$50, 3,0)","v":0},null,0]
[null,null,"Superconduct%",0,0,{"$f":"IFERROR(INDEX(char2Weapons, MATCH(C85, weapons!$A$67:$A$131, 0), MATCH(char2WeaponName,weapons!$A$67:$DB$67, 0)),0)","v":0},{"$f":"IFERROR(INDEX(char2ArtiSetStats, MATCH('Char 2'!$L$14,artisDB!$A$59:$A$115, 0), MATCH(C85, artisDB!$A$59:$AP$59, 0))+INDEX(char2ArtiSetStats, MATCH('Char 2'!$L$15,artisDB!$A$59:$A$115, 0), MATCH(C85, artisDB!$A$59:$AP$59, 0)),0)","v":0},{"$f":"IFERROR(INDEX('Char 2'!$X$27:$Z$36, MATCH(C85, 'Char 2'!$X$27:$X$36, 0), 3)*HLOOKUP('Char 2'!$Z$7, artifactSubstatValues, MATCH(C85, 'Artifact Database'!$A$1:$A$11, 0)),0)","v":0},{"$f":"VLOOKUP(C85, 'Char 2'!$R$5:$T$50, 3,0)","v":0},null,0,null,null,null,"Skill Echo Type",null,{"$f":"'Char 2'!E20","v":"Skill"}]
[null,null,"Shatter%",0,0,{"$f":"IFERROR(INDEX(char2Weapons, MATCH(C86, weapons!$A$67:$A$131, 0), MATCH(char2WeaponName,weapons!$A$67:$DB$67, 0)),0)","v":0},{"$f":"IFERROR(INDEX(char2ArtiSetStats, MATCH('Char 2'!$L$14,artisDB!$A$59:$A$115, 0), MATCH(C86, artisDB!$A$59:$AP$59, 0))+INDEX(char2ArtiSetStats, MATCH('Char 2'!$L$15,artisDB!$A$59:$A$115, 0), MATCH(C86, artisDB!$A$59:$AP$59, 0)),0)","v":0},{"$f":"IFERROR(INDEX('Char 2'!$X$27:$Z$36, MATCH(C86, 'Char 2'!$X$27:$X$36, 0), 3)*HLOOKUP('Char 2'!$Z$7, artifactSubstatValues, MATCH(C86, 'Artifact Database'!$A$1:$A$11, 0)),0)","v":0},{"$f":"VLOOKUP(C86, 'Char 2'!$R$5:$T$50, 3,0)","v":0},null,0,null,null,null,"Burst Echo Type",null,{"$f":"'Char 2'!E23","v":"Burst"}]
[null,null,"Melt%",0,0,{"$f":"IFERROR(INDEX(char2Weapons, MATCH(C87, weapons!$A$67:$A$131, 0), MATCH(char2WeaponName,weapons!$A$67:$DB$67, 0)),0)","v":0},{"$f":"IFERROR(INDEX(char2ArtiSetStats, MATCH('Char 2'!$L$14,artisDB!$A$59:$A$115, 0), MATCH(C87, artisDB!$A$59:$AP$59, 0))+INDEX(char2ArtiSetStats, MATCH('Char 2'!$L$15,artisDB!$A$59:$A$115, 0), MATCH(C87, artisDB!$A$59:$AP$59, 0)),0)","v":0},{"$f":"IFERROR(INDEX('Char 2'!$X$27:$Z$36, MATCH(C87, 'Char 2'!$X$27:$X$36, 0), 3)*HLOOKUP('Char 2'!$Z$7, artifactSubstatValues, MATCH(C87, 'Artifact Database'!$A$1:$A$11, 0)),0)","v":0},{"$f":"VLOOKUP(C87, 'Char 2'!$R$5:$T$50, 3,0)","v":0},null,0]
[null,null,"Vaporize%",0,0,{"$f":"IFERROR(INDEX(char2Weapons, MATCH(C88, weapons!$A$67:$A$131, 0), MATCH(char2WeaponName,weapons!$A$67:$DB$67, 0)),0)","v":0},{"$f":"IFERROR(INDEX(char2ArtiSetStats, MATCH('Char 2'!$L$14,artisDB!$A$59:$A$115, 0), MATCH(C88, artisDB!$A$59:$AP$59, 0))+INDEX(char2ArtiSetStats, MATCH('Char 2'!$L$15,artisDB!$A$59:$A$115, 0), MATCH(C88, artisDB!$A$59:$AP$59, 0)),0)","v":0},{"$f":"IFERROR(INDEX('Char 2'!$X$27:$Z$36, MATCH(C88, 'Char 2'!$X$27:$X$36, 0), 3)*HLOOKUP('Char 2'!$Z$7, artifactSubstatValues, MATCH(C88, 'Artifact Database'!$A$1:$A$11, 0)),0)","v":0},{"$f":"VLOOKUP(C88, 'Char 2'!$R$5:$T$50, 3,0)","v":0},null,0]
[null,null,"DEF Shred",0,0,{"$f":"IFERROR(INDEX(char2Weapons, MATCH(C89, weapons!$A$67:$A$131, 0), MATCH(char2WeaponName,weapons!$A$67:$DB$67, 0)),0)","v":0},{"$f":"IFERROR(INDEX(char2ArtiSetStats, MATCH('Char 2'!$L$14,artisDB!$A$59:$A$115, 0), MATCH(C89, artisDB!$A$59:$AP$59, 0))+INDEX(char2ArtiSetStats, MATCH('Char 2'!$L$15,artisDB!$A$59:$A$115, 0), MATCH(C89, artisDB!$A$59:$AP$59, 0)),0)","v":0},{"$f":"IFERROR(INDEX('Char 2'!$X$27:$Z$36, MATCH(C89, 'Char 2'!$X$27:$X$36, 0), 3)*HLOOKUP('Char 2'!$Z$7, artifactSubstatValues, MATCH(C89, 'Artifact Database'!$A$1:$A$11, 0)),0)","v":0},{"$f":"VLOOKUP(C89, 'Char 2'!$R$5:$T$50, 3,0)","v":0},null,0]
[null,null,"Shield Strength%",0,0,{"$f":"IFERROR(INDEX(char2Weapons, MATCH(C90, weapons!$A$67:$A$131, 0), MATCH(char2WeaponName,weapons!$A$67:$DB$67, 0)),0)","v":0},{"$f":"IFERROR(INDEX(char2ArtiSetStats, MATCH('Char 2'!$L$14,artisDB!$A$59:$A$115, 0), MATCH(C90, artisDB!$A$59:$AP$59, 0))+INDEX(char2ArtiSetStats, MATCH('Char 2'!$L$15,artisDB!$A$59:$A$115, 0), MATCH(C90, artisDB!$A$59:$AP$59, 0)),0)","v":0},{"$f":"IFERROR(INDEX('Char 2'!$X$27:$Z$36, MATCH(C90, 'Char 2'!$X$27:$X$36, 0), 3)*HLOOKUP('Char 2'!$Z$7, artifactSubstatValues, MATCH(C90, 'Artifact Database'!$A$1:$A$11, 0)),0)","v":0},{"$f":"VLOOKUP(C90, 'Char 2'!$R$5:$T$50, 3,0)","v":0},null,0,null,null,null,"Enemy Defense Mult"]
[null,null,"Phys RES%",0,0,{"$f":"IFERROR(INDEX(char2Weapons, MATCH(C91, weapons!$A$67:$A$131, 0), MATCH(char2WeaponName,weapons!$A$67:$DB$67, 0)),0)","v":0},{"$f":"IFERROR(INDEX(char2ArtiSetStats, MATCH('Char 2'!$L$14,artisDB!$A$59:$A$115, 0), MATCH(C91, artisDB!$A$59:$AP$59, 0))+INDEX(char2ArtiSetStats, MATCH('Char 2'!$L$15,artisDB!$A$59:$A$115, 0), MATCH(C91, artisDB!$A$59:$AP$59, 0)),0)","v":0},{"$f":"IFERROR(INDEX('Char 2'!$X$27:$Z$36, MATCH(C91, 'Char 2'!$X$27:$X$36, 0), 3)*HLOOKUP('Char 2'!$Z$7, artifactSubstatValues, MATCH(C91, 'Artifact Database'!$A$1:$A$11, 0)),0)","v":0},{"$f":"VLOOKUP(C91, 'Char 2'!$R$5:$T$50, 3,0)","v":0},null,0]
[null,null,"Healing Bonus%",0,0,{"$f":"IFERROR(INDEX(char2Weapons, MATCH(C92, weapons!$A$67:$A$131, 0), MATCH(char2WeaponName,weapons!$A$67:$DB$67, 0)),0)","v":0},{"$f":"IFERROR(INDEX(char2ArtiSetStats, MATCH('Char 2'!$L$14,artisDB!$A$59:$A$115, 0), MATCH(C92, artisDB!$A$59:$AP$59, 0))+INDEX(char2ArtiSetStats, MATCH('Char 2'!$L$15,artisDB!$A$59:$A$115, 0), MATCH(C92, artisDB!$A$59:$AP$59, 0)),0)","v":0},{"$f":"IFERROR(INDEX('Char 2'!$X$27:$Z$36, MATCH(C92, 'Char 2'!$X$27:$X$36, 0), 3)*HLOOKUP('Char 2'!$Z$7, artifactSubstatValues, MATCH(C92, 'Artifact Database'!$A$1:$A$11, 0)),0)","v":0},{"$f":"VLOOKUP(C92, 'Char 2'!$R$5:$T$50, 3,0)","v":0},{"$f":"IF(char2Name = \"Kokomi\", 25%, 0%)","v":0},0,null,null,null,"Multiplier",null,{"$f":"(char2LevelNum+100)/((char2LevelNum+100)+(enemyLevel+100)*(1-K89))","v":0.48717948717948717}]
[null,null,"Healing Received%",0,0,{"$f":"IFERROR(INDEX(char2Weapons, MATCH(C93, weapons!$A$67:$A$131, 0), MATCH(char2WeaponName,weapons!$A$67:$DB$67, 0)),0)","v":0},{"$f":"IFERROR(INDEX(char2ArtiSetStats, MATCH('Char 2'!$L$14,artisDB!$A$59:$A$115, 0), MATCH(C93, artisDB!$A$59:$AP$59, 0))+INDEX(char2ArtiSetStats, MATCH('Char 2'!$L$15,artisDB!$A$59:$A$115, 0), MATCH(C93, artisDB!$A$59:$AP$59, 0)),0)","v":0},{"$f":"IFERROR(INDEX('Char 2'!$X$27:$Z$36, MATCH(C93, 'Char 2'!$X$27:$X$36, 0), 3)*HLOOKUP('Char 2'!$Z$7, artifactSubstatValues, MATCH(C93, 'Artifact Database'!$A$1:$A$11, 0)),0)","v":0},{"$f":"VLOOKUP(C93, 'Char 2'!$R$5:$T$50, 3,0)","v":0},null,0]
[null,null,"Anemo RES%",0,0,{"$f":"IFERROR(INDEX(char2Weapons, MATCH(C94, weapons!$A$67:$A$131, 0), MATCH(char2WeaponName,weapons!$A$67:$DB$67, 0)),0)","v":0},{"$f":"IFERROR(INDEX(char2ArtiSetStats, MATCH('Char 2'!$L$14,artisDB!$A$59:$A$115, 0), MATCH(C94, artisDB!$A$59:$AP$59, 0))+INDEX(char2ArtiSetStats, MATCH('Char 2'!$L$15,artisDB!$A$59:$A$115, 0), MATCH(C94, artisDB!$A$59:$AP$59, 0)),0)","v":0},{"$f":"IFERROR(INDEX('Char 2'!$X$27:$Z$36, MATCH(C94, 'Char 2'!$X$27:$X$36, 0), 3)*HLOOKUP('Char 2'!$Z$7, artifactSubstatValues, MATCH(C94, 'Artifact Database'!$A$1:$A$11, 0)),0)","v":0},{"$f":"VLOOKUP(C94, 'Char 2'!$R$5:$T$50, 3,0)","v":0},null,0]
[null,null,"Geo RES%",0,0,{"$f":"IFERROR(INDEX(char2Weapons, MATCH(C95, weapons!$A$67:$A$131, 0), MATCH(char2WeaponName,weapons!$A$67:$DB$67, 0)),0)","v":0},{"$f":"IFERROR(INDEX(char2ArtiSetStats, MATCH('Char 2'!$L$14,artisDB!$A$59:$A$115, 0), MATCH(C95, artisDB!$A$59:$AP$59, 0))+INDEX(char2ArtiSetStats, MATCH('Char 2'!$L$15,artisDB!$A$59:$A$115, 0), MATCH(C95, artisDB!$A$59:$AP$59, 0)),0)","v":0},{"$f":"IFERROR(INDEX('Char 2'!$X$27:$Z$36, MATCH(C95, 'Char 2'!$X$27:$X$36, 0), 3)*HLOOKUP('Char 2'!$Z$7, artifactSubstatValues, MATCH(C95, 'Artifact Database'!$A$1:$A$11, 0)),0)","v":0},{"$f":"VLOOKUP(C95, 'Char 2'!$R$5:$T$50, 3,0)","v":0},null,0]
[null,null,"Pyro RES%",0,0,{"$f":"IFERROR(INDEX(char2Weapons, MATCH(C96, weapons!$A$67:$A$131, 0), MATCH(char2WeaponName,weapons!$A$67:$DB$67, 0)),0)","v":0},{"$f":"IFERROR(INDEX(char2ArtiSetStats, MATCH('Char 2'!$L$14,artisDB!$A$59:$A$115, 0), MATCH(C96, artisDB!$A$59:$AP$59, 0))+INDEX(char2ArtiSetStats, MATCH('Char 2'!$L$15,artisDB!$A$59:$A$115, 0), MATCH(C96, artisDB!$A$59:$AP$59, 0)),0)","v":0},{"$f":"IFERROR(INDEX('Char 2'!$X$27:$Z$36, MATCH(C96, 'Char 2'!$X$27:$X$36, 0), 3)*HLOOKUP('Char 2'!$Z$7, artifactSubstatValues, MATCH(C96, 'Artifact Database'!$A$1:$A$11, 0)),0)","v":0},{"$f":"VLOOKUP(C96, 'Char 2'!$R$5:$T$50, 3,0)","v":0},null,0,null,null,null,"Final Info"]
[null,null,"Cryo RES%",0,0,{"$f":"IFERROR(INDEX(char2Weapons, MATCH(C97, weapons!$A$67:$A$131, 0), MATCH(char2WeaponName,weapons!$A$67:$DB$67, 0)),0)","v":0},{"$f":"IFERROR(INDEX(char2ArtiSetStats, MATCH('Char 2'!$L$14,artisDB!$A$59:$A$115, 0), MATCH(C97, artisDB!$A$59:$AP$59, 0))+INDEX(char2ArtiSetStats, MATCH('Char 2'!$L$15,artisDB!$A$59:$A$115, 0), MATCH(C97, artisDB!$A$59:$AP$59, 0)),0)","v":0},{"$f":"IFERROR(INDEX('Char 2'!$X$27:$Z$36, MATCH(C97, 'Char 2'!$X$27:$X$36, 0), 3)*HLOOKUP('Char 2'!$Z$7, artifactSubstatValues, MATCH(C97, 'Artifact Database'!$A$1:$A$11, 0)),0)","v":0},{"$f":"VLOOKUP(C97, 'Char 2'!$R$5:$T$50, 3,0)","v":0},null,0]
[null,null,"Hydro RES%",0,0,{"$f":"IFERROR(INDEX(char2Weapons, MATCH(C98, weapons!$A$67:$A$131, 0), MATCH(char2WeaponName,weapons!$A$67:$DB$67, 0)),0)","v":0},{"$f":"IFERROR(INDEX(char2ArtiSetStats, MATCH('Char 2'!$L$14,artisDB!$A$59:$A$115, 0), MATCH(C98, artisDB!$A$59:$AP$59, 0))+INDEX(char2ArtiSetStats, MATCH('Char 2'!$L$15,artisDB!$A$59:$A$115, 0), MATCH(C98, artisDB!$A$59:$AP$59, 0)),0)","v":0},{"$f":"IFERROR(INDEX('Char 2'!$X$27:$Z$36, MATCH(C98, 'Char 2'!$X$27:$X$36, 0), 3)*HLOOKUP('Char 2'!$Z$7, artifactSubstatValues, MATCH(C98, 'Artifact Database'!$A$1:$A$11, 0)),0)","v":0},{"$f":"VLOOKUP(C98, 'Char 2'!$R$5:$T$50, 3,0)","v":0},null,0,null,null,null,"Final HP",null,{"$f":"char2BaseHP*(1+char2FinalHPPercent)+char2FinalFlatHP","v":16523.902399999999}]
[null,null,"Electro RES%",0,0,{"$f":"IFERROR(INDEX(char2Weapons, MATCH(C99, weapons!$A$67:$A$131, 0), MATCH(char2WeaponName,weapons!$A$67:$DB$67, 0)),0)","v":0},{"$f":"IFERROR(INDEX(char2ArtiSetStats, MATCH('Char 2'!$L$14,artisDB!$A$59:$A$115, 0), MATCH(C99, artisDB!$A$59:$AP$59, 0))+INDEX(char2ArtiSetStats, MATCH('Char 2'!$L$15,artisDB!$A$59:$A$115, 0), MATCH(C99, artisDB!$A$59:$AP$59, 0)),0)","v":0},{"$f":"IFERROR(INDEX('Char 2'!$X$27:$Z$36, MATCH(C99, 'Char 2'!$X$27:$X$36, 0), 3)*HLOOKUP('Char 2'!$Z$7, artifactSubstatValues, MATCH(C99, 'Artifact Database'!$A$1:$A$11, 0)),0)","v":0},{"$f":"VLOOKUP(C99, 'Char 2'!$R$5:$T$50, 3,0)","v":0},null,0,null,null,null,"Final DEF",null,{"$f":"char2BaseDEF*(1+char2FinalDEFPercent)+char2FinalFlatDEF","v":891.35200000000009}]
[null,null,"Burst CR%",0,0,{"$f":"IFERROR(INDEX(char2Weapons, MATCH(C100, weapons!$A$67:$A$131, 0), MATCH(char2WeaponName,weapons!$A$67:$DB$67, 0)),0)","v":0},{"$f":"IFERROR(INDEX(char2ArtiSetStats, MATCH('Char 2'!$L$14,artisDB!$A$59:$A$115, 0), MATCH(C100, artisDB!$A$59:$AP$59, 0))+INDEX(char2ArtiSetStats, MATCH('Char 2'!$L$15,artisDB!$A$59:$A$115, 0), MATCH(C100, artisDB!$A$59:$AP$59, 0)),0)","v":0},{"$f":"IFERROR(INDEX('Char 2'!$X$27:$Z$36, MATCH(C100, 'Char 2'!$X$27:$X$36, 0), 3)*HLOOKUP('Char 2'!$Z$7, artifactSubstatValues, MATCH(C100, 'Artifact Database'!$A$1:$A$11, 0)),0)","v":0},{"$f":"VLOOKUP(C100, 'Char 2'!$R$5:$T$50, 3,0)","v":0},null,0,null,null,null,"Final ATK",null,{"$f":"(char2WeaponBaseATK+char2BaseATK)*(1+char2FinalATKPercent)+char2FinalFlatATK","v":1560.8288}]
[null,null,"Skill CR%",0,0,{"$f":"IFERROR(INDEX(char2Weapons, MATCH(C101, weapons!$A$67:$A$131, 0), MATCH(char2WeaponName,weapons!$A$67:$DB$67, 0)),0)","v":0},{"$f":"IFERROR(INDEX(char2ArtiSetStats, MATCH('Char 2'!$L$14,artisDB!$A$59:$A$115, 0), MATCH(C101, artisDB!$A$59:$AP$59, 0))+INDEX(char2ArtiSetStats, MATCH('Char 2'!$L$15,artisDB!$A$59:$A$115, 0), MATCH(C101, artisDB!$A$59:$AP$59, 0)),0)","v":0},{"$f":"IFERROR(INDEX('Char 2'!$X$27:$Z$36, MATCH(C101, 'Char 2'!$X$27:$X$36, 0), 3)*HLOOKUP('Char 2'!$Z$7, artifactSubstatValues, MATCH(C101, 'Artifact Database'!$A$1:$A$11, 0)),0)","v":0},{"$f":"VLOOKUP(C101, 'Char 2'!$R$5:$T$50, 3,0)","v":0},null,0]
[null,null,"Burst CDMG%",0,0,{"$f":"IFERROR(INDEX(char2Weapons, MATCH(C102, weapons!$A$67:$A$131, 0), MATCH(char2WeaponName,weapons!$A$67:$DB$67, 0)),0)","v":0},{"$f":"IFERROR(INDEX(char2ArtiSetStats, MATCH('Char 2'!$L$14,artisDB!$A$59:$A$115, 0), MATCH(C102, artisDB!$A$59:$AP$59, 0))+INDEX(char2ArtiSetStats, MATCH('Char 2'!$L$15,artisDB!$A$59:$A$115, 0), MATCH(C102, artisDB!$A$59:$AP$59, 0)),0)","v":0},{"$f":"IFERROR(INDEX('Char 2'!$X$27:$Z$36, MATCH(C102, 'Char 2'!$X$27:$X$36, 0), 3)*HLOOKUP('Char 2'!$Z$7, artifactSubstatValues, MATCH(C102, 'Artifact Database'!$A$1:$A$11, 0)),0)","v":0},{"$f":"VLOOKUP(C102, 'Char 2'!$R$5:$T$50, 3,0)","v":0},null,0]
[null,null,"Skill CDMG%",0,0,{"$f":"IFERROR(INDEX(char2Weapons, MATCH(C103, weapons!$A$67:$A$131, 0), MATCH(char2WeaponName,weapons!$A$67:$DB$67, 0)),0)","v":0},{"$f":"IFERROR(INDEX(char2ArtiSetStats, MATCH('Char 2'!$L$14,artisDB!$A$59:$A$115, 0), MATCH(C103, artisDB!$A$59:$AP$59, 0))+INDEX(char2ArtiSetStats, MATCH('Char 2'!$L$15,artisDB!$A$59:$A$115, 0), MATCH(C103, artisDB!$A$59:$AP$59, 0)),0)","v":0},{"$f":"IFERROR(INDEX('Char 2'!$X$27:$Z$36, MATCH(C103, 'Char 2'!$X$27:$X$36, 0), 3)*HLOOKUP('Char 2'!$Z$7, artifactSubstatValues, MATCH(C103, 'Artifact Database'!$A$1:$A$11, 0)),0)","v":0},{"$f":"VLOOKUP(C103, 'Char 2'!$R$5:$T$50, 3,0)","v":0},null,0]
[]
[]
[null,null,null,null,null,null,null,null,null,null,null,null,null,null,null,null,null,null,null,null,"Stat","Level","Start Row","Value"]
[null,null,"Stat Block - Character 3",null,null,null,null,null,null,null,null,null,null,null,"Lookup Stuff",null,null,null,null,"Flower","Flat HP",{"$f":"'Char 3'!$L$23","v":20},{"$f":"MATCH('Char 3'!$L$24, 'Artifact Database'!$F$1:$F$66, 0)+1","v":2},{"$f":"INDEX('Artifact Database'!$F$1:$W$66, Calcs!W107+V107, MATCH(Calcs!U107,'Artifact Database'!$F$1:$W$1, 0))","v":4780}]
[null,null,null,null,null,null,null,null,null,null,null,null,null,null,null,null,null,null,null,"Feather","Flat ATK",{"$f":"'Char 3'!$L$25","v":20},{"$f":"MATCH('Char 3'!$L$26, 'Artifact Database'!$F$1:$F$66, 0)+1","v":2},{"$f":"INDEX('Artifact Database'!$F$1:$W$66, Calcs!W108+V108, MATCH(Calcs!U108,'Artifact Database'!$F$1:$W$1, 0))","v":311}]
[null,null,"Stat","Artifact Mainstats","Character Base","Weapon Bonus","Set Bonus Stats","Artifact Substats","Buffs","Cons/Ascension Bonus (WIP)","Total",null,null,null,"Character Level",null,{"$f":"char3Level","v":90},null,null,"Sands",{"$f":"'Char 3'!$L$28","v":"HP%"},{"$f":"'Char 3'!$L$27","v":20},{"$f":"MATCH('Char 3'!$L$29, 'Artifact Database'!$F$1:$F$66, 0)+1","v":2},{"$f":"INDEX('Artifact Database'!$F$1:$W$66, Calcs!W109+V109, MATCH(Calcs!U109,'Artifact Database'!$F$1:$W$1, 0))","v":46.6}]
[null,null,"Flat ATK",{"$f":"X108","v":311},0,{"$f":"IFERROR(INDEX(char3Weapons, MATCH(C110, weapons!$A$133:$A$197, 0), MATCH(char3WeaponName,weapons!$A$133:$DB$133, 0)),0)","v":0},{"$f":"IFERROR(INDEX(char3ArtiSetStats, MATCH('Char 3'!$L$14,artisDB!$A$117:$A$173, 0), MATCH(C110, artisDB!$A$117:$AP$117, 0))+INDEX(char3ArtiSetStats, MATCH('Char 3'!$L$15, artisDB!$A$117:$A$173, 0), MATCH(C110, artisDB!$A$117:$AP$117, 0)),0)","v":0},{"$f":"IF($Q$113=TRUE, SUM('Char 3'!$AL14:$AP14), IFERROR(INDEX('Char 3'!$X$27:$Z$36, MATCH(C110, 'Char 3'!$X$27:$X$36, 0), 3)*HLOOKUP('Char 3'!$Z$7, artifactSubstatValues, MATCH(C110, 'Artifact Database'!$A$1:$A$11, 0)),0))","v":33.08},{"$f":"VLOOKUP(C110, 'Char 3'!$R$5:$T$50, 3,0)","v":0},null,{"$f":"SUM(D110:J110)","v":344.08},null,null,null,null,null,null,null,null,"Goblet",{"$f":"'Char 3'!$L$31","v":"HP%"},{"$f":"'Char 3'!$L$30","v":20},{"$f":"MATCH('Char 3'!$L$32, 'Artifact Database'!$F$1:$F$66, 0)+1","v":2},{"$f":"INDEX('Artifact Database'!$F$1:$W$66, Calcs!W110+V110, MATCH(Calcs!U110,'Artifact Database'!$F$1:$W$1, 0))","v":46.6}]
[null,null,"Flat DEF",0,0,{"$f":"IFERROR(INDEX(char3Weapons, MATCH(C111, weapons!$A$133:$A$197, 0), MATCH(char3WeaponName,weapons!$A$133:$DB$133, 0)),0)","v":0},{"$f":"IFERROR(INDEX(char3ArtiSetStats, MATCH('Char 3'!$L$14,artisDB!$A$117:$A$173, 0), MATCH(C111, artisDB!$A$117:$AP$117, 0))+INDEX(char3ArtiSetStats, MATCH('Char 3'!$L$15, artisDB!$A$117:$A$173, 0), MATCH(C111, artisDB!$A$117:$AP$117, 0)),0)","v":0},{"$f":"IF($Q$113=TRUE, SUM('Char 3'!$AL15:$AP15), IFERROR(INDEX('Char 3'!$X$27:$Z$36, MATCH(C111, 'Char 3'!$X$27:$X$36, 0), 3)*HLOOKUP('Char 3'!$Z$7, artifactSubstatValues, MATCH(C111, 'Artifact Database'!$A$1:$A$11, 0)),0))","v":39.36},{"$f":"VLOOKUP(C111, 'Char 3'!$R$5:$T$50, 3,0)","v":0},null,{"$f":"SUM(D111:J111)","v":39.36},null,null,null,null,null,null,null,null,"Circlet",{"$f":"'Char 3'!$L$34","v":"HP%"},{"$f":"'Char 3'!$L$33","v":20},{"$f":"MATCH('Char 3'!$L$35, 'Artifact Database'!$F$1:$F$66, 0)+1","v":2},{"$f":"INDEX('Artifact Database'!$F$1:$W$66, Calcs!W111+V111, MATCH(Calcs!U111,'Artifact Database'!$F$1:$W$1, 0))","v":46.6}]
[null,null,"Flat HP",{"$f":"X107","v":4780},0,{"$f":"IFERROR(INDEX(char3Weapons, MATCH(C112, weapons!$A$133:$A$197, 0), MATCH(char3WeaponName,weapons!$A$133:$DB$133, 0)),0)","v":0},{"$f":"IFERROR(INDEX(char3ArtiSetStats, MATCH('Char 3'!$L$14,artisDB!$A$117:$A$173, 0), MATCH(C112, artisDB!$A$117:$AP$117, 0))+INDEX(char3ArtiSetStats, MATCH('Char 3'!$L$15, artisDB!$A$117:$A$173, 0), MATCH(C112, artisDB!$A$117:$AP$117, 0)),0)","v":0},{"$f":"IF($Q$113=TRUE, SUM('Char 3'!$AL16:$AP16), IFERROR(INDEX('Char 3'!$X$27:$Z$36, MATCH(C112, 'Char 3'!$X$27:$X$36, 0), 3)*HLOOKUP('Char 3'!$Z$7, artifactSubstatValues, MATCH(C112, 'Artifact Database'!$A$1:$A$11, 0)),0))","v":507.88},{"$f":"VLOOKUP(C112, 'Char 3'!$R$5:$T$50, 3,0)","v":0},null,5287.88]
[null,null,"EM",{"$f":"IF(C113=$U$109, $X$109, 0)+IF(C113=$U$110, $X$110, 0)+IF(C113 = $U$111, $X$111, 0)","v":0},{"$f":"IFERROR(VLOOKUP(C113,$T$114:$U$119, 2, 0), 0)","v":0},{"$f":"IFERROR(INDEX(char3Weapons, MATCH(C113, weapons!$A$133:$A$197, 0), MATCH(char3WeaponName,weapons!$A$133:$DB$133, 0)),0)","v":0},{"$f":"IFERROR(INDEX(char3ArtiSetStats, MATCH('Char 3'!$L$14,artisDB!$A$117:$A$173, 0), MATCH(C113, artisDB!$A$117:$AP$117, 0))+INDEX(char3ArtiSetStats, MATCH('Char 3'!$L$15, artisDB!$A$117:$A$173, 0), MATCH(C113, artisDB!$A$117:$AP$117, 0)),0)","v":0},{"$f":"IF($Q$113=TRUE, SUM('Char 3'!$AL17:$AP17), IFERROR(INDEX('Char 3'!$X$27:$Z$36, MATCH(C113, 'Char 3'!$X$27:$X$36, 0), 3)*HLOOKUP('Char 3'!$Z$7, artifactSubstatValues, MATCH(C113, 'Artifact Database'!$A$1:$A$11, 0)),0))","v":39.64},{"$f":"VLOOKUP(C113, 'Char 3'!$R$5:$T$50, 3,0)","v":0},null,39.64,null,null,null,"Personal Subs?",null,false,null,null,"Start Row",{"$f":"MATCH(char3Name, 'Char Stats'!$A$1:$A$795, 0)","v":586}]
[null,null,"ATK%",{"$f":"(IF(C114=$U$109, $X$109, 0)+IF(C114=$U$110, $X$110, 0)+IF(C114 = $U$111, $X$111, 0))/100","v":0},{"$f":"IFERROR(VLOOKUP(C114,$T$114:$U$119, 2, 0), 0)","v":0},{"$f":"IFERROR(INDEX(char3Weapons, MATCH(C114, weapons!$A$133:$A$197, 0), MATCH(char3WeaponName,weapons!$A$133:$DB$133, 0)),0)","v":0},{"$f":"IFERROR(INDEX(char3ArtiSetStats, MATCH('Char 3'!$L$14,artisDB!$A$117:$A$173, 0), MATCH(C114, artisDB!$A$117:$AP$117, 0))+INDEX(char3ArtiSetStats, MATCH('Char 3'!$L$15, artisDB!$A$117:$A$173, 0), MATCH(C114, artisDB!$A$117:$AP$117, 0)),0)","v":0},{"$f":"IF($Q$113=TRUE, SUM('Char 3'!$AL18:$AP18), IFERROR(INDEX('Char 3'!$X$27:$Z$36, MATCH(C114, 'Char 3'!$X$27:$X$36, 0), 3)*HLOOKUP('Char 3'!$Z$7, artifactSubstatValues, MATCH(C114, 'Artifact Database'!$A$1:$A$11, 0)),0))","v":9.9199999999999997E-2},{"$f":"VLOOKUP(C114, 'Char 3'!$R$5:$T$50, 3,0)","v":0},null,9.9199999999999997E-2,null,null,null,null,null,null,null,null,"Base HP",{"$f":"INDEX('Char Stats'!$A$1:$G$795, MATCH($Q$109, 'Char Stats'!$A$1:$A$15, 0)+$U$113-1, MATCH(Calcs!T114, 'Char Stats'!$A$1:$G$1, 0))","v":14695}]
[null,null,"DEF%",0,0,{"$f":"IFERROR(INDEX(char3Weapons, MATCH(C115, weapons!$A$133:$A$197, 0), MATCH(char3WeaponName,weapons!$A$133:$DB$133, 0)),0)","v":0},{"$f":"IFERROR(INDEX(char3ArtiSetStats, MATCH('Char 3'!$L$14,artisDB!$A$117:$A$173, 0), MATCH(C115, artisDB!$A$117:$AP$117, 0))+INDEX(char3ArtiSetStats, MATCH('Char 3'!$L$15, artisDB!$A$117:$A$173, 0), MATCH(C115, artisDB!$A$117:$AP$117, 0)),0)","v":0},{"$f":"IF($Q$113=TRUE, SUM('Char 3'!$AL19:$AP19), IFERROR(INDEX('Char 3'!$X$27:$Z$36, MATCH(C115, 'Char 3'!$X$27:$X$36, 0), 3)*HLOOKUP('Char 3'!$Z$7, artifactSubstatValues, MATCH(C115, 'Artifact Database'!$A$1:$A$11, 0)),0))","v":0.124},{"$f":"VLOOKUP(C115, 'Char 3'!$R$5:$T$50, 3,0)","v":0},null,0.124,null,null,null,null,null,null,null,null,"Base ATK",{"$f":"INDEX('Char Stats'!$A$1:$G$795, MATCH($Q$109, 'Char Stats'!$A$1:$A$15, 0)+$U$113-1, MATCH(Calcs!T115, 'Char Stats'!$A$1:$G$1, 0))","v":251}]
[null,null,"HP%",1.3980000000000001,0,{"$f":"IFERROR(INDEX(char3Weapons, MATCH(C116, weapons!$A$133:$A$197, 0), MATCH(char3WeaponName,weapons!$A$133:$DB$133, 0)),0)","v":0.46899999999999997},{"$f":"IFERROR(INDEX(char3ArtiSetStats, MATCH('Char 3'!$L$14,artisDB!$A$117:$A$173, 0), MATCH(C116, artisDB!$A$117:$AP$117, 0))+INDEX(char3ArtiSetStats, MATCH('Char 3'!$L$15, artisDB!$A$117:$A$173, 0), MATCH(C116, artisDB!$A$117:$AP$117, 0)),0)","v":0.2},{"$f":"IF($Q$113=TRUE, SUM('Char 3'!$AL20:$AP20), IFERROR(INDEX('Char 3'!$X$27:$Z$36, MATCH(C116, 'Char 3'!$X$27:$X$36, 0), 3)*HLOOKUP('Char 3'!$Z$7, artifactSubstatValues, MATCH(C116, 'Artifact Database'!$A$1:$A$11, 0)),0))","v":9.9199999999999997E-2},{"$f":"VLOOKUP(C116, 'Char 3'!$R$5:$T$50, 3,0)","v":0.18},null,2.3462000000000005,null,null,null,null,null,null,null,null,"Base DEF",{"$f":"INDEX('Char Stats'!$A$1:$G$795, MATCH($Q$109, 'Char Stats'!$A$1:$A$15, 0)+$U$113-1, MATCH(Calcs!T116, 'Char Stats'!$A$1:$G$1, 0))","v":738}]
[null,null,"CR%",0,0.05,{"$f":"IFERROR(INDEX(char3Weapons, MATCH(C117, weapons!$A$133:$A$197, 0), MATCH(char3WeaponName,weapons!$A$133:$DB$133, 0)),0)","v":0},{"$f":"IFERROR(INDEX(char3ArtiSetStats, MATCH('Char 3'!$L$14,artisDB!$A$117:$A$173, 0), MATCH(C117, artisDB!$A$117:$AP$117, 0))+INDEX(char3ArtiSetStats, MATCH('Char 3'!$L$15, artisDB!$A$117:$A$173, 0), MATCH(C117, artisDB!$A$117:$AP$117, 0)),0)","v":0},{"$f":"IF($Q$113=TRUE, SUM('Char 3'!$AL21:$AP21), IFERROR(INDEX('Char 3'!$X$27:$Z$36, MATCH(C117, 'Char 3'!$X$27:$X$36, 0), 3)*HLOOKUP('Char 3'!$Z$7, artifactSubstatValues, MATCH(C117, 'Artifact Database'!$A$1:$A$11, 0)),0))","v":0.3972},{"$f":"VLOOKUP(C117, 'Char 3'!$R$5:$T$50, 3,0)","v":0},null,{"$f":"IF(SUM(D117:J117)>100%, 100%, IF(SUM(D117:J117)<0%, 0%, SUM(D117:J117)))","v":0.44719999999999999},null,null,null,null,null,null,null,null,{"$f":"INDEX('Char Stats'!$A$1:$G$795, $U$113, 5)","v":"Geo DMG%"},{"$f":"INDEX(INDIRECT(char3Name&\"BaseStats\"), MATCH(char3Level,  INDEX(INDIRECT(char3Name&\"BaseStats\"), 0, 1), 0), MATCH(T117, INDEX(INDIRECT(char3Name&\"BaseStats\"), 1, 0), 0))*IF(NOT(T117=\"EM\"), 0.01, 1)","v":0.28800000000000003}]
[null,null,"CDMG%",0,0.5,{"$f":"IFERROR(INDEX(char3Weapons, MATCH(C118, weapons!$A$133:$A$197, 0), MATCH(char3WeaponName,weapons!$A$133:$DB$133, 0)),0)","v":0},{"$f":"IFERROR(INDEX(char3ArtiSetStats, MATCH('Char 3'!$L$14,artisDB!$A$117:$A$173, 0), MATCH(C118, artisDB!$A$117:$AP$117, 0))+INDEX(char3ArtiSetStats, MATCH('Char 3'!$L$15, artisDB!$A$117:$A$173, 0), MATCH(C118, artisDB!$A$117:$AP$117, 0)),0)","v":0},{"$f":"IF($Q$113=TRUE, SUM('Char 3'!$AL22:$AP22), IFERROR(INDEX('Char 3'!$X$27:$Z$36, MATCH(C118, 'Char 3'!$X$27:$X$36, 0), 3)*HLOOKUP('Char 3'!$Z$7, artifactSubstatValues, MATCH(C118, 'Artifact Database'!$A$1:$A$11, 0)),0))","v":0.7944},{"$f":"VLOOKUP(C118, 'Char 3'!$R$5:$T$50, 3,0)","v":0},null,1.2944,null,null,null,"Transformative Rxn Mults",null,null,null,null,{"$f":"INDEX('Char Stats'!$A$1:$G$795, $U$113, 6)","v":"CR%"},{"$f":"INDEX(INDIRECT(char3Name&\"BaseStats\"), MATCH(char3Level,  INDEX(INDIRECT(char3Name&\"BaseStats\"), 0, 1), 0), MATCH(T118, INDEX(INDIRECT(char3Name&\"BaseStats\"), 1, 0), 0))*IF(NOT(T118=\"EM\"), 0.01, 1)","v":0.05}]
[null,null,"ER%",0,0,{"$f":"IFERROR(INDEX(char3Weapons, MATCH(C119, weapons!$A$133:$A$197, 0), MATCH(char3WeaponName,weapons!$A$133:$DB$133, 0)),0)","v":0},{"$f":"IFERROR(INDEX(char3ArtiSetStats, MATCH('Char 3'!$L$14,artisDB!$A$117:$A$173, 0), MATCH(C119, artisDB!$A$117:$AP$117, 0))+INDEX(char3ArtiSetStats, MATCH('Char 3'!$L$15, artisDB!$A$117:$A$173, 0), MATCH(C119, artisDB!$A$117:$AP$117, 0)),0)","v":0},{"$f":"IF($Q$113=TRUE, SUM('Char 3'!$AL23:$AP23), IFERROR(INDEX('Char 3'!$X$27:$Z$36, MATCH(C119, 'Char 3'!$X$27:$X$36, 0), 3)*HLOOKUP('Char 3'!$Z$7, artifactSubstatValues, MATCH(C119, 'Artifact Database'!$A$1:$A$11, 0)),0))","v":0.11020000000000001},{"$f":"VLOOKUP(C119, 'Char 3'!$R$5:$T$50, 3,0)","v":0},null,{"$f":"SUM(D119:J119)+100%","v":1.1102000000000001},null,null,null,null,null,null,null,null,{"$f":"INDEX('Char Stats'!$A$1:$G$795, $U$113, 7)","v":"CDMG%"},{"$f":"INDEX(INDIRECT(char3Name&\"BaseStats\"), MATCH(char3Level, INDEX(INDIRECT(char3Name&\"BaseStats\"), 0, 1), 0), MATCH(T119, INDEX(INDIRECT(char3Name&\"BaseStats\"), 1, 0), 0))*IF(NOT(T119=\"EM\"), 0.01, 1)","v":0.5}]
[null,null,"DMG%",0,0,{"$f":"IFERROR(INDEX(char3Weapons, MATCH(C120, weapons!$A$133:$A$197, 0), MATCH(char3WeaponName,weapons!$A$133:$DB$133, 0)),0)","v":0.8},{"$f":"IFERROR(INDEX(char3ArtiSetStats, MATCH('Char 3'!$L$14,artisDB!$A$117:$A$173, 0), MATCH(C120, artisDB!$A$117:$AP$117, 0))+INDEX(char3ArtiSetStats, MATCH('Char 3'!$L$15, artisDB!$A$117:$A$173, 0), MATCH(C120, artisDB!$A$117:$AP$117, 0)),0)","v":0},{"$f":"IFERROR(INDEX('Char 3'!$X$27:$Z$36, MATCH(C120, 'Char 3'!$X$27:$X$36, 0), 3)*HLOOKUP('Char 3'!$Z$7, artifactSubstatValues, MATCH(C120, 'Artifact Database'!$A$1:$A$11, 0)),0)","v":0},{"$f":"VLOOKUP(C120, 'Char 3'!$R$5:$T$50, 3,0)","v":0},null,0.8,null,null,null,"Character Level",null,{"$f":"VALUE(LEFT(Q109, 2))","v":90}]
[null,null,"Phys DMG%",0,0,{"$f":"IFERROR(INDEX(char3Weapons, MATCH(C121, weapons!$A$133:$A$197, 0), MATCH(char3WeaponName,weapons!$A$133:$DB$133, 0)),0)","v":0},{"$f":"IFERROR(INDEX(char3ArtiSetStats, MATCH('Char 3'!$L$14,artisDB!$A$117:$A$173, 0), MATCH(C121, artisDB!$A$117:$AP$117, 0))+INDEX(char3ArtiSetStats, MATCH('Char 3'!$L$15, artisDB!$A$117:$A$173, 0), MATCH(C121, artisDB!$A$117:$AP$117, 0)),0)","v":0},{"$f":"IFERROR(INDEX('Char 3'!$X$27:$Z$36, MATCH(C121, 'Char 3'!$X$27:$X$36, 0), 3)*HLOOKUP('Char 3'!$Z$7, artifactSubstatValues, MATCH(C121, 'Artifact Database'!$A$1:$A$11, 0)),0)","v":0},{"$f":"VLOOKUP(C121, 'Char 3'!$R$5:$T$50, 3,0)","v":0},null,0,null,null,null,"Enemy Level",null,{"$f":"'Char 1'!$E$29","v":100}]
[null,null,"Anemo DMG%",0,0,{"$f":"IFERROR(INDEX(char3Weapons, MATCH(C122, weapons!$A$133:$A$197, 0), MATCH(char3WeaponName,weapons!$A$133:$DB$133, 0)),0)","v":0},{"$f":"IFERROR(INDEX(char3ArtiSetStats, MATCH('Char 3'!$L$14,artisDB!$A$117:$A$173, 0), MATCH(C122, artisDB!$A$117:$AP$117, 0))+INDEX(char3ArtiSetStats, MATCH('Char 3'!$L$15, artisDB!$A$117:$A$173, 0), MATCH(C122, artisDB!$A$117:$AP$117, 0)),0)","v":0},{"$f":"IFERROR(INDEX('Char 3'!$X$27:$Z$36, MATCH(C122, 'Char 3'!$X$27:$X$36, 0), 3)*HLOOKUP('Char 3'!$Z$7, artifactSubstatValues, MATCH(C122, 'Artifact Database'!$A$1:$A$11, 0)),0)","v":0},{"$f":"VLOOKUP(C122, 'Char 3'!$R$5:$T$50, 3,0)","v":0},null,0,null,null,null,"Reaction Multiplier",null,{"$f":"IF(Q120<60, 0.0002325*Q120^3+0.05547*Q120^2-0.2523*Q120+14.47, 0.00194*Q120^3-0.319*Q120^2+30.7*Q120-868)","v":725.3599999999999}]
[null,null,"Geo DMG%",0,0.28800000000000003,{"$f":"IFERROR(INDEX(char3Weapons, MATCH(C123, weapons!$A$133:$A$197, 0), MATCH(char3WeaponName,weapons!$A$133:$DB$133, 0)),0)","v":0},{"$f":"IFERROR(INDEX(char3ArtiSetStats, MATCH('Char 3'!$L$14,artisDB!$A$117:$A$173, 0), MATCH(C123, artisDB!$A$117:$AP$117, 0))+INDEX(char3ArtiSetStats, MATCH('Char 3'!$L$15, artisDB!$A$117:$A$173, 0), MATCH(C123, artisDB!$A$117:$AP$117, 0)),0)","v":0},{"$f":"IFERROR(INDEX('Char 3'!$X$27:$Z$36, MATCH(C123, 'Char 3'!$X$27:$X$36, 0), 3)*HLOOKUP('Char 3'!$Z$7, artifactSubstatValues, MATCH(C123, 'Artifact Database'!$A$1:$A$11, 0)),0)","v":0},{"$f":"VLOOKUP(C123, 'Char 3'!$R$5:$T$50, 3,0)","v":0},null,0.28800000000000003]
[null,null,"Pyro DMG%",0,0,{"$f":"IFERROR(INDEX(char3Weapons, MATCH(C124, weapons!$A$133:$A$197, 0), MATCH(char3WeaponName,weapons!$A$133:$DB$133, 0)),0)","v":0},{"$f":"IFERROR(INDEX(char3ArtiSetStats, MATCH('Char 3'!$L$14,artisDB!$A$117:$A$173, 0), MATCH(C124, artisDB!$A$117:$AP$117, 0))+INDEX(char3ArtiSetStats, MATCH('Char 3'!$L$15, artisDB!$A$117:$A$173, 0), MATCH(C124, artisDB!$A$117:$AP$117, 0)),0)","v":0},{"$f":"IFERROR(INDEX('Char 3'!$X$27:$Z$36, MATCH(C124, 'Char 3'!$X$27:$X$36, 0), 3)*HLOOKUP('Char 3'!$Z$7, artifactSubstatValues, MATCH(C124, 'Artifact Database'!$A$1:$A$11, 0)),0)","v":0},{"$f":"VLOOKUP(C124, 'Char 3'!$R$5:$T$50, 3,0)","v":0},null,0]
[null,null,"Cryo DMG%",0,0,{"$f":"IFERROR(INDEX(char3Weapons, MATCH(C125, weapons!$A$133:$A$197, 0), MATCH(char3WeaponName,weapons!$A$133:$DB$133, 0)),0)","v":0},{"$f":"IFERROR(INDEX(char3ArtiSetStats, MATCH('Char 3'!$L$14,artisDB!$A$117:$A$173, 0), MATCH(C125, artisDB!$A$117:$AP$117, 0))+INDEX(char3ArtiSetStats, MATCH('Char 3'!$L$15, artisDB!$A$117:$A$173, 0), MATCH(C125, artisDB!$A$117:$AP$117, 0)),0)","v":0},{"$f":"IFERROR(INDEX('Char 3'!$X$27:$Z$36, MATCH(C125, 'Char 3'!$X$27:$X$36, 0), 3)*HLOOKUP('Char 3'!$Z$7, artifactSubstatValues, MATCH(C125, 'Artifact Database'!$A$1:$A$11, 0)),0)","v":0},{"$f":"VLOOKUP(C125, 'Char 3'!$R$5:$T$50, 3,0)","v":0},null,0]
[null,null,"Hydro DMG%",0,0,{"$f":"IFERROR(INDEX(char3Weapons, MATCH(C126, weapons!$A$133:$A$197, 0), MATCH(char3WeaponName,weapons!$A$133:$DB$133, 0)),0)","v":0},{"$f":"IFERROR(INDEX(char3ArtiSetStats, MATCH('Char 3'!$L$14,artisDB!$A$117:$A$173, 0), MATCH(C126, artisDB!$A$117:$AP$117, 0))+INDEX(char3ArtiSetStats, MATCH('Char 3'!$L$15, artisDB!$A$117:$A$173, 0), MATCH(C126, artisDB!$A$117:$AP$117, 0)),0)","v":0},{"$f":"IFERROR(INDEX('Char 3'!$X$27:$Z$36, MATCH(C126, 'Char 3'!$X$27:$X$36, 0), 3)*HLOOKUP('Char 3'!$Z$7, artifactSubstatValues, MATCH(C126, 'Artifact Database'!$A$1:$A$11, 0)),0)","v":0},{"$f":"VLOOKUP(C126, 'Char 3'!$R$5:$T$50, 3,0)","v":0},null,0,null,null,null,"Calc Information"]
[null,null,"Electro DMG%",0,0,{"$f":"IFERROR(INDEX(char3Weapons, MATCH(C127, weapons!$A$133:$A$197, 0), MATCH(char3WeaponName,weapons!$A$133:$DB$133, 0)),0)","v":0},{"$f":"IFERROR(INDEX(char3ArtiSetStats, MATCH('Char 3'!$L$14,artisDB!$A$117:$A$173, 0), MATCH(C127, artisDB!$A$117:$AP$117, 0))+INDEX(char3ArtiSetStats, MATCH('Char 3'!$L$15, artisDB!$A$117:$A$173, 0), MATCH(C127, artisDB!$A$117:$AP$117, 0)),0)","v":0},{"$f":"IFERROR(INDEX('Char 3'!$X$27:$Z$36, MATCH(C127, 'Char 3'!$X$27:$X$36, 0), 3)*HLOOKUP('Char 3'!$Z$7, artifactSubstatValues, MATCH(C127, 'Artifact Database'!$A$1:$A$11, 0)),0)","v":0},{"$f":"VLOOKUP(C127, 'Char 3'!$R$5:$T$50, 3,0)","v":0},null,0]
[null,null,"Normal DMG%",0,0,{"$f":"IFERROR(INDEX(char3Weapons, MATCH(C128, weapons!$A$133:$A$197, 0), MATCH(char3WeaponName,weapons!$A$133:$DB$133, 0)),0)","v":0},{"$f":"IFERROR(INDEX(char3ArtiSetStats, MATCH('Char 3'!$L$14,artisDB!$A$117:$A$173, 0), MATCH(C128, artisDB!$A$117:$AP$117, 0))+INDEX(char3ArtiSetStats, MATCH('Char 3'!$L$15, artisDB!$A$117:$A$173, 0), MATCH(C128, artisDB!$A$117:$AP$117, 0)),0)","v":0},{"$f":"IFERROR(INDEX('Char 3'!$X$27:$Z$36, MATCH(C128, 'Char 3'!$X$27:$X$36, 0), 3)*HLOOKUP('Char 3'!$Z$7, artifactSubstatValues, MATCH(C128, 'Artifact Database'!$A$1:$A$11, 0)),0)","v":0},{"$f":"VLOOKUP(C128, 'Char 3'!$R$5:$T$50, 3,0)","v":0},null,0,null,null,null,"Weapon Base ATK",null,{"$f":"INDEX(char3Weapons, MATCH(\"Base ATK\", weapons!$A$133:$A$197, 0), MATCH(char3WeaponName, weapons!$A$133:$DB$133, 0))","v":354}]
[null,null,"Charged DMG%",0,0,{"$f":"IFERROR(INDEX(char3Weapons, MATCH(C129, weapons!$A$133:$A$197, 0), MATCH(char3WeaponName,weapons!$A$133:$DB$133, 0)),0)","v":0},{"$f":"IFERROR(INDEX(char3ArtiSetStats, MATCH('Char 3'!$L$14,artisDB!$A$117:$A$173, 0), MATCH(C129, artisDB!$A$117:$AP$117, 0))+INDEX(char3ArtiSetStats, MATCH('Char 3'!$L$15, artisDB!$A$117:$A$173, 0), MATCH(C129, artisDB!$A$117:$AP$117, 0)),0)","v":0},{"$f":"IFERROR(INDEX('Char 3'!$X$27:$Z$36, MATCH(C129, 'Char 3'!$X$27:$X$36, 0), 3)*HLOOKUP('Char 3'!$Z$7, artifactSubstatValues, MATCH(C129, 'Artifact Database'!$A$1:$A$11, 0)),0)","v":0},{"$f":"VLOOKUP(C129, 'Char 3'!$R$5:$T$50, 3,0)","v":0},null,0,null,null,null,"Character Base ATK",null,{"$f":"U115","v":251}]
[null,null,"Plunging DMG%",0,0,{"$f":"IFERROR(INDEX(char3Weapons, MATCH(C130, weapons!$A$133:$A$197, 0), MATCH(char3WeaponName,weapons!$A$133:$DB$133, 0)),0)","v":0},{"$f":"IFERROR(INDEX(char3ArtiSetStats, MATCH('Char 3'!$L$14,artisDB!$A$117:$A$173, 0), MATCH(C130, artisDB!$A$117:$AP$117, 0))+INDEX(char3ArtiSetStats, MATCH('Char 3'!$L$15, artisDB!$A$117:$A$173, 0), MATCH(C130, artisDB!$A$117:$AP$117, 0)),0)","v":0},{"$f":"IFERROR(INDEX('Char 3'!$X$27:$Z$36, MATCH(C130, 'Char 3'!$X$27:$X$36, 0), 3)*HLOOKUP('Char 3'!$Z$7, artifactSubstatValues, MATCH(C130, 'Artifact Database'!$A$1:$A$11, 0)),0)","v":0},{"$f":"VLOOKUP(C130, 'Char 3'!$R$5:$T$50, 3,0)","v":0},null,0,null,null,null,"Character Base DEF",null,{"$f":"U116","v":738}]
[null,null,"Skill DMG%",0,0,{"$f":"IFERROR(INDEX(char3Weapons, MATCH(C131, weapons!$A$133:$A$197, 0), MATCH(char3WeaponName,weapons!$A$133:$DB$133, 0)),0)","v":0},{"$f":"IFERROR(INDEX(char3ArtiSetStats, MATCH('Char 3'!$L$14,artisDB!$A$117:$A$173, 0), MATCH(C131, artisDB!$A$117:$AP$117, 0))+INDEX(char3ArtiSetStats, MATCH('Char 3'!$L$15, artisDB!$A$117:$A$173, 0), MATCH(C131, artisDB!$A$117:$AP$117, 0)),0)","v":0},{"$f":"IFERROR(INDEX('Char 3'!$X$27:$Z$36, MATCH(C131, 'Char 3'!$X$27:$X$36, 0), 3)*HLOOKUP('Char 3'!$Z$7, artifactSubstatValues, MATCH(C131, 'Artifact Database'!$A$1:$A$11, 0)),0)","v":0},{"$f":"VLOOKUP(C131, 'Char 3'!$R$5:$T$50, 3,0)","v":0},null,0,null,null,null,"Character Base HP",null,{"$f":"U114","v":14695}]
[null,null,"Burst DMG%",0,0,{"$f":"IFERROR(INDEX(char3Weapons, MATCH(C132, weapons!$A$133:$A$197, 0), MATCH(char3WeaponName,weapons!$A$133:$DB$133, 0)),0)","v":0},{"$f":"IFERROR(INDEX(char3ArtiSetStats, MATCH('Char 3'!$L$14,artisDB!$A$117:$A$173, 0), MATCH(C132, artisDB!$A$117:$AP$117, 0))+INDEX(char3ArtiSetStats, MATCH('Char 3'!$L$15, artisDB!$A$117:$A$173, 0), MATCH(C132, artisDB!$A$117:$AP$117, 0)),0)","v":0},{"$f":"IFERROR(INDEX('Char 3'!$X$27:$Z$36, MATCH(C132, 'Char 3'!$X$27:$X$36, 0), 3)*HLOOKUP('Char 3'!$Z$7, artifactSubstatValues, MATCH(C132, 'Artifact Database'!$A$1:$A$11, 0)),0)","v":0},{"$f":"VLOOKUP(C132, 'Char 3'!$R$5:$T$50, 3,0)","v":0},null,0]
[null,null,"Swirl%",0,0,{"$f":"IFERROR(INDEX(char3Weapons, MATCH(C133, weapons!$A$133:$A$197, 0), MATCH(char3WeaponName,weapons!$A$133:$DB$133, 0)),0)","v":0},{"$f":"IFERROR(INDEX(char3ArtiSetStats, MATCH('Char 3'!$L$14,artisDB!$A$117:$A$173, 0), MATCH(C133, artisDB!$A$117:$AP$117, 0))+INDEX(char3ArtiSetStats, MATCH('Char 3'!$L$15, artisDB!$A$117:$A$173, 0), MATCH(C133, artisDB!$A$117:$AP$117, 0)),0)","v":0},{"$f":"IFERROR(INDEX('Char 3'!$X$27:$Z$36, MATCH(C133, 'Char 3'!$X$27:$X$36, 0), 3)*HLOOKUP('Char 3'!$Z$7, artifactSubstatValues, MATCH(C133, 'Artifact Database'!$A$1:$A$11, 0)),0)","v":0},{"$f":"VLOOKUP(C133, 'Char 3'!$R$5:$T$50, 3,0)","v":0},null,0]
[null,null,"Overload%",0,0,{"$f":"IFERROR(INDEX(char3Weapons, MATCH(C134, weapons!$A$133:$A$197, 0), MATCH(char3WeaponName,weapons!$A$133:$DB$133, 0)),0)","v":0},{"$f":"IFERROR(INDEX(char3ArtiSetStats, MATCH('Char 3'!$L$14,artisDB!$A$117:$A$173, 0), MATCH(C134, artisDB!$A$117:$AP$117, 0))+INDEX(char3ArtiSetStats, MATCH('Char 3'!$L$15, artisDB!$A$117:$A$173, 0), MATCH(C134, artisDB!$A$117:$AP$117, 0)),0)","v":0},{"$f":"IFERROR(INDEX('Char 3'!$X$27:$Z$36, MATCH(C134, 'Char 3'!$X$27:$X$36, 0), 3)*HLOOKUP('Char 3'!$Z$7, artifactSubstatValues, MATCH(C134, 'Artifact Database'!$A$1:$A$11, 0)),0)","v":0},{"$f":"VLOOKUP(C134, 'Char 3'!$R$5:$T$50, 3,0)","v":0},null,0]
[null,null,"Crystallize%",0,0,{"$f":"IFERROR(INDEX(char3Weapons, MATCH(C135, weapons!$A$133:$A$197, 0), MATCH(char3WeaponName,weapons!$A$133:$DB$133, 0)),0)","v":0},{"$f":"IFERROR(INDEX(char3ArtiSetStats, MATCH('Char 3'!$L$14,artisDB!$A$117:$A$173, 0), MATCH(C135, artisDB!$A$117:$AP$117, 0))+INDEX(char3ArtiSetStats, MATCH('Char 3'!$L$15, artisDB!$A$117:$A$173, 0), MATCH(C135, artisDB!$A$117:$AP$117, 0)),0)","v":0},{"$f":"IFERROR(INDEX('Char 3'!$X$27:$Z$36, MATCH(C135, 'Char 3'!$X$27:$X$36, 0), 3)*HLOOKUP('Char 3'!$Z$7, artifactSubstatValues, MATCH(C135, 'Artifact Database'!$A$1:$A$11, 0)),0)","v":0},{"$f":"VLOOKUP(C135, 'Char 3'!$R$5:$T$50, 3,0)","v":0},null,0,null,null,null,"Attack DMG Type Info"]
[null,null,"Electrocharged%",0,0,{"$f":"IFERROR(INDEX(char3Weapons, MATCH(C136, weapons!$A$133:$A$197, 0), MATCH(char3WeaponName,weapons!$A$133:$DB$133, 0)),0)","v":0},{"$f":"IFERROR(INDEX(char3ArtiSetStats, MATCH('Char 3'!$L$14,artisDB!$A$117:$A$173, 0), MATCH(C136, artisDB!$A$117:$AP$117, 0))+INDEX(char3ArtiSetStats, MATCH('Char 3'!$L$15, artisDB!$A$117:$A$173, 0), MATCH(C136, artisDB!$A$117:$AP$117, 0)),0)","v":0},{"$f":"IFERROR(INDEX('Char 3'!$X$27:$Z$36, MATCH(C136, 'Char 3'!$X$27:$X$36, 0), 3)*HLOOKUP('Char 3'!$Z$7, artifactSubstatValues, MATCH(C136, 'Artifact Database'!$A$1:$A$11, 0)),0)","v":0},{"$f":"VLOOKUP(C136, 'Char 3'!$R$5:$T$50, 3,0)","v":0},null,0]
[null,null,"Superconduct%",0,0,{"$f":"IFERROR(INDEX(char3Weapons, MATCH(C137, weapons!$A$133:$A$197, 0), MATCH(char3WeaponName,weapons!$A$133:$DB$133, 0)),0)","v":0},{"$f":"IFERROR(INDEX(char3ArtiSetStats, MATCH('Char 3'!$L$14,artisDB!$A$117:$A$173, 0), MATCH(C137, artisDB!$A$117:$AP$117, 0))+INDEX(char3ArtiSetStats, MATCH('Char 3'!$L$15, artisDB!$A$117:$A$173, 0), MATCH(C137, artisDB!$A$117:$AP$117, 0)),0)","v":0},{"$f":"IFERROR(INDEX('Char 3'!$X$27:$Z$36, MATCH(C137, 'Char 3'!$X$27:$X$36, 0), 3)*HLOOKUP('Char 3'!$Z$7, artifactSubstatValues, MATCH(C137, 'Artifact Database'!$A$1:$A$11, 0)),0)","v":0},{"$f":"VLOOKUP(C137, 'Char 3'!$R$5:$T$50, 3,0)","v":0},null,0,null,null,null,"Skill Echo Type",null,{"$f":"'Char 3'!E20","v":"skill"}]
[null,null,"Shatter%",0,0,{"$f":"IFERROR(INDEX(char3Weapons, MATCH(C138, weapons!$A$133:$A$197, 0), MATCH(char3WeaponName,weapons!$A$133:$DB$133, 0)),0)","v":0},{"$f":"IFERROR(INDEX(char3ArtiSetStats, MATCH('Char 3'!$L$14,artisDB!$A$117:$A$173, 0), MATCH(C138, artisDB!$A$117:$AP$117, 0))+INDEX(char3ArtiSetStats, MATCH('Char 3'!$L$15, artisDB!$A$117:$A$173, 0), MATCH(C138, artisDB!$A$117:$AP$117, 0)),0)","v":0},{"$f":"IFERROR(INDEX('Char 3'!$X$27:$Z$36, MATCH(C138, 'Char 3'!$X$27:$X$36, 0), 3)*HLOOKUP('Char 3'!$Z$7, artifactSubstatValues, MATCH(C138, 'Artifact Database'!$A$1:$A$11, 0)),0)","v":0},{"$f":"VLOOKUP(C138, 'Char 3'!$R$5:$T$50, 3,0)","v":0},null,0,null,null,null,"Burst Echo Type",null,{"$f":"'Char 3'!E23","v":"burst"}]
[null,null,"Melt%",0,0,{"$f":"IFERROR(INDEX(char3Weapons, MATCH(C139, weapons!$A$133:$A$197, 0), MATCH(char3WeaponName,weapons!$A$133:$DB$133, 0)),0)","v":0},{"$f":"IFERROR(INDEX(char3ArtiSetStats, MATCH('Char 3'!$L$14,artisDB!$A$117:$A$173, 0), MATCH(C139, artisDB!$A$117:$AP$117, 0))+INDEX(char3ArtiSetStats, MATCH('Char 3'!$L$15, artisDB!$A$117:$A$173, 0), MATCH(C139, artisDB!$A$117:$AP$117, 0)),0)","v":0},{"$f":"IFERROR(INDEX('Char 3'!$X$27:$Z$36, MATCH(C139, 'Char 3'!$X$27:$X$36, 0), 3)*HLOOKUP('Char 3'!$Z$7, artifactSubstatValues, MATCH(C139, 'Artifact Database'!$A$1:$A$11, 0)),0)","v":0},{"$f":"VLOOKUP(C139, 'Char 3'!$R$5:$T$50, 3,0)","v":0},null,0]
[null,null,"Vaporize%",0,0,{"$f":"IFERROR(INDEX(char3Weapons, MATCH(C140, weapons!$A$133:$A$197, 0), MATCH(char3WeaponName,weapons!$A$133:$DB$133, 0)),0)","v":0},{"$f":"IFERROR(INDEX(char3ArtiSetStats, MATCH('Char 3'!$L$14,artisDB!$A$117:$A$173, 0), MATCH(C140, artisDB!$A$117:$AP$117, 0))+INDEX(char3ArtiSetStats, MATCH('Char 3'!$L$15, artisDB!$A$117:$A$173, 0), MATCH(C140, artisDB!$A$117:$AP$117, 0)),0)","v":0},{"$f":"IFERROR(INDEX('Char 3'!$X$27:$Z$36, MATCH(C140, 'Char 3'!$X$27:$X$36, 0), 3)*HLOOKUP('Char 3'!$Z$7, artifactSubstatValues, MATCH(C140, 'Artifact Database'!$A$1:$A$11, 0)),0)","v":0},{"$f":"VLOOKUP(C140, 'Char 3'!$R$5:$T$50, 3,0)","v":0},null,0]
[null,null,"DEF Shred",0,0,{"$f":"IFERROR(INDEX(char3Weapons, MATCH(C141, weapons!$A$133:$A$197, 0), MATCH(char3WeaponName,weapons!$A$133:$DB$133, 0)),0)","v":0},{"$f":"IFERROR(INDEX(char3ArtiSetStats, MATCH('Char 3'!$L$14,artisDB!$A$117:$A$173, 0), MATCH(C141, artisDB!$A$117:$AP$117, 0))+INDEX(char3ArtiSetStats, MATCH('Char 3'!$L$15, artisDB!$A$117:$A$173, 0), MATCH(C141, artisDB!$A$117:$AP$117, 0)),0)","v":0},{"$f":"IFERROR(INDEX('Char 3'!$X$27:$Z$36, MATCH(C141, 'Char 3'!$X$27:$X$36, 0), 3)*HLOOKUP('Char 3'!$Z$7, artifactSubstatValues, MATCH(C141, 'Artifact Database'!$A$1:$A$11, 0)),0)","v":0},{"$f":"VLOOKUP(C141, 'Char 3'!$R$5:$T$50, 3,0)","v":0},null,0]
[null,null,"Shield Strength%",0,0,{"$f":"IFERROR(INDEX(char3Weapons, MATCH(C142, weapons!$A$133:$A$197, 0), MATCH(char3WeaponName,weapons!$A$133:$DB$133, 0)),0)","v":0},{"$f":"IFERROR(INDEX(char3ArtiSetStats, MATCH('Char 3'!$L$14,artisDB!$A$117:$A$173, 0), MATCH(C142, artisDB!$A$117:$AP$117, 0))+INDEX(char3ArtiSetStats, MATCH('Char 3'!$L$15, artisDB!$A$117:$A$173, 0), MATCH(C142, artisDB!$A$117:$AP$117, 0)),0)","v":0},{"$f":"IFERROR(INDEX('Char 3'!$X$27:$Z$36, MATCH(C142, 'Char 3'!$X$27:$X$36, 0), 3)*HLOOKUP('Char 3'!$Z$7, artifactSubstatValues, MATCH(C142, 'Artifact Database'!$A$1:$A$11, 0)),0)","v":0},{"$f":"VLOOKUP(C142, 'Char 3'!$R$5:$T$50, 3,0)","v":0},null,0,null,null,null,"Enemy Defense Mult"]
[null,null,"Phys RES%",0,0,{"$f":"IFERROR(INDEX(char3Weapons, MATCH(C143, weapons!$A$133:$A$197, 0), MATCH(char3WeaponName,weapons!$A$133:$DB$133, 0)),0)","v":0},{"$f":"IFERROR(INDEX(char3ArtiSetStats, MATCH('Char 3'!$L$14,artisDB!$A$117:$A$173, 0), MATCH(C143, artisDB!$A$117:$AP$117, 0))+INDEX(char3ArtiSetStats, MATCH('Char 3'!$L$15, artisDB!$A$117:$A$173, 0), MATCH(C143, artisDB!$A$117:$AP$117, 0)),0)","v":0},{"$f":"IFERROR(INDEX('Char 3'!$X$27:$Z$36, MATCH(C143, 'Char 3'!$X$27:$X$36, 0), 3)*HLOOKUP('Char 3'!$Z$7, artifactSubstatValues, MATCH(C143, 'Artifact Database'!$A$1:$A$11, 0)),0)","v":0},{"$f":"VLOOKUP(C143, 'Char 3'!$R$5:$T$50, 3,0)","v":0},null,0]
[null,null,"Healing Bonus%",0,0,{"$f":"IFERROR(INDEX(char3Weapons, MATCH(C144, weapons!$A$133:$A$197, 0), MATCH(char3WeaponName,weapons!$A$133:$DB$133, 0)),0)","v":0},{"$f":"IFERROR(INDEX(char3ArtiSetStats, MATCH('Char 3'!$L$14,artisDB!$A$117:$A$173, 0), MATCH(C144, artisDB!$A$117:$AP$117, 0))+INDEX(char3ArtiSetStats, MATCH('Char 3'!$L$15, artisDB!$A$117:$A$173, 0), MATCH(C144, artisDB!$A$117:$AP$117, 0)),0)","v":0},{"$f":"IFERROR(INDEX('Char 3'!$X$27:$Z$36, MATCH(C144, 'Char 3'!$X$27:$X$36, 0), 3)*HLOOKUP('Char 3'!$Z$7, artifactSubstatValues, MATCH(C144, 'Artifact Database'!$A$1:$A$11, 0)),0)","v":0},{"$f":"VLOOKUP(C144, 'Char 3'!$R$5:$T$50, 3,0)","v":0},{"$f":"IF(char3Name = \"Kokomi\", 25%, 0%)","v":0},0,null,null,null,"Multiplier",null,{"$f":"(char3LevelNum+100)/((char3LevelNum+100)+(enemyLevel+100)*(1-K141))","v":0.48717948717948717}]
[null,null,"Healing Received%",0,0,{"$f":"IFERROR(INDEX(char3Weapons, MATCH(C145, weapons!$A$133:$A$197, 0), MATCH(char3WeaponName,weapons!$A$133:$DB$133, 0)),0)","v":0},{"$f":"IFERROR(INDEX(char3ArtiSetStats, MATCH('Char 3'!$L$14,artisDB!$A$117:$A$173, 0), MATCH(C145, artisDB!$A$117:$AP$117, 0))+INDEX(char3ArtiSetStats, MATCH('Char 3'!$L$15, artisDB!$A$117:$A$173, 0), MATCH(C145, artisDB!$A$117:$AP$117, 0)),0)","v":0},{"$f":"IFERROR(INDEX('Char 3'!$X$27:$Z$36, MATCH(C145, 'Char 3'!$X$27:$X$36, 0), 3)*HLOOKUP('Char 3'!$Z$7, artifactSubstatValues, MATCH(C145, 'Artifact Database'!$A$1:$A$11, 0)),0)","v":0},{"$f":"VLOOKUP(C145, 'Char 3'!$R$5:$T$50, 3,0)","v":0},null,0]
[null,null,"Anemo RES%",0,0,{"$f":"IFERROR(INDEX(char3Weapons, MATCH(C146, weapons!$A$133:$A$197, 0), MATCH(char3WeaponName,weapons!$A$133:$DB$133, 0)),0)","v":0},{"$f":"IFERROR(INDEX(char3ArtiSetStats, MATCH('Char 3'!$L$14,artisDB!$A$117:$A$173, 0), MATCH(C146, artisDB!$A$117:$AP$117, 0))+INDEX(char3ArtiSetStats, MATCH('Char 3'!$L$15, artisDB!$A$117:$A$173, 0), MATCH(C146, artisDB!$A$117:$AP$117, 0)),0)","v":0},{"$f":"IFERROR(INDEX('Char 3'!$X$27:$Z$36, MATCH(C146, 'Char 3'!$X$27:$X$36, 0), 3)*HLOOKUP('Char 3'!$Z$7, artifactSubstatValues, MATCH(C146, 'Artifact Database'!$A$1:$A$11, 0)),0)","v":0},{"$f":"VLOOKUP(C146, 'Char 3'!$R$5:$T$50, 3,0)","v":0},null,0]
[null,null,"Geo RES%",0,0,{"$f":"IFERROR(INDEX(char3Weapons, MATCH(C147, weapons!$A$133:$A$197, 0), MATCH(char3WeaponName,weapons!$A$133:$DB$133, 0)),0)","v":0},{"$f":"IFERROR(INDEX(char3ArtiSetStats, MATCH('Char 3'!$L$14,artisDB!$A$117:$A$173, 0), MATCH(C147, artisDB!$A$117:$AP$117, 0))+INDEX(char3ArtiSetStats, MATCH('Char 3'!$L$15, artisDB!$A$117:$A$173, 0), MATCH(C147, artisDB!$A$117:$AP$117, 0)),0)","v":0},{"$f":"IFERROR(INDEX('Char 3'!$X$27:$Z$36, MATCH(C147, 'Char 3'!$X$27:$X$36, 0), 3)*HLOOKUP('Char 3'!$Z$7, artifactSubstatValues, MATCH(C147, 'Artifact Database'!$A$1:$A$11, 0)),0)","v":0},{"$f":"VLOOKUP(C147, 'Char 3'!$R$5:$T$50, 3,0)","v":0},null,0]
[null,null,"Pyro RES%",0,0,{"$f":"IFERROR(INDEX(char3Weapons, MATCH(C148, weapons!$A$133:$A$197, 0), MATCH(char3WeaponName,weapons!$A$133:$DB$133, 0)),0)","v":0},{"$f":"IFERROR(INDEX(char3ArtiSetStats, MATCH('Char 3'!$L$14,artisDB!$A$117:$A$173, 0), MATCH(C148, artisDB!$A$117:$AP$117, 0))+INDEX(char3ArtiSetStats, MATCH('Char 3'!$L$15, artisDB!$A$117:$A$173, 0), MATCH(C148, artisDB!$A$117:$AP$117, 0)),0)","v":0},{"$f":"IFERROR(INDEX('Char 3'!$X$27:$Z$36, MATCH(C148, 'Char 3'!$X$27:$X$36, 0), 3)*HLOOKUP('Char 3'!$Z$7, artifactSubstatValues, MATCH(C148, 'Artifact Database'!$A$1:$A$11, 0)),0)","v":0},{"$f":"VLOOKUP(C148, 'Char 3'!$R$5:$T$50, 3,0)","v":0},null,0,null,null,null,"Final Info"]
[null,null,"Cryo RES%",0,0,{"$f":"IFERROR(INDEX(char3Weapons, MATCH(C149, weapons!$A$133:$A$197, 0), MATCH(char3WeaponName,weapons!$A$133:$DB$133, 0)),0)","v":0},{"$f":"IFERROR(INDEX(char3ArtiSetStats, MATCH('Char 3'!$L$14,artisDB!$A$117:$A$173, 0), MATCH(C149, artisDB!$A$117:$AP$117, 0))+INDEX(char3ArtiSetStats, MATCH('Char 3'!$L$15, artisDB!$A$117:$A$173, 0), MATCH(C149, artisDB!$A$117:$AP$117, 0)),0)","v":0},{"$f":"IFERROR(INDEX('Char 3'!$X$27:$Z$36, MATCH(C149, 'Char 3'!$X$27:$X$36, 0), 3)*HLOOKUP('Char 3'!$Z$7, artifactSubstatValues, MATCH(C149, 'Artifact Database'!$A$1:$A$11, 0)),0)","v":0},{"$f":"VLOOKUP(C149, 'Char 3'!$R$5:$T$50, 3,0)","v":0},null,0]
[null,null,"Hydro RES%",0,0,{"$f":"IFERROR(INDEX(char3Weapons, MATCH(C150, weapons!$A$133:$A$197, 0), MATCH(char3WeaponName,weapons!$A$133:$DB$133, 0)),0)","v":0},{"$f":"IFERROR(INDEX(char3ArtiSetStats, MATCH('Char 3'!$L$14,artisDB!$A$117:$A$173, 0), MATCH(C150, artisDB!$A$117:$AP$117, 0))+INDEX(char3ArtiSetStats, MATCH('Char 3'!$L$15, artisDB!$A$117:$A$173, 0), MATCH(C150, artisDB!$A$117:$AP$117, 0)),0)","v":0},{"$f":"IFERROR(INDEX('Char 3'!$X$27:$Z$36, MATCH(C150, 'Char 3'!$X$27:$X$36, 0), 3)*HLOOKUP('Char 3'!$Z$7, artifactSubstatValues, MATCH(C150, 'Artifact Database'!$A$1:$A$11, 0)),0)","v":0},{"$f":"VLOOKUP(C150, 'Char 3'!$R$5:$T$50, 3,0)","v":0},null,0,null,null,null,"Final HP",null,{"$f":"char3BaseHP*(1+char3FinalHPPercent)+char3FinalFlatHP","v":54460.289000000004}]
[null,null,"Electro RES%",0,0,{"$f":"IFERROR(INDEX(char3Weapons, MATCH(C151, weapons!$A$133:$A$197, 0), MATCH(char3WeaponName,weapons!$A$133:$DB$133, 0)),0)","v":0},{"$f":"IFERROR(INDEX(char3ArtiSetStats, MATCH('Char 3'!$L$14,artisDB!$A$117:$A$173, 0), MATCH(C151, artisDB!$A$117:$AP$117, 0))+INDEX(char3ArtiSetStats, MATCH('Char 3'!$L$15, artisDB!$A$117:$A$173, 0), MATCH(C151, artisDB!$A$117:$AP$117, 0)),0)","v":0},{"$f":"IFERROR(INDEX('Char 3'!$X$27:$Z$36, MATCH(C151, 'Char 3'!$X$27:$X$36, 0), 3)*HLOOKUP('Char 3'!$Z$7, artifactSubstatValues, MATCH(C151, 'Artifact Database'!$A$1:$A$11, 0)),0)","v":0},{"$f":"VLOOKUP(C151, 'Char 3'!$R$5:$T$50, 3,0)","v":0},null,0,null,null,null,"Final DEF",null,{"$f":"char3BaseDEF*(1+char3FinalDEFPercent)+char3FinalFlatDEF","v":868.87200000000007}]
[null,null,"Burst CR%",0,0,{"$f":"IFERROR(INDEX(char3Weapons, MATCH(C152, weapons!$A$133:$A$197, 0), MATCH(char3WeaponName,weapons!$A$133:$DB$133, 0)),0)","v":0},{"$f":"IFERROR(INDEX(char3ArtiSetStats, MATCH('Char 3'!$L$14,artisDB!$A$117:$A$173, 0), MATCH(C152, artisDB!$A$117:$AP$117, 0))+INDEX(char3ArtiSetStats, MATCH('Char 3'!$L$15, artisDB!$A$117:$A$173, 0), MATCH(C152, artisDB!$A$117:$AP$117, 0)),0)","v":0},{"$f":"IFERROR(INDEX('Char 3'!$X$27:$Z$36, MATCH(C152, 'Char 3'!$X$27:$X$36, 0), 3)*HLOOKUP('Char 3'!$Z$7, artifactSubstatValues, MATCH(C152, 'Artifact Database'!$A$1:$A$11, 0)),0)","v":0},{"$f":"VLOOKUP(C152, 'Char 3'!$R$5:$T$50, 3,0)","v":0},null,0,null,null,null,"Final ATK",null,{"$f":"(char3WeaponBaseATK+char3BaseATK)*(1+char3FinalATKPercent)+char3FinalFlatATK","v":1009.096}]
[null,null,"Skill CR%",0,0,{"$f":"IFERROR(INDEX(char3Weapons, MATCH(C153, weapons!$A$133:$A$197, 0), MATCH(char3WeaponName,weapons!$A$133:$DB$133, 0)),0)","v":0},{"$f":"IFERROR(INDEX(char3ArtiSetStats, MATCH('Char 3'!$L$14,artisDB!$A$117:$A$173, 0), MATCH(C153, artisDB!$A$117:$AP$117, 0))+INDEX(char3ArtiSetStats, MATCH('Char 3'!$L$15, artisDB!$A$117:$A$173, 0), MATCH(C153, artisDB!$A$117:$AP$117, 0)),0)","v":0},{"$f":"IFERROR(INDEX('Char 3'!$X$27:$Z$36, MATCH(C153, 'Char 3'!$X$27:$X$36, 0), 3)*HLOOKUP('Char 3'!$Z$7, artifactSubstatValues, MATCH(C153, 'Artifact Database'!$A$1:$A$11, 0)),0)","v":0},{"$f":"VLOOKUP(C153, 'Char 3'!$R$5:$T$50, 3,0)","v":0},null,0]
[null,null,"Burst CDMG%",0,0,{"$f":"IFERROR(INDEX(char3Weapons, MATCH(C154, weapons!$A$133:$A$197, 0), MATCH(char3WeaponName,weapons!$A$133:$DB$133, 0)),0)","v":0},{"$f":"IFERROR(INDEX(char3ArtiSetStats, MATCH('Char 3'!$L$14,artisDB!$A$117:$A$173, 0), MATCH(C154, artisDB!$A$117:$AP$117, 0))+INDEX(char3ArtiSetStats, MATCH('Char 3'!$L$15, artisDB!$A$117:$A$173, 0), MATCH(C154, artisDB!$A$117:$AP$117, 0)),0)","v":0},{"$f":"IFERROR(INDEX('Char 3'!$X$27:$Z$36, MATCH(C154, 'Char 3'!$X$27:$X$36, 0), 3)*HLOOKUP('Char 3'!$Z$7, artifactSubstatValues, MATCH(C154, 'Artifact Database'!$A$1:$A$11, 0)),0)","v":0},{"$f":"VLOOKUP(C154, 'Char 3'!$R$5:$T$50, 3,0)","v":0},null,0]
[null,null,"Skill CDMG%",0,0,{"$f":"IFERROR(INDEX(char3Weapons, MATCH(C155, weapons!$A$133:$A$197, 0), MATCH(char3WeaponName,weapons!$A$133:$DB$133, 0)),0)","v":0},{"$f":"IFERROR(INDEX(char3ArtiSetStats, MATCH('Char 3'!$L$14,artisDB!$A$117:$A$173, 0), MATCH(C155, artisDB!$A$117:$AP$117, 0))+INDEX(char3ArtiSetStats, MATCH('Char 3'!$L$15, artisDB!$A$117:$A$173, 0), MATCH(C155, artisDB!$A$117:$AP$117, 0)),0)","v":0},{"$f":"IFERROR(INDEX('Char 3'!$X$27:$Z$36, MATCH(C155, 'Char 3'!$X$27:$X$36, 0), 3)*HLOOKUP('Char 3'!$Z$7, artifactSubstatValues, MATCH(C155, 'Artifact Database'!$A$1:$A$11, 0)),0)","v":0},{"$f":"VLOOKUP(C155, 'Char 3'!$R$5:$T$50, 3,0)","v":0},null,0]
[]
[]
[null,null,null,null,null,null,null,null,null,null,null,null,null,null,null,null,null,null,null,null,"Stat","Level","Start Row","Value"]
[null,null,"Stat Block - Character 4",null,null,null,null,null,null,null,null,null,null,null,"Lookup Stuff",null,null,null,null,"Flower","Flat HP",{"$f":"'Char 4'!$L$23","v":20},{"$f":"MATCH('Char 4'!$L$24, 'Artifact Database'!$F$1:$F$66, 0)+1","v":2},{"$f":"INDEX('Artifact Database'!$F$1:$W$66, Calcs!W159+V159, MATCH(Calcs!U159,'Artifact Database'!$F$1:$W$1, 0))","v":4780}]
[null,null,null,null,null,null,null,null,null,null,null,null,null,null,null,null,null,null,null,"Feather","Flat ATK",{"$f":"'Char 4'!$L$25","v":20},{"$f":"MATCH('Char 4'!$L$26, 'Artifact Database'!$F$1:$F$66, 0)+1","v":2},{"$f":"INDEX('Artifact Database'!$F$1:$W$66, Calcs!W160+V160, MATCH(Calcs!U160,'Artifact Database'!$F$1:$W$1, 0))","v":311}]
[null,null,"Stat","Artifact Mainstats","Character Base","Weapon Bonus","Set Bonus Stats","Artifact Substats","Buffs","Cons/Ascension Bonus (WIP)","Total",null,null,null,"Character Level",null,{"$f":"char4Level","v":90},null,null,"Sands",{"$f":"'Char 4'!$L$28","v":"ER%"},{"$f":"'Char 4'!$L$27","v":20},{"$f":"MATCH('Char 4'!$L$29, 'Artifact Database'!$F$1:$F$66, 0)+1","v":2},{"$f":"INDEX('Artifact Database'!$F$1:$W$66, Calcs!W161+V161, MATCH(Calcs!U161,'Artifact Database'!$F$1:$W$1, 0))","v":51.8}]
[null,null,"Flat ATK",{"$f":"X160","v":311},0,{"$f":"IFERROR(INDEX(char4Weapons, MATCH(C162, weapons!$A$199:$A$263, 0), MATCH(char4WeaponName,weapons!$A$199:$DB$199, 0)),0)","v":0},{"$f":"IFERROR(INDEX(char4ArtiSetStats, MATCH('Char 4'!$L$14,artisDB!$A$175:$A$231, 0), MATCH(C162, artisDB!$A$175:$AP$175, 0))+INDEX(char4ArtiSetStats, MATCH('Char 4'!$L$15, artisDB!$A$175:$A$231, 0), MATCH(C162, artisDB!$A$175:$AP$175, 0)),0)","v":0},{"$f":"IF($Q$165=TRUE, SUM('Char 4'!$AL14:$AP14), IFERROR(INDEX('Char 4'!$X$27:$Z$36, MATCH(C162, 'Char 4'!$X$27:$X$36, 0), 3)*HLOOKUP('Char 4'!$Z$7, artifactSubstatValues, MATCH(C162, 'Artifact Database'!$A$1:$A$11, 0)),0))","v":33.08},{"$f":"VLOOKUP(C162, 'Char 4'!$R$5:$T$50, 3,0)","v":0},null,{"$f":"SUM(D162:I162)","v":344.08},null,null,null,null,null,null,null,null,"Goblet",{"$f":"'Char 4'!$L$31","v":"Pyro DMG%"},{"$f":"'Char 4'!$L$30","v":20},{"$f":"MATCH('Char 4'!$L$32, 'Artifact Database'!$F$1:$F$66, 0)+1","v":2},{"$f":"INDEX('Artifact Database'!$F$1:$W$66, Calcs!W162+V162, MATCH(Calcs!U162,'Artifact Database'!$F$1:$W$1, 0))","v":46.6}]
[null,null,"Flat DEF",0,0,{"$f":"IFERROR(INDEX(char4Weapons, MATCH(C163, weapons!$A$199:$A$263, 0), MATCH(char4WeaponName,weapons!$A$199:$DB$199, 0)),0)","v":0},{"$f":"IFERROR(INDEX(char4ArtiSetStats, MATCH('Char 4'!$L$14,artisDB!$A$175:$A$231, 0), MATCH(C163, artisDB!$A$175:$AP$175, 0))+INDEX(char4ArtiSetStats, MATCH('Char 4'!$L$15, artisDB!$A$175:$A$231, 0), MATCH(C163, artisDB!$A$175:$AP$175, 0)),0)","v":0},{"$f":"IF($Q$165=TRUE, SUM('Char 4'!$AL15:$AP15), IFERROR(INDEX('Char 4'!$X$27:$Z$36, MATCH(C163, 'Char 4'!$X$27:$X$36, 0), 3)*HLOOKUP('Char 4'!$Z$7, artifactSubstatValues, MATCH(C163, 'Artifact Database'!$A$1:$A$11, 0)),0))","v":39.36},{"$f":"VLOOKUP(C163, 'Char 4'!$R$5:$T$50, 3,0)","v":0},null,{"$f":"SUM(D163:I163)","v":39.36},null,null,null,null,null,null,null,null,"Circlet",{"$f":"'Char 4'!$L$34","v":"CR%"},{"$f":"'Char 4'!$L$33","v":20},{"$f":"MATCH('Char 4'!$L$35, 'Artifact Database'!$F$1:$F$66, 0)+1","v":2},{"$f":"INDEX('Artifact Database'!$F$1:$W$66, Calcs!W163+V163, MATCH(Calcs!U163,'Artifact Database'!$F$1:$W$1, 0))","v":31.1}]
[null,null,"Flat HP",{"$f":"X159","v":4780},0,{"$f":"IFERROR(INDEX(char4Weapons, MATCH(C164, weapons!$A$199:$A$263, 0), MATCH(char4WeaponName,weapons!$A$199:$DB$199, 0)),0)","v":0},{"$f":"IFERROR(INDEX(char4ArtiSetStats, MATCH('Char 4'!$L$14,artisDB!$A$175:$A$231, 0), MATCH(C164, artisDB!$A$175:$AP$175, 0))+INDEX(char4ArtiSetStats, MATCH('Char 4'!$L$15, artisDB!$A$175:$A$231, 0), MATCH(C164, artisDB!$A$175:$AP$175, 0)),0)","v":0},{"$f":"IF($Q$165=TRUE, SUM('Char 4'!$AL16:$AP16), IFERROR(INDEX('Char 4'!$X$27:$Z$36, MATCH(C164, 'Char 4'!$X$27:$X$36, 0), 3)*HLOOKUP('Char 4'!$Z$7, artifactSubstatValues, MATCH(C164, 'Artifact Database'!$A$1:$A$11, 0)),0))","v":507.88},{"$f":"VLOOKUP(C164, 'Char 4'!$R$5:$T$50, 3,0)","v":0},null,5287.88]
[null,null,"EM",{"$f":"IF(C165=$U$161, $X$161, 0)+IF(C165=$U$162, $X$162, 0)+IF(C165 = $U$163, $X$163, 0)","v":0},{"$f":"IFERROR(VLOOKUP(C165,$T$166:$U$171, 2, 0), 0)","v":0},{"$f":"IFERROR(INDEX(char4Weapons, MATCH(C165, weapons!$A$199:$A$263, 0), MATCH(char4WeaponName,weapons!$A$199:$DB$199, 0)),0)","v":0},{"$f":"IFERROR(INDEX(char4ArtiSetStats, MATCH('Char 4'!$L$14,artisDB!$A$175:$A$231, 0), MATCH(C165, artisDB!$A$175:$AP$175, 0))+INDEX(char4ArtiSetStats, MATCH('Char 4'!$L$15, artisDB!$A$175:$A$231, 0), MATCH(C165, artisDB!$A$175:$AP$175, 0)),0)","v":0},{"$f":"IF($Q$165=TRUE, SUM('Char 4'!$AL17:$AP17), IFERROR(INDEX('Char 4'!$X$27:$Z$36, MATCH(C165, 'Char 4'!$X$27:$X$36, 0), 3)*HLOOKUP('Char 4'!$Z$7, artifactSubstatValues, MATCH(C165, 'Artifact Database'!$A$1:$A$11, 0)),0))","v":39.64},{"$f":"VLOOKUP(C165, 'Char 4'!$R$5:$T$50, 3,0)","v":0},null,39.64,null,null,null,"Personal Subs?",null,false,null,null,"Start Row",{"$f":"MATCH(char4Name, 'Char Stats'!$A$1:$A$795, 0)","v":91}]
[null,null,"ATK%",{"$f":"(IF(C166=$U$161, $X$161, 0)+IF(C166=$U$162, $X$162, 0)+IF(C166 = $U$163, $X$163, 0))/100","v":0},{"$f":"IFERROR(VLOOKUP(C166,$T$166:$U$171, 2, 0), 0)","v":0},{"$f":"IFERROR(INDEX(char4Weapons, MATCH(C166, weapons!$A$199:$A$263, 0), MATCH(char4WeaponName,weapons!$A$199:$DB$199, 0)),0)","v":0},{"$f":"IFERROR(INDEX(char4ArtiSetStats, MATCH('Char 4'!$L$14,artisDB!$A$175:$A$231, 0), MATCH(C166, artisDB!$A$175:$AP$175, 0))+INDEX(char4ArtiSetStats, MATCH('Char 4'!$L$15, artisDB!$A$175:$A$231, 0), MATCH(C166, artisDB!$A$175:$AP$175, 0)),0)","v":0},{"$f":"IF($Q$165=TRUE, SUM('Char 4'!$AL18:$AP18), IFERROR(INDEX('Char 4'!$X$27:$Z$36, MATCH(C166, 'Char 4'!$X$27:$X$36, 0), 3)*HLOOKUP('Char 4'!$Z$7, artifactSubstatValues, MATCH(C166, 'Artifact Database'!$A$1:$A$11, 0)),0))","v":9.9199999999999997E-2},{"$f":"VLOOKUP(C166, 'Char 4'!$R$5:$T$50, 3,0)","v":0},null,9.9199999999999997E-2,null,null,null,null,null,null,null,null,"Base HP",{"$f":"INDEX('Char Stats'!$A$1:$G$795, MATCH($Q$161, 'Char Stats'!$A$1:$A$15, 0)+$U$165-1, MATCH(Calcs!T166, 'Char Stats'!$A$1:$G$1, 0))","v":12397}]
[null,null,"DEF%",0,0,{"$f":"IFERROR(INDEX(char4Weapons, MATCH(C167, weapons!$A$199:$A$263, 0), MATCH(char4WeaponName,weapons!$A$199:$DB$199, 0)),0)","v":0},{"$f":"IFERROR(INDEX(char4ArtiSetStats, MATCH('Char 4'!$L$14,artisDB!$A$175:$A$231, 0), MATCH(C167, artisDB!$A$175:$AP$175, 0))+INDEX(char4ArtiSetStats, MATCH('Char 4'!$L$15, artisDB!$A$175:$A$231, 0), MATCH(C167, artisDB!$A$175:$AP$175, 0)),0)","v":0},{"$f":"IF($Q$165=TRUE, SUM('Char 4'!$AL19:$AP19), IFERROR(INDEX('Char 4'!$X$27:$Z$36, MATCH(C167, 'Char 4'!$X$27:$X$36, 0), 3)*HLOOKUP('Char 4'!$Z$7, artifactSubstatValues, MATCH(C167, 'Artifact Database'!$A$1:$A$11, 0)),0))","v":0.124},{"$f":"VLOOKUP(C167, 'Char 4'!$R$5:$T$50, 3,0)","v":0},null,0.124,null,null,null,null,null,null,null,null,"Base ATK",{"$f":"INDEX('Char Stats'!$A$1:$G$795, MATCH($Q$161, 'Char Stats'!$A$1:$A$15, 0)+$U$165-1, MATCH(Calcs!T167, 'Char Stats'!$A$1:$G$1, 0))","v":191}]
[null,null,"HP%",0,0,{"$f":"IFERROR(INDEX(char4Weapons, MATCH(C168, weapons!$A$199:$A$263, 0), MATCH(char4WeaponName,weapons!$A$199:$DB$199, 0)),0)","v":0},{"$f":"IFERROR(INDEX(char4ArtiSetStats, MATCH('Char 4'!$L$14,artisDB!$A$175:$A$231, 0), MATCH(C168, artisDB!$A$175:$AP$175, 0))+INDEX(char4ArtiSetStats, MATCH('Char 4'!$L$15, artisDB!$A$175:$A$231, 0), MATCH(C168, artisDB!$A$175:$AP$175, 0)),0)","v":0},{"$f":"IF($Q$165=TRUE, SUM('Char 4'!$AL20:$AP20), IFERROR(INDEX('Char 4'!$X$27:$Z$36, MATCH(C168, 'Char 4'!$X$27:$X$36, 0), 3)*HLOOKUP('Char 4'!$Z$7, artifactSubstatValues, MATCH(C168, 'Artifact Database'!$A$1:$A$11, 0)),0))","v":9.9199999999999997E-2},{"$f":"VLOOKUP(C168, 'Char 4'!$R$5:$T$50, 3,0)","v":0},null,9.9199999999999997E-2,null,null,null,null,null,null,null,null,"Base DEF",{"$f":"INDEX('Char Stats'!$A$1:$G$795, MATCH($Q$161, 'Char Stats'!$A$1:$A$15, 0)+$U$165-1, MATCH(Calcs!T168, 'Char Stats'!$A$1:$G$1, 0))","v":771}]
[null,null,"CR%",0.311,0.05,{"$f":"IFERROR(INDEX(char4Weapons, MATCH(C169, weapons!$A$199:$A$263, 0), MATCH(char4WeaponName,weapons!$A$199:$DB$199, 0)),0)","v":0},{"$f":"IFERROR(INDEX(char4ArtiSetStats, MATCH('Char 4'!$L$14,artisDB!$A$175:$A$231, 0), MATCH(C169, artisDB!$A$175:$AP$175, 0))+INDEX(char4ArtiSetStats, MATCH('Char 4'!$L$15, artisDB!$A$175:$A$231, 0), MATCH(C169, artisDB!$A$175:$AP$175, 0)),0)","v":0},{"$f":"IF($Q$165=TRUE, SUM('Char 4'!$AL21:$AP21), IFERROR(INDEX('Char 4'!$X$27:$Z$36, MATCH(C169, 'Char 4'!$X$27:$X$36, 0), 3)*HLOOKUP('Char 4'!$Z$7, artifactSubstatValues, MATCH(C169, 'Artifact Database'!$A$1:$A$11, 0)),0))","v":0.26479999999999998},{"$f":"VLOOKUP(C169, 'Char 4'!$R$5:$T$50, 3,0)","v":0},null,{"$f":"IF(SUM(D169:J169)>100%, 100%, IF(SUM(D169:J169)<0%, 0%, SUM(D169:J169)))","v":0.62579999999999991},null,null,null,null,null,null,null,null,{"$f":"INDEX('Char Stats'!$A$1:$G$795, $U$165, 5)","v":"ER%"},{"$f":"INDEX(INDIRECT(char4Name&\"BaseStats\"), MATCH(char4Level,  INDEX(INDIRECT(char4Name&\"BaseStats\"), 0, 1), 0), MATCH(T169, INDEX(INDIRECT(char4Name&\"BaseStats\"), 1, 0), 0))*IF(NOT(T169=\"EM\"), 0.01, 1)","v":0.26700000000000002}]
[null,null,"CDMG%",0,0.5,{"$f":"IFERROR(INDEX(char4Weapons, MATCH(C170, weapons!$A$199:$A$263, 0), MATCH(char4WeaponName,weapons!$A$199:$DB$199, 0)),0)","v":0},{"$f":"IFERROR(INDEX(char4ArtiSetStats, MATCH('Char 4'!$L$14,artisDB!$A$175:$A$231, 0), MATCH(C170, artisDB!$A$175:$AP$175, 0))+INDEX(char4ArtiSetStats, MATCH('Char 4'!$L$15, artisDB!$A$175:$A$231, 0), MATCH(C170, artisDB!$A$175:$AP$175, 0)),0)","v":0},{"$f":"IF($Q$165=TRUE, SUM('Char 4'!$AL22:$AP22), IFERROR(INDEX('Char 4'!$X$27:$Z$36, MATCH(C170, 'Char 4'!$X$27:$X$36, 0), 3)*HLOOKUP('Char 4'!$Z$7, artifactSubstatValues, MATCH(C170, 'Artifact Database'!$A$1:$A$11, 0)),0))","v":0.66199999999999992},{"$f":"VLOOKUP(C170, 'Char 4'!$R$5:$T$50, 3,0)","v":0},null,1.1619999999999999,null,null,null,"Transformative Rxn Mults",null,null,null,null,{"$f":"INDEX('Char Stats'!$A$1:$G$795, $U$165, 6)","v":"CR%"},{"$f":"INDEX(INDIRECT(char4Name&\"BaseStats\"), MATCH(char4Level,  INDEX(INDIRECT(char4Name&\"BaseStats\"), 0, 1), 0), MATCH(T170, INDEX(INDIRECT(char4Name&\"BaseStats\"), 1, 0), 0))*IF(NOT(T170=\"EM\"), 0.01, 1)","v":0.05}]
[null,null,"ER%",0.51800000000000002,0.26700000000000002,{"$f":"IFERROR(INDEX(char4Weapons, MATCH(C171, weapons!$A$199:$A$263, 0), MATCH(char4WeaponName,weapons!$A$199:$DB$199, 0)),0)","v":0},{"$f":"IFERROR(INDEX(char4ArtiSetStats, MATCH('Char 4'!$L$14,artisDB!$A$175:$A$231, 0), MATCH(C171, artisDB!$A$175:$AP$175, 0))+INDEX(char4ArtiSetStats, MATCH('Char 4'!$L$15, artisDB!$A$175:$A$231, 0), MATCH(C171, artisDB!$A$175:$AP$175, 0)),0)","v":0},{"$f":"IF($Q$165=TRUE, SUM('Char 4'!$AL23:$AP23), IFERROR(INDEX('Char 4'!$X$27:$Z$36, MATCH(C171, 'Char 4'!$X$27:$X$36, 0), 3)*HLOOKUP('Char 4'!$Z$7, artifactSubstatValues, MATCH(C171, 'Artifact Database'!$A$1:$A$11, 0)),0))","v":0.44080000000000003},{"$f":"VLOOKUP(C171, 'Char 4'!$R$5:$T$50, 3,0)","v":0},null,{"$f":"SUM(D171:I171)+100%","v":2.2258},null,null,null,null,null,null,null,null,{"$f":"INDEX('Char Stats'!$A$1:$G$795, $U$165, 7)","v":"CDMG%"},{"$f":"INDEX(INDIRECT(char4Name&\"BaseStats\"), MATCH(char4Level, INDEX(INDIRECT(char4Name&\"BaseStats\"), 0, 1), 0), MATCH(T171, INDEX(INDIRECT(char4Name&\"BaseStats\"), 1, 0), 0))*IF(NOT(T171=\"EM\"), 0.01, 1)","v":0.5}]
[null,null,"DMG%",0,0,{"$f":"IFERROR(INDEX(char4Weapons, MATCH(C172, weapons!$A$199:$A$263, 0), MATCH(char4WeaponName,weapons!$A$199:$DB$199, 0)),0)","v":0},{"$f":"IFERROR(INDEX(char4ArtiSetStats, MATCH('Char 4'!$L$14,artisDB!$A$175:$A$231, 0), MATCH(C172, artisDB!$A$175:$AP$175, 0))+INDEX(char4ArtiSetStats, MATCH('Char 4'!$L$15, artisDB!$A$175:$A$231, 0), MATCH(C172, artisDB!$A$175:$AP$175, 0)),0)","v":0},{"$f":"IF($Q$165=TRUE, SUM('Char 4'!$AL24:$AP24), IFERROR(INDEX('Char 4'!$X$27:$Z$36, MATCH(C172, 'Char 4'!$X$27:$X$36, 0), 3)*HLOOKUP('Char 4'!$Z$7, artifactSubstatValues, MATCH(C172, 'Artifact Database'!$A$1:$A$11, 0)),0))","v":0},{"$f":"VLOOKUP(C172, 'Char 4'!$R$5:$T$50, 3,0)","v":0},null,0,null,null,null,"Character Level",null,{"$f":"VALUE(LEFT(Q161, 2))","v":90}]
[null,null,"Phys DMG%",0,0,{"$f":"IFERROR(INDEX(char4Weapons, MATCH(C173, weapons!$A$199:$A$263, 0), MATCH(char4WeaponName,weapons!$A$199:$DB$199, 0)),0)","v":0.34499999999999997},{"$f":"IFERROR(INDEX(char4ArtiSetStats, MATCH('Char 4'!$L$14,artisDB!$A$175:$A$231, 0), MATCH(C173, artisDB!$A$175:$AP$175, 0))+INDEX(char4ArtiSetStats, MATCH('Char 4'!$L$15, artisDB!$A$175:$A$231, 0), MATCH(C173, artisDB!$A$175:$AP$175, 0)),0)","v":0},{"$f":"IF($Q$165=TRUE, SUM('Char 4'!$AL25:$AP25), IFERROR(INDEX('Char 4'!$X$27:$Z$36, MATCH(C173, 'Char 4'!$X$27:$X$36, 0), 3)*HLOOKUP('Char 4'!$Z$7, artifactSubstatValues, MATCH(C173, 'Artifact Database'!$A$1:$A$11, 0)),0))","v":0},{"$f":"VLOOKUP(C173, 'Char 4'!$R$5:$T$50, 3,0)","v":0},null,0.34499999999999997,null,null,null,"Enemy Level",null,{"$f":"'Char 1'!$E$29","v":100}]
[null,null,"Anemo DMG%",0,0,{"$f":"IFERROR(INDEX(char4Weapons, MATCH(C174, weapons!$A$199:$A$263, 0), MATCH(char4WeaponName,weapons!$A$199:$DB$199, 0)),0)","v":0},{"$f":"IFERROR(INDEX(char4ArtiSetStats, MATCH('Char 4'!$L$14,artisDB!$A$175:$A$231, 0), MATCH(C174, artisDB!$A$175:$AP$175, 0))+INDEX(char4ArtiSetStats, MATCH('Char 4'!$L$15, artisDB!$A$175:$A$231, 0), MATCH(C174, artisDB!$A$175:$AP$175, 0)),0)","v":0},{"$f":"IF($Q$165=TRUE, SUM('Char 4'!$AL26:$AP26), IFERROR(INDEX('Char 4'!$X$27:$Z$36, MATCH(C174, 'Char 4'!$X$27:$X$36, 0), 3)*HLOOKUP('Char 4'!$Z$7, artifactSubstatValues, MATCH(C174, 'Artifact Database'!$A$1:$A$11, 0)),0))","v":0},{"$f":"VLOOKUP(C174, 'Char 4'!$R$5:$T$50, 3,0)","v":0},null,0,null,null,null,"Reaction Multiplier",null,{"$f":"IF(Q172<60, 0.0002325*Q172^3+0.05547*Q172^2-0.2523*Q172+14.47, 0.00194*Q172^3-0.319*Q172^2+30.7*Q172-868)","v":725.3599999999999}]
[null,null,"Geo DMG%",0,0,{"$f":"IFERROR(INDEX(char4Weapons, MATCH(C175, weapons!$A$199:$A$263, 0), MATCH(char4WeaponName,weapons!$A$199:$DB$199, 0)),0)","v":0},{"$f":"IFERROR(INDEX(char4ArtiSetStats, MATCH('Char 4'!$L$14,artisDB!$A$175:$A$231, 0), MATCH(C175, artisDB!$A$175:$AP$175, 0))+INDEX(char4ArtiSetStats, MATCH('Char 4'!$L$15, artisDB!$A$175:$A$231, 0), MATCH(C175, artisDB!$A$175:$AP$175, 0)),0)","v":0},{"$f":"IF($Q$165=TRUE, SUM('Char 4'!$AL27:$AP27), IFERROR(INDEX('Char 4'!$X$27:$Z$36, MATCH(C175, 'Char 4'!$X$27:$X$36, 0), 3)*HLOOKUP('Char 4'!$Z$7, artifactSubstatValues, MATCH(C175, 'Artifact Database'!$A$1:$A$11, 0)),0))","v":0},{"$f":"VLOOKUP(C175, 'Char 4'!$R$5:$T$50, 3,0)","v":0},null,0]
[null,null,"Pyro DMG%",0.46600000000000003,0,{"$f":"IFERROR(INDEX(char4Weapons, MATCH(C176, weapons!$A$199:$A$263, 0), MATCH(char4WeaponName,weapons!$A$199:$DB$199, 0)),0)","v":0},{"$f":"IFERROR(INDEX(char4ArtiSetStats, MATCH('Char 4'!$L$14,artisDB!$A$175:$A$231, 0), MATCH(C176, artisDB!$A$175:$AP$175, 0))+INDEX(char4ArtiSetStats, MATCH('Char 4'!$L$15, artisDB!$A$175:$A$231, 0), MATCH(C176, artisDB!$A$175:$AP$175, 0)),0)","v":0},{"$f":"IF($Q$165=TRUE, SUM('Char 4'!$AL28:$AP28), IFERROR(INDEX('Char 4'!$X$27:$Z$36, MATCH(C176, 'Char 4'!$X$27:$X$36, 0), 3)*HLOOKUP('Char 4'!$Z$7, artifactSubstatValues, MATCH(C176, 'Artifact Database'!$A$1:$A$11, 0)),0))","v":0},{"$f":"VLOOKUP(C176, 'Char 4'!$R$5:$T$50, 3,0)","v":0},null,0.46600000000000003]
[null,null,"Cryo DMG%",0,0,{"$f":"IFERROR(INDEX(char4Weapons, MATCH(C177, weapons!$A$199:$A$263, 0), MATCH(char4WeaponName,weapons!$A$199:$DB$199, 0)),0)","v":0},{"$f":"IFERROR(INDEX(char4ArtiSetStats, MATCH('Char 4'!$L$14,artisDB!$A$175:$A$231, 0), MATCH(C177, artisDB!$A$175:$AP$175, 0))+INDEX(char4ArtiSetStats, MATCH('Char 4'!$L$15, artisDB!$A$175:$A$231, 0), MATCH(C177, artisDB!$A$175:$AP$175, 0)),0)","v":0},{"$f":"IF($Q$165=TRUE, SUM('Char 4'!$AL29:$AP29), IFERROR(INDEX('Char 4'!$X$27:$Z$36, MATCH(C177, 'Char 4'!$X$27:$X$36, 0), 3)*HLOOKUP('Char 4'!$Z$7, artifactSubstatValues, MATCH(C177, 'Artifact Database'!$A$1:$A$11, 0)),0))","v":0},{"$f":"VLOOKUP(C177, 'Char 4'!$R$5:$T$50, 3,0)","v":0},null,0]
[null,null,"Hydro DMG%",0,0,{"$f":"IFERROR(INDEX(char4Weapons, MATCH(C178, weapons!$A$199:$A$263, 0), MATCH(char4WeaponName,weapons!$A$199:$DB$199, 0)),0)","v":0},{"$f":"IFERROR(INDEX(char4ArtiSetStats, MATCH('Char 4'!$L$14,artisDB!$A$175:$A$231, 0), MATCH(C178, artisDB!$A$175:$AP$175, 0))+INDEX(char4ArtiSetStats, MATCH('Char 4'!$L$15, artisDB!$A$175:$A$231, 0), MATCH(C178, artisDB!$A$175:$AP$175, 0)),0)","v":0},{"$f":"IF($Q$165=TRUE, SUM('Char 4'!$AL30:$AP30), IFERROR(INDEX('Char 4'!$X$27:$Z$36, MATCH(C178, 'Char 4'!$X$27:$X$36, 0), 3)*HLOOKUP('Char 4'!$Z$7, artifactSubstatValues, MATCH(C178, 'Artifact Database'!$A$1:$A$11, 0)),0))","v":0},{"$f":"VLOOKUP(C178, 'Char 4'!$R$5:$T$50, 3,0)","v":0},null,0,null,null,null,"Calc Information"]
[null,null,"Electro DMG%",0,0,{"$f":"IFERROR(INDEX(char4Weapons, MATCH(C179, weapons!$A$199:$A$263, 0), MATCH(char4WeaponName,weapons!$A$199:$DB$199, 0)),0)","v":0},{"$f":"IFERROR(INDEX(char4ArtiSetStats, MATCH('Char 4'!$L$14,artisDB!$A$175:$A$231, 0), MATCH(C179, artisDB!$A$175:$AP$175, 0))+INDEX(char4ArtiSetStats, MATCH('Char 4'!$L$15, artisDB!$A$175:$A$231, 0), MATCH(C179, artisDB!$A$175:$AP$175, 0)),0)","v":0},{"$f":"IF($Q$165=TRUE, SUM('Char 4'!$AL31:$AP31), IFERROR(INDEX('Char 4'!$X$27:$Z$36, MATCH(C179, 'Char 4'!$X$27:$X$36, 0), 3)*HLOOKUP('Char 4'!$Z$7, artifactSubstatValues, MATCH(C179, 'Artifact Database'!$A$1:$A$11, 0)),0))","v":0},{"$f":"VLOOKUP(C179, 'Char 4'!$R$5:$T$50, 3,0)","v":0},null,0]
[null,null,"Normal DMG%",0,0,{"$f":"IFERROR(INDEX(char4Weapons, MATCH(C180, weapons!$A$199:$A$263, 0), MATCH(char4WeaponName,weapons!$A$199:$DB$199, 0)),0)","v":0},{"$f":"IFERROR(INDEX(char4ArtiSetStats, MATCH('Char 4'!$L$14,artisDB!$A$175:$A$231, 0), MATCH(C180, artisDB!$A$175:$AP$175, 0))+INDEX(char4ArtiSetStats, MATCH('Char 4'!$L$15, artisDB!$A$175:$A$231, 0), MATCH(C180, artisDB!$A$175:$AP$175, 0)),0)","v":0},{"$f":"IF($Q$165=TRUE, SUM('Char 4'!$AL32:$AP32), IFERROR(INDEX('Char 4'!$X$27:$Z$36, MATCH(C180, 'Char 4'!$X$27:$X$36, 0), 3)*HLOOKUP('Char 4'!$Z$7, artifactSubstatValues, MATCH(C180, 'Artifact Database'!$A$1:$A$11, 0)),0))","v":0},{"$f":"VLOOKUP(C180, 'Char 4'!$R$5:$T$50, 3,0)","v":0},null,0,null,null,null,"Weapon Base ATK",null,{"$f":"INDEX(char4Weapons, MATCH(\"Base ATK\", weapons!$A$199:$A$263, 0), MATCH(char4WeaponName, weapons!$A$199:$DB$199, 0))","v":565}]
[null,null,"Charged DMG%",0,0,{"$f":"IFERROR(INDEX(char4Weapons, MATCH(C181, weapons!$A$199:$A$263, 0), MATCH(char4WeaponName,weapons!$A$199:$DB$199, 0)),0)","v":0},{"$f":"IFERROR(INDEX(char4ArtiSetStats, MATCH('Char 4'!$L$14,artisDB!$A$175:$A$231, 0), MATCH(C181, artisDB!$A$175:$AP$175, 0))+INDEX(char4ArtiSetStats, MATCH('Char 4'!$L$15, artisDB!$A$175:$A$231, 0), MATCH(C181, artisDB!$A$175:$AP$175, 0)),0)","v":0},{"$f":"IF($Q$165=TRUE, SUM('Char 4'!$AL33:$AP33), IFERROR(INDEX('Char 4'!$X$27:$Z$36, MATCH(C181, 'Char 4'!$X$27:$X$36, 0), 3)*HLOOKUP('Char 4'!$Z$7, artifactSubstatValues, MATCH(C181, 'Artifact Database'!$A$1:$A$11, 0)),0))","v":0},{"$f":"VLOOKUP(C181, 'Char 4'!$R$5:$T$50, 3,0)","v":0},null,0,null,null,null,"Character Base ATK",null,{"$f":"U167","v":191}]
[null,null,"Plunging DMG%",0,0,{"$f":"IFERROR(INDEX(char4Weapons, MATCH(C182, weapons!$A$199:$A$263, 0), MATCH(char4WeaponName,weapons!$A$199:$DB$199, 0)),0)","v":0},{"$f":"IFERROR(INDEX(char4ArtiSetStats, MATCH('Char 4'!$L$14,artisDB!$A$175:$A$231, 0), MATCH(C182, artisDB!$A$175:$AP$175, 0))+INDEX(char4ArtiSetStats, MATCH('Char 4'!$L$15, artisDB!$A$175:$A$231, 0), MATCH(C182, artisDB!$A$175:$AP$175, 0)),0)","v":0},{"$f":"IF($Q$165=TRUE, SUM('Char 4'!$AL34:$AP34), IFERROR(INDEX('Char 4'!$X$27:$Z$36, MATCH(C182, 'Char 4'!$X$27:$X$36, 0), 3)*HLOOKUP('Char 4'!$Z$7, artifactSubstatValues, MATCH(C182, 'Artifact Database'!$A$1:$A$11, 0)),0))","v":0},{"$f":"VLOOKUP(C182, 'Char 4'!$R$5:$T$50, 3,0)","v":0},null,0,null,null,null,"Character Base DEF",null,{"$f":"U168","v":771}]
[null,null,"Skill DMG%",0,0,{"$f":"IFERROR(INDEX(char4Weapons, MATCH(C183, weapons!$A$199:$A$263, 0), MATCH(char4WeaponName,weapons!$A$199:$DB$199, 0)),0)","v":0},{"$f":"IFERROR(INDEX(char4ArtiSetStats, MATCH('Char 4'!$L$14,artisDB!$A$175:$A$231, 0), MATCH(C183, artisDB!$A$175:$AP$175, 0))+INDEX(char4ArtiSetStats, MATCH('Char 4'!$L$15, artisDB!$A$175:$A$231, 0), MATCH(C183, artisDB!$A$175:$AP$175, 0)),0)","v":0},{"$f":"IF($Q$165=TRUE, SUM('Char 4'!$AL35:$AP35), IFERROR(INDEX('Char 4'!$X$27:$Z$36, MATCH(C183, 'Char 4'!$X$27:$X$36, 0), 3)*HLOOKUP('Char 4'!$Z$7, artifactSubstatValues, MATCH(C183, 'Artifact Database'!$A$1:$A$11, 0)),0))","v":0},{"$f":"VLOOKUP(C183, 'Char 4'!$R$5:$T$50, 3,0)","v":0},null,0,null,null,null,"Character Base HP",null,{"$f":"U166","v":12397}]
[null,null,"Burst DMG%",0,0,{"$f":"IFERROR(INDEX(char4Weapons, MATCH(C184, weapons!$A$199:$A$263, 0), MATCH(char4WeaponName,weapons!$A$199:$DB$199, 0)),0)","v":0},{"$f":"IFERROR(INDEX(char4ArtiSetStats, MATCH('Char 4'!$L$14,artisDB!$A$175:$A$231, 0), MATCH(C184, artisDB!$A$175:$AP$175, 0))+INDEX(char4ArtiSetStats, MATCH('Char 4'!$L$15, artisDB!$A$175:$A$231, 0), MATCH(C184, artisDB!$A$175:$AP$175, 0)),0)","v":0.2},{"$f":"IF($Q$165=TRUE, SUM('Char 4'!$AL36:$AP36), IFERROR(INDEX('Char 4'!$X$27:$Z$36, MATCH(C184, 'Char 4'!$X$27:$X$36, 0), 3)*HLOOKUP('Char 4'!$Z$7, artifactSubstatValues, MATCH(C184, 'Artifact Database'!$A$1:$A$11, 0)),0))","v":0},{"$f":"VLOOKUP(C184, 'Char 4'!$R$5:$T$50, 3,0)","v":0},null,0.2]
[null,null,"Swirl%",0,0,{"$f":"IFERROR(INDEX(char4Weapons, MATCH(C185, weapons!$A$199:$A$263, 0), MATCH(char4WeaponName,weapons!$A$199:$DB$199, 0)),0)","v":0},{"$f":"IFERROR(INDEX(char4ArtiSetStats, MATCH('Char 4'!$L$14,artisDB!$A$175:$A$231, 0), MATCH(C185, artisDB!$A$175:$AP$175, 0))+INDEX(char4ArtiSetStats, MATCH('Char 4'!$L$15, artisDB!$A$175:$A$231, 0), MATCH(C185, artisDB!$A$175:$AP$175, 0)),0)","v":0},{"$f":"IF($Q$165=TRUE, SUM('Char 4'!$AL37:$AP37), IFERROR(INDEX('Char 4'!$X$27:$Z$36, MATCH(C185, 'Char 4'!$X$27:$X$36, 0), 3)*HLOOKUP('Char 4'!$Z$7, artifactSubstatValues, MATCH(C185, 'Artifact Database'!$A$1:$A$11, 0)),0))","v":0},{"$f":"VLOOKUP(C185, 'Char 4'!$R$5:$T$50, 3,0)","v":0},null,0]
[null,null,"Overload%",0,0,{"$f":"IFERROR(INDEX(char4Weapons, MATCH(C186, weapons!$A$199:$A$263, 0), MATCH(char4WeaponName,weapons!$A$199:$DB$199, 0)),0)","v":0},{"$f":"IFERROR(INDEX(char4ArtiSetStats, MATCH('Char 4'!$L$14,artisDB!$A$175:$A$231, 0), MATCH(C186, artisDB!$A$175:$AP$175, 0))+INDEX(char4ArtiSetStats, MATCH('Char 4'!$L$15, artisDB!$A$175:$A$231, 0), MATCH(C186, artisDB!$A$175:$AP$175, 0)),0)","v":0},{"$f":"IF($Q$165=TRUE, SUM('Char 4'!$AL38:$AP38), IFERROR(INDEX('Char 4'!$X$27:$Z$36, MATCH(C186, 'Char 4'!$X$27:$X$36, 0), 3)*HLOOKUP('Char 4'!$Z$7, artifactSubstatValues, MATCH(C186, 'Artifact Database'!$A$1:$A$11, 0)),0))","v":0},{"$f":"VLOOKUP(C186, 'Char 4'!$R$5:$T$50, 3,0)","v":0},null,0]
[null,null,"Crystallize%",0,0,{"$f":"IFERROR(INDEX(char4Weapons, MATCH(C187, weapons!$A$199:$A$263, 0), MATCH(char4WeaponName,weapons!$A$199:$DB$199, 0)),0)","v":0},{"$f":"IFERROR(INDEX(char4ArtiSetStats, MATCH('Char 4'!$L$14,artisDB!$A$175:$A$231, 0), MATCH(C187, artisDB!$A$175:$AP$175, 0))+INDEX(char4ArtiSetStats, MATCH('Char 4'!$L$15, artisDB!$A$175:$A$231, 0), MATCH(C187, artisDB!$A$175:$AP$175, 0)),0)","v":0},{"$f":"IF($Q$165=TRUE, SUM('Char 4'!$AL39:$AP39), IFERROR(INDEX('Char 4'!$X$27:$Z$36, MATCH(C187, 'Char 4'!$X$27:$X$36, 0), 3)*HLOOKUP('Char 4'!$Z$7, artifactSubstatValues, MATCH(C187, 'Artifact Database'!$A$1:$A$11, 0)),0))","v":0},{"$f":"VLOOKUP(C187, 'Char 4'!$R$5:$T$50, 3,0)","v":0},null,0,null,null,null,"Attack DMG Type Info"]
[null,null,"Electrocharged%",0,0,{"$f":"IFERROR(INDEX(char4Weapons, MATCH(C188, weapons!$A$199:$A$263, 0), MATCH(char4WeaponName,weapons!$A$199:$DB$199, 0)),0)","v":0},{"$f":"IFERROR(INDEX(char4ArtiSetStats, MATCH('Char 4'!$L$14,artisDB!$A$175:$A$231, 0), MATCH(C188, artisDB!$A$175:$AP$175, 0))+INDEX(char4ArtiSetStats, MATCH('Char 4'!$L$15, artisDB!$A$175:$A$231, 0), MATCH(C188, artisDB!$A$175:$AP$175, 0)),0)","v":0},{"$f":"IF($Q$165=TRUE, SUM('Char 4'!$AL40:$AP40), IFERROR(INDEX('Char 4'!$X$27:$Z$36, MATCH(C188, 'Char 4'!$X$27:$X$36, 0), 3)*HLOOKUP('Char 4'!$Z$7, artifactSubstatValues, MATCH(C188, 'Artifact Database'!$A$1:$A$11, 0)),0))","v":0},{"$f":"VLOOKUP(C188, 'Char 4'!$R$5:$T$50, 3,0)","v":0},null,0]
[null,null,"Superconduct%",0,0,{"$f":"IFERROR(INDEX(char4Weapons, MATCH(C189, weapons!$A$199:$A$263, 0), MATCH(char4WeaponName,weapons!$A$199:$DB$199, 0)),0)","v":0},{"$f":"IFERROR(INDEX(char4ArtiSetStats, MATCH('Char 4'!$L$14,artisDB!$A$175:$A$231, 0), MATCH(C189, artisDB!$A$175:$AP$175, 0))+INDEX(char4ArtiSetStats, MATCH('Char 4'!$L$15, artisDB!$A$175:$A$231, 0), MATCH(C189, artisDB!$A$175:$AP$175, 0)),0)","v":0},{"$f":"IF($Q$165=TRUE, SUM('Char 4'!$AL41:$AP41), IFERROR(INDEX('Char 4'!$X$27:$Z$36, MATCH(C189, 'Char 4'!$X$27:$X$36, 0), 3)*HLOOKUP('Char 4'!$Z$7, artifactSubstatValues, MATCH(C189, 'Artifact Database'!$A$1:$A$11, 0)),0))","v":0},{"$f":"VLOOKUP(C189, 'Char 4'!$R$5:$T$50, 3,0)","v":0},null,0,null,null,null,"Skill Echo Type",null,{"$f":"'Char 4'!E20","v":"Skill"}]
[null,null,"Shatter%",0,0,{"$f":"IFERROR(INDEX(char4Weapons, MATCH(C190, weapons!$A$199:$A$263, 0), MATCH(char4WeaponName,weapons!$A$199:$DB$199, 0)),0)","v":0},{"$f":"IFERROR(INDEX(char4ArtiSetStats, MATCH('Char 4'!$L$14,artisDB!$A$175:$A$231, 0), MATCH(C190, artisDB!$A$175:$AP$175, 0))+INDEX(char4ArtiSetStats, MATCH('Char 4'!$L$15, artisDB!$A$175:$A$231, 0), MATCH(C190, artisDB!$A$175:$AP$175, 0)),0)","v":0},{"$f":"IF($Q$165=TRUE, SUM('Char 4'!$AL42:$AP42), IFERROR(INDEX('Char 4'!$X$27:$Z$36, MATCH(C190, 'Char 4'!$X$27:$X$36, 0), 3)*HLOOKUP('Char 4'!$Z$7, artifactSubstatValues, MATCH(C190, 'Artifact Database'!$A$1:$A$11, 0)),0))","v":0},{"$f":"VLOOKUP(C190, 'Char 4'!$R$5:$T$50, 3,0)","v":0},null,0,null,null,null,"Burst Echo Type",null,{"$f":"'Char 4'!E23","v":"Burst"}]
[null,null,"Melt%",0,0,{"$f":"IFERROR(INDEX(char4Weapons, MATCH(C191, weapons!$A$199:$A$263, 0), MATCH(char4WeaponName,weapons!$A$199:$DB$199, 0)),0)","v":0},{"$f":"IFERROR(INDEX(char4ArtiSetStats, MATCH('Char 4'!$L$14,artisDB!$A$175:$A$231, 0), MATCH(C191, artisDB!$A$175:$AP$175, 0))+INDEX(char4ArtiSetStats, MATCH('Char 4'!$L$15, artisDB!$A$175:$A$231, 0), MATCH(C191, artisDB!$A$175:$AP$175, 0)),0)","v":0},{"$f":"IF($Q$165=TRUE, SUM('Char 4'!$AL43:$AP43), IFERROR(INDEX('Char 4'!$X$27:$Z$36, MATCH(C191, 'Char 4'!$X$27:$X$36, 0), 3)*HLOOKUP('Char 4'!$Z$7, artifactSubstatValues, MATCH(C191, 'Artifact Database'!$A$1:$A$11, 0)),0))","v":0},{"$f":"VLOOKUP(C191, 'Char 4'!$R$5:$T$50, 3,0)","v":0},null,0]
[null,null,"Vaporize%",0,0,{"$f":"IFERROR(INDEX(char4Weapons, MATCH(C192, weapons!$A$199:$A$263, 0), MATCH(char4WeaponName,weapons!$A$199:$DB$199, 0)),0)","v":0},{"$f":"IFERROR(INDEX(char4ArtiSetStats, MATCH('Char 4'!$L$14,artisDB!$A$175:$A$231, 0), MATCH(C192, artisDB!$A$175:$AP$175, 0))+INDEX(char4ArtiSetStats, MATCH('Char 4'!$L$15, artisDB!$A$175:$A$231, 0), MATCH(C192, artisDB!$A$175:$AP$175, 0)),0)","v":0},{"$f":"IF($Q$165=TRUE, SUM('Char 4'!$AL44:$AP44), IFERROR(INDEX('Char 4'!$X$27:$Z$36, MATCH(C192, 'Char 4'!$X$27:$X$36, 0), 3)*HLOOKUP('Char 4'!$Z$7, artifactSubstatValues, MATCH(C192, 'Artifact Database'!$A$1:$A$11, 0)),0))","v":0},{"$f":"VLOOKUP(C192, 'Char 4'!$R$5:$T$50, 3,0)","v":0},null,0]
[null,null,"DEF Shred",0,0,{"$f":"IFERROR(INDEX(char4Weapons, MATCH(C193, weapons!$A$199:$A$263, 0), MATCH(char4WeaponName,weapons!$A$199:$DB$199, 0)),0)","v":0},{"$f":"IFERROR(INDEX(char4ArtiSetStats, MATCH('Char 4'!$L$14,artisDB!$A$175:$A$231, 0), MATCH(C193, artisDB!$A$175:$AP$175, 0))+INDEX(char4ArtiSetStats, MATCH('Char 4'!$L$15, artisDB!$A$175:$A$231, 0), MATCH(C193, artisDB!$A$175:$AP$175, 0)),0)","v":0},{"$f":"IF($Q$165=TRUE, SUM('Char 4'!$AL45:$AP45), IFERROR(INDEX('Char 4'!$X$27:$Z$36, MATCH(C193, 'Char 4'!$X$27:$X$36, 0), 3)*HLOOKUP('Char 4'!$Z$7, artifactSubstatValues, MATCH(C193, 'Artifact Database'!$A$1:$A$11, 0)),0))","v":0},{"$f":"VLOOKUP(C193, 'Char 4'!$R$5:$T$50, 3,0)","v":0},null,0]
[null,null,"Shield Strength%",0,0,{"$f":"IFERROR(INDEX(char4Weapons, MATCH(C194, weapons!$A$199:$A$263, 0), MATCH(char4WeaponName,weapons!$A$199:$DB$199, 0)),0)","v":0},{"$f":"IFERROR(INDEX(char4ArtiSetStats, MATCH('Char 4'!$L$14,artisDB!$A$175:$A$231, 0), MATCH(C194, artisDB!$A$175:$AP$175, 0))+INDEX(char4ArtiSetStats, MATCH('Char 4'!$L$15, artisDB!$A$175:$A$231, 0), MATCH(C194, artisDB!$A$175:$AP$175, 0)),0)","v":0},{"$f":"IF($Q$165=TRUE, SUM('Char 4'!$AL46:$AP46), IFERROR(INDEX('Char 4'!$X$27:$Z$36, MATCH(C194, 'Char 4'!$X$27:$X$36, 0), 3)*HLOOKUP('Char 4'!$Z$7, artifactSubstatValues, MATCH(C194, 'Artifact Database'!$A$1:$A$11, 0)),0))","v":0},{"$f":"VLOOKUP(C194, 'Char 4'!$R$5:$T$50, 3,0)","v":0},null,0,null,null,null,"Enemy Defense Mult"]
[null,null,"Phys RES%",0,0,{"$f":"IFERROR(INDEX(char4Weapons, MATCH(C195, weapons!$A$199:$A$263, 0), MATCH(char4WeaponName,weapons!$A$199:$DB$199, 0)),0)","v":0},{"$f":"IFERROR(INDEX(char4ArtiSetStats, MATCH('Char 4'!$L$14,artisDB!$A$175:$A$231, 0), MATCH(C195, artisDB!$A$175:$AP$175, 0))+INDEX(char4ArtiSetStats, MATCH('Char 4'!$L$15, artisDB!$A$175:$A$231, 0), MATCH(C195, artisDB!$A$175:$AP$175, 0)),0)","v":0},{"$f":"IF($Q$165=TRUE, SUM('Char 4'!$AL47:$AP47), IFERROR(INDEX('Char 4'!$X$27:$Z$36, MATCH(C195, 'Char 4'!$X$27:$X$36, 0), 3)*HLOOKUP('Char 4'!$Z$7, artifactSubstatValues, MATCH(C195, 'Artifact Database'!$A$1:$A$11, 0)),0))","v":0},{"$f":"VLOOKUP(C195, 'Char 4'!$R$5:$T$50, 3,0)","v":0},null,0]
[null,null,"Healing Bonus%",0,0,{"$f":"IFERROR(INDEX(char4Weapons, MATCH(C196, weapons!$A$199:$A$263, 0), MATCH(char4WeaponName,weapons!$A$199:$DB$199, 0)),0)","v":0},{"$f":"IFERROR(INDEX(char4ArtiSetStats, MATCH('Char 4'!$L$14,artisDB!$A$175:$A$231, 0), MATCH(C196, artisDB!$A$175:$AP$175, 0))+INDEX(char4ArtiSetStats, MATCH('Char 4'!$L$15, artisDB!$A$175:$A$231, 0), MATCH(C196, artisDB!$A$175:$AP$175, 0)),0)","v":0},{"$f":"IF($Q$165=TRUE, SUM('Char 4'!$AL48:$AP48), IFERROR(INDEX('Char 4'!$X$27:$Z$36, MATCH(C196, 'Char 4'!$X$27:$X$36, 0), 3)*HLOOKUP('Char 4'!$Z$7, artifactSubstatValues, MATCH(C196, 'Artifact Database'!$A$1:$A$11, 0)),0))","v":0},{"$f":"VLOOKUP(C196, 'Char 4'!$R$5:$T$50, 3,0)","v":0},{"$f":"IF(char4Name = \"Kokomi\", 25%, 0%)","v":0},0,null,null,null,"Multiplier",null,{"$f":"(char4LevelNum+100)/((char4LevelNum+100)+(enemyLevel+100)*(1-K193))","v":0.48717948717948717}]
[null,null,"Healing Received%",0,0,{"$f":"IFERROR(INDEX(char4Weapons, MATCH(C197, weapons!$A$199:$A$263, 0), MATCH(char4WeaponName,weapons!$A$199:$DB$199, 0)),0)","v":0},{"$f":"IFERROR(INDEX(char4ArtiSetStats, MATCH('Char 4'!$L$14,artisDB!$A$175:$A$231, 0), MATCH(C197, artisDB!$A$175:$AP$175, 0))+INDEX(char4ArtiSetStats, MATCH('Char 4'!$L$15, artisDB!$A$175:$A$231, 0), MATCH(C197, artisDB!$A$175:$AP$175, 0)),0)","v":0},{"$f":"IF($Q$165=TRUE, SUM('Char 4'!$AL49:$AP49), IFERROR(INDEX('Char 4'!$X$27:$Z$36, MATCH(C197, 'Char 4'!$X$27:$X$36, 0), 3)*HLOOKUP('Char 4'!$Z$7, artifactSubstatValues, MATCH(C197, 'Artifact Database'!$A$1:$A$11, 0)),0))","v":0},{"$f":"VLOOKUP(C197, 'Char 4'!$R$5:$T$50, 3,0)","v":0},null,0]
[null,null,"Anemo RES%",0,0,{"$f":"IFERROR(INDEX(char4Weapons, MATCH(C198, weapons!$A$199:$A$263, 0), MATCH(char4WeaponName,weapons!$A$199:$DB$199, 0)),0)","v":0},{"$f":"IFERROR(INDEX(char4ArtiSetStats, MATCH('Char 4'!$L$14,artisDB!$A$175:$A$231, 0), MATCH(C198, artisDB!$A$175:$AP$175, 0))+INDEX(char4ArtiSetStats, MATCH('Char 4'!$L$15, artisDB!$A$175:$A$231, 0), MATCH(C198, artisDB!$A$175:$AP$175, 0)),0)","v":0},{"$f":"IF($Q$165=TRUE, SUM('Char 4'!$AL50:$AP50), IFERROR(INDEX('Char 4'!$X$27:$Z$36, MATCH(C198, 'Char 4'!$X$27:$X$36, 0), 3)*HLOOKUP('Char 4'!$Z$7, artifactSubstatValues, MATCH(C198, 'Artifact Database'!$A$1:$A$11, 0)),0))","v":0},{"$f":"VLOOKUP(C198, 'Char 4'!$R$5:$T$50, 3,0)","v":0},null,0]
[null,null,"Geo RES%",0,0,{"$f":"IFERROR(INDEX(char4Weapons, MATCH(C199, weapons!$A$199:$A$263, 0), MATCH(char4WeaponName,weapons!$A$199:$DB$199, 0)),0)","v":0},{"$f":"IFERROR(INDEX(char4ArtiSetStats, MATCH('Char 4'!$L$14,artisDB!$A$175:$A$231, 0), MATCH(C199, artisDB!$A$175:$AP$175, 0))+INDEX(char4ArtiSetStats, MATCH('Char 4'!$L$15, artisDB!$A$175:$A$231, 0), MATCH(C199, artisDB!$A$175:$AP$175, 0)),0)","v":0},{"$f":"IF($Q$165=TRUE, SUM('Char 4'!$AL51:$AP51), IFERROR(INDEX('Char 4'!$X$27:$Z$36, MATCH(C199, 'Char 4'!$X$27:$X$36, 0), 3)*HLOOKUP('Char 4'!$Z$7, artifactSubstatValues, MATCH(C199, 'Artifact Database'!$A$1:$A$11, 0)),0))","v":0},{"$f":"VLOOKUP(C199, 'Char 4'!$R$5:$T$50, 3,0)","v":0},null,0]
[null,null,"Pyro RES%",0,0,{"$f":"IFERROR(INDEX(char4Weapons, MATCH(C200, weapons!$A$199:$A$263, 0), MATCH(char4WeaponName,weapons!$A$199:$DB$199, 0)),0)","v":0},{"$f":"IFERROR(INDEX(char4ArtiSetStats, MATCH('Char 4'!$L$14,artisDB!$A$175:$A$231, 0), MATCH(C200, artisDB!$A$175:$AP$175, 0))+INDEX(char4ArtiSetStats, MATCH('Char 4'!$L$15, artisDB!$A$175:$A$231, 0), MATCH(C200, artisDB!$A$175:$AP$175, 0)),0)","v":0},{"$f":"IF($Q$165=TRUE, SUM('Char 4'!$AL52:$AP52), IFERROR(INDEX('Char 4'!$X$27:$Z$36, MATCH(C200, 'Char 4'!$X$27:$X$36, 0), 3)*HLOOKUP('Char 4'!$Z$7, artifactSubstatValues, MATCH(C200, 'Artifact Database'!$A$1:$A$11, 0)),0))","v":0},{"$f":"VLOOKUP(C200, 'Char 4'!$R$5:$T$50, 3,0)","v":0},null,0,null,null,null,"Final Info"]
[null,null,"Cryo RES%",0,0,{"$f":"IFERROR(INDEX(char4Weapons, MATCH(C201, weapons!$A$199:$A$263, 0), MATCH(char4WeaponName,weapons!$A$199:$DB$199, 0)),0)","v":0},{"$f":"IFERROR(INDEX(char4ArtiSetStats, MATCH('Char 4'!$L$14,artisDB!$A$175:$A$231, 0), MATCH(C201, artisDB!$A$175:$AP$175, 0))+INDEX(char4ArtiSetStats, MATCH('Char 4'!$L$15, artisDB!$A$175:$A$231, 0), MATCH(C201, artisDB!$A$175:$AP$175, 0)),0)","v":0},{"$f":"IF($Q$165=TRUE, SUM('Char 4'!$AL53:$AP53), IFERROR(INDEX('Char 4'!$X$27:$Z$36, MATCH(C201, 'Char 4'!$X$27:$X$36, 0), 3)*HLOOKUP('Char 4'!$Z$7, artifactSubstatValues, MATCH(C201, 'Artifact Database'!$A$1:$A$11, 0)),0))","v":0},{"$f":"VLOOKUP(C201, 'Char 4'!$R$5:$T$50, 3,0)","v":0},null,0]
[null,null,"Hydro RES%",0,0,{"$f":"IFERROR(INDEX(char4Weapons, MATCH(C202, weapons!$A$199:$A$263, 0), MATCH(char4WeaponName,weapons!$A$199:$DB$199, 0)),0)","v":0},{"$f":"IFERROR(INDEX(char4ArtiSetStats, MATCH('Char 4'!$L$14,artisDB!$A$175:$A$231, 0), MATCH(C202, artisDB!$A$175:$AP$175, 0))+INDEX(char4ArtiSetStats, MATCH('Char 4'!$L$15, artisDB!$A$175:$A$231, 0), MATCH(C202, artisDB!$A$175:$AP$175, 0)),0)","v":0},{"$f":"IF($Q$165=TRUE, SUM('Char 4'!$AL54:$AP54), IFERROR(INDEX('Char 4'!$X$27:$Z$36, MATCH(C202, 'Char 4'!$X$27:$X$36, 0), 3)*HLOOKUP('Char 4'!$Z$7, artifactSubstatValues, MATCH(C202, 'Artifact Database'!$A$1:$A$11, 0)),0))","v":0},{"$f":"VLOOKUP(C202, 'Char 4'!$R$5:$T$50, 3,0)","v":0},null,0,null,null,null,"Final HP",null,{"$f":"char4BaseHP*(1+char4FinalHPPercent)+char4FinalFlatHP","v":18914.662400000001}]
[null,null,"Electro RES%",0,0,{"$f":"IFERROR(INDEX(char4Weapons, MATCH(C203, weapons!$A$199:$A$263, 0), MATCH(char4WeaponName,weapons!$A$199:$DB$199, 0)),0)","v":0},{"$f":"IFERROR(INDEX(char4ArtiSetStats, MATCH('Char 4'!$L$14,artisDB!$A$175:$A$231, 0), MATCH(C203, artisDB!$A$175:$AP$175, 0))+INDEX(char4ArtiSetStats, MATCH('Char 4'!$L$15, artisDB!$A$175:$A$231, 0), MATCH(C203, artisDB!$A$175:$AP$175, 0)),0)","v":0},{"$f":"IF($Q$165=TRUE, SUM('Char 4'!$AL55:$AP55), IFERROR(INDEX('Char 4'!$X$27:$Z$36, MATCH(C203, 'Char 4'!$X$27:$X$36, 0), 3)*HLOOKUP('Char 4'!$Z$7, artifactSubstatValues, MATCH(C203, 'Artifact Database'!$A$1:$A$11, 0)),0))","v":0},{"$f":"VLOOKUP(C203, 'Char 4'!$R$5:$T$50, 3,0)","v":0},null,0,null,null,null,"Final DEF",null,{"$f":"char4BaseDEF*(1+char4FinalDEFPercent)+char4FinalFlatDEF","v":905.96400000000006}]
[null,null,"Burst CR%",0,0,{"$f":"IFERROR(INDEX(char4Weapons, MATCH(C204, weapons!$A$199:$A$263, 0), MATCH(char4WeaponName,weapons!$A$199:$DB$199, 0)),0)","v":0},{"$f":"IFERROR(INDEX(char4ArtiSetStats, MATCH('Char 4'!$L$14,artisDB!$A$175:$A$231, 0), MATCH(C204, artisDB!$A$175:$AP$175, 0))+INDEX(char4ArtiSetStats, MATCH('Char 4'!$L$15, artisDB!$A$175:$A$231, 0), MATCH(C204, artisDB!$A$175:$AP$175, 0)),0)","v":0},{"$f":"IF($Q$165=TRUE, SUM('Char 4'!$AL56:$AP56), IFERROR(INDEX('Char 4'!$X$27:$Z$36, MATCH(C204, 'Char 4'!$X$27:$X$36, 0), 3)*HLOOKUP('Char 4'!$Z$7, artifactSubstatValues, MATCH(C204, 'Artifact Database'!$A$1:$A$11, 0)),0))","v":0},{"$f":"VLOOKUP(C204, 'Char 4'!$R$5:$T$50, 3,0)","v":0},null,0,null,null,null,"Final ATK",null,{"$f":"(char4WeaponBaseATK+char4BaseATK)*(1+char4FinalATKPercent)+char4FinalFlatATK","v":1175.0752}]
[null,null,"Skill CR%",0,0,{"$f":"IFERROR(INDEX(char4Weapons, MATCH(C205, weapons!$A$199:$A$263, 0), MATCH(char4WeaponName,weapons!$A$199:$DB$199, 0)),0)","v":0},{"$f":"IFERROR(INDEX(char4ArtiSetStats, MATCH('Char 4'!$L$14,artisDB!$A$175:$A$231, 0), MATCH(C205, artisDB!$A$175:$AP$175, 0))+INDEX(char4ArtiSetStats, MATCH('Char 4'!$L$15, artisDB!$A$175:$A$231, 0), MATCH(C205, artisDB!$A$175:$AP$175, 0)),0)","v":0},{"$f":"IF($Q$165=TRUE, SUM('Char 4'!$AL57:$AP57), IFERROR(INDEX('Char 4'!$X$27:$Z$36, MATCH(C205, 'Char 4'!$X$27:$X$36, 0), 3)*HLOOKUP('Char 4'!$Z$7, artifactSubstatValues, MATCH(C205, 'Artifact Database'!$A$1:$A$11, 0)),0))","v":0},{"$f":"VLOOKUP(C205, 'Char 4'!$R$5:$T$50, 3,0)","v":0},null,0]
[null,null,"Burst CDMG%",0,0,{"$f":"IFERROR(INDEX(char4Weapons, MATCH(C206, weapons!$A$199:$A$263, 0), MATCH(char4WeaponName,weapons!$A$199:$DB$199, 0)),0)","v":0},{"$f":"IFERROR(INDEX(char4ArtiSetStats, MATCH('Char 4'!$L$14,artisDB!$A$175:$A$231, 0), MATCH(C206, artisDB!$A$175:$AP$175, 0))+INDEX(char4ArtiSetStats, MATCH('Char 4'!$L$15, artisDB!$A$175:$A$231, 0), MATCH(C206, artisDB!$A$175:$AP$175, 0)),0)","v":0},{"$f":"IF($Q$165=TRUE, SUM('Char 4'!$AL58:$AP58), IFERROR(INDEX('Char 4'!$X$27:$Z$36, MATCH(C206, 'Char 4'!$X$27:$X$36, 0), 3)*HLOOKUP('Char 4'!$Z$7, artifactSubstatValues, MATCH(C206, 'Artifact Database'!$A$1:$A$11, 0)),0))","v":0},{"$f":"VLOOKUP(C206, 'Char 4'!$R$5:$T$50, 3,0)","v":0},null,0]
[null,null,"Skill CDMG%",0,0,{"$f":"IFERROR(INDEX(char4Weapons, MATCH(C207, weapons!$A$199:$A$263, 0), MATCH(char4WeaponName,weapons!$A$199:$DB$199, 0)),0)","v":0},{"$f":"IFERROR(INDEX(char4ArtiSetStats, MATCH('Char 4'!$L$14,artisDB!$A$175:$A$231, 0), MATCH(C207, artisDB!$A$175:$AP$175, 0))+INDEX(char4ArtiSetStats, MATCH('Char 4'!$L$15, artisDB!$A$175:$A$231, 0), MATCH(C207, artisDB!$A$175:$AP$175, 0)),0)","v":0},{"$f":"IF($Q$165=TRUE, SUM('Char 4'!$AL59:$AP59), IFERROR(INDEX('Char 4'!$X$27:$Z$36, MATCH(C207, 'Char 4'!$X$27:$X$36, 0), 3)*HLOOKUP('Char 4'!$Z$7, artifactSubstatValues, MATCH(C207, 'Artifact Database'!$A$1:$A$11, 0)),0))","v":0},{"$f":"VLOOKUP(C207, 'Char 4'!$R$5:$T$50, 3,0)","v":0},null,0]

{"sheet":"Results (Team)","index":8,"n_rows":39,"n_cols":13,"rows_kept":39,"cut":false,"hidden":true,"merged":[]}
["Kokomi Shenhe Kazuha Kaeya","Character List","DPR","DPS","% of Team Damage","Weapon","Artifact Set","ER Requirement","Constellation","Talent Levels","Character Level","Flat Subs","Liquid Subs"]
["Character 1","Shenhe",187850.8843008838,{"$f":"C2/$C$9","v":9392.5442150441904},{"$f":"D2/$B$9","v":0.30403986166525926},"Favonius Lance R3+","4Blizz",1.36,0," 9/9/9",90,20,20]
["Character 2","Kokomi",85258.534114919385,{"$f":"C3/$C$9","v":4262.9267057459692},{"$f":"D3/$B$9","v":0.13799239228793408},"TTDS R5","4ToM",1.66,0," 9/9/9",90,20,20]
["Character 3","Kaeya",223304.32499796624,{"$f":"C4/$C$9","v":11165.216249898313},{"$f":"D4/$B$9","v":0.36142186039906932},"The Flute R1","4Blizz",1.04,0," 9/9/9",90,20,20]
["Character 4","Kazuha",121435.78221094365,{"$f":"C5/$C$9","v":6071.7891105471826},{"$f":"D5/$B$9","v":0.1965458856477374},"Iron Sting R1","4VV",1.26,0," 9/9/9",90,20,20]
[]
["Team Information"]
["Rotation:","DPS:","Rotation Length:"]
["Kaeya E > Kazuha Hold E > Kokomi E > Shenhe EQ > Kaeya EQ > Kazuha Hold EQ > Kaeya E > Kokomi Burst > Kokomi 3xN3 > Kaeya E (Loop)",{"$f":"SUM(D2:D5)","v":30892.476281235653},20]
[]
["Kokomi Shenhe Kazuha Kaeya","Character List","DPR","DPS","% of Team Damage","Weapon","Artifact Set","ER Requirement","Constellation","Talent Levels","Character Level","Flat Subs","Liquid Subs"]
["Character 1","Shenhe",148718.81082270629,{"$f":"C12/$C$9","v":7435.9405411353146},{"$f":"D12/$B$9","v":0.24070393300429485},"Favonius Lance R3+","2SR 2Glad",1.36,0," 9/9/9",90,20,20]
["Character 2","Kokomi",85258.534114919385,{"$f":"C13/$C$9","v":4262.9267057459692},{"$f":"D13/$B$9","v":0.13799239228793408},"TTDS R5","4ToM",1.66,0," 9/9/9",90,20,20]
["Character 3","Kaeya",228306.39321268882,{"$f":"C14/$C$9","v":11415.319660634441},{"$f":"D14/$B$9","v":0.36951779315820665},"The Flute R1","4Blizz",1.04,0," 9/9/9",90,20,20]
["Character 4","Kazuha",123821.56204931234,{"$f":"C15/$C$9","v":6191.0781024656171},{"$f":"D15/$B$9","v":0.20040731102628148},"Iron Sting R1","4VV",1.26,0," 9/9/9",90,20,20]
[]
["Team Information"]
["Rotation:","DPS:","Rotation Length:"]
["Kaeya E > Kazuha Hold E > Kokomi E > Shenhe EQ > Kaeya EQ > Kazuha Hold EQ > Kaeya E > Kokomi Burst > Kokomi 3xN3 > Kaeya E (Loop)",{"$f":"SUM(D12:D15)","v":29305.26500998134},20]
[]
["Kokomi Shenhe Kazuha Kaeya","Character List","DPR","DPS","% of Team Damage","Weapon","Artifact Set","ER Requirement","Constellation","Talent Levels","Character Level","Flat Subs","Liquid Subs"]
["Character 1","Shenhe",152047.00188372011,{"$f":"C22/$C$9","v":7602.3500941860057},{"$f":"D22/$B$9","v":0.24609066702767807},"Favonius Lance R3+","2Blizz 2Glad",1.36,0," 9/9/9",90,20,20]
["Character 2","Kokomi",85258.534114919385,{"$f":"C23/$C$9","v":4262.9267057459692},{"$f":"D23/$B$9","v":0.13799239228793408},"TTDS R5","4ToM",1.66,0," 9/9/9",90,20,20]
["Character 3","Kaeya",225805.35910532754,{"$f":"C24/$C$9","v":11290.267955266378},{"$f":"D24/$B$9","v":0.36546982677863804},"The Flute R1","4Blizz",1.04,0," 9/9/9",90,20,20]
["Character 4","Kazuha",122628.672130128,{"$f":"C25/$C$9","v":6131.4336065063999},{"$f":"D25/$B$9","v":0.19847659833700945},"Iron Sting R1","4VV",1.26,0," 9/9/9",90,20,20]
[]
["Team Information"]
["Rotation:","DPS:","Rotation Length:"]
["Kaeya E > Kazuha Hold E > Kokomi E > Shenhe EQ > Kaeya EQ > Kazuha Hold EQ > Kaeya E > Kokomi Burst > Kokomi 3xN3 > Kaeya E (Loop)",{"$f":"SUM(D22:D25)","v":29286.978361704751},20]
[]
[]
["Ayaka Kazuha Kaeya Mona","Character List","DPR","DPS","% of Team Damage","Weapon","Artifact Set","ER Requirement","Constellation","Talent Levels","Character Level","Flat Subs","Liquid Subs"]
["Character 1","Ayaka",568874.21563877387,{"$f":"C33/$C$39","v":28443.710781938695},{"$f":"D33/$B$39","v":0.71728225613759988},"Amenoma R1","4Blizz",1.1599999999999999,0," 9/9/9",90,20,20]
["Character 2","Kaeya",76903.297845166147,{"$f":"C34/$C$39","v":3845.1648922583072},{"$f":"D34/$B$39","v":9.6965848453622286E-2},"Fav Sword R3+","4NO",1,0," 9/9/9",90,20,20]
["Character 3","Mona",35420.721623401187,{"$f":"C35/$C$39","v":1771.0360811700593},{"$f":"D35/$B$39","v":4.4661287893891635E-2},"Fav Codex R1","4ToM",1.54,0," 9/9/9",90,20,20]
["Character 4","Kazuha",111898.5002030105,{"$f":"C36/$C$39","v":5594.9250101505249},{"$f":"D36/$B$39","v":0.14109060751488631},"Iron Sting R1","4VV",1.4,0," 9/9/9",90,20,20]
[]
["Rotation","Total DPS","Rotation Length"]
["Kaeya E > Kazuha Hold E > Kazuha Q > Kaeya Q > Mona EQ > Ayaka Dash EQ > Kazuha Tap E > Kaeya E > Ayaka N2C > Ayaka E > Kaeya E (Loop)",{"$f":"SUM(C33:C36)/C39","v":39654.836765517583},20]

{"sheet":"Results (Personal)","index":9,"n_rows":127,"n_cols":16,"rows_kept":127,"cut":false,"hidden":true,"merged":[]}
["Xiangling Vape",null,null,null,null,null,null,null,null,null,null,null,"Yae"]
["Xiangling w/ Sucrose TTDS","Damage","Percentage vs. Catch",null,"Xiangling w/ Kazuha Iron Sting","Damage","Percentage vs. Catch",null,"Raiden National",null,null,null,"140% ER Weapon Rankings with 4EoSF",null,"Damage","Percentage"]
["Wavebreaker R5 300 Cost",410345.23842808598,{"$f":"B3/$B$8","v":1.0962978235805996},null,"Engulfing Lightning",361047.3499325033,{"$f":"F3/$F$6","v":1.054096725561851},null,"Xiangling with 160% ER Req","Damage","Percentage vs. Catch",null,"Kagura's Verity R5",null,378496.05855108798,{"$f":"O3/$O$13","v":1.3907640384496316}]
["Wavebreaker R5 280 Cost",404177.86362790246,1.0798207722163689,null,"Staff of Homa (No Low HP)",356759.18907998648,{"$f":"F4/$F$6","v":1.0415772144390978},null,"Wavebreaker R5 310 Cost",388401.09376790095,{"$f":"J4/$J$8","v":1.0298721225307996},null,"Kagura's Verity R1",null,338907.54511287314,1.2452981093292161]
["Staff of Homa (No Low HP)",399467.2130055973,1.0672355743360069,null,"Wavebreaker R5 280 Cost",344044.05866065947,{"$f":"F5/$F$6","v":1.0044547224927918},null,"Staff of Homa (No Low HP)",385054.09707403451,{"$f":"J5/$J$8","v":1.0209973313818446},null,"Skyward Atlas R1 With Proc",null,308863.01441421802,1.134901047315569]
["Engulfing Lightning",385002.91880241525,1.0285920791286001,null,"The Catch R5",342518.23497512442,{"$f":"F6/$F$6","v":1},null,"Engulfing Lightning",384842.8971728558,1.0204373203674699,null,"Widsith R5",null,308754.24262137333,1.1345013710323728]
["Deathmatch R5 2 Target",378681.98105763271,1.0117047617098847,null,"Deathmatch R5 2 Target",341417.52709647198,{"$f":"F7/$F$6","v":0.99678642546218776},null,"Dragon's Bane R5",378974.018915553,1.0048755873942481,null,"Solar Pearl R5 (with passive)",null,306781.27616047626,1.1272518086105423]
["The Catch R5",374300.87846737163,1,null,"Wavebreaker's Fin R5 260 Cost",339532.7529292609,{"$f":"F8/$F$6","v":0.99128372816098287},null,"The Catch R5",377135.26298143424,1,null,"Lost Prayers 0 Stack R1",null,302965.22152813396,1.1132299147717073]
["PJWS (1 Stack)",373005.58287052694,0.99653942677840224,null,"Dragon's Bane R5",335324.92801347072,0.97899876203035985,null,"Deathmatch R5 2 Target",370954.72933180421,0.98361189139204341,null,"Skyward Atlas No Proc R1",null,300393.86404287477,1.1037815957213413]
["Lithic Spear R5 2 Stack",367399.88206913415,0.98156297033954454,null,"Lithic Spear R5 2 Stack",331774.64961473271,0.96863353753655779,null,"PJWS 1 Stack",358400.8187792555,0.95032433707186648,null,"Solar Pearl R1 (with passive)",null,288792.03333149478,1.061151273505212]
["Dragon's Bane R5",365159.72014581918,0.97557804737466225,null,"Deathmatch R1 2 Target",326299.25322499755,0.95264782982633089,null,"Dragon's Bane R1",357942.48304451525,0.94910902845522616,null,"The Widsith R1",null,288710.24062857823,1.060850730481701]
["Wavebreaker R1 300 Cost",364089.92742671008,0.97271993834887127,null,"PJWS (1 Stack)",326033.62028481532,0.95187230048786653,null,"Deathmatch R1 2 Target",357008.29243896122,0.94663195803182199,null,"Memory of Dust R1",null,288701.1137524565,1.0608171942511202]
["Deathmatch R1 2 Target",363879.94590981724,0.97215894175769935,null,"Skyward Spine",325571.78095520224,0.95052393627698994,null,"Wavebreaker R1 310 Cost",352147.74399240105,0.9337438806663293,null,"Oathsworn Eye R5",null,272149.73071421974,1]
["Wavebreaker R1 280 Cost",361006.24002661841,0.96448141266675624,null,"Kitain Cross-Spear R5 (124% ER)",321392.62537288631,0.93832267177316164,null,"Kitain R5 (132% ER)",351172.55079557782,0.93115808906171016,null,"Solar Pearl R1 (No Passive)",null,270802.79050251329,0.99505073839988167]
["Skyward Spine",356941.04406560521,0.95362064210789799,null,"Dragon's Bane R1",316342.09728987783,0.92357738942819312,null,"Vortex 1 Stack No Shield",346909.21440595202,0.91985356040023714,null,"Blackcliff 0 Stack Rn",null,270041.96177575097,0.99225511290076529]
["Vortex Vanquisher (1 Stack unshielded)",350034.2821829138,0.93516820910541043,null,"Vortex Vanquisher 1 Stack Unshielded",314405.74974036583,0.9179241209251231,null,"Kitain R1 (146% ER)",341236.30415666383,0.90481145003261698,null,"Mappa Mare R5",null,263860.18623485358,0.96954050089407995]
["Calamity Queller",345501.23846365151,0.92305751426060134,null,"Wavebreaker R1 280 Cost",312464.91854086949,0.91225776217012922,null,"Lithic R5 1 Stack",338610.57348659774,0.897849145183931,null,"Eye of Perception R1",null,263581.12716743321,0.96851511289649483]
["Kitain Cross-Spear R5 (124 ER%)",343198.35738866188,0.91690502783198513,null,"Wavebreaker's Fin R1 260 Cost",310209.26567517023,0.90567226500422482,null,"Blackcliff Pole Rn 0 Stack",335605.84146259842,0.88988189226717773,null,"Royal Grimoire R1 0.3 Stack",null,262633.79921818094,0.96503420572540877]
["Lithic Spear R5 1 Stack",342106.08769636584,0.91398686825734432,null,"Lithic Spear R1 2 Stack",307041.55950482783,0.89642398025064829,null,"Fav Lance (140% ER)",330166.29471364943,0.87545856121627907,null,"Frostbearer R1",null,258544.87026599556,0.95000964942158828]
["Lithic Spear R1 2 Stack",341855.24232036399,0.91331669783982095,null,"Lithic Spear R5 1 Stack",306514.5671900945,0.89488539847332593,null,"Lithic R1 1 Stack",328187.87593123491,0.87021264820678168,null,"Dodoco R5 No Passive",null,256146.14154847304,0.94119564578018333]
["Blackcliff Pole Rn 0 Stack",340582.20605853951,0.90991559371461261,null,"Favonius Lance (160% ER)",302390.95606537233,0.88284629893451849,null,"Prototype Starglitter Rn",324061.42317715799,0.85927107588746221,null,"Mappa Mare R1",null,255358.31804866969,0.93830082939460102]
["Dragon's Bane R1",340547.17113738693,0.90982199275568343,null,"Blackcliff Pole Rn 0 Stack",302041.50205357373,0.88182604956933075,null,null,null,null,null,"Everlasting Moonglow R1",null,249592.35034234088,0.91711408160250574]
["Lithic Spear R1 1 Stack",329169.04197534965,0.87942364261387596,null,"Calamity Queller",301018.13212097611,0.87883826723221825,null,null,null,null,null,"Hakushin R1",null,247350.0835826117,0.90887498926960253]
["Favonius Lance (160% ER)",325225.56357105717,0.86888805845911887,null,"Kitain Cross-Spear R1 (152% ER)",298760.32311605813,0.87224647510447373,null,null,null,null,null,"Magic Guide R5",null,240113.75175982868,0.88228546517273043]
["Kitain Cross-Spear R1 (152 ER%)",320332.4880341423,0.85581548551472653,null,"Prototype Starglitter Rn",295266.46422535455,0.86204597033147279,null,null,null,null,null,"Sacrificial Fragments R1",null,239941.23786729784,0.88165157186672527]
["Prototype Starglitter Rn",310033.09358698392,0.82829913425920521,null,"Lithic Spear R1 1 Stack",294496.74349949718,0.85979873019281783,null,null,null,null,null,"Favonius Codex Rn",null,239770.87452415098,0.88102558064233649]
[null,null,null,null,null,null,null,null,null,null,null,null,"Wine and Song R1",null,237936.9506574198,0.8742869229853244]
["All calculated with 80/90 Talent 8/11/11 C6 Xiangling",null,null,null,null,null,null,null,null,null,null,null,"Prototype Amber R1",null,233014.96324592776,0.85620133679504984]
[null,null,null,null,null,null,null,null,null,null,null,null,"TTDS R5",null,208970.07948022458,0.76784966471144833]
[]
["Kazuha Weapons","DPS","Percentage vs. Trip EM",null,"Ganyu Melt"]
["Iron Sting",null,null,null,"Weapon","Damage","Percentage"]
["Kazuha Triple EM",42195.023142847611,1,null,"Amos R5 (4 Stack Bloom)",598887.53644339682,{"$f":"F33/$F$55","v":1.3097304050063083}]
["Kazuha EM/Anemo/EM",41576.714985669081,0.98534641976412007,null,"Amos R5 (3 Stack Bloom)",578567.66394420923,{"$f":"F34/$F$55","v":1.2652920869272797}]
["Kazuha EM/Anemo/Crit",40809.045245698449,0.96715304806310798,null,"Amos R3 (4 Stack Bloom)",562976.89412370883,1.2311960271017066]
["Kazuha ATK/Anemo/Crit",40033.885340092056,0.94878216335042143,null,"Polar Star R5",557143.3258226238,1.2184383700982131]
[null,null,null,null,"Amos R3 (3 Stack Bloom)",547736.98974931811,1.1978672885424351]
["Jade Cutter","DPS",null,null,"Thundering Pulse R5",538573.20239071711,1.1778266461876972]
["Kazuha Triple EM",42270.303992618923,1,null,"Polar Star R3",536555.89444028458,1.1734149171097585]
["Kazuha EM/Anemo/EM",41863.562999322123,0.99037761844892758,null,"Skyward Harp R5",530942.91969991231,1.1611396847286406]
["Kazuha EM/Anemo/Crit",41560.518256982454,0.98320840711814117,null,"Amos R1 (4 Stack Bloom)",527066.25180402084,1.1526616491971049]
["Kazuha ATK/Anemo/Crit",40905.682804029595,0.96771678791740856,null,"Thundering Pulse R3",519877.74358856294,1.1369408214898937]
[null,null,null,null,"Amos R1 (3 Stack Bloom)",516906.31555442698,1.1304424901575905]
["Freedom Sworn","DPS",null,null,"Polar Star R1",516073.98560638016,1.1286222354793447]
["Kazuha Triple EM",44671.882645004043,1,null,"Blackcliff Warbow R5 (1 Stack)",514818.11989734485,1.1258757340017942]
["Kazuha EM/Anemo/EM",44090.538929501592,0.98698636186609279,null,"Skyward Harp R3",513651.13651520235,1.1233236127357449]
["Kazuha EM/Anemo/Crit",43398.729798491775,0.97149990617969506,null,"Hamayumi R5 Energy Full",507160.78132215992,1.1091296029787532]
["Kazuha ATK/Anemo/Crit",42670.482907155012,0.95519777499073322,null,"Thundering Pulse R1",501182.28478640871,1.0960549967920901]
[null,null,null,null,"Prototype Crescent R5",501070.92788990895,1.0958114660717497]
["Mistsplitter Reforged","DPS",null,null,"Skyward Harp R1",496359.35333049239,1.0855075407428492]
["Kazuha Triple EM",42112.473852405557,1,null,"Hamayumi R3 Energy Full",484433.73029364983,1.0594269327162491]
["Kazuha EM/Anemo/EM",41624.157609324247,0.98840447500679385,null,"Prototype Crescent R3",479165.5446677549,1.0479057330358748]
["Kazuha EM/Anemo/Crit",41300.821127334108,0.98072654843512386,null,"Blackcliff Warbow R3 (1 Stack)",474741.44915135618,1.0382305067874036]
["Kazuha ATK/Anemo/Crit",40812.612435547911,0.96913357734781014,null,"Hamayumi R1 Energy Full",461706.6792651398,1.009724262453745]
[null,null,null,null,"Prototype Crescent R1",457260.16144560091,1]
["Blackcliff 0 Stack","DPS",null,null,"Blackcliff Warbow R1 (1 Stack)",434664.77840536763,0.95058527957301309]
["Kazuha Triple EM",41128.010468681445,1,null,"Stringless R5",419889.50426733168,0.91827265891670051]
["Kazuha EM/Anemo/EM",40573.079732059901,0.98650723119602113,null,"Stringless R1",416817.53259026748,0.91155444478811265]
["Kazuha EM/Anemo/Crit",39878.935638691779,0.96962958295926271,null,"Prototype Crescent No HS",413449.39500129299,0.90418853392825038]
["Kazuha ATK/Anemo/Crit",39126.892538118205,0.95134415918107518]
[]
["Summit Shaper (3 Stack)","DPS"]
["Kazuha Triple EM",41514.051700816708,1]
["Kazuha EM/Anemo/EM",41056.71671354428,0.98898360992156709]
["Kazuha EM/Anemo/Crit",40417.105724522582,0.97357651370192455]
["Kazuha ATK/Anemo/Crit",39587.997139987281,0.95360475593396399]
[]
["Favonius Sword (High Refine)","DPS"]
["Kazuha Triple EM",41294.268706605573,1]
["Kazuha EM/Anemo/EM",40639.534103404047,0.98414466162717651]
["Kazuha EM/Anemo/Crit",39855.724030013494,0.96516357543917553]
["Kazuha ATK/Anemo/Crit",38945.076887080017,0.94311094752115632]
[]
["Favonius Sword (Low Refine)","DPS"]
["Kazuha Triple EM",41229.155235393671,1]
["Kazuha EM/Anemo/EM",40739.00742438047,0.98811162129772601]
["Kazuha EM/Anemo/Crit",39792.106974496608,0.96514485313384712]
["Kazuha ATK/Anemo/Crit",38882.136337063013,0.94307380578305344]
[]
["Black Sword","DPS"]
["Kazuha Triple EM",41255.972036030966,1]
["Kazuha EM/Anemo/EM",40731.325765362679,0.98728314363287606]
["Kazuha EM/Anemo/Crit",40037.142795151594,0.97045690161378562]
["Kazuha ATK/Anemo/Crit",39278.117085119062,0.95205894193489027]
[]
["Dark Iron Sword","DPS"]
["Kazuha Triple EM",41527.165827659112,1]
["Kazuha EM/Anemo/EM",40856.22325272036,0.98384328519496822]
["Kazuha EM/Anemo/Crit",39927.202169044147,0.96147187926922495]
["Kazuha ATK/Anemo/Crit",39005.391529030472,0.93927410531471867]
[]
["Lion's Roar","DPS"]
["Kazuha Triple EM",41436.94223763905,1]
["Kazuha EM/Anemo/EM",40871.927598262009,0.98636447071464139]
["Kazuha EM/Anemo/Crit",40191.834862061514,0.96995175540615663]
["Kazuha ATK/Anemo/Crit",39365.729717282913,0.95001531463210231]
[]
["Skyward Blade","DPS"]
["Kazuha Triple EM",41145.46132100658,1]
["Kazuha EM/Anemo/EM",40594.806317638308,0.98661687132215625]
["Kazuha EM/Anemo/Crit",39942.695874815836,0.97076796789791542]
["Kazuha ATK/Anemo/Crit",39187.0285312462,0.95240221577585005]
[]
[]
["Rankings","Triple EM","EM/Anemo/EM","EM/Anemo/Crit","ATK/Anemo/Crit"]
["Freedom Sworn",44671.882645004043]
["Jade Cutter",42270.303992618923]
["Iron Sting",42195.023142847611]
["Mistsplitter",42112.473852405557,{"$f":"B108/B113","v":1.0218130618232246}]
["Dark Iron Sword",41527.165827659112]
["Summit Shaper",41514.051700816708]
["Lion's Roar",41436.94223763905]
["Fav Sword High Refine",41294.268706605573]
["Black Sword",41255.972036030966]
["Fav Sword Low Refine",41229.155235393671]
["Skyward Blade",41145.46132100658]
["Blackcliff",41128.010468681445]
[]
[]
[]
[]
[]
["Razor"]
["Physical DPS","Razor/Diona/Fischl","Razor/Kaeya","Razor/C5 Bennett","Razor/double Anemo","Razor/Fischl/Bei/XQ","Razor/ZL/Albedo"]
["Pyro DPS","Razor/C6 Bennett/XL/Kazuha","Razor/C6 Benny/Rosaria/Kaeya","Razor/C6 benny/XQ"]
["Reaction DPS","Razor/Sunfire","Razor Self Overload","Razor/Kazuha/C6 Benny","Razor/Kazuha/C6Benny/XQ"]
["Cryo DPS","Razor/Chongyun"]

{"sheet":"MVs","index":10,"n_rows":1320,"n_cols":26,"rows_kept":1320,"cut":false,"hidden":false,"merged":[]}
[null,"Ayaka",1,2,3,4,5,6,7,8,9,10,11,12,13,14,15,"Damage Type","Talent Scaler","Scaling Stat","Healing Type",null,"MV Lookup Tools"]
["Ayaka-Start","1-Hit DMG",0.45729999999999998,0.4945,0.53169999999999995,0.58489999999999998,0.62209999999999999,0.66459999999999997,0.72309999999999997,0.78159999999999996,0.84009999999999996,0.90390000000000004,0.9677,1.0315000000000001,1.0952999999999999,1.1591,1.2229000000000001,"Normal","Normal","ATK",null,null,"char1","char2","char3","char4"]
[null,"2-Hit DMG",0.48680000000000001,0.52649999999999997,0.56610000000000005,0.62270000000000003,0.6623,0.70760000000000001,0.76990000000000003,0.83220000000000005,0.89439999999999997,0.96240000000000003,1.0303,1.0982000000000001,1.1661999999999999,1.2341,1.302,"Normal","Normal","ATK",null,"Start Row",{"$f":"MATCH(char1Name&\"-Start\",A:A, 0)","v":202},{"$f":"MATCH(char2Name&\"-Start\",A:A, 0)","v":1042},{"$f":"MATCH(char3Name&\"-Start\",A:A, 0)","v":1192},{"$f":"MATCH(char4Name&\"-Start\",A:A, 0)","v":151}]
[null,"3-Hit DMG",0.62619999999999998,0.67720000000000002,0.72819999999999996,0.80100000000000005,0.85189999999999999,0.91020000000000001,0.99029999999999996,1.0704,1.1505000000000001,1.2379,1.3252999999999999,1.4126000000000001,1.5,1.5873999999999999,1.6748000000000001,"Normal","Normal","ATK",null,"End Row",{"$f":"MATCH(char1Name&\"-End\", A:A, 0)","v":225},{"$f":"MATCH(char2Name&\"-End\", A:A, 0)","v":1066},{"$f":"MATCH(char3Name&\"-End\", A:A, 0)","v":1219},{"$f":"MATCH(char4Name&\"-End\", A:A, 0)","v":179}]
[null,"4-Hit DMG (Per Hit, 3 Hits)",0.22650000000000001,0.24490000000000001,0.26329999999999998,0.28970000000000001,0.30809999999999998,0.32919999999999999,0.35810000000000003,0.3871,0.41609999999999997,0.44769999999999999,0.4793,0.51090000000000002,0.54249999999999998,0.57410000000000005,0.60570000000000002,"Normal","Normal","ATK"]
[null,"5-Hit DMG",0.78180000000000005,0.84550000000000003,0.90910000000000002,1,1.0636000000000001,1.1364000000000001,1.2363999999999999,1.3364,1.4363999999999999,1.5455000000000001,1.6545000000000001,1.7636000000000001,1.8727,1.9818,2.0909,"Normal","Normal","ATK"]
[null,"Charged Attack DMG (Per Hit, 3 Hits)",0.55130000000000001,0.59609999999999996,0.64100000000000001,0.70509999999999995,0.75,0.80130000000000001,0.87180000000000002,0.94230000000000003,1.0127999999999999,1.0896999999999999,1.1666000000000001,1.2435,1.3205,1.3974,1.4743000000000002,"Charged","Charged","ATK"]
[null,"Collision Plunge DMG",0.63929999999999998,0.69140000000000001,0.74339999999999995,0.81769999999999998,0.86980000000000002,0.92930000000000001,1.0109999999999999,1.0928,1.1746000000000001,1.2638,1.353,1.4421999999999999,1.5314000000000001,1.6206,1.7098,"Plunge","Plunge","ATK"]
[null,"Low Plunge DMG",1.2784,1.3824000000000001,1.4864999999999999,1.6351,1.7392000000000001,1.8581000000000001,2.0215999999999998,2.1850999999999998,2.3485999999999998,2.5270000000000001,2.7054,2.8837999999999999,3.0621999999999998,3.2404999999999999,3.4188999999999998,"Plunge","Plunge","ATK"]
[null,"High Plunge DMG",1.5968,1.7266999999999999,1.8567,2.0424000000000002,2.1722999999999999,2.3209,2.5251000000000001,2.7292999999999998,2.9336000000000002,3.1564000000000001,3.3792,3.6019999999999999,3.8248000000000002,4.0476000000000001,4.2704000000000004,"Plunge","Plunge","ATK"]
[null,"Skill DMG",2.3919999999999999,2.5714000000000001,2.7507999999999999,2.99,3.1694,3.3488000000000002,3.5880000000000001,3.8271999999999999,4.0663999999999998,4.3056000000000001,4.5448000000000004,4.7839999999999998,5.0830000000000002,5.3819999999999997,5.681,"Skill","Skill","ATK"]
[null,"Cutting DMG",1.123,1.2072000000000001,1.2915000000000001,1.4037999999999999,1.488,1.5722,1.6845000000000001,1.7968,1.9091,2.0213999999999999,2.1337000000000002,2.246,2.3864000000000001,2.5268000000000002,2.6671,"Burst","Burst","ATK"]
[null,"Bloom DMG",1.6845000000000001,1.8108,1.9372,2.1055999999999999,2.2320000000000002,2.3582999999999998,2.5268000000000002,2.6951999999999998,2.8635999999999999,3.0320999999999998,3.2004999999999999,3.3690000000000002,3.5796000000000001,3.7900999999999998,4.0007000000000001,"Burst","Burst","ATK"]
[null,"Weapon Proc",null,null,null,null,null,null,null,null,null,null,null,null,null,null,null,"Weapon Proc","Weapon Proc","Select an Attack"]
[null,"Overload",null,null,null,null,null,null,null,null,null,null,null,null,null,null,null,"Transformative","Transformative","EM"]
[null,"Shatter",null,null,null,null,null,null,null,null,null,null,null,null,null,null,null,"Transformative","Transformative","EM"]
[null,"Electrocharged",null,null,null,null,null,null,null,null,null,null,null,null,null,null,null,"Transformative","Transformative","EM"]
[null,"Superconduct",null,null,null,null,null,null,null,null,null,null,null,null,null,null,null,"Transformative","Transformative","EM"]
[null,"Pyro Swirl",null,null,null,null,null,null,null,null,null,null,null,null,null,null,null,"Transformative","Transformative","EM"]
[null,"Cryo Swirl",null,null,null,null,null,null,null,null,null,null,null,null,null,null,null,"Transformative","Transformative","EM"]
[null,"Hydro Swirl",null,null,null,null,null,null,null,null,null,null,null,null,null,null,null,"Transformative","Transformative","EM"]
["Ayaka-End","Electro Swirl",null,null,null,null,null,null,null,null,null,null,null,null,null,null,null,"Transformative","Transformative","EM"]
[null,"Albedo",1,2,3,4,5,6,7,8,9,10,11,12,13,14,15,"Damage Type","Scaling Talent","Scaling Stat"]
["Albedo-Start","1-Hit DMG",0.3674,0.39729999999999999,0.42720000000000002,0.46989999999999998,0.49980000000000002,0.53400000000000003,0.58099999999999996,0.628,0.67500000000000004,0.72619999999999996,0.78500000000000003,0.85409999999999997,0.92310000000000003,0.99219999999999997,1.0676000000000001,"Normal","Normal","ATK"]
[null,"2-Hit DMG",0.3674,0.39729999999999999,0.42720000000000002,0.46989999999999998,0.49980000000000002,0.53400000000000003,0.58099999999999996,0.628,0.67500000000000004,0.72619999999999996,0.78500000000000003,0.85409999999999997,0.92310000000000003,0.99219999999999997,1.0676000000000001,"Normal","Normal","ATK"]
[null,"3-Hit DMG",0.47449999999999998,0.51319999999999999,0.55179999999999996,0.60699999999999998,0.64559999999999995,0.68979999999999997,0.75039999999999996,0.81110000000000004,0.87180000000000002,0.93810000000000004,1.0139,1.1032,1.1923999999999999,1.2816000000000001,1.3789,"Normal","Normal","ATK"]
[null,"4-Hit DMG",0.4975,0.53800000000000003,0.57850000000000001,0.63639999999999997,0.67679999999999996,0.72309999999999997,0.78680000000000005,0.85040000000000004,0.91400000000000003,0.98350000000000004,1.0629999999999999,1.1565000000000001,1.2501,1.3435999999999999,1.4457,"Normal","Normal","ATK"]
[null,"5-Hit DMG",0.62070000000000003,0.67130000000000001,0.7218,0.79400000000000004,0.84450000000000003,0.9022,0.98160000000000003,1.0609999999999999,1.1404000000000001,1.2270000000000001,1.3263,1.4430000000000001,1.5597000000000001,1.6763999999999999,1.8038000000000001,"Normal","Normal","ATK"]
[null,"Charged Attack Hit 1",0.47299999999999998,0.51149999999999995,0.55000000000000004,0.60499999999999998,0.64349999999999996,0.6875,0.748,0.8085,0.86899999999999999,0.93500000000000005,1.0105999999999999,1.0995999999999999,1.1884999999999999,1.2774000000000001,1.3745000000000001,"Charged","Charged","ATK"]
[null,"Charged Attack Hit 2",0.60199999999999998,0.65100000000000002,0.7,0.77,0.81899999999999995,0.875,0.95199999999999996,1.0289999999999999,1.1060000000000001,1.19,1.2862,1.3994,1.5125999999999999,1.6257999999999999,1.7493000000000001,"Charged","Charged","ATK"]
[null,"Collision Plunge DMG",0.63929999999999998,0.69140000000000001,0.74339999999999995,0.81769999999999998,0.86980000000000002,0.92930000000000001,1.0109999999999999,1.0928,1.1746000000000001,1.2638,1.353,1.4421999999999999,1.5314000000000001,1.6206,1.7098,"Plunge","Plunge","ATK"]
[null,"Low Plunge DMG",1.2784,1.3824000000000001,1.4864999999999999,1.6351,1.7392000000000001,1.8581000000000001,2.0215999999999998,2.1850999999999998,2.3485999999999998,2.5270000000000001,2.7054,2.8837999999999999,3.0621999999999998,3.2404999999999999,3.4188999999999998,"Plunge","Plunge","ATK"]
[null,"High Plunge DMG",1.5968,1.7266999999999999,1.8567,2.0424000000000002,2.1722999999999999,2.3209,2.5251000000000001,2.7292999999999998,2.9336000000000002,3.1564000000000001,3.3792,3.6019999999999999,3.8248000000000002,4.0476000000000001,4.2704000000000004,"Plunge","Plunge","ATK"]
[null,"Skill Placement DMG",1.304,1.4017999999999999,1.4996,1.63,1.7278,1.8255999999999999,1.956,2.0863999999999998,2.2168000000000001,2.3472,2.4775999999999998,2.6080000000000001,2.7709999999999999,2.9340000000000002,3.097,"Skill","Skill","ATK"]
[null,"Transient Blossom DMG",0.33600000000000002,1.4361999999999999,1.5364,1.67,1.7702,1.8704000000000001,2.004,2.1375999999999999,2.2711999999999999,2.4047999999999998,2.5384000000000002,2.6720000000000002,2.839,3.0059999999999998,3.173,"Skill","Skill","DEF"]
[null,"Elemental Burst DMG",3.6720000000000002,3.9474,4.2228000000000003,4.59,4.8654000000000002,5.1407999999999996,5.508,5.8752000000000004,6.2423999999999999,6.6096000000000004,6.9767999999999999,7.3440000000000003,7.8029999999999999,8.2620000000000005,8.7210000000000001,"Burst","Burst","ATK"]
[null,"Fatal Blossom DMG",0.72,0.77400000000000002,0.82799999999999996,0.9,0.95399999999999996,1.008,1.08,1.1519999999999999,1.224,1.296,1.3680000000000001,1.44,1.53,1.62,1.71,"Burst","Burst","ATK"]
[null,"Weapon Proc",null,null,null,null,null,null,null,null,null,null,null,null,null,null,null,"Weapon Proc","Weapon Proc","Select an Attack"]
[null,"Overload",null,null,null,null,null,null,null,null,null,null,null,null,null,null,null,"Transformative","Transformative","EM"]
[null,"Shatter",null,null,null,null,null,null,null,null,null,null,null,null,null,null,null,"Transformative","Transformative","EM"]
[null,"Electrocharged",null,null,null,null,null,null,null,null,null,null,null,null,null,null,null,"Transformative","Transformative","EM"]
[null,"Superconduct",null,null,null,null,null,null,null,null,null,null,null,null,null,null,null,"Transformative","Transformative","EM"]
[null,"Pyro Swirl",null,null,null,null,null,null,null,null,null,null,null,null,null,null,null,"Transformative","Transformative","EM"]
[null,"Cryo Swirl",null,null,null,null,null,null,null,null,null,null,null,null,null,null,null,"Transformative","Transformative","EM"]
[null,"Hydro Swirl",null,null,null,null,null,null,null,null,null,null,null,null,null,null,null,"Transformative","Transformative","EM"]
["Albedo-End","Electro Swirl",null,null,null,null,null,null,null,null,null,null,null,null,null,null,null,"Transformative","Transformative","EM"]
[null,"Amber",1,2,3,4,5,6,7,8,9,10,11,12,13,14,15,"Damage Type","Scaling Talent","Scaling Stat"]
["Amber-Start","1-Hit DMG",0.36120000000000002,0.3906,0.42,0.46200000000000002,0.4914,0.52500000000000002,0.57120000000000004,0.61739999999999995,0.66359999999999997,0.71399999999999997,0.76439999999999997,0.81479999999999997,0.86519999999999997,0.91559999999999997,0.96599999999999997,"Normal","Normal","ATK"]
[null,"2-Hit DMG",0.36120000000000002,0.3906,0.42,0.46200000000000002,0.4914,0.52500000000000002,0.57120000000000004,0.61739999999999995,0.66359999999999997,0.71399999999999997,0.76439999999999997,0.81479999999999997,0.86519999999999997,0.91559999999999997,0.96599999999999997,"Normal","Normal","ATK"]
[null,"3-Hit DMG",0.46439999999999998,0.50219999999999998,0.54,0.59399999999999997,0.63180000000000003,0.67500000000000004,0.73440000000000005,0.79379999999999995,0.85319999999999996,0.91800000000000004,0.98280000000000001,1.0476000000000001,1.1124000000000001,1.1772,1.242,"Normal","Normal","ATK"]
[null,"4-Hit DMG",0.47299999999999998,0.51149999999999995,0.55000000000000004,0.60499999999999998,0.64349999999999996,0.6875,0.748,0.8085,0.86899999999999999,0.93500000000000005,1.0009999999999999,1.0669999999999999,1.133,1.1990000000000001,1.2649999999999999,"Normal","Normal","ATK"]
[null,"5-Hit DMG",0.59340000000000004,0.64170000000000005,0.69,0.75900000000000001,0.80730000000000002,0.86250000000000004,0.93840000000000001,1.0143,1.0902000000000001,1.173,1.2558,1.3386,1.4214,1.5042,1.587,"Normal","Normal","ATK"]
[null,"Aimed Shot",0.43859999999999999,0.4743,0.51,0.56100000000000005,0.59670000000000001,0.63749999999999996,0.69359999999999999,0.74970000000000003,0.80579999999999996,0.86699999999999999,0.92820000000000003,0.98939999999999995,1.0506,1.1117999999999999,1.173,"Charged","Charged","ATK"]
[null,"Fully-Charged Aimed Shot",1.24,1.333,1.4259999999999999,1.55,1.643,1.736,1.86,1.984,2.1080000000000001,2.2320000000000002,2.3559999999999999,2.48,2.6349999999999998,2.79,2.9449999999999998,"Charged","Charged","ATK"]
[null,"Collision Plunge DMG",0.56830000000000003,0.61450000000000005,0.66080000000000005,0.72689999999999999,0.77310000000000001,0.82599999999999996,0.89870000000000005,0.97140000000000004,1.0441,1.1234,1.2027000000000001,1.282,1.3612,1.4404999999999999,1.5198,"Plunge","Plunge","ATK"]
[null,"Low Plunge DMG",1.1363000000000001,1.2287999999999999,1.3212999999999999,1.4535,1.5459000000000001,1.6516999999999999,1.7969999999999999,1.9422999999999999,2.0876999999999999,2.2462,2.4047999999999998,2.5634000000000001,2.7219000000000002,2.8805000000000001,3.0390000000000001,"Plunge","Plunge","ATK"]
[null,"High Plunge DMG",1.4193,1.5348999999999999,1.6504000000000001,1.8153999999999999,1.931,2.0630000000000002,2.2444999999999999,2.4260999999999999,2.6076000000000001,2.8056999999999999,3.0036999999999998,3.2018,3.3997999999999999,3.5979000000000001,3.7959000000000001,"Plunge","Plunge","ATK"]
[null,"Skill DMG",1.232,1.3244,1.4168000000000001,1.54,1.6324000000000001,1.7248000000000001,1.8480000000000001,1.9712000000000001,2.0943999999999998,2.2176,2.3408000000000002,2.464,2.6179999999999999,2.7719999999999998,2.9260000000000002,"Skill","Skill","ATK"]
[null,"Fiery Rain DMG Per Wave",0.28079999999999999,0.3019,0.32290000000000002,0.35099999999999998,0.37209999999999999,0.3931,0.42120000000000002,0.44929999999999998,0.47739999999999999,0.50539999999999996,0.53349999999999997,0.56159999999999999,0.59670000000000001,0.63180000000000003,0.66690000000000005,"Burst","Burst","ATK"]
[null,"Total Fiery Rain DMG",5.0544000000000002,5.4335000000000004,5.8125999999999998,6.3179999999999996,6.6970999999999998,7.0762,7.5815999999999999,8.0869999999999997,8.5924999999999994,9.0978999999999992,9.6034000000000006,10.1088,10.740600000000001,11.372400000000001,12.004200000000001,"Burst","Burst","ATK"]
[null,"Weapon Proc",null,null,null,null,null,null,null,null,null,null,null,null,null,null,null,"Weapon Proc","Weapon Proc","Select an Attack"]
[null,"Overload",null,null,null,null,null,null,null,null,null,null,null,null,null,null,null,"Transformative","Transformative","EM"]
[null,"Shatter",null,null,null,null,null,null,null,null,null,null,null,null,null,null,null,"Transformative","Transformative","EM"]
[null,"Electrocharged",null,null,null,null,null,null,null,null,null,null,null,null,null,null,null,"Transformative","Transformative","EM"]
[null,"Superconduct",null,null,null,null,null,null,null,null,null,null,null,null,null,null,null,"Transformative","Transformative","EM"]
[null,"Pyro Swirl",null,null,null,null,null,null,null,null,null,null,null,null,null,null,null,"Transformative","Transformative","EM"]
[null,"Cryo Swirl",null,null,null,null,null,null,null,null,null,null,null,null,null,null,null,"Transformative","Transformative","EM"]
[null,"Hydro Swirl",null,null,null,null,null,null,null,null,null,null,null,null,null,null,null,"Transformative","Transformative","EM"]
["Amber-End","Electro Swirl",null,null,null,null,null,null,null,null,null,null,null,null,null,null,null,"Transformative","Transformative","EM"]
[null,"AMC",1,2,3,4,5,6,7,8,9,10,11,12,13,14,15,"Damage Type","Scaling Talent","Scaling Stat"]
["AMC-Start","1-Hit DMG",0.4446,0.48080000000000001,0.51700000000000002,0.56869999999999998,0.60489999999999999,0.64629999999999999,0.70309999999999995,0.76,0.81689999999999996,0.87890000000000001,0.94089999999999996,1.0029999999999999,1.0649999999999999,1.1271,1.1891,"Normal","Normal","ATK"]
[null,"2-Hit DMG",0.43430000000000002,0.46970000000000001,0.505,0.55549999999999999,0.59089999999999998,0.63129999999999997,0.68679999999999997,0.74229999999999996,0.79790000000000005,0.85850000000000004,0.91910000000000003,0.97970000000000002,1.0403,1.1009,1.1615,"Normal","Normal","ATK"]
[null,"3-Hit DMG",0.52980000000000005,0.57289999999999996,0.61599999999999999,0.67759999999999998,0.72070000000000001,0.77,0.83779999999999999,0.90549999999999997,0.97330000000000005,1.0471999999999999,1.1211,1.1950000000000001,1.2689999999999999,1.3429,1.4168000000000001,"Normal","Normal","ATK"]
[null,"4-Hit DMG",0.58309999999999995,0.63049999999999995,0.67800000000000005,0.74580000000000002,0.79330000000000001,0.84750000000000003,0.92210000000000003,0.99670000000000003,1.0711999999999999,1.1526000000000001,1.234,1.3152999999999999,1.3967000000000001,1.478,1.5593999999999999,"Normal","Normal","ATK"]
[null,"5-Hit DMG",0.70779999999999998,0.76539999999999997,0.82299999999999995,0.90529999999999999,0.96289999999999998,1.0287999999999999,1.1193,1.2098,1.3003,1.3991,1.4979,1.5966,1.6954,1.7941,1.8929,"Normal","Normal","ATK"]
[null,"Charged Attack Hit 1 DMG",0.55900000000000005,0.60450000000000004,0.65,0.71499999999999997,0.76049999999999995,0.8125,0.88400000000000001,0.95550000000000002,1.0269999999999999,1.105,1.1830000000000001,1.2609999999999999,1.339,1.417,1.4950000000000001,"Charged","Charged","ATK"]
[null,"Charged Attack Hit 2 DMG",0.60719999999999996,0.65659999999999996,0.70599999999999996,0.77659999999999996,0.82599999999999996,0.88249999999999995,0.96020000000000005,1.0378000000000001,1.1154999999999999,1.2001999999999999,1.2848999999999999,1.3695999999999999,1.4543999999999999,1.5390999999999999,1.6237999999999999,"Charged","Charged","ATK"]
[null,"Collision Plunge DMG",0.63929999999999998,0.69140000000000001,0.74339999999999995,0.81769999999999998,0.86980000000000002,0.92930000000000001,1.0109999999999999,1.0928,1.1746000000000001,1.2638,1.353,1.4421999999999999,1.5314000000000001,1.6206,1.7098,"Plunge","Plunge","ATK"]
[null,"Low Plunge DMG",1.2784,1.3824000000000001,1.4864999999999999,1.6351,1.7392000000000001,1.8581000000000001,2.0215999999999998,2.1850999999999998,2.3485999999999998,2.5270000000000001,2.7054,2.8837999999999999,3.0621999999999998,3.2404999999999999,3.4188999999999998,"Plunge","Plunge","ATK"]
[null,"High Plunge DMG",1.5968,1.7266999999999999,1.8567,2.0424000000000002,2.1722999999999999,2.3209,2.5251000000000001,2.7292999999999998,2.9336000000000002,3.1564000000000001,3.3792,3.6019999999999999,3.8248000000000002,4.0476000000000001,4.2704000000000004,"Plunge","Plunge","ATK"]
[null,"Initial Cutting DMG",0.12,0.129,0.13800000000000001,0.15,0.159,0.16800000000000001,0.18,0.192,0.20399999999999999,0.216,0.22800000000000001,0.24,0.255,0.27,0.28499999999999998,"Skill","Skill","ATK"]
[null,"Max Cutting DMG",0.16800000000000001,0.18060000000000001,0.19320000000000001,0.21,0.22259999999999999,0.23519999999999999,0.252,0.26879999999999998,0.28560000000000002,0.3024,0.31919999999999998,0.33600000000000002,0.35699999999999998,0.378,0.39900000000000002,"Skill","Skill","ATK"]
[null,"Initial Cutting Infused DMG",{"$f":"0.25*C81","v":0.03},{"$f":"0.25*D81","v":3.2250000000000001E-2},3.4500000000000003E-2,3.7499999999999999E-2,3.9750000000000001E-2,4.2000000000000003E-2,4.4999999999999998E-2,4.8000000000000001E-2,5.0999999999999997E-2,5.3999999999999999E-2,5.7000000000000002E-2,0.06,6.3750000000000001E-2,6.7500000000000004E-2,7.1249999999999994E-2,"Skill Echo","Skill Echo","ATK"]
[null,"Max Cutting Infused DMG",{"$f":"0.25*C82","v":4.2000000000000003E-2},{"$f":"0.25*D82","v":4.5150000000000003E-2},4.8300000000000003E-2,5.2499999999999998E-2,5.5649999999999998E-2,5.8799999999999998E-2,6.3E-2,6.7199999999999996E-2,7.1400000000000005E-2,7.5600000000000001E-2,7.9799999999999996E-2,8.4000000000000005E-2,8.9249999999999996E-2,9.4500000000000001E-2,9.9750000000000005E-2,"Skill Echo","Skill Echo","ATK"]
[null,"Initial Storm DMG",1.76,1.8919999999999999,2.024,2.2000000000000002,2.3319999999999999,2.464,2.64,2.8159999999999998,2.992,3.1680000000000001,3.3439999999999999,3.52,3.74,3.96,4.18,"Skill","Skill","ATK"]
[null,"Max Storm DMG",1.92,2.0640000000000001,2.2080000000000002,2.4,2.544,2.6880000000000002,2.88,3.0720000000000001,3.2639999999999998,3.456,3.6480000000000001,3.84,4.08,4.32,4.5599999999999996,"Skill","Skill","ATK"]
[null,"Initial Storm Infused DMG",{"$f":"0.25*C85","v":0.44},{"$f":"0.25*D85","v":0.47299999999999998},0.50600000000000001,0.55000000000000004,0.58299999999999996,0.61599999999999999,0.66,0.70399999999999996,0.748,0.79200000000000004,0.83599999999999997,0.88,0.93500000000000005,0.99,1.0449999999999999,"Skill Echo","Skill Echo","ATK"]
[null,"Max Storm Infused DMG",{"$f":"0.25*C86","v":0.48},{"$f":"0.25*D86","v":0.51600000000000001},0.55200000000000005,0.6,0.63600000000000001,0.67200000000000004,0.72,0.76800000000000002,0.81599999999999995,0.86399999999999999,0.91200000000000003,0.96,1.02,1.08,1.1399999999999999,"Skill Echo","Skill Echo","ATK"]
[null,"Tornado DMG",0.80800000000000005,0.86860000000000004,0.92920000000000003,1.01,1.0706,1.1312,1.212,1.2927999999999999,1.3735999999999999,1.4543999999999999,1.5351999999999999,1.6160000000000001,1.7170000000000001,1.8180000000000001,1.919,"Burst","Burst","ATK"]
[null,"Additional Elemental DMG",0.248,0.2666,0.28520000000000001,0.31,0.3286,0.34720000000000001,0.372,0.39679999999999999,0.42159999999999997,0.44640000000000002,0.47120000000000001,0.496,0.52700000000000002,0.55800000000000005,0.58899999999999997,"Burst Echo","Burst Echo","ATK"]
[null,"Weapon Proc",null,null,null,null,null,null,null,null,null,null,null,null,null,null,null,"Weapon Proc","Weapon Proc","Select an Attack"]
[null,"Overload",null,null,null,null,null,null,null,null,null,null,null,null,null,null,null,"Transformative","Transformative","EM"]
[null,"Shatter",null,null,null,null,null,null,null,null,null,null,null,null,null,null,null,"Transformative","Transformative","EM"]
[null,"Electrocharged",null,null,null,null,null,null,null,null,null,null,null,null,null,null,null,"Transformative","Transformative","EM"]
[null,"Superconduct",null,null,null,null,null,null,null,null,null,null,null,null,null,null,null,"Transformative","Transformative","EM"]
[null,"Pyro Swirl",null,null,null,null,null,null,null,null,null,null,null,null,null,null,null,"Transformative","Transformative","EM"]
[null,"Cryo Swirl",null,null,null,null,null,null,null,null,null,null,null,null,null,null,null,"Transformative","Transformative","EM"]
[null,"Hydro Swirl",null,null,null,null,null,null,null,null,null,null,null,null,null,null,null,"Transformative","Transformative","EM"]
["AMC-End","Electro Swirl",null,null,null,null,null,null,null,null,null,null,null,null,null,null,null,"Transformative","Transformative","EM"]
[null,"Barbara",1,2,3,4,5,6,7,8,9,10,11,12,13,14,15,"Damage Type","Scaling Talent","Scaling Stat"]
["Barbara-Start","1-Hit DMG",0.37840000000000001,0.40679999999999999,0.43519999999999998,0.47299999999999998,0.50139999999999996,0.52980000000000005,0.56759999999999999,0.60540000000000005,0.64329999999999998,0.68110000000000004,0.72050000000000003,0.77190000000000003,0.82340000000000002,0.87490000000000001,0.92630000000000001,"Normal","Normal","ATK"]
[null,"2-Hit DMG",0.35520000000000002,0.38179999999999997,0.40849999999999997,0.44400000000000001,0.47060000000000002,0.49730000000000002,0.53280000000000005,0.56830000000000003,0.6038,0.63939999999999997,0.67630000000000001,0.72460000000000002,0.77290000000000003,0.82120000000000004,0.86950000000000005,"Normal","Normal","ATK"]
[null,"3-Hit DMG",0.41039999999999999,0.44119999999999998,0.47199999999999998,0.51300000000000001,0.54379999999999995,0.5746,0.61560000000000004,0.65659999999999996,0.69769999999999999,0.73870000000000002,0.78139999999999998,0.83720000000000006,0.89300000000000002,0.94879999999999998,1.0046999999999999,"Normal","Normal","ATK"]
[null,"4-Hit DMG",0.55200000000000005,0.59340000000000004,0.63480000000000003,0.69,0.73140000000000005,0.77280000000000004,0.82799999999999996,0.88319999999999999,0.93840000000000001,0.99360000000000004,1.0509999999999999,1.1261000000000001,1.2012,1.2762,1.3512999999999999,"Normal","Normal","ATK"]
[null,"Charged Attack DMG",1.6624000000000001,1.7870999999999999,1.9117999999999999,2.0779999999999998,2.2027000000000001,2.3273999999999999,2.4935999999999998,2.6598000000000002,2.8260999999999998,2.9923000000000002,3.1652,3.3913000000000002,3.6173999999999999,3.8435000000000001,4.0696000000000003,"Charged","Charged","ATK"]
[null,"Collision Plunge DMG",0.56830000000000003,0.61450000000000005,0.66080000000000005,0.72689999999999999,0.77310000000000001,0.82599999999999996,0.89870000000000005,0.97140000000000004,1.0441,1.1234,1.2027000000000001,1.282,1.3612,1.4404999999999999,1.5198,"Plunge","Plunge","ATK"]
[null,"Low Plunge DMG",1.1363000000000001,1.2287999999999999,1.3212999999999999,1.4535,1.5459000000000001,1.6516999999999999,1.7969999999999999,1.9422999999999999,2.0876999999999999,2.2462,2.4047999999999998,2.5634000000000001,2.7219000000000002,2.8805000000000001,3.0390000000000001,"Plunge","Plunge","ATK"]
[null,"High Plunge DMG",1.4193,1.5348999999999999,1.6504000000000001,1.8153999999999999,1.931,2.0630000000000002,2.2444999999999999,2.4260999999999999,2.6076000000000001,2.8056999999999999,3.0036999999999998,3.2018,3.3997999999999999,3.5979000000000001,3.7959000000000001,"Plunge","Plunge","ATK"]
[null,"Skill HP Regeneration On Attack (Percentage)",7.4999999999999997E-3,8.0999999999999996E-3,8.6E-3,9.4000000000000004E-3,9.9000000000000008E-3,1.0500000000000001E-2,1.1299999999999999E-2,1.2E-2,1.2699999999999999E-2,1.35E-2,1.43E-2,1.4999999999999999E-2,1.5900000000000001E-2,1.6899999999999998E-2,1.78E-2,"Skill","Skill","HP","Percentage"]
[null,"Skill HP Regeneration On Attack (Flat)",72,79,87,96,105,114,125,135,147,159,172,185,199,213,228,"Skill","Skill","HP","Flat"]
[null,"Skill HP Continuous Regeneration (Percentage)",0.04,4.2999999999999997E-2,4.5999999999999999E-2,0.05,5.2999999999999999E-2,5.6000000000000001E-2,0.06,6.4000000000000001E-2,6.8000000000000005E-2,7.1999999999999995E-2,7.5999999999999998E-2,0.08,8.5000000000000006E-2,0.09,9.5000000000000001E-2,"Skill","Skill","HP","Percentage"]
[null,"Skill HP Continuous Regeneration (Flat)",385,424,465,510,559,610,664,722,783,847,915,986,1059,1136,1217,"Skill","Skill","HP","Flat"]
[null,"Burst Regeneration (Percentage)",0.17599999999999999,0.18920000000000001,0.2024,0.22,0.23319999999999999,0.24640000000000001,0.26400000000000001,0.28160000000000002,0.29920000000000002,0.31680000000000003,0.33439999999999998,0.35199999999999998,0.374,0.39600000000000002,0.41799999999999998,"Burst","Burst","HP","Percentage"]
[null,"Burst Regeneration (Flat)",1694,1864,2047,2245,2457,2683,2923,3177,3445,3728,4024,4335,4660,4999,5352,"Burst","Burst","HP","Flat"]
[null,"Droplet DMG",0.58399999999999996,0.62780000000000002,0.67159999999999997,0.73,0.77380000000000004,0.81759999999999999,0.876,0.93440000000000001,0.99280000000000002,1.0511999999999999,1.1095999999999999,1.1679999999999999,1.2410000000000001,1.3140000000000001,1.387,"Skill","Skill","ATK"]
[null,"Weapon Proc",null,null,null,null,null,null,null,null,null,null,null,null,null,null,null,"Weapon Proc","Weapon Proc","Select an Attack"]
[null,"Overload",null,null,null,null,null,null,null,null,null,null,null,null,null,null,null,"Transformative","Transformative","EM"]
[null,"Shatter",null,null,null,null,null,null,null,null,null,null,null,null,null,null,null,"Transformative","Transformative","EM"]
[null,"Electrocharged",null,null,null,null,null,null,null,null,null,null,null,null,null,null,null,"Transformative","Transformative","EM"]
[null,"Superconduct",null,null,null,null,null,null,null,null,null,null,null,null,null,null,null,"Transformative","Transformative","EM"]
[null,"Pyro Swirl",null,null,null,null,null,null,null,null,null,null,null,null,null,null,null,"Transformative","Transformative","EM"]
[null,"Cryo Swirl",null,null,null,null,null,null,null,null,null,null,null,null,null,null,null,"Transformative","Transformative","EM"]
[null,"Hydro Swirl",null,null,null,null,null,null,null,null,null,null,null,null,null,null,null,"Transformative","Transformative","EM"]
["Barbara-End","Electro Swirl",null,null,null,null,null,null,null,null,null,null,null,null,null,null,null,"Transformative","Transformative","EM"]
[null,"Beidou",1,2,3,4,5,6,7,8,9,10,11,12,13,14,15,"Damage Type","Scaling Talent","Scaling Stat"]
["Beidou-Start","1-Hit DMG",0.71120000000000005,0.76910000000000001,0.82699999999999996,0.90969999999999995,0.96760000000000002,1.0338000000000001,1.1247,1.2157,1.3067,1.4058999999999999,1.5196000000000001,1.6533,1.7870999999999999,1.9208000000000001,2.0667,"Normal","Normal","ATK"]
[null,"2-Hit DMG",0.70860000000000001,0.76629999999999998,0.82399999999999995,0.90639999999999998,0.96409999999999996,1.03,1.1206,1.2113,1.3019000000000001,1.4008,1.5141,1.6473,1.7806,1.9137999999999999,2.0592000000000001,"Normal","Normal","ATK"]
[null,"3-Hit DMG",0.88319999999999999,0.95509999999999995,1.0269999999999999,1.1296999999999999,1.2016,1.2838000000000001,1.3967000000000001,1.5097,1.6227,1.7459,1.8871,2.0531999999999999,2.2191999999999998,2.3853,2.5665,"Normal","Normal","ATK"]
[null,"4-Hit DMG",0.86519999999999997,0.93559999999999999,1.006,1.1066,1.177,1.2575000000000001,1.3682000000000001,1.4787999999999999,1.5894999999999999,1.7101999999999999,1.8485,2.0112000000000001,2.1739000000000002,2.3365,2.5139999999999998,"Normal","Normal","ATK"]
[null,"5-Hit DMG",1.1214,1.2126999999999999,1.304,1.4343999999999999,1.5257000000000001,1.63,1.7734000000000001,1.9169,2.0602999999999998,2.2168000000000001,2.3961000000000001,2.6070000000000002,2.8178000000000001,3.0287000000000002,3.2587000000000002,"Normal","Normal","ATK"]
[null,"Charged Attack Spinning DMG",0.56240000000000001,0.60819999999999996,0.65400000000000003,0.71940000000000004,0.76519999999999999,0.8175,0.88939999999999997,0.96140000000000003,1.0333000000000001,1.1117999999999999,1.2017,1.3075000000000001,1.4132,1.5189999999999999,1.6343000000000001,"Charged","Charged","ATK"]
[null,"Charged Attack Final DMG",1.0182,1.1011,1.1839999999999999,1.3024,1.3853,1.48,1.6102000000000001,1.7404999999999999,1.8707,2.0127999999999999,2.1756000000000002,2.3671000000000002,2.5585,2.75,2.9588000000000001,"Charged","Charged","ATK"]
[null,"Collision Plunge DMG",0.74590000000000001,0.80659999999999998,0.86729999999999996,0.95399999999999996,1.0146999999999999,1.0841000000000001,1.1795,1.2748999999999999,1.3703000000000001,1.4743999999999999,1.5785,1.6826000000000001,1.7866,1.8907,1.9947999999999999,"Plunge","Plunge","ATK"]
[null,"Low Plunge DMG",1.4914000000000001,1.6128,1.7342,1.9077,2.0291000000000001,2.1678000000000002,2.3586,2.5493000000000001,2.7401,2.9481999999999999,3.1562999999999999,3.3643999999999998,3.5724999999999998,3.7806000000000002,3.9887000000000001,"Plunge","Plunge","ATK"]
[null,"High Plunge DMG",1.8629,2.0145,2.1661999999999999,2.3828,2.5344000000000002,2.7077,2.9460000000000002,3.1842000000000001,3.4224999999999999,3.6825000000000001,3.9424000000000001,4.2023000000000001,4.4622999999999999,4.7222,4.9821,"Plunge","Plunge","ATK"]
[null,"Skill Base DMG",1.216,1.3071999999999999,1.3984000000000001,1.52,1.6112,1.7023999999999999,1.8240000000000001,1.9456,2.0672000000000001,2.1888000000000001,2.3104,2.4319999999999999,2.5840000000000001,2.7360000000000002,2.8879999999999999,"Skill","Skill","ATK"]
[null,"Level 1 Counter DMG",2.8159999999999998,3.0271999999999997,3.2384000000000004,3.52,3.7312000000000003,3.9424000000000001,4.2240000000000002,4.5056000000000003,4.7872000000000003,5.0687999999999995,5.3504000000000005,5.6319999999999997,5.984,6.3360000000000003,6.6879999999999997,"Skill","Skill","ATK"]
[null,"Level 2 Counter DMG",4.4160000000000004,4.7471999999999994,5.0784000000000002,5.52,5.8512000000000004,6.1824000000000003,6.6240000000000006,7.0655999999999999,7.507200000000001,7.9487999999999994,8.3903999999999996,8.8320000000000007,9.3840000000000003,9.9359999999999999,10.488,"Skill","Skill","ATK"]
[null,"Burst Initial Hit DMG",1.216,1.3071999999999999,1.3984000000000001,1.52,1.6112,1.7023999999999999,1.8240000000000001,1.9456,2.0672000000000001,2.1888000000000001,2.3104,2.4319999999999999,2.5840000000000001,2.7360000000000002,2.8879999999999999,"Burst","Burst","ATK"]
[null,"Lightning DMG",0.96,1.032,1.1040000000000001,1.2,1.272,1.3440000000000001,1.44,1.536,1.6319999999999999,1.728,1.8240000000000001,1.92,2.04,2.16,2.2799999999999998,"Burst","Burst","ATK"]
[null,"Weapon Proc",null,null,null,null,null,null,null,null,null,null,null,null,null,null,null,"Weapon Proc","Weapon Proc","Select an Attack"]
[null,"Overload",null,null,null,null,null,null,null,null,null,null,null,null,null,null,null,"Transformative","Transformative","EM"]
[null,"Shatter",null,null,null,null,null,null,null,null,null,null,null,null,null,null,null,"Transformative","Transformative","EM"]
[null,"Electrocharged",null,null,null,null,null,null,null,null,null,null,null,null,null,null,null,"Transformative","Transformative","EM"]
[null,"Superconduct",null,null,null,null,null,null,null,null,null,null,null,null,null,null,null,"Transformative","Transformative","EM"]
[null,"Pyro Swirl",null,null,null,null,null,null,null,null,null,null,null,null,null,null,null,"Transformative","Transformative","EM"]
[null,"Cryo Swirl",null,null,null,null,null,null,null,null,null,null,null,null,null,null,null,"Transformative","Transformative","EM"]
[null,"Hydro Swirl",null,null,null,null,null,null,null,null,null,null,null,null,null,null,null,"Transformative","Transformative","EM"]
["Beidou-End","Electro Swirl",null,null,null,null,null,null,null,null,null,null,null,null,null,null,null,"Transformative","Transformative","EM"]
[null,"Bennett",1,2,3,4,5,6,7,8,9,10,11,12,13,14,15,"Damage Type","Scaling Talent","Scaling Stat"]
["Bennett-Start","1-Hit DMG",0.44550000000000001,0.48170000000000002,0.51800000000000002,0.56979999999999997,0.60609999999999997,0.64749999999999996,0.70450000000000002,0.76149999999999995,0.81840000000000002,0.88060000000000005,0.94279999999999997,1.0048999999999999,1.0670999999999999,1.1292,1.1914,"Normal","Normal","ATK"]
[null,"2-Hit DMG",0.4274,0.4622,0.497,0.54669999999999996,0.58150000000000002,0.62129999999999996,0.67589999999999995,0.73060000000000003,0.7853,0.84489999999999998,0.90449999999999997,0.96419999999999995,1.0238,1.0834999999999999,1.1431,"Normal","Normal","ATK"]
[null,"3-Hit DMG",0.54610000000000003,0.59060000000000001,0.63500000000000001,0.69850000000000001,0.74299999999999999,0.79379999999999995,0.86360000000000003,0.9335,1.0033000000000001,1.0794999999999999,1.1556999999999999,1.2319,1.3081,1.3843000000000001,1.4604999999999999,"Normal","Normal","ATK"]
[null,"4-Hit DMG",0.5968,0.64539999999999997,0.69399999999999995,0.76339999999999997,0.81200000000000006,0.86750000000000005,0.94379999999999997,1.0202,1.0965,1.1798,1.2630999999999999,1.3464,1.4296,1.5128999999999999,1.5962000000000001,"Normal","Normal","ATK"]
[null,"5-Hit DMG",0.71899999999999997,0.77749999999999997,0.83599999999999997,0.91959999999999997,0.97809999999999997,1.0449999999999999,1.137,1.2289000000000001,1.3209,1.4212,1.5215000000000001,1.6217999999999999,1.7222,1.8225,1.9228000000000001,"Normal","Normal","ATK"]
[null,"Charged Attack Hit 1 DMG",0.55900000000000005,0.60450000000000004,0.65,0.71499999999999997,0.76049999999999995,0.8125,0.88400000000000001,0.95550000000000002,1.0269999999999999,1.105,1.1830000000000001,1.2609999999999999,1.339,1.417,1.4950000000000001,"Charged","Charged","ATK"]
[null,"Charged Attack Hit 2 DMG",0.60719999999999996,0.65659999999999996,0.70599999999999996,0.77659999999999996,0.82599999999999996,0.88249999999999995,0.96020000000000005,1.0378000000000001,1.1154999999999999,1.2001999999999999,1.2848999999999999,1.3695999999999999,1.4543999999999999,1.5390999999999999,1.6237999999999999,"Charged","Charged","ATK"]
[null,"Collision Plunge DMG",0.63929999999999998,0.69140000000000001,0.74339999999999995,0.81769999999999998,0.86980000000000002,0.92930000000000001,1.0109999999999999,1.0928,1.1746000000000001,1.2638,1.353,1.4421999999999999,1.5314000000000001,1.6206,1.7098,"Plunge","Plunge","ATK"]
[null,"Low Plunge DMG",1.2784,1.3824000000000001,1.4864999999999999,1.6351,1.7392000000000001,1.8581000000000001,2.0215999999999998,2.1850999999999998,2.3485999999999998,2.5270000000000001,2.7054,2.8837999999999999,3.0621999999999998,3.2404999999999999,3.4188999999999998,"Plunge","Plunge","ATK"]
[null,"High Plunge DMG",1.5968,1.7266999999999999,1.8567,2.0424000000000002,2.1722999999999999,2.3209,2.5251000000000001,2.7292999999999998,2.9336000000000002,3.1564000000000001,3.3792,3.6019999999999999,3.8248000000000002,4.0476000000000001,4.2704000000000004,"Plunge","Plunge","ATK"]
[null,"Press DMG",1.3759999999999999,1.4792000000000001,1.5824,1.72,1.8231999999999999,1.9263999999999999,2.0640000000000001,2.2016,2.3391999999999999,2.4767999999999999,2.6143999999999998,2.7519999999999998,2.9239999999999999,3.0960000000000001,3.2679999999999998,"Skill","Skill","ATK"]
[null,"Charge Level 1 Hit 1 DMG",0.84,0.90300000000000002,0.96599999999999997,1.05,1.113,1.1759999999999999,1.26,1.3440000000000001,1.4279999999999999,1.512,1.5960000000000001,1.68,1.7849999999999999,1.89,1.9950000000000001,"Skill","Skill","ATK"]
[null,"Charge Level 1 Hit 2 DMG",0.92,0.98899999999999999,1.0580000000000001,1.1499999999999999,1.2190000000000001,1.288,1.38,1.472,1.5640000000000001,1.6559999999999999,1.748,1.84,1.9550000000000001,2.0699999999999998,2.1850000000000001,"Skill","Skill","ATK"]
[null,"C4 Charge Level 1 DMG",{"$f":"1.35*C163","v":1.2420000000000002},1.3351500000000001,1.4283000000000001,1.5525,1.6456500000000003,1.7388000000000001,1.863,1.9872000000000001,2.1114000000000002,2.2356000000000003,2.3598000000000003,2.4840000000000004,2.6392500000000001,2.7944999999999998,2.9497500000000003,"Skill","Skill","ATK"]
[null,"Charge Level 2 Hit 1 DMG",0.88,0.94599999999999995,1.012,1.1000000000000001,1.1659999999999999,1.232,1.32,1.4079999999999999,1.496,1.5840000000000001,1.6719999999999999,1.76,1.87,1.98,2.09,"Skill","Skill","ATK"]
[null,"Charge Level 2 Hit 2 DMG",0.96,1.032,1.1040000000000001,1.2,1.272,1.3440000000000001,1.44,1.536,1.6319999999999999,1.728,1.8240000000000001,1.92,2.04,2.16,2.2799999999999998,"Skill","Skill","ATK"]
[null,"Charge Level 2 Hit 3 DMG",1.32,1.419,1.518,1.65,1.7490000000000001,1.8480000000000001,1.98,2.1120000000000001,2.2440000000000002,2.3759999999999999,2.508,2.64,2.8050000000000002,2.97,3.1349999999999998,"Skill","Skill","ATK"]
[null,"Burst Regeneration (Percentage)",0.06,6.4500000000000002E-2,6.9000000000000006E-2,7.4999999999999997E-2,7.9500000000000001E-2,8.4000000000000005E-2,0.09,9.6000000000000002E-2,0.10199999999999999,0.108,0.114,0.12,0.1275,0.13500000000000001,0.14249999999999999,"Burst","Burst","HP","Percentage"]
[null,"Burst Regeneration (Flat)",577,635,698,765,837,914,996,1083,1174,1270,1371,1477,1588,1703,1824,"Burst","Burst","HP","Flat"]
[null,"Burst DMG",2.3279999999999998,2.5026000000000002,2.6772,2.91,3.0846,3.2591999999999999,3.492,3.7248000000000001,3.9575999999999998,4.1904000000000003,4.4231999999999996,4.6559999999999997,4.9470000000000001,5.2380000000000004,5.5289999999999999,"Burst","Burst","ATK"]
[null,"Weapon Proc",null,null,null,null,null,null,null,null,null,null,null,null,null,null,null,"Weapon Proc","Weapon Proc","Select an Attack"]
[null,"Overload",null,null,null,null,null,null,null,null,null,null,null,null,null,null,null,"Transformative","Transformative","EM"]
[null,"Shatter",null,null,null,null,null,null,null,null,null,null,null,null,null,null,null,"Transformative","Transformative","EM"]
[null,"Electrocharged",null,null,null,null,null,null,null,null,null,null,null,null,null,null,null,"Transformative","Transformative","EM"]
[null,"Superconduct",null,null,null,null,null,null,null,null,null,null,null,null,null,null,null,"Transformative","Transformative","EM"]
[null,"Pyro Swirl",null,null,null,null,null,null,null,null,null,null,null,null,null,null,null,"Transformative","Transformative","EM"]
[null,"Cryo Swirl",null,null,null,null,null,null,null,null,null,null,null,null,null,null,null,"Transformative","Transformative","EM"]
[null,"Hydro Swirl",null,null,null,null,null,null,null,null,null,null,null,null,null,null,null,"Transformative","Transformative","EM"]
["Bennett-End","Electro Swirl",null,null,null,null,null,null,null,null,null,null,null,null,null,null,null,"Transformative","Transformative","EM"]
[null,"Chongyun",1,2,3,4,5,6,7,8,9,10,11,12,13,14,15,"Damage Type","Scaling Talent","Scaling Stat"]
["Chongyun-Start","1-Hit DMG",0.7,0.75700000000000001,0.81399999999999995,0.89539999999999997,0.95240000000000002,1.0175000000000001,1.107,1.1966000000000001,1.2861,1.3837999999999999,1.4815,1.5791999999999999,1.6768000000000001,1.7745,1.8722000000000001,"Normal","Normal","ATK"]
[null,"2-Hit DMG",0.63119999999999998,0.68259999999999998,0.73399999999999999,0.80740000000000001,0.85880000000000001,0.91749999999999998,0.99819999999999998,1.079,1.1597,1.2478,1.3359000000000001,1.4239999999999999,1.512,1.6001000000000001,1.6881999999999999,"Normal","Normal","ATK"]
[null,"3-Hit DMG",0.80320000000000003,0.86860000000000004,0.93400000000000005,1.0274000000000001,1.0928,1.1675,1.2702,1.373,1.4757,1.5878000000000001,1.6999,1.8120000000000001,1.9239999999999999,2.0360999999999998,2.1482000000000001,"Normal","Normal","ATK"]
[null,"4-Hit DMG",1.0122,1.0946,1.177,1.2947,1.3771,1.4713000000000001,1.6007,1.7302,1.8596999999999999,2.0009000000000001,2.1421000000000001,2.2833999999999999,2.4245999999999999,2.5659000000000001,2.7071000000000001,"Normal","Normal","ATK"]
[null,"Charged Attack Spinning DMG",0.56289999999999996,0.60870000000000002,0.65449999999999997,0.71989999999999998,0.76570000000000005,0.81810000000000005,0.8901,0.96209999999999996,1.0341,1.1126,1.1912,1.2697000000000001,1.3482000000000001,1.4268000000000001,1.5053000000000001,"Charged","Charged","ATK"]
[null,"Charged Attack Final DMG",1.0178,1.1007,1.1835,1.3019000000000001,1.3847,1.4794,1.6095999999999999,1.7397,1.8698999999999999,2.012,2.1539999999999999,2.2959999999999998,2.4380000000000002,2.58,2.7221000000000002,"Charged","Charged","ATK"]
[null,"Collision Plunge DMG",0.74590000000000001,0.80659999999999998,0.86729999999999996,0.95399999999999996,1.0146999999999999,1.0841000000000001,1.1795,1.2748999999999999,1.3703000000000001,1.4743999999999999,1.5785,1.6826000000000001,1.7866,1.8907,1.9947999999999999,"Plunge","Plunge","ATK"]
[null,"Low Plunge DMG",1.4914000000000001,1.6128,1.7342,1.9077,2.0291000000000001,2.1678000000000002,2.3586,2.5493000000000001,2.7401,2.9481999999999999,3.1562999999999999,3.3643999999999998,3.5724999999999998,3.7806000000000002,3.9887000000000001,"Plunge","Plunge","ATK"]
[null,"High Plunge DMG",1.8629,2.0145,2.1661999999999999,2.3828,2.5344000000000002,2.7077,2.9460000000000002,3.1842000000000001,3.4224999999999999,3.6825000000000001,3.9424000000000001,4.2023000000000001,4.4622999999999999,4.7222,4.9821,"Plunge","Plunge","ATK"]
[null,"Skill DMG",1.7203999999999999,1.8493999999999999,1.9784999999999999,2.1505000000000001,2.2795000000000001,2.4085999999999999,2.5806,2.7526000000000002,2.9247000000000001,3.0966999999999998,3.2688000000000001,3.4407999999999999,3.6558999999999999,3.8708999999999998,4.0860000000000003,"Skill","Skill","ATK"]
[null,"Burst Blade Damage (Per Blade)",1.4239999999999999,1.5307999999999999,1.6375999999999999,1.78,1.8868,1.9936,2.1360000000000001,2.2784,2.4207999999999998,2.5632000000000001,2.7056,2.8479999999999999,3.0259999999999998,3.2040000000000002,3.3820000000000001,"Burst","Burst","ATK"]
[null,"Weapon Proc",null,null,null,null,null,null,null,null,null,null,null,null,null,null,null,"Weapon Proc","Weapon Proc","Select an Attack"]
[null,"Overload",null,null,null,null,null,null,null,null,null,null,null,null,null,null,null,"Transformative","Transformative","EM"]
[null,"Shatter",null,null,null,null,null,null,null,null,null,null,null,null,null,null,null,"Transformative","Transformative","EM"]
[null,"Electrocharged",null,null,null,null,null,null,null,null,null,null,null,null,null,null,null,"Transformative","Transformative","EM"]
[null,"Superconduct",null,null,null,null,null,null,null,null,null,null,null,null,null,null,null,"Transformative","Transformative","EM"]
[null,"Pyro Swirl",null,null,null,null,null,null,null,null,null,null,null,null,null,null,null,"Transformative","Transformative","EM"]
[null,"Cryo Swirl",null,null,null,null,null,null,null,null,null,null,null,null,null,null,null,"Transformative","Transformative","EM"]
[null,"Hydro Swirl",null,null,null,null,null,null,null,null,null,null,null,null,null,null,null,"Transformative","Transformative","EM"]
["Chongyun-End","Electro Swirl",null,null,null,null,null,null,null,null,null,null,null,null,null,null,null,"Transformative","Transformative","EM"]
[null,"Diluc",1,2,3,4,5,6,7,8,9,10,11,12,13,14,15,"Damage Type","Scaling Talent","Scaling Stat"]
["Diluc-Start","1-Hit DMG",0.89700000000000002,0.97,1.0429999999999999,1.1473,1.2202999999999999,1.3038000000000001,1.4185000000000001,1.5331999999999999,1.6478999999999999,1.7730999999999999,1.9165000000000001,2.0851999999999999,2.2538,2.4224999999999999,2.6065,"Normal","Normal","ATK"]
[null,"2-Hit DMG",0.87629999999999997,0.94769999999999999,1.0189999999999999,1.1209,1.1921999999999999,1.2738,1.3857999999999999,1.4979,1.61,1.7323,1.8724000000000001,2.0371999999999999,2.202,2.3666999999999998,2.5465,"Normal","Normal","ATK"]
[null,"3-Hit DMG",0.98809999999999998,1.0686,1.149,1.2639,1.3443000000000001,1.4362999999999999,1.5626,1.6890000000000001,1.8153999999999999,1.9533,2.1113,2.2970999999999999,2.4828999999999999,2.6686999999999999,2.8714,"Normal","Normal","ATK"]
[null,"4-Hit DMG",1.3399000000000001,1.4489000000000001,1.5580000000000001,1.7138,1.8229,1.9475,2.1189,2.2902999999999998,2.4615999999999998,2.6486000000000001,2.8628,3.1147999999999998,3.3666999999999998,3.6185999999999998,3.8934000000000002,"Normal","Normal","ATK"]
[null,"Charged Attack Spinning DMG",0.68799999999999994,0.74399999999999999,0.8,0.88,0.93600000000000005,1,1.0880000000000001,1.1759999999999999,1.264,1.36,1.47,1.5993999999999999,1.7286999999999999,1.8581000000000001,1.9992000000000001,"Charged","Charged","ATK"]
[null,"Charged Attack Final DMG",1.2470000000000001,1.3485,1.45,1.595,1.6964999999999999,1.8125,1.972,2.1315,2.2909999999999999,2.4649999999999999,2.6644000000000001,2.8988,3.1333000000000002,3.3677999999999999,3.6236000000000002,"Charged","Charged","ATK"]
[null,"Collision Plunge DMG",0.89510000000000001,0.96789999999999998,1.0407999999999999,1.1448,1.2177,1.3009999999999999,1.4154,1.5299,1.6444000000000001,1.7693000000000001,1.8942000000000001,2.0190999999999999,2.1440000000000001,2.2688999999999999,2.3936999999999999,"Plunge","Plunge","ATK"]
[null,"Low Plunge DMG",1.7897000000000001,1.9354,2.0811000000000002,2.2892000000000001,2.4348999999999998,2.6013000000000002,2.8302999999999998,3.0592000000000001,3.2881,3.5377999999999998,3.7875999999999999,4.0373000000000001,4.2869999999999999,4.5368000000000004,4.7865000000000002,"Plunge","Plunge","ATK"]
[null,"High Plunge DMG",2.2355,2.4174000000000002,2.5994000000000002,2.8593000000000002,3.0413000000000001,3.2492000000000001,3.5352000000000001,3.8210999999999999,4.1070000000000002,4.4188999999999998,4.7309000000000001,5.0427999999999997,5.3547000000000002,5.6665999999999999,5.9786000000000001,"Plunge","Plunge","ATK"]
[null,"Skill First Hit DMG",0.94399999999999995,1.0147999999999999,1.0855999999999999,1.18,1.2507999999999999,1.3216000000000001,1.4159999999999999,1.5104,1.6048,1.6992,1.7936000000000001,1.8879999999999999,2.0059999999999998,2.1240000000000001,2.242,"Skill","Skill","ATK"]
[null,"Skill Second Hit DMG",0.97599999999999998,1.0491999999999999,1.1224000000000001,1.22,1.2931999999999999,1.3664000000000001,1.464,1.5616000000000001,1.6592,1.7567999999999999,1.8544,1.952,2.0739999999999998,2.1960000000000002,2.3180000000000001,"Skill","Skill","ATK"]
[null,"Skill Third Hit DMG",1.288,1.3846000000000001,1.4812000000000001,1.61,1.7065999999999999,1.8031999999999999,1.9319999999999999,2.0608,2.1896,2.3184,2.4472,2.5760000000000001,2.7370000000000001,2.8980000000000001,3.0590000000000002,"Skill","Skill","ATK"]
[null,"Burst Slashing DMG",2.04,2.1930000000000001,2.3460000000000001,2.5499999999999998,2.7029999999999998,2.8559999999999999,3.06,3.2639999999999998,3.468,3.6720000000000002,3.8759999999999999,4.08,4.335,4.59,4.8449999999999998,"Burst","Burst","ATK"]
[null,"Burst DoT",0.6,0.64500000000000002,0.69,0.75,0.79500000000000004,0.84,0.9,0.96,1.02,1.08,1.1399999999999999,1.2,1.2749999999999999,1.35,1.425,"Burst","Burst","ATK"]
[null,"Burst Explosion DMG",2.04,2.1930000000000001,2.3460000000000001,2.5499999999999998,2.7029999999999998,2.8559999999999999,3.06,3.2639999999999998,3.468,3.6720000000000002,3.8759999999999999,4.08,4.335,4.59,4.8449999999999998,"Burst","Burst","ATK"]
[null,"Weapon Proc",null,null,null,null,null,null,null,null,null,null,null,null,null,null,null,"Weapon Proc","Weapon Proc","Select an Attack"]
[null,"Overload",null,null,null,null,null,null,null,null,null,null,null,null,null,null,null,"Transformative","Transformative","EM"]
[null,"Shatter",null,null,null,null,null,null,null,null,null,null,null,null,null,null,null,"Transformative","Transformative","EM"]
[null,"Electrocharged",null,null,null,null,null,null,null,null,null,null,null,null,null,null,null,"Transformative","Transformative","EM"]
[null,"Superconduct",null,null,null,null,null,null,null,null,null,null,null,null,null,null,null,"Transformative","Transformative","EM"]
[null,"Pyro Swirl",null,null,null,null,null,null,null,null,null,null,null,null,null,null,null,"Transformative","Transformative","EM"]
[null,"Cryo Swirl",null,null,null,null,null,null,null,null,null,null,null,null,null,null,null,"Transformative","Transformative","EM"]
[null,"Hydro Swirl",null,null,null,null,null,null,null,null,null,null,null,null,null,null,null,"Transformative","Transformative","EM"]
["Diluc-End","Electro Swirl",null,null,null,null,null,null,null,null,null,null,null,null,null,null,null,"Transformative","Transformative","EM"]
[null,"Diona",1,2,3,4,5,6,7,8,9,10,11,12,13,14,15,"Damage Type","Scaling Talent","Scaling Stat"]
["Diona-Start","1-Hit DMG",0.36120000000000002,0.3906,0.42,0.46200000000000002,0.4914,0.52500000000000002,0.57120000000000004,0.61739999999999995,0.66359999999999997,0.71399999999999997,0.77180000000000004,0.8397,0.90759999999999996,0.97550000000000003,1.0496000000000001,"Normal","Normal","ATK"]
[null,"2-Hit DMG",0.33539999999999998,0.36270000000000002,0.39,0.42899999999999999,0.45629999999999998,0.48749999999999999,0.53039999999999998,0.57330000000000003,0.61619999999999997,0.66300000000000003,0.71660000000000001,0.77969999999999995,0.84279999999999999,0.90580000000000005,0.97460000000000002,"Normal","Normal","ATK"]
[null,"3-Hit DMG",0.45579999999999998,0.4929,0.53,0.58299999999999996,0.62009999999999998,0.66249999999999998,0.7208,0.77910000000000001,0.83740000000000003,0.90100000000000002,0.97389999999999999,1.0596000000000001,1.1453,1.2310000000000001,1.3245,"Normal","Normal","ATK"]
[null,"4-Hit DMG",0.43,0.46500000000000002,0.5,0.55000000000000004,0.58499999999999996,0.625,0.68,0.73499999999999999,0.79,0.85,0.91879999999999995,0.99960000000000004,1.0805,1.1613,1.2495000000000001,"Normal","Normal","ATK"]
[null,"5-Hit DMG",0.53749999999999998,0.58130000000000004,0.625,0.6875,0.73129999999999995,0.78129999999999999,0.85,0.91879999999999995,0.98750000000000004,1.0625,1.1484000000000001,1.2495000000000001,1.3506,1.4516,1.5619000000000001,"Normal","Normal","ATK"]
[null,"Aimed Shot",0.43859999999999999,0.4743,0.51,0.56100000000000005,0.59670000000000001,0.63749999999999996,0.69359999999999999,0.74970000000000003,0.80579999999999996,0.86699999999999999,0.93710000000000004,1.0196000000000001,1.1021000000000001,1.1845000000000001,1.2745,"Charged","Charged","ATK"]
[null,"Fully-Charged Aimed Shot",1.24,1.333,1.4259999999999999,1.55,1.643,1.736,1.86,1.984,2.1080000000000001,2.2320000000000002,2.3610000000000002,2.5295999999999998,2.6981999999999999,2.8668999999999998,3.0354999999999999,"Charged","Charged","ATK"]
[null,"Collision Plunge DMG",0.56830000000000003,0.61450000000000005,0.66080000000000005,0.72689999999999999,0.77310000000000001,0.82599999999999996,0.89870000000000005,0.97140000000000004,1.0441,1.1234,1.2027000000000001,1.282,1.3612,1.4404999999999999,1.5198,"Plunge","Plunge","ATK"]
[null,"Low Plunge DMG",1.1363000000000001,1.2287999999999999,1.3212999999999999,1.4535,1.5459000000000001,1.6516999999999999,1.7969999999999999,1.9422999999999999,2.0876999999999999,2.2462,2.4047999999999998,2.5634000000000001,2.7219000000000002,2.8805000000000001,3.0390000000000001,"Plunge","Plunge","ATK"]
[null,"High Plunge DMG",1.4193,1.5348999999999999,1.6504000000000001,1.8153999999999999,1.931,2.0630000000000002,2.2444999999999999,2.4260999999999999,2.6076000000000001,2.8056999999999999,3.0036999999999998,3.2018,3.3997999999999999,3.5979000000000001,3.7959000000000001,"Plunge","Plunge","ATK"]
[null,"Icy Paw DMG (Per Paw)",0.41920000000000002,0.4506,0.48209999999999997,0.52400000000000002,0.5554,0.58689999999999998,0.62880000000000003,0.67069999999999996,0.71260000000000001,0.75460000000000005,0.79649999999999999,0.83840000000000003,0.89080000000000004,0.94320000000000004,0.99560000000000004,"Skill","Skill","ATK"]
[null,"Burst Regen (Percentage)",5.3400000000000003E-2,5.74E-2,6.1400000000000003E-2,6.6699999999999995E-2,7.0699999999999999E-2,7.4700000000000003E-2,0.08,8.5400000000000004E-2,9.0700000000000003E-2,9.6000000000000002E-2,0.1014,0.1067,0.1134,0.1201,0.12670000000000001,"Burst","Burst","HP",null,"Percentage"]
[null,"Burst Regen (Flat)",513,565,620,680,744,813,885,962,1044,1129,1219,1313,1411,1514,1621,"Burst","Burst","HP",null,"Flat"]
[null,"Burst DMG",0.8,0.86,0.92,1,1.06,1.1200000000000001,1.2,1.28,1.36,1.44,1.52,1.6,1.7,1.8,1.9,"Burst","Burst","ATK"]
[null,"Burst Field DMG",0.52639999999999998,0.56589999999999996,0.60540000000000005,0.65800000000000003,0.69750000000000001,0.73699999999999999,0.78959999999999997,0.84219999999999995,0.89490000000000003,0.94750000000000001,1.0002,1.0528,1.1186,1.1843999999999999,1.2502,"Burst","Burst","ATK"]
[null,"Weapon Proc",null,null,null,null,null,null,null,null,null,null,null,null,null,null,null,"Weapon Proc","Weapon Proc","Select an Attack"]
[null,"Overload",null,null,null,null,null,null,null,null,null,null,null,null,null,null,null,"Transformative","Transformative","EM"]
[null,"Shatter",null,null,null,null,null,null,null,null,null,null,null,null,null,null,null,"Transformative","Transformative","EM"]
[null,"Electrocharged",null,null,null,null,null,null,null,null,null,null,null,null,null,null,null,"Transformative","Transformative","EM"]
[null,"Superconduct",null,null,null,null,null,null,null,null,null,null,null,null,null,null,null,"Transformative","Transformative","EM"]
[null,"Pyro Swirl",null,null,null,null,null,null,null,null,null,null,null,null,null,null,null,"Transformative","Transformative","EM"]
[null,"Cryo Swirl",null,null,null,null,null,null,null,null,null,null,null,null,null,null,null,"Transformative","Transformative","EM"]
[null,"Hydro Swirl",null,null,null,null,null,null,null,null,null,null,null,null,null,null,null,"Transformative","Transformative","EM"]
["Diona-End","Electro Swirl",null,null,null,null,null,null,null,null,null,null,null,null,null,null,null,"Transformative","Transformative","EM"]
[null,"EMC",1,2,3,4,5,6,7,8,9,10,11,12,13,14,15,"Damage Type","Scaling Talent","Scaling Stat"]
["EMC-Start","1-Hit DMG",0.4446,0.48080000000000001,0.51700000000000002,0.56869999999999998,0.60489999999999999,0.64629999999999999,0.70309999999999995,0.76,0.81689999999999996,0.87890000000000001,0.94089999999999996,1.0029999999999999,1.0649999999999999,1.1271,1.1891,"Normal","Normal","ATK"]
[null,"2-Hit DMG",0.43430000000000002,0.46970000000000001,0.505,0.55549999999999999,0.59089999999999998,0.63129999999999997,0.68679999999999997,0.74229999999999996,0.79790000000000005,0.85850000000000004,0.91910000000000003,0.97970000000000002,1.0403,1.1009,1.1615,"Normal","Normal","ATK"]
[null,"3-Hit DMG",0.52980000000000005,0.57289999999999996,0.61599999999999999,0.67759999999999998,0.72070000000000001,0.77,0.83779999999999999,0.90549999999999997,0.97330000000000005,1.0471999999999999,1.1211,1.1950000000000001,1.2689999999999999,1.3429,1.4168000000000001,"Normal","Normal","ATK"]
[null,"4-Hit DMG",0.58309999999999995,0.63049999999999995,0.67800000000000005,0.74580000000000002,0.79330000000000001,0.84750000000000003,0.92210000000000003,0.99670000000000003,1.0711999999999999,1.1526000000000001,1.234,1.3152999999999999,1.3967000000000001,1.478,1.5593999999999999,"Normal","Normal","ATK"]
[null,"5-Hit DMG",0.70779999999999998,0.76539999999999997,0.82299999999999995,0.90529999999999999,0.96289999999999998,1.0287999999999999,1.1193,1.2098,1.3003,1.3991,1.4979,1.5966,1.6954,1.7941,1.8929,"Normal","Normal","ATK"]
[null,"Charged Attack Hit 1 DMG",0.55900000000000005,0.60450000000000004,0.65,0.71499999999999997,0.76049999999999995,0.8125,0.88400000000000001,0.95550000000000002,1.0269999999999999,1.105,1.1830000000000001,1.2609999999999999,1.339,1.417,1.4950000000000001,"Charged","Charged","ATK"]
[null,"Charged Attack Hit 2 DMG",0.60719999999999996,0.65659999999999996,0.70599999999999996,0.77659999999999996,0.82599999999999996,0.88249999999999995,0.96020000000000005,1.0378000000000001,1.1154999999999999,1.2001999999999999,1.2848999999999999,1.3695999999999999,1.4543999999999999,1.5390999999999999,1.6237999999999999,"Charged","Charged","ATK"]
[null,"Collision Plunge DMG",0.63929999999999998,0.69140000000000001,0.74339999999999995,0.81769999999999998,0.86980000000000002,0.92930000000000001,1.0109999999999999,1.0928,1.1746000000000001,1.2638,1.353,1.4421999999999999,1.5314000000000001,1.6206,1.7098,"Plunge","Plunge","ATK"]
[null,"Low Plunge DMG",1.2784,1.3824000000000001,1.4864999999999999,1.6351,1.7392000000000001,1.8581000000000001,2.0215999999999998,2.1850999999999998,2.3485999999999998,2.5270000000000001,2.7054,2.8837999999999999,3.0621999999999998,3.2404999999999999,3.4188999999999998,"Plunge","Plunge","ATK"]
[null,"High Plunge DMG",1.5968,1.7266999999999999,1.8567,2.0424000000000002,2.1722999999999999,2.3209,2.5251000000000001,2.7292999999999998,2.9336000000000002,3.1564000000000001,3.3792,3.6019999999999999,3.8248000000000002,4.0476000000000001,4.2704000000000004,"Plunge","Plunge","ATK"]
[null,"Skill DMG Per Amulet",0.78659999999999997,0.84560000000000002,0.90459999999999996,0.98329999999999995,1.0423,1.1012999999999999,1.18,1.2585999999999999,1.3372999999999999,1.4159999999999999,1.4945999999999999,1.5732999999999999,1.6716,1.7699,1.8683000000000001,"Skill","Skill","ATK"]
[null,"Burst Initial Hit DMG",1.1439999999999999,1.2298,1.3156000000000001,1.43,1.5158,1.6015999999999999,1.716,1.8304,1.9448000000000001,2.0592000000000001,2.1736,2.2879999999999998,2.431,2.5739999999999998,2.7170000000000001,"Burst","Burst","ATK"]
[null,"Burst Falling Thunder DMG",0.32800000000000001,0.35260000000000002,0.37719999999999998,0.41,0.43459999999999999,0.4592,0.49199999999999999,0.52480000000000004,0.55759999999999998,0.59040000000000004,0.62319999999999998,0.65600000000000003,0.69699999999999995,0.73799999999999999,0.77900000000000003,"Burst","Burst","ATK"]
[null,"Weapon Proc",null,null,null,null,null,null,null,null,null,null,null,null,null,null,null,"Weapon Proc","Weapon Proc","Select an Attack"]
[null,"Overload",null,null,null,null,null,null,null,null,null,null,null,null,null,null,null,"Transformative","Transformative","EM"]
[null,"Shatter",null,null,null,null,null,null,null,null,null,null,null,null,null,null,null,"Transformative","Transformative","EM"]
[null,"Electrocharged",null,null,null,null,null,null,null,null,null,null,null,null,null,null,null,"Transformative","Transformative","EM"]
[null,"Superconduct",null,null,null,null,null,null,null,null,null,null,null,null,null,null,null,"Transformative","Transformative","EM"]
[null,"Pyro Swirl",null,null,null,null,null,null,null,null,null,null,null,null,null,null,null,"Transformative","Transformative","EM"]
[null,"Cryo Swirl",null,null,null,null,null,null,null,null,null,null,null,null,null,null,null,"Transformative","Transformative","EM"]
[null,"Hydro Swirl",null,null,null,null,null,null,null,null,null,null,null,null,null,null,null,"Transformative","Transformative","EM"]
["EMC-End","Electro Swirl",null,null,null,null,null,null,null,null,null,null,null,null,null,null,null,"Transformative","Transformative","EM"]
[null,"Eula",1,2,3,4,5,6,7,8,9,10,11,12,13,14,15,"Damage Type","Scaling Talent","Scaling Stat"]
["Eula-Start","1-Hit DMG",0.89729999999999999,0.97040000000000004,1.0434000000000001,1.1476999999999999,1.2208000000000001,1.3043,1.419,1.5338000000000001,1.6486000000000001,1.7738,1.9172,2.0859999999999999,2.2547000000000001,2.4234,2.6074999999999999,"Normal","Normal","ATK"]
[null,"2-Hit DMG",0.9355,1.0117,1.0878000000000001,1.1966000000000001,1.2726999999999999,1.3597999999999999,1.4794,1.5991,1.7186999999999999,1.8492999999999999,1.9987999999999999,2.1747000000000001,2.3506,2.5265,2.7183999999999999,"Normal","Normal","ATK"]
[null,"3-Hit Hit DMG (Per Hit, 2 Hits)",0.56799999999999995,0.61419999999999997,0.66049999999999998,0.72650000000000003,0.77270000000000005,0.8256,0.8982,0.97089999999999999,1.0435000000000001,1.1228,1.2136,1.3204,1.4272,1.534,1.6505000000000001,"Normal","Normal","ATK"]
[null,"4-Hit DMG",1.1264000000000001,1.2181,1.3098000000000001,1.4408000000000001,1.5325,1.6373,1.7813000000000001,1.9254,2.0695000000000001,2.2267000000000001,2.4068000000000001,2.6185999999999998,2.8302999999999998,3.0421,3.2732000000000001,"Normal","Normal","ATK"]
[null,"5-Hit DMG (Per Hit, 2 Hits)",0.71830000000000005,0.77680000000000005,0.83530000000000004,0.91879999999999995,0.97729999999999995,1.0441,1.1359999999999999,1.2279,1.3197000000000001,1.42,1.5347999999999999,1.6698999999999999,1.8048999999999999,1.94,2.0874000000000001,"Normal","Normal","ATK"]
[null,"Charged Attack Spinning DMG",0.68799999999999994,0.74399999999999999,0.8,0.88,0.93600000000000005,1,1.0880000000000001,1.1759999999999999,1.264,1.36,1.47,1.5993999999999999,1.7286999999999999,1.8581000000000001,1.9992000000000001,"Charged","Charged","ATK"]
[null,"Charged Attack Final DMG",1.244,1.3452,1.4464999999999999,1.5911999999999999,1.6923999999999999,1.8081,1.9672000000000001,2.1263999999999998,2.2854999999999999,2.4590999999999998,2.6579000000000002,2.8917999999999999,3.1257000000000001,3.3595999999999999,3.6147999999999998,"Charged","Charged","ATK"]
[null,"Collision Plunge DMG",0.74590000000000001,0.80659999999999998,0.86729999999999996,0.95399999999999996,1.0146999999999999,1.0841000000000001,1.1795,1.2748999999999999,1.3703000000000001,1.4743999999999999,1.5936999999999999,1.7339,1.8741000000000001,2.0144000000000002,2.1674000000000002,"Plunge","Plunge","ATK"]
[null,"Low Plunge DMG",1.4914000000000001,1.6128,1.7342,1.9077,2.0291000000000001,2.1678000000000002,2.3586,2.5493000000000001,2.7401,2.9481999999999999,3.1867000000000001,3.4670999999999998,3.7475000000000001,4.0278999999999998,4.3338000000000001,"Plunge","Plunge","ATK"]
[null,"High Plunge DMG",1.8629,2.0145,2.1661999999999999,2.3828,2.5344000000000002,2.7077,2.9460000000000002,3.1842000000000001,3.4224999999999999,3.6825000000000001,3.9803000000000002,4.3305999999999996,4.6807999999999996,5.0311000000000003,5.4131999999999998,"Plunge","Plunge","ATK"]
[null,"Skill Press DMG",1.464,1.5738000000000001,1.6836,1.83,1.9398,2.0495999999999999,2.1960000000000002,2.3424,2.4887999999999999,2.6352000000000002,2.7816000000000001,2.9279999999999999,3.1110000000000002,3.294,3.4769999999999999,"Skill","Skill","ATK"]
[null,"Skill Hold DMG",2.456,2.6402000000000001,2.8243999999999998,3.07,3.2542,3.4384000000000001,3.6840000000000002,3.9296000000000002,4.1752000000000002,4.4207999999999998,4.6664000000000003,4.9119999999999999,5.2190000000000003,5.5259999999999998,5.8330000000000002,"Skill","Skill","ATK"]
[null,"Icewhirl Brand DMG",0.96,1.032,1.1040000000000001,1.2,1.272,1.3440000000000001,1.44,1.536,1.6319999999999999,1.728,1.8240000000000001,1.92,2.04,2.16,2.2799999999999998,"Skill","Skill","ATK"]
[null,"Burst Initial Hit DMG",2.456,2.6402000000000001,2.8243999999999998,3.07,3.2542,3.4384000000000001,3.6840000000000002,3.9296000000000002,4.1752000000000002,4.4207999999999998,4.6664000000000003,4.9119999999999999,5.2190000000000003,5.5259999999999998,5.8330000000000002,"Burst","Burst","ATK"]
[null,"Lightfall Sword Base DMG",3.6705000000000001,3.9691999999999998,4.2679999999999998,4.6947999999999999,4.9935999999999998,5.335,5.8045,6.274,6.7434000000000003,7.2556000000000003,7.8425000000000002,8.5326000000000004,9.2226999999999997,9.9129000000000005,10.665699999999999,"Burst Echo","Burst Echo","ATK"]
[null,"Lightfall Sword DMG Per Stack",0.74990000000000001,0.81100000000000005,0.872,0.95920000000000005,1.0202,1.0900000000000001,1.1859,1.2818000000000001,1.3777999999999999,1.4823999999999999,1.6023000000000001,1.7433000000000001,1.8843000000000001,2.0253000000000001,2.1791,"Burst Echo","Burst Echo","ATK"]
[null,"Lightfall Sword Remnant DMG",{"$f":"0.5*C289","v":1.83525},1.9845999999999999,2.1339999999999999,2.3473999999999999,2.4967999999999999,2.6675,2.90225,3.137,3.3717000000000001,3.6278000000000001,3.9212500000000001,4.2663000000000002,4.6113499999999998,4.9564500000000002,5.3328499999999996,"Burst Echo","Burst Echo","ATK"]
[null,"Weapon Proc",null,null,null,null,null,null,null,null,null,null,null,null,null,null,null,"Weapon Proc","Weapon Proc","Select an Attack"]
[null,"Overload",null,null,null,null,null,null,null,null,null,null,null,null,null,null,null,"Transformative","Transformative","EM"]
[null,"Shatter",null,null,null,null,null,null,null,null,null,null,null,null,null,null,null,"Transformative","Transformative","EM"]
[null,"Electrocharged",null,null,null,null,null,null,null,null,null,null,null,null,null,null,null,"Transformative","Transformative","EM"]
[null,"Superconduct",null,null,null,null,null,null,null,null,null,null,null,null,null,null,null,"Transformative","Transformative","EM"]
[null,"Pyro Swirl",null,null,null,null,null,null,null,null,null,null,null,null,null,null,null,"Transformative","Transformative","EM"]
[null,"Cryo Swirl",null,null,null,null,null,null,null,null,null,null,null,null,null,null,null,"Transformative","Transformative","EM"]
[null,"Hydro Swirl",null,null,null,null,null,null,null,null,null,null,null,null,null,null,null,"Transformative","Transformative","EM"]
["Eula-End","Electro Swirl",null,null,null,null,null,null,null,null,null,null,null,null,null,null,null,"Transformative","Transformative","EM"]
[null,"Fischl",1,2,3,4,5,6,7,8,9,10,11,12,13,14,15,"Damage Type","Scaling Talent","Scaling Stat"]
["Fischl-Start","1-Hit DMG",0.44119999999999998,0.47710000000000002,0.51300000000000001,0.56430000000000002,0.60019999999999996,0.64129999999999998,0.69769999999999999,0.75409999999999999,0.8105,0.87209999999999999,0.93369999999999997,0.99519999999999997,1.0568,1.1183000000000001,1.1798999999999999,"Normal","Normal","ATK"]
[null,"2-Hit DMG",0.46779999999999999,0.50590000000000002,0.54400000000000004,0.59840000000000004,0.63649999999999995,0.68,0.73980000000000001,0.79969999999999997,0.85950000000000004,0.92479999999999996,0.99009999999999998,1.0553999999999999,1.1206,1.1859,1.2512000000000001,"Normal","Normal","ATK"]
[null,"3-Hit DMG",0.58140000000000003,0.62870000000000004,0.67600000000000005,0.74360000000000004,0.79090000000000005,0.84499999999999997,0.9194,0.99370000000000003,1.0681,1.1492,1.2302999999999999,1.3113999999999999,1.3926000000000001,1.4737,1.5548,"Normal","Normal","ATK"]
[null,"4-Hit DMG",0.57709999999999995,0.624,0.67100000000000004,0.73809999999999998,0.78510000000000002,0.83879999999999999,0.91259999999999997,0.98640000000000005,1.0602,1.1407,1.2212000000000001,1.3017000000000001,1.3823000000000001,1.4628000000000001,1.5432999999999999,"Normal","Normal","ATK"]
[null,"5-Hit DMG",0.72070000000000001,0.77929999999999999,0.83799999999999997,0.92179999999999995,0.98050000000000004,1.0475000000000001,1.1396999999999999,1.2319,1.3240000000000001,1.4246000000000001,1.5251999999999999,1.6256999999999999,1.7262999999999999,1.8268,1.9274,"Normal","Normal","ATK"]
[null,"Aimed Shot",0.43859999999999999,0.4743,0.51,0.56100000000000005,0.59670000000000001,0.63749999999999996,0.69359999999999999,0.74970000000000003,0.80579999999999996,0.86699999999999999,0.92820000000000003,0.98939999999999995,1.0506,1.1117999999999999,1.173,"Charged","Charged","ATK"]
[null,"Fully-Charged Aimed Shot",1.24,1.333,1.4259999999999999,1.55,1.643,1.736,1.86,1.984,2.1080000000000001,2.2320000000000002,2.3559999999999999,2.48,2.6349999999999998,2.79,2.9449999999999998,"Charged","Charged","ATK"]
[null,"Collision Plunge DMG",0.56830000000000003,0.61450000000000005,0.66080000000000005,0.72689999999999999,0.77310000000000001,0.82599999999999996,0.89870000000000005,0.97140000000000004,1.0441,1.1234,1.2027000000000001,1.282,1.3612,1.4404999999999999,1.5198,"Plunge","Plunge","ATK"]
[null,"Low Plunge DMG",1.1363000000000001,1.2287999999999999,1.3212999999999999,1.4535,1.5459000000000001,1.6516999999999999,1.7969999999999999,1.9422999999999999,2.0876999999999999,2.2462,2.4047999999999998,2.5634000000000001,2.7219000000000002,2.8805000000000001,3.0390000000000001,"Plunge","Plunge","ATK"]
[null,"High Plunge DMG",1.4193,1.5348999999999999,1.6504000000000001,1.8153999999999999,1.931,2.0630000000000002,2.2444999999999999,2.4260999999999999,2.6076000000000001,2.8056999999999999,3.0036999999999998,3.2018,3.3997999999999999,3.5979000000000001,3.7959000000000001,"Plunge","Plunge","ATK"]
[null,"Oz ATK DMG",0.88800000000000001,0.9546,1.0212000000000001,1.1100000000000001,1.1766000000000001,1.2432000000000001,1.3320000000000001,1.4208000000000001,1.5096000000000001,1.5984,1.6872,1.776,1.887,1.998,2.109,"Skill","Skill","ATK"]
[null,"Summoning DMG",1.1544000000000001,1.2410000000000001,1.3275999999999999,1.4430000000000001,1.5296000000000001,1.6162000000000001,1.7316,1.847,1.9624999999999999,2.0779000000000001,2.1934,2.3088000000000002,2.4531000000000001,2.5973999999999999,2.7416999999999998,"Skill","Skill","ATK"]
[null,"Burst Falling Thunder DMG",2.08,2.2360000000000002,2.3919999999999999,2.6,2.7559999999999998,2.9119999999999999,3.12,3.3279999999999998,3.536,3.7440000000000002,3.952,4.16,4.42,4.68,4.9400000000000004,"Burst","Burst","ATK"]
[null,"Thundering Retribution (A1)",{"$f":"1.527*C308","v":1.8934799999999998},{"$f":"1.527*D308","v":2.0354909999999999},2.1775019999999996,2.3668499999999999,2.508861,2.6508719999999997,2.84022,3.0295679999999998,3.2189160000000001,3.408264,3.5976119999999998,3.7869599999999997,4.0236449999999992,4.2603299999999997,4.4970149999999993,"Charged","Charged","ATK"]
[null,"Undone Be Thy Sinful Hex (A4)",0.8,0.8,0.8,0.8,0.8,0.8,0.8,0.8,0.8,0.8,0.8,0.8,0.8,0.8,0.8,"Skill","Skill","ATK"]
[null,"C4 Healing",0.2,0.2,0.2,0.2,0.2,0.2,0.2,0.2,0.2,0.2,0.2,0.2,0.2,0.2,0.2,"None","None","HP","Percentage"]
[null,"C1 Joint Attack",0.22,0.22,0.22,0.22,0.22,0.22,0.22,0.22,0.22,0.22,0.22,0.22,0.22,0.22,0.22,"Normal","Normal","ATK"]
[null,"C2 Additional Summon DMG",2,2,2,2,2,2,2,2,2,2,2,2,2,2,2,"Skill","Skill","ATK"]
[null,"C4 Additional Burst Damage",2.2200000000000002,2.2200000000000002,2.2200000000000002,2.2200000000000002,2.2200000000000002,2.2200000000000002,2.2200000000000002,2.2200000000000002,2.2200000000000002,2.2200000000000002,2.2200000000000002,2.2200000000000002,2.2200000000000002,2.2200000000000002,2.2200000000000002,"Burst","Burst","ATK"]
[null,"C6 Joint Attack",0.3,0.3,0.3,0.3,0.3,0.3,0.3,0.3,0.3,0.3,0.3,0.3,0.3,0.3,0.3,"Skill","Skill","ATK"]
[null,"Weapon Proc",null,null,null,null,null,null,null,null,null,null,null,null,null,null,null,"Weapon Proc","Weapon Proc","Select an Attack"]
[null,"Overload",null,null,null,null,null,null,null,null,null,null,null,null,null,null,null,"Transformative","Transformative","EM"]
[null,"Shatter",null,null,null,null,null,null,null,null,null,null,null,null,null,null,null,"Transformative","Transformative","EM"]
[null,"Electrocharged",null,null,null,null,null,null,null,null,null,null,null,null,null,null,null,"Transformative","Transformative","EM"]
[null,"Superconduct",null,null,null,null,null,null,null,null,null,null,null,null,null,null,null,"Transformative","Transformative","EM"]
[null,"Pyro Swirl",null,null,null,null,null,null,null,null,null,null,null,null,null,null,null,"Transformative","Transformative","EM"]
[null,"Cryo Swirl",null,null,null,null,null,null,null,null,null,null,null,null,null,null,null,"Transformative","Transformative","EM"]
[null,"Hydro Swirl",null,null,null,null,null,null,null,null,null,null,null,null,null,null,null,"Transformative","Transformative","EM"]
["Fischl-End","Electro Swirl",null,null,null,null,null,null,null,null,null,null,null,null,null,null,null,"Transformative","Transformative","EM"]
[null,"Ganyu",1,2,3,4,5,6,7,8,9,10,11,12,13,14,15,"Damage Type","Scaling Talent","Scaling Stat"]
["Ganyu-Start","1-Hit DMG",0.31730000000000003,0.34320000000000001,0.36899999999999999,0.40589999999999998,0.43169999999999997,0.46129999999999999,0.50180000000000002,0.54239999999999999,0.58299999999999996,0.62729999999999997,0.67800000000000005,0.73770000000000002,0.7974,0.85699999999999998,0.92210000000000003,"Normal","Normal","ATK"]
[null,"2-Hit DMG",0.35599999999999998,0.38500000000000001,0.41399999999999998,0.45540000000000003,0.4844,0.51749999999999996,0.56299999999999994,0.60860000000000003,0.65410000000000001,0.70379999999999998,0.76070000000000004,0.82769999999999999,0.89459999999999995,0.96160000000000001,1.0346,"Normal","Normal","ATK"]
[null,"3-Hit DMG",0.45490000000000003,0.49199999999999999,0.52900000000000003,0.58189999999999997,0.61890000000000001,0.6613,0.71940000000000004,0.77759999999999996,0.83579999999999999,0.89929999999999999,0.97199999999999998,1.0576000000000001,1.1431,1.2286999999999999,1.3220000000000001,"Normal","Normal","ATK"]
[null,"4-Hit DMG",0.45490000000000003,0.49199999999999999,0.52900000000000003,0.58189999999999997,0.61890000000000001,0.6613,0.71940000000000004,0.77759999999999996,0.83579999999999999,0.89929999999999999,0.97199999999999998,1.0576000000000001,1.1431,1.2286999999999999,1.3220000000000001,"Normal","Normal","ATK"]
[null,"5-Hit DMG",0.48249999999999998,0.52170000000000005,0.56100000000000005,0.61709999999999998,0.65639999999999998,0.70130000000000003,0.76300000000000001,0.82469999999999999,0.88639999999999997,0.95369999999999999,1.0307999999999999,1.1215999999999999,1.2122999999999999,1.3029999999999999,1.4018999999999999,"Normal","Normal","ATK"]
[null,"6-Hit DMG",0.57620000000000005,0.62309999999999999,0.67,0.73699999999999999,0.78390000000000004,0.83750000000000002,0.91120000000000001,0.9849,1.0586,1.139,1.2311000000000001,1.3394999999999999,1.4478,1.5561,1.6742999999999999,"Normal","Normal","ATK"]
[null,"Aimed Shot",0.43859999999999999,0.4743,0.51,0.56100000000000005,0.59670000000000001,0.63749999999999996,0.69359999999999999,0.74970000000000003,0.80579999999999996,0.86699999999999999,0.92820000000000003,0.98939999999999995,1.0506,1.1117999999999999,1.173,"Charged","Charged","ATK"]
[null,"Aimed Shot Charge Level 1",1.24,1.333,1.4259999999999999,1.55,1.643,1.736,1.86,1.984,2.1080000000000001,2.2320000000000002,2.3559999999999999,2.48,2.6349999999999998,2.79,2.9449999999999998,"Charged","Charged","ATK"]
[null,"Frostflake Arrow DMG",1.28,1.3759999999999999,1.472,1.6,1.696,1.792,1.92,2.048,2.1760000000000002,2.3039999999999998,2.4319999999999999,2.56,2.72,2.88,3.04,"Charged","Charged","ATK"]
[null,"Frostflake Arrow Bloom DMG",2.1760000000000002,2.3391999999999999,2.5024000000000002,2.72,2.8832,3.0464000000000002,3.2639999999999998,3.4815999999999998,3.6991999999999998,3.9167999999999998,4.1344000000000003,4.3520000000000003,4.6239999999999997,4.8959999999999999,5.1680000000000001,"Charged","Charged","ATK"]
[null,"Collision Plunge DMG",0.56830000000000003,0.61450000000000005,0.66080000000000005,0.72689999999999999,0.77310000000000001,0.82599999999999996,0.89870000000000005,0.97140000000000004,1.0441,1.1234,1.2027000000000001,1.282,1.3612,1.4404999999999999,1.5198,"Plunge","Plunge","ATK"]
[null,"Low Plunge DMG",1.1363000000000001,1.2287999999999999,1.3212999999999999,1.4535,1.5459000000000001,1.6516999999999999,1.7969999999999999,1.9422999999999999,2.0876999999999999,2.2462,2.4047999999999998,2.5634000000000001,2.7219000000000002,2.8805000000000001,3.0390000000000001,"Plunge","Plunge","ATK"]
[null,"High Plunge DMG",1.4193,1.5348999999999999,1.6504000000000001,1.8153999999999999,1.931,2.0630000000000002,2.2444999999999999,2.4260999999999999,2.6076000000000001,2.8056999999999999,3.0036999999999998,3.2018,3.3997999999999999,3.5979000000000001,3.7959000000000001,"Plunge","Plunge","ATK"]
[null,"Skill DMG",1.32,1.419,1.518,1.65,1.7490000000000001,1.8480000000000001,1.98,2.1120000000000001,2.2440000000000002,2.3759999999999999,2.508,2.64,2.8050000000000002,2.97,3.1349999999999998,"Skill","Skill","ATK"]
[null,"Burst Ice Shard DMG",0.70269999999999999,0.75539999999999996,0.80810000000000004,0.87839999999999996,0.93110000000000004,0.98380000000000001,1.0541,1.1244000000000001,1.1946000000000001,1.2648999999999999,1.3351999999999999,1.4054,1.4933000000000001,1.5810999999999999,1.669,"Burst","Burst","ATK"]
[null,"Weapon Proc",null,null,null,null,null,null,null,null,null,null,null,null,null,null,null,"Weapon Proc","Weapon Proc","Select an Attack"]
[null,"Overload",null,null,null,null,null,null,null,null,null,null,null,null,null,null,null,"Transformative","Transformative","EM"]
[null,"Shatter",null,null,null,null,null,null,null,null,null,null,null,null,null,null,null,"Transformative","Transformative","EM"]
[null,"Electrocharged",null,null,null,null,null,null,null,null,null,null,null,null,null,null,null,"Transformative","Transformative","EM"]
[null,"Superconduct",null,null,null,null,null,null,null,null,null,null,null,null,null,null,null,"Transformative","Transformative","EM"]
[null,"Pyro Swirl",null,null,null,null,null,null,null,null,null,null,null,null,null,null,null,"Transformative","Transformative","EM"]
[null,"Cryo Swirl",null,null,null,null,null,null,null,null,null,null,null,null,null,null,null,"Transformative","Transformative","EM"]
[null,"Hydro Swirl",null,null,null,null,null,null,null,null,null,null,null,null,null,null,null,"Transformative","Transformative","EM"]
["Ganyu-End","Electro Swirl",null,null,null,null,null,null,null,null,null,null,null,null,null,null,null,"Transformative","Transformative","EM"]
[null,"GMC",1,2,3,4,5,6,7,8,9,10,11,12,13,14,15,"Damage Type","Scaling Talent","Scaling Stat"]
["GMC-Start","1-Hit DMG",0.4446,0.48080000000000001,0.51700000000000002,0.56869999999999998,0.60489999999999999,0.64629999999999999,0.70309999999999995,0.76,0.81689999999999996,0.87890000000000001,0.94089999999999996,1.0029999999999999,1.0649999999999999,1.1271,1.1891,"Normal","Normal","ATK"]
[null,"2-Hit DMG",0.43430000000000002,0.46970000000000001,0.505,0.55549999999999999,0.59089999999999998,0.63129999999999997,0.68679999999999997,0.74229999999999996,0.79790000000000005,0.85850000000000004,0.91910000000000003,0.97970000000000002,1.0403,1.1009,1.1615,"Normal","Normal","ATK"]
[null,"3-Hit DMG",0.52980000000000005,0.57289999999999996,0.61599999999999999,0.67759999999999998,0.72070000000000001,0.77,0.83779999999999999,0.90549999999999997,0.97330000000000005,1.0471999999999999,1.1211,1.1950000000000001,1.2689999999999999,1.3429,1.4168000000000001,"Normal","Normal","ATK"]
[null,"4-Hit DMG",0.58309999999999995,0.63049999999999995,0.67800000000000005,0.74580000000000002,0.79330000000000001,0.84750000000000003,0.92210000000000003,0.99670000000000003,1.0711999999999999,1.1526000000000001,1.234,1.3152999999999999,1.3967000000000001,1.478,1.5593999999999999,"Normal","Normal","ATK"]
[null,"5-Hit DMG",0.70779999999999998,0.76539999999999997,0.82299999999999995,0.90529999999999999,0.96289999999999998,1.0287999999999999,1.1193,1.2098,1.3003,1.3991,1.4979,1.5966,1.6954,1.7941,1.8929,"Normal","Normal","ATK"]
[null,"Frenzied Rockslide DMG (A4)",0.6,0.6,0.6,0.6,0.6,0.6,0.6,0.6,0.6,0.6,0.6,0.6,0.6,0.6,0.6,"Normal","Normal","ATK"]
[null,"Charged Attack Hit 1 DMG",0.55900000000000005,0.60450000000000004,0.65,0.71499999999999997,0.76049999999999995,0.8125,0.88400000000000001,0.95550000000000002,1.0269999999999999,1.105,1.1830000000000001,1.2609999999999999,1.339,1.417,1.4950000000000001,"Charged","Charged","ATK"]
[null,"Charged Attack Hit 2 DMG",0.60719999999999996,0.65659999999999996,0.70599999999999996,0.77659999999999996,0.82599999999999996,0.88249999999999995,0.96020000000000005,1.0378000000000001,1.1154999999999999,1.2001999999999999,1.2848999999999999,1.3695999999999999,1.4543999999999999,1.5390999999999999,1.6237999999999999,"Charged","Charged","ATK"]
[null,"Collision Plunge DMG",0.63929999999999998,0.69140000000000001,0.74339999999999995,0.81769999999999998,0.86980000000000002,0.92930000000000001,1.0109999999999999,1.0928,1.1746000000000001,1.2638,1.353,1.4421999999999999,1.5314000000000001,1.6206,1.7098,"Plunge","Plunge","ATK"]
[null,"Low Plunge DMG",1.2784,1.3824000000000001,1.4864999999999999,1.6351,1.7392000000000001,1.8581000000000001,2.0215999999999998,2.1850999999999998,2.3485999999999998,2.5270000000000001,2.7054,2.8837999999999999,3.0621999999999998,3.2404999999999999,3.4188999999999998,"Plunge","Plunge","ATK"]
[null,"High Plunge DMG",1.5968,1.7266999999999999,1.8567,2.0424000000000002,2.1722999999999999,2.3209,2.5251000000000001,2.7292999999999998,2.9336000000000002,3.1564000000000001,3.3792,3.6019999999999999,3.8248000000000002,4.0476000000000001,4.2704000000000004,"Plunge","Plunge","ATK"]
[null,"Skill DMG",2.48,2.6659999999999999,2.8519999999999999,3.1,3.286,3.472,3.72,3.968,4.2160000000000002,4.4640000000000004,4.7119999999999997,4.96,5.27,5.58,5.89,"Skill","Skill","ATK"]
[null,"Burst DMG Per Shockwave",1.48,1.591,1.702,1.85,1.9610000000000001,2.0720000000000001,2.2200000000000002,2.3679999999999999,2.516,2.6640000000000001,2.8119999999999998,2.96,3.145,3.33,3.5150000000000001,"Burst","Burst","ATK"]
[null,"Weapon Proc",null,null,null,null,null,null,null,null,null,null,null,null,null,null,null,"Weapon Proc","Weapon Proc","Select an Attack"]
[null,"Overload",null,null,null,null,null,null,null,null,null,null,null,null,null,null,null,"Transformative","Transformative","EM"]
[null,"Shatter",null,null,null,null,null,null,null,null,null,null,null,null,null,null,null,"Transformative","Transformative","EM"]
[null,"Electrocharged",null,null,null,null,null,null,null,null,null,null,null,null,null,null,null,"Transformative","Transformative","EM"]
[null,"Superconduct",null,null,null,null,null,null,null,null,null,null,null,null,null,null,null,"Transformative","Transformative","EM"]
[null,"Pyro Swirl",null,null,null,null,null,null,null,null,null,null,null,null,null,null,null,"Transformative","Transformative","EM"]
[null,"Cryo Swirl",null,null,null,null,null,null,null,null,null,null,null,null,null,null,null,"Transformative","Transformative","EM"]
[null,"Hydro Swirl",null,null,null,null,null,null,null,null,null,null,null,null,null,null,null,"Transformative","Transformative","EM"]
["GMC-End","Electro Swirl",null,null,null,null,null,null,null,null,null,null,null,null,null,null,null,"Transformative","Transformative","EM"]
[null,"Gorou",1,2,3,4,5,6,7,8,9,10,11,12,13,14,15,"Damage Type","Scaling Talent","Scaling Stat"]
["Gorou-Start","1-Hit DMG",0.3775,0.4083,0.439,0.4829,0.51359999999999995,0.54879999999999995,0.59699999999999998,0.64529999999999998,0.69359999999999999,0.74629999999999996,0.79900000000000004,0.85170000000000001,0.90429999999999999,0.95699999999999996,1.0097,"Normal","Normal","ATK"]
[null,"2-Hit DMG",0.3715,0.40179999999999999,0.432,0.47520000000000001,0.50539999999999996,0.54,0.58750000000000002,0.63500000000000001,0.68259999999999998,0.73440000000000005,0.78620000000000001,0.83809999999999996,0.88990000000000002,0.94179999999999997,0.99360000000000004,"Normal","Normal","ATK"]
[null,"3-Hit DMG",0.4945,0.53480000000000005,0.57499999999999996,0.63249999999999995,0.67279999999999995,0.71879999999999999,0.78200000000000003,0.84530000000000005,0.90849999999999997,0.97750000000000004,1.0465,1.1154999999999999,1.1845000000000001,1.2535000000000001,1.3225,"Normal","Normal","ATK"]
[null,"4-Hit DMG",0.59,0.63800000000000001,0.68600000000000005,0.75460000000000005,0.80259999999999998,0.85750000000000004,0.93300000000000005,1.0084,1.0839000000000001,1.1661999999999999,1.2484999999999999,1.3308,1.4132,1.4955000000000001,1.5778000000000001,"Normal","Normal","ATK"]
[null,"Aimed Shot",0.43859999999999999,0.4743,0.51,0.56100000000000005,0.59670000000000001,0.63749999999999996,0.69359999999999999,0.74970000000000003,0.80579999999999996,0.86699999999999999,0.92820000000000003,0.98939999999999995,1.0506,1.1117999999999999,1.173,"Charged","Charged","ATK"]
[null,"Fully-Charged Aimed Shot",1.24,1.333,1.4259999999999999,1.55,1.643,1.736,1.86,1.984,2.1080000000000001,2.2320000000000002,2.3559999999999999,2.48,2.6349999999999998,2.79,2.9449999999999998,"Charged","Charged","ATK"]
[null,"Collision Plunge DMG",0.56830000000000003,0.61450000000000005,0.66080000000000005,0.72689999999999999,0.77310000000000001,0.82599999999999996,0.89870000000000005,0.97140000000000004,1.0441,1.1234,1.2027000000000001,1.282,1.3612,1.4404999999999999,1.5198,"Plunge","Plunge","ATK"]
[null,"Low Plunge DMG",1.1363000000000001,1.2287999999999999,1.3212999999999999,1.4535,1.5459000000000001,1.6516999999999999,1.7969999999999999,1.9422999999999999,2.0876999999999999,2.2462,2.4047999999999998,2.5634000000000001,2.7219000000000002,2.8805000000000001,3.0390000000000001,"Plunge","Plunge","ATK"]
[null,"High Plunge DMG",1.4193,1.5348999999999999,1.6504000000000001,1.8153999999999999,1.931,2.0630000000000002,2.2444999999999999,2.4260999999999999,2.6076000000000001,2.8056999999999999,3.0036999999999998,3.2018,3.3997999999999999,3.5979000000000001,3.7959000000000001,"Plunge","Plunge","ATK"]
[null,"Skill DMG",1.0720000000000001,1.1524000000000001,1.2327999999999999,1.34,1.4204000000000001,1.5007999999999999,1.6080000000000001,1.7152000000000001,1.8224,1.9296,2.0367999999999999,2.1440000000000001,2.278,2.4119999999999999,2.5459999999999998,"Skill","Skill","ATK"]
[null,"Burst DMG",0.98219999999999996,1.0558000000000001,1.1294999999999999,1.2277,1.3013999999999999,1.375,1.4732000000000001,1.5714999999999999,1.6697,1.7679,1.8661000000000001,1.9642999999999999,2.0871,2.2099000000000002,2.3325999999999998,"Burst","Burst","DEF"]
[null,"Crystal Collapse DMG",0.61299999999999999,0.65900000000000003,0.70499999999999996,0.76629999999999998,0.81220000000000003,0.85819999999999996,0.91949999999999998,0.98080000000000001,1.0421,1.1033999999999999,1.1647000000000001,1.226,1.3026,1.3793,1.4559,"Burst","Burst","DEF"]
[null,"Skill DEF Bonus",1.56,1.56,1.56,1.56,1.56,1.56,1.56,1.56,1.56,1.56,1.56,1.56,1.56,1.56,1.56,"Skill","Skill","DEF"]
[null,"Burst DMG Bonus",0.156,0.156,0.156,0.156,0.156,0.156,0.156,0.156,0.156,0.156,0.156,0.156,0.156,0.156,0.156,"Burst","Burst","DEF"]
[null,"C4 Healing",0.5,0.5,0.5,0.5,0.5,0.5,0.5,0.5,0.5,0.5,0.5,0.5,0.5,0.5,0.5,"None","None","DEF","Percentage"]
[null,"Weapon Proc",null,null,null,null,null,null,null,null,null,null,null,null,null,null,null,"Weapon Proc","Weapon Proc","Select an Attack"]
[null,"Overload",null,null,null,null,null,null,null,null,null,null,null,null,null,null,null,"Transformative","Transformative","EM"]
[null,"Shatter",null,null,null,null,null,null,null,null,null,null,null,null,null,null,null,"Transformative","Transformative","EM"]
[null,"Electrocharged",null,null,null,null,null,null,null,null,null,null,null,null,null,null,null,"Transformative","Transformative","EM"]
[null,"Superconduct",null,null,null,null,null,null,null,null,null,null,null,null,null,null,null,"Transformative","Transformative","EM"]
[null,"Pyro Swirl",null,null,null,null,null,null,null,null,null,null,null,null,null,null,null,"Transformative","Transformative","EM"]
[null,"Cryo Swirl",null,null,null,null,null,null,null,null,null,null,null,null,null,null,null,"Transformative","Transformative","EM"]
[null,"Hydro Swirl",null,null,null,null,null,null,null,null,null,null,null,null,null,null,null,"Transformative","Transformative","EM"]
["Gorou-End","Electro Swirl",null,null,null,null,null,null,null,null,null,null,null,null,null,null,null,"Transformative","Transformative","EM"]
[null,"HuTao",1,2,3,4,5,6,7,8,9,10,11,12,13,14,15,"Damage Type","Scaling Talent","Scaling Stat"]
["HuTao-Start","1-Hit DMG",0.46889999999999998,0.50080000000000002,0.53280000000000005,0.57540000000000002,0.60740000000000005,0.64470000000000005,0.69259999999999999,0.74060000000000004,0.78849999999999998,0.83650000000000002,0.88439999999999996,0.93240000000000001,0.98040000000000005,1.0283,1.0763,"Normal","Normal","ATK"]
[null,"2-Hit DMG",0.48249999999999998,0.51539999999999997,0.54830000000000001,0.59219999999999995,0.62509999999999999,0.66349999999999998,0.71279999999999999,0.76219999999999999,0.8115,0.8609,0.91020000000000001,0.95960000000000001,1.0088999999999999,1.0583,1.1075999999999999,"Normal","Normal","ATK"]
[null,"3-Hit DMG",0.61050000000000004,0.65210000000000001,0.69379999999999997,0.74929999999999997,0.79090000000000005,0.83940000000000003,0.90190000000000003,0.96430000000000005,1.0267999999999999,1.0891999999999999,1.1516,1.2141,1.2765,1.3389,1.4014,"Normal","Normal","ATK"]
[null,"4-Hit DMG",0.65639999999999998,0.70120000000000005,0.74590000000000001,0.80559999999999998,0.85029999999999994,0.90259999999999996,0.96970000000000001,1.0367999999999999,1.1040000000000001,1.1711,1.2382,1.3053999999999999,1.3725000000000001,1.4396,1.5067999999999999,"Normal","Normal","ATK"]
[null,"5-Hit Hit 1 DMG",0.3327,0.35539999999999999,0.37809999999999999,0.40839999999999999,0.43099999999999999,0.45750000000000002,0.49149999999999999,0.52559999999999996,0.55959999999999999,0.59360000000000002,0.62770000000000004,0.66169999999999995,0.69569999999999999,0.7298,0.76380000000000003,"Normal","Normal","ATK"]
[null,"5-Hit Hit 2 DMG",0.35199999999999998,0.376,0.4,0.432,0.45600000000000002,0.48399999999999999,0.52,0.55600000000000005,0.59199999999999997,0.628,0.66400000000000003,0.7,0.73599999999999999,0.77200000000000002,0.80800000000000005,"Normal","Normal","ATK"]
[null,"6-Hit DMG",0.85960000000000003,0.91820000000000002,0.9768,1.0548999999999999,1.1135999999999999,1.1819,1.2698,1.3577999999999999,1.4457,1.5336000000000001,1.6214999999999999,1.7094,1.7972999999999999,1.8852,1.9731000000000001,"Normal","Normal","ATK"]
[null,"Charged Attack",1.3595999999999999,1.4522999999999999,1.5449999999999999,1.6686000000000001,1.7613000000000001,1.8694999999999999,2.0085000000000002,2.1476000000000002,2.2866,2.4257,2.5647000000000002,2.7038000000000002,2.8428,2.9819,3.1208999999999998,"Charged","Charged","ATK"]
[null,"Collision Plunge DMG",0.6542,0.69879999999999998,0.74339999999999995,0.80289999999999995,0.84750000000000003,0.89949999999999997,0.96640000000000004,1.0333000000000001,1.1002000000000001,1.1671,1.234,1.3009999999999999,1.3678999999999999,1.4348000000000001,1.5017,"Plunge","Plunge","ATK"]
[null,"Low Plunge DMG",1.3081,1.3973,1.4864999999999999,1.6053999999999999,1.6946000000000001,1.7986,1.9323999999999999,2.0661999999999998,2.2000000000000002,2.3338000000000001,2.4676,2.6013000000000002,2.7351000000000001,2.8689,3.0026999999999999,"Plunge","Plunge","ATK"]
[null,"High Plunge DMG",1.6338999999999999,1.7453000000000001,1.8567,2.0051999999999999,2.1166,2.2465999999999999,2.4137,2.5808,2.7479,2.915,3.0821000000000001,3.2492000000000001,3.4163000000000001,3.5834000000000001,3.7505000000000002,"Plunge","Plunge","ATK"]
[null,"Blood Blossom DMG",0.64,0.68799999999999994,0.73599999999999999,0.8,0.84799999999999998,0.89600000000000002,0.96,1.024,1.0880000000000001,1.1519999999999999,1.216,1.28,1.36,1.44,1.52,"Skill","Skill","ATK"]
[null,"Blood Blossom C2 Additional DMG",0.1,0.1,0.1,0.1,0.1,0.1,0.1,0.1,0.1,0.1,0.1,0.1,0.1,0.1,0.1,"Skill","Skill","HP"]
[null,"Burst DMG",3.0327000000000002,3.2143000000000002,3.3959000000000001,3.6320000000000001,3.8136000000000001,3.9952000000000001,4.2313000000000001,4.4673999999999996,4.7034000000000002,4.9394999999999998,5.1756000000000002,5.4116999999999997,5.6478000000000002,5.8837999999999999,6.1199000000000003,"Burst","Burst","ATK"]
[null,"Low HP Burst DMG",3.7909000000000002,4.0179,4.2449000000000003,4.54,4.7670000000000003,4.9939999999999998,5.2891000000000004,5.5842000000000001,5.8792999999999997,6.1744000000000003,6.4695,6.7645999999999997,7.0597000000000003,7.3548,7.6498999999999997,"Burst","Burst","ATK"]
[null,"Burst HP Regeneration",6.2600000000000003E-2,6.6400000000000001E-2,7.0099999999999996E-2,7.4999999999999997E-2,7.8799999999999995E-2,8.2500000000000004E-2,8.7400000000000005E-2,9.2299999999999993E-2,9.7100000000000006E-2,0.10199999999999999,0.1069,0.1118,0.1166,0.1215,0.12640000000000001,"Burst","Burst","HP","Percentage"]
[null,"Low HP Burst HP Regeneration",8.3500000000000005E-2,8.8499999999999995E-2,9.35E-2,0.1,0.105,0.11,0.11650000000000001,0.123,0.1295,0.13600000000000001,0.14249999999999999,0.14899999999999999,0.1555,0.16200000000000001,0.16850000000000001,"Burst","Burst","HP","Percentage"]
[null,"Weapon Proc",null,null,null,null,null,null,null,null,null,null,null,null,null,null,null,"Weapon Proc","Weapon Proc","Select an Attack"]
[null,"Overload",null,null,null,null,null,null,null,null,null,null,null,null,null,null,null,"Transformative","Transformative","EM"]
[null,"Shatter",null,null,null,null,null,null,null,null,null,null,null,null,null,null,null,"Transformative","Transformative","EM"]
[null,"Electrocharged",null,null,null,null,null,null,null,null,null,null,null,null,null,null,null,"Transformative","Transformative","EM"]
[null,"Superconduct",null,null,null,null,null,null,null,null,null,null,null,null,null,null,null,"Transformative","Transformative","EM"]
[null,"Pyro Swirl",null,null,null,null,null,null,null,null,null,null,null,null,null,null,null,"Transformative","Transformative","EM"]
[null,"Cryo Swirl",null,null,null,null,null,null,null,null,null,null,null,null,null,null,null,"Transformative","Transformative","EM"]
[null,"Hydro Swirl",null,null,null,null,null,null,null,null,null,null,null,null,null,null,null,"Transformative","Transformative","EM"]
["HuTao-End","Electro Swirl",null,null,null,null,null,null,null,null,null,null,null,null,null,null,null,"Transformative","Transformative","EM"]
[null,"Itto",1,2,3,4,5,6,7,8,9,10,11,12,13,14,15,"Damage Type","Scaling Talent","Scaling Stat"]
["Itto-Start","1-Hit DMG",0.7923,0.85680000000000001,0.92130000000000001,1.0134000000000001,1.0779000000000001,1.1516,1.2529999999999999,1.3543000000000001,1.4557,1.5662,1.6929000000000001,1.8419000000000001,1.9907999999999999,2.1398000000000001,2.3022999999999998,"Normal","Normal","ATK"]
[null,"2-Hit DMG",0.76370000000000005,0.82579999999999998,0.88800000000000001,0.9768,1.0389999999999999,1.1100000000000001,1.2077,1.3053999999999999,1.403,1.5096000000000001,1.6316999999999999,1.7753000000000001,1.9189000000000001,2.0625,2.2191000000000001,"Normal","Normal","ATK"]
[null,"3-Hit DMG",0.91639999999999999,0.99099999999999999,1.0656000000000001,1.1721999999999999,1.2467999999999999,1.3320000000000001,1.4492,1.5664,1.6836,1.8115000000000001,1.958,2.1303000000000001,2.3027000000000002,2.4750000000000001,2.6629,"Normal","Normal","ATK"]
[null,"4-Hit DMG",1.1721999999999999,1.2677,1.3631,1.4994000000000001,1.5948,1.7039,1.8537999999999999,2.0036999999999998,2.1537000000000002,2.3172000000000001,2.5047000000000001,2.7250999999999999,2.9455,3.1659000000000002,3.4062999999999999,"Normal","Normal","ATK"]
[null,"Arataki Kesagiri Combo Slash DMG",0.91159999999999997,0.98580000000000001,1.06,1.1659999999999999,1.2402,1.325,1.4416,1.5582,1.6748000000000001,1.802,1.9478,2.1192000000000002,2.2906,2.4620000000000002,2.6488999999999998,"Charged","Charged","ATK"]
[null,"Arataki Kesagiri Final Slash DMG",1.9092,2.0646,2.2200000000000002,2.4420000000000002,2.5973999999999999,2.7749999999999999,3.0192000000000001,3.2633999999999999,3.5076000000000001,3.774,4.0792999999999999,4.4382000000000001,4.7972000000000001,5.1562000000000001,5.5477999999999996,"Charged","Charged","ATK"]
[null,"Saichimonji Slash DMG",0.90469999999999995,0.97840000000000005,1.052,1.1572,1.2307999999999999,1.3149999999999999,1.4307000000000001,1.5464,1.6621999999999999,1.7884,1.9331,2.1032000000000002,2.2732999999999999,2.4434,2.6288999999999998,"Charged","Charged","ATK"]
[null,"Collision Plunge DMG",0.81830000000000003,0.88490000000000002,0.9516,1.0467,1.1133,1.1894,1.2941,1.3988,1.5035000000000001,1.6175999999999999,1.7318,1.8460000000000001,1.9601999999999999,2.0743999999999998,2.1886000000000001,"Plunge","Plunge","ATK"]
[null,"Low Plunge DMG",1.6363000000000001,1.7695000000000001,1.9027000000000001,2.093,2.2262,2.3784000000000001,2.5876999999999999,2.7970000000000002,3.0063,3.2345999999999999,3.4628999999999999,3.6911999999999998,3.9196,4.1478999999999999,4.3761999999999999,"Plunge","Plunge","ATK"]
[null,"High Plunge DMG",2.0438999999999998,2.2101999999999999,2.3765999999999998,2.6141999999999999,2.7806000000000002,2.9706999999999999,3.2321,3.4935999999999998,3.7549999999999999,4.0401999999999996,4.3254000000000001,4.6105999999999998,4.8956999999999997,5.1809000000000003,5.4661,"Plunge","Plunge","ATK"]
[null,"Skill DMG",3.0720000000000001,3.3024,3.5327999999999999,3.84,4.0704000000000002,4.3007999999999997,4.6079999999999997,4.9151999999999996,5.2224000000000004,5.5296000000000003,5.8368000000000002,6.1440000000000001,6.5279999999999996,6.9119999999999999,7.2960000000000003,"Skill","Skill","ATK"]
[null,"Bloodline of the Crimson Oni",0.35,0.35,0.35,0.35,0.35,0.35,0.35,0.35,0.35,0.35,0.35,0.35,0.35,0.35,0.35,"Charged","Charged","DEF"]
[null,"Weapon Proc",null,null,null,null,null,null,null,null,null,null,null,null,null,null,null,"Weapon Proc","Weapon Proc","Select an Attack"]
[null,"Overload",null,null,null,null,null,null,null,null,null,null,null,null,null,null,null,"Transformative","Transformative","EM"]
[null,"Shatter",null,null,null,null,null,null,null,null,null,null,null,null,null,null,null,"Transformative","Transformative","EM"]
[null,"Electrocharged",null,null,null,null,null,null,null,null,null,null,null,null,null,null,null,"Transformative","Transformative","EM"]
[null,"Superconduct",null,null,null,null,null,null,null,null,null,null,null,null,null,null,null,"Transformative","Transformative","EM"]
[null,"Pyro Swirl",null,null,null,null,null,null,null,null,null,null,null,null,null,null,null,"Transformative","Transformative","EM"]
[null,"Cryo Swirl",null,null,null,null,null,null,null,null,null,null,null,null,null,null,null,"Transformative","Transformative","EM"]
[null,"Hydro Swirl",null,null,null,null,null,null,null,null,null,null,null,null,null,null,null,"Transformative","Transformative","EM"]
["Itto-End","Electro Swirl",null,null,null,null,null,null,null,null,null,null,null,null,null,null,null,"Transformative","Transformative","EM"]
[null,"Jean",1,2,3,4,5,6,7,8,9,10,11,12,13,14,15,"Damage Type","Scaling Talent","Scaling Stat"]
["Jean-Start","1-Hit DMG",0.48330000000000001,0.52270000000000005,0.56200000000000006,0.61819999999999997,0.65749999999999997,0.70250000000000001,0.76429999999999998,0.82609999999999995,0.88800000000000001,0.95540000000000003,1.0327,1.1235999999999999,1.2143999999999999,1.3052999999999999,1.4044000000000001,"Normal","Normal","ATK"]
[null,"2-Hit DMG",0.45579999999999998,0.4929,0.53,0.58299999999999996,0.62009999999999998,0.66249999999999998,0.7208,0.77910000000000001,0.83740000000000003,0.90100000000000002,0.97389999999999999,1.0596000000000001,1.1453,1.2310000000000001,1.3245,"Normal","Normal","ATK"]
[null,"3-Hit DMG",0.60289999999999999,0.65190000000000003,0.70099999999999996,0.77110000000000001,0.82020000000000004,0.87629999999999997,0.95340000000000003,1.0305,1.1075999999999999,1.1917,1.2881,1.4014,1.5147999999999999,1.6281000000000001,1.7518,"Normal","Normal","ATK"]
[null,"4-Hit DMG",0.65880000000000005,0.71240000000000003,0.76600000000000001,0.84260000000000002,0.8962,0.95750000000000002,1.0418000000000001,1.1259999999999999,1.2102999999999999,1.3022,1.4075,1.5314000000000001,1.6552,1.7790999999999999,1.9141999999999999,"Normal","Normal","ATK"]
[null,"5-Hit DMG",0.79210000000000003,0.85650000000000004,0.92100000000000004,1.0130999999999999,1.0775999999999999,1.1513,1.2525999999999999,1.3539000000000001,1.4552,1.5657000000000001,1.6922999999999999,1.8412999999999999,1.9902,2.1391,2.3016000000000001,"Normal","Normal","ATK"]
[null,"Charged Attack DMG",1.6202000000000001,1.7521,1.8839999999999999,2.0724,2.2042999999999999,2.355,2.5621999999999998,2.7694999999999999,2.9767000000000001,3.2027999999999999,3.4619,3.7665000000000002,4.0711000000000004,4.3757999999999999,4.7081,"Charged","Charged","ATK"]
[null,"Collision Plunge DMG",0.63929999999999998,0.69140000000000001,0.74339999999999995,0.81769999999999998,0.86980000000000002,0.92930000000000001,1.0109999999999999,1.0928,1.1746000000000001,1.2638,1.353,1.4421999999999999,1.5314000000000001,1.6206,1.7098,"Plunge","Plunge","ATK"]
[null,"Low Plunge DMG",1.2784,1.3824000000000001,1.4864999999999999,1.6351,1.7392000000000001,1.8581000000000001,2.0215999999999998,2.1850999999999998,2.3485999999999998,2.5270000000000001,2.7054,2.8837999999999999,3.0621999999999998,3.2404999999999999,3.4188999999999998,"Plunge","Plunge","ATK"]
[null,"High Plunge DMG",1.5968,1.7266999999999999,1.8567,2.0424000000000002,2.1722999999999999,2.3209,2.5251000000000001,2.7292999999999998,2.9336000000000002,3.1564000000000001,3.3792,3.6019999999999999,3.8248000000000002,4.0476000000000001,4.2704000000000004,"Plunge","Plunge","ATK"]
[null,"Skill DMG",2.92,3.1389999999999998,3.3580000000000001,3.65,3.8690000000000002,4.0880000000000001,4.38,4.6719999999999997,4.9640000000000004,5.2560000000000002,5.548,5.84,6.2050000000000001,6.57,6.9349999999999996,"Skill","Skill","ATK"]
[null,"Field Activation Healing (Percentage)",2.512,2.7004000000000001,2.8887999999999998,3.14,3.3283999999999998,3.5167999999999999,3.7679999999999998,4.0191999999999997,4.2704000000000004,4.5216000000000003,4.7728000000000002,5.024,5.3380000000000001,5.6520000000000001,5.9660000000000002,"Burst","Burst","ATK","Percentage"]
[null,"Field Activation Healing (Flat)",1540,1694,1861,2041,2234,2439,2657,2888,3132,3389,3659,3941,4236,4544,4865,"Burst","Burst","HP","Flat"]
[null,"Continuous Regeneration (Percentage)",0.25119999999999998,0.27,0.28889999999999999,0.314,0.33279999999999998,0.35170000000000001,0.37680000000000002,0.40189999999999998,0.42699999999999999,0.45219999999999999,0.4773,0.50239999999999996,0.53380000000000005,0.56520000000000004,0.59660000000000002,"Burst","Burst","ATK","Percentage"]
[null,"Continuous Regeneration (Flat)",154,169,186,204,223,244,266,289,313,339,366,394,424,454,487,"Burst","Burst","HP","Flat"]
[null,"Elemental Burst DMG",4.2480000000000002,4.5666000000000002,4.8852000000000002,5.31,5.6285999999999996,5.9471999999999996,6.3719999999999999,6.7968000000000002,7.2215999999999996,7.6463999999999999,8.0711999999999993,8.4960000000000004,9.0269999999999992,9.5579999999999998,10.089,"Burst","Burst","ATK"]
[null,"Field Entering/Exiting DMG",0.78400000000000003,0.84279999999999999,0.90159999999999996,0.98,1.0387999999999999,1.0975999999999999,1.1759999999999999,1.2544,1.3328,1.4112,1.4896,1.5680000000000001,1.6659999999999999,1.764,1.8620000000000001,"Burst","Burst","ATK"]
[null,"Weapon Proc",null,null,null,null,null,null,null,null,null,null,null,null,null,null,null,"Weapon Proc","Weapon Proc","Select an Attack"]
[null,"Overload",null,null,null,null,null,null,null,null,null,null,null,null,null,null,null,"Transformative","Transformative","EM"]
[null,"Shatter",null,null,null,null,null,null,null,null,null,null,null,null,null,null,null,"Transformative","Transformative","EM"]
[null,"Electrocharged",null,null,null,null,null,null,null,null,null,null,null,null,null,null,null,"Transformative","Transformative","EM"]
[null,"Superconduct",null,null,null,null,null,null,null,null,null,null,null,null,null,null,null,"Transformative","Transformative","EM"]
[null,"Pyro Swirl",null,null,null,null,null,null,null,null,null,null,null,null,null,null,null,"Transformative","Transformative","EM"]
[null,"Cryo Swirl",null,null,null,null,null,null,null,null,null,null,null,null,null,null,null,"Transformative","Transformative","EM"]
[null,"Hydro Swirl",null,null,null,null,null,null,null,null,null,null,null,null,null,null,null,"Transformative","Transformative","EM"]
["Jean-End","Electro Swirl",null,null,null,null,null,null,null,null,null,null,null,null,null,null,null,"Transformative","Transformative","EM"]
[null,"Kaeya",1,2,3,4,5,6,7,8,9,10,11,12,13,14,15,"Damage Type","Scaling Talent","Scaling Stat"]
["Kaeya-Start","1-Hit DMG",0.53749999999999998,0.58130000000000004,0.625,0.6875,0.73129999999999995,0.78129999999999999,0.85,0.91879999999999995,0.98750000000000004,1.0625,1.1484000000000001,1.2495000000000001,1.3506,1.4516,1.5619000000000001,"Normal","Normal","ATK"]
[null,"2-Hit DMG",0.51690000000000003,0.55889999999999995,0.60099999999999998,0.66110000000000002,0.70320000000000005,0.75129999999999997,0.81740000000000002,0.88349999999999995,0.9496,1.0217000000000001,1.1043000000000001,1.2015,1.2987,1.3958999999999999,1.5019,"Normal","Normal","ATK"]
[null,"3-Hit DMG",0.65269999999999995,0.70589999999999997,0.75900000000000001,0.83489999999999998,0.88800000000000001,0.94879999999999998,1.0322,1.1156999999999999,1.1992,1.2903,1.3947000000000001,1.5174000000000001,1.6400999999999999,1.7628999999999999,1.8967000000000001,"Normal","Normal","ATK"]
[null,"4-Hit DMG",0.70860000000000001,0.76629999999999998,0.82399999999999995,0.90639999999999998,0.96409999999999996,1.03,1.1206,1.2113,1.3019000000000001,1.4008,1.5141,1.6473,1.7806,1.9137999999999999,2.0592000000000001,"Normal","Normal","ATK"]
[null,"5-Hit DMG",0.88239999999999996,0.95420000000000005,1.026,1.1286,1.2003999999999999,1.2825,1.3954,1.5082,1.6211,1.7442,1.8853,2.0512000000000001,2.2170999999999998,2.383,2.5640000000000001,"Normal","Normal","ATK"]
[null,"Charged Attack Hit 1 DMG",0.5504,0.59519999999999995,0.64,0.70399999999999996,0.74880000000000002,0.8,0.87039999999999995,0.94079999999999997,1.0112000000000001,1.0880000000000001,1.1759999999999999,1.2795000000000001,1.383,1.4864999999999999,1.5993999999999999,"Charged","Charged","ATK"]
[null,"Charged Attack Hit 2 DMG",0.73099999999999998,0.79049999999999998,0.85,0.93500000000000005,0.99450000000000005,1.0625,1.1559999999999999,1.2495000000000001,1.343,1.4450000000000001,1.5619000000000001,1.6993,1.8368,1.9742,2.1242000000000001,"Charged","Charged","ATK"]
[null,"Collision Plunge DMG",0.63929999999999998,0.69140000000000001,0.74339999999999995,0.81769999999999998,0.86980000000000002,0.92930000000000001,1.0109999999999999,1.0928,1.1746000000000001,1.2638,1.353,1.4421999999999999,1.5314000000000001,1.6206,1.7098,"Plunge","Plunge","ATK"]
[null,"Low Plunge DMG",1.2784,1.3824000000000001,1.4864999999999999,1.6351,1.7392000000000001,1.8581000000000001,2.0215999999999998,2.1850999999999998,2.3485999999999998,2.5270000000000001,2.7054,2.8837999999999999,3.0621999999999998,3.2404999999999999,3.4188999999999998,"Plunge","Plunge","ATK"]
[null,"High Plunge DMG",1.5968,1.7266999999999999,1.8567,2.0424000000000002,2.1722999999999999,2.3209,2.5251000000000001,2.7292999999999998,2.9336000000000002,3.1564000000000001,3.3792,3.6019999999999999,3.8248000000000002,4.0476000000000001,4.2704000000000004,"Plunge","Plunge","ATK"]
[null,"Skill DMG",1.9119999999999999,2.0554000000000001,2.1987999999999999,2.39,2.5333999999999999,2.6768000000000001,2.8679999999999999,3.0592000000000001,3.2504,3.4416000000000002,3.6328,3.8239999999999998,4.0629999999999997,4.3019999999999996,4.5410000000000004,"Skill","Skill","ATK"]
[null,"Burst DMG Per Tick",0.77600000000000002,0.83420000000000005,0.89239999999999997,0.97,1.0282,1.0864,1.1639999999999999,1.2416,1.3191999999999999,1.3968,1.4743999999999999,1.552,1.649,1.746,1.843,"Burst","Burst","ATK"]
[null,"Cold-Blooded Strike (A1 HP Regen)",0.15,0.15,0.15,0.15,0.15,0.15,0.15,0.15,0.15,0.15,0.15,0.15,0.15,0.15,0.15,"None","None","ATK","Percentage"]
[null,"Weapon Proc",null,null,null,null,null,null,null,null,null,null,null,null,null,null,null,"Weapon Proc","Weapon Proc","Select an Attack"]
[null,"Overload",null,null,null,null,null,null,null,null,null,null,null,null,null,null,null,"Transformative","Transformative","EM"]
[null,"Shatter",null,null,null,null,null,null,null,null,null,null,null,null,null,null,null,"Transformative","Transformative","EM"]
[null,"Electrocharged",null,null,null,null,null,null,null,null,null,null,null,null,null,null,null,"Transformative","Transformative","EM"]
[null,"Superconduct",null,null,null,null,null,null,null,null,null,null,null,null,null,null,null,"Transformative","Transformative","EM"]
[null,"Pyro Swirl",null,null,null,null,null,null,null,null,null,null,null,null,null,null,null,"Transformative","Transformative","EM"]
[null,"Cryo Swirl",null,null,null,null,null,null,null,null,null,null,null,null,null,null,null,"Transformative","Transformative","EM"]
[null,"Hydro Swirl",null,null,null,null,null,null,null,null,null,null,null,null,null,null,null,"Transformative","Transformative","EM"]
["Kaeya-End","Electro Swirl",null,null,null,null,null,null,null,null,null,null,null,null,null,null,null,"Transformative","Transformative","EM"]
[null,"Kazuha",1,2,3,4,5,6,7,8,9,10,11,12,13,14,15,"Damage Type","Scaling Talent","Scaling Stat"]
["Kazuha-Start","1-Hit DMG",0.44979999999999998,0.4864,0.52300000000000002,0.57530000000000003,0.6119,0.65380000000000005,0.71130000000000004,0.76880000000000004,0.82630000000000003,0.8891,0.96099999999999997,1.0456000000000001,1.1302000000000001,1.2146999999999999,1.3069999999999999,"Normal","Normal","ATK"]
[null,"2-Hit DMG",0.45240000000000002,0.48920000000000002,0.52600000000000002,0.5786,0.61539999999999995,0.65749999999999997,0.71540000000000004,0.7732,0.83109999999999995,0.89419999999999999,0.96650000000000003,1.0516000000000001,1.1366000000000001,1.2217,1.3145,"Normal","Normal","ATK"]
[null,"3-Hit Hit 1 DMG",0.25800000000000001,0.27900000000000003,0.3,0.33,0.35099999999999998,0.375,0.40799999999999997,0.441,0.47399999999999998,0.51,0.55130000000000001,0.5998,0.64829999999999999,0.69679999999999997,0.74970000000000003,"Normal","Normal","ATK"]
[null,"3-Hit Hit 2 DMG",0.30959999999999999,0.33479999999999999,0.36,0.39600000000000002,0.42120000000000002,0.45,0.48959999999999998,0.5292,0.56879999999999997,0.61199999999999999,0.66149999999999998,0.71970000000000001,0.77790000000000004,0.83609999999999995,0.89959999999999996,"Normal","Normal","ATK"]
[null,"4-Hit DMG",0.60719999999999996,0.65659999999999996,0.70599999999999996,0.77659999999999996,0.82599999999999996,0.88249999999999995,0.96020000000000005,1.0378000000000001,1.1154999999999999,1.2001999999999999,1.2972999999999999,1.4114,1.5256000000000001,1.6397999999999999,1.7643,"Normal","Normal","ATK"]
[null,"5-Hit DMG (Per Hit, 3 Hits)",0.25369999999999998,0.27439999999999998,0.29499999999999998,0.32450000000000001,0.34520000000000001,0.36880000000000002,0.4012,0.43369999999999997,0.46610000000000001,0.50149999999999995,0.54210000000000003,0.58979999999999999,0.63749999999999996,0.68520000000000003,0.73719999999999997,"Normal","Normal","ATK"]
[null,"Charged Attack Hit 1 DMG",0.43,0.46500000000000002,0.5,0.55000000000000004,0.58499999999999996,0.625,0.68,0.73499999999999999,0.79,0.85,0.91879999999999995,0.99960000000000004,1.0805,1.1613,1.2495000000000001,"Charged","Charged","ATK"]
[null,"Charged Attack Hit 2 DMG",0.74650000000000005,0.80720000000000003,0.86799999999999999,0.95479999999999998,1.0156000000000001,1.085,1.1805000000000001,1.276,1.3714,1.4756,1.595,1.7353000000000001,1.8756999999999999,2.016,2.1690999999999998,"Charged","Charged","ATK"]
[null,"Collision Plunge DMG",0.81830000000000003,0.88490000000000002,0.9516,1.0467,1.1133,1.1894,1.2941,1.3988,1.5035000000000001,1.6175999999999999,1.7318,1.8460000000000001,1.9601999999999999,2.0743999999999998,2.1886000000000001,"Plunge","Plunge","ATK"]
[null,"Low Plunge DMG",1.6363000000000001,1.7695000000000001,1.9027000000000001,2.093,2.2262,2.3784000000000001,2.5876999999999999,2.7970000000000002,3.0063,3.2345999999999999,3.4628999999999999,3.6911999999999998,3.9196,4.1478999999999999,4.3761999999999999,"Plunge","Plunge","ATK"]
[null,"High Plunge DMG",2.0438999999999998,2.2101999999999999,2.3765999999999998,2.6141999999999999,2.7806000000000002,2.9706999999999999,3.2321,3.4935999999999998,3.7549999999999999,4.0401999999999996,4.3254000000000001,4.6105999999999998,4.8956999999999997,5.1809000000000003,5.4661,"Plunge","Plunge","ATK"]
[null,"Press Skill DMG",1.92,2.0640000000000001,2.2080000000000002,2.4,2.544,2.6880000000000002,2.88,3.0720000000000001,3.2639999999999998,3.456,3.6480000000000001,3.84,4.08,4.32,4.5599999999999996,"Skill","Skill","ATK"]
[null,"Hold Skill DMG",2.6080000000000001,2.8035999999999999,2.9992000000000001,3.26,3.4556,3.6511999999999998,3.9119999999999999,4.1727999999999996,4.4336000000000002,4.6943999999999999,4.9551999999999996,5.2160000000000002,5.5419999999999998,5.8680000000000003,6.194,"Skill","Skill","ATK"]
[null,"Slashing DMG",2.6240000000000001,2.8208000000000002,3.0175999999999998,3.28,3.4767999999999999,3.6736,3.9359999999999999,4.1984000000000004,4.4607999999999999,4.7232000000000003,4.9855999999999998,5.2480000000000002,5.5759999999999996,5.9039999999999999,6.2320000000000002,"Burst","Burst","ATK"]
[null,"DoT",1.2,1.29,1.38,1.5,1.59,1.68,1.8,1.92,2.04,2.16,2.2799999999999998,2.4,2.5499999999999998,2.7,2.85,"Burst","Burst","ATK"]
[null,"Additional Elemental DoT",0.36,0.38700000000000001,0.41399999999999998,0.45,0.47699999999999998,0.504,0.54,0.57599999999999996,0.61199999999999999,0.64800000000000002,0.68400000000000005,0.72,0.76500000000000001,0.81,0.85499999999999998,"Burst Echo","Burst Echo","ATK"]
[null,"Soumon Swordsmanship (A1)",2,2,2,2,2,2,2,2,2,2,2,2,2,2,2,"Skill Echo","Skill Echo","ATK"]
[null,"Weapon Proc",null,null,null,null,null,null,null,null,null,null,null,null,null,null,null,"Weapon Proc","Weapon Proc","Select an Attack"]
[null,"Overload",null,null,null,null,null,null,null,null,null,null,null,null,null,null,null,"Transformative","Transformative","EM"]
[null,"Shatter",null,null,null,null,null,null,null,null,null,null,null,null,null,null,null,"Transformative","Transformative","EM"]
[null,"Electrocharged",null,null,null,null,null,null,null,null,null,null,null,null,null,null,null,"Transformative","Transformative","EM"]
[null,"Superconduct",null,null,null,null,null,null,null,null,null,null,null,null,null,null,null,"Transformative","Transformative","EM"]
[null,"Pyro Swirl",null,null,null,null,null,null,null,null,null,null,null,null,null,null,null,"Transformative","Transformative","EM"]
[null,"Cryo Swirl",null,null,null,null,null,null,null,null,null,null,null,null,null,null,null,"Transformative","Transformative","EM"]
[null,"Hydro Swirl",null,null,null,null,null,null,null,null,null,null,null,null,null,null,null,"Transformative","Transformative","EM"]
["Kazuha-End","Electro Swirl",null,null,null,null,null,null,null,null,null,null,null,null,null,null,null,"Transformative","Transformative","EM"]
[null,"Keqing",1,2,3,4,5,6,7,8,9,10,11,12,13,14,15,"Damage Type","Scaling Talent","Scaling Stat"]
["Keqing-Start","1-Hit DMG",0.41020000000000001,0.44359999999999999,0.47699999999999998,0.52470000000000006,0.55810000000000004,0.59619999999999995,0.64870000000000005,0.70120000000000005,0.75370000000000004,0.81089999999999995,0.86809999999999998,0.9254,0.98260000000000003,1.0399,1.0971,"Normal","Normal","ATK"]
[null,"2-Hit DMG",0.41020000000000001,0.44359999999999999,0.47699999999999998,0.52470000000000006,0.55810000000000004,0.59619999999999995,0.64870000000000005,0.70120000000000005,0.75370000000000004,0.81089999999999995,0.86809999999999998,0.9254,0.98260000000000003,1.0399,1.0971,"Normal","Normal","ATK"]
[null,"3-Hit DMG",0.5444,0.5887,0.63300000000000001,0.69630000000000003,0.74060000000000004,0.7913,0.8609,0.93049999999999999,1.0001,1.0761000000000001,1.1520999999999999,1.228,1.304,1.3798999999999999,1.4559,"Normal","Normal","ATK"]
[null,"4-Hit Hit 1 DMG",0.31480000000000002,0.34039999999999998,0.36599999999999999,0.40260000000000001,0.42820000000000003,0.45750000000000002,0.49780000000000002,0.53800000000000003,0.57830000000000004,0.62219999999999998,0.66610000000000003,0.71,0.754,0.79790000000000005,0.84179999999999999,"Normal","Normal","ATK"]
[null,"4-Hit Hit 2 DMG",0.34399999999999997,0.372,0.4,0.44,0.46800000000000003,0.5,0.54400000000000004,0.58799999999999997,0.63200000000000001,0.68,0.72799999999999998,0.77600000000000002,0.82399999999999995,0.872,0.92,"Normal","Normal","ATK"]
[null,"5-Hit DMG",0.66990000000000005,0.72450000000000003,0.77900000000000003,0.8569,0.91139999999999999,0.9738,1.0593999999999999,1.1451,1.2307999999999999,1.3243,1.4177999999999999,1.5113000000000001,1.6047,1.6981999999999999,1.7917000000000001,"Normal","Normal","ATK"]
[null,"Charged Attack Hit 1 DMG",0.76800000000000002,0.83050000000000002,0.89300000000000002,0.98229999999999995,1.0448,1.1163000000000001,1.2144999999999999,1.3127,1.4109,1.5181,1.6253,1.7323999999999999,1.8395999999999999,1.9467000000000001,2.0539000000000001,"Charged","Charged","ATK"]
[null,"Charged Attack Hit 2 DMG",0.86,0.93,1,1.1000000000000001,1.17,1.25,1.36,1.47,1.58,1.7,1.82,1.94,2.06,2.1800000000000002,2.2999999999999998,"Charged","Charged","ATK"]
[null,"Collision Plunge DMG",0.63929999999999998,0.69140000000000001,0.74339999999999995,0.81769999999999998,0.86980000000000002,0.92930000000000001,1.0109999999999999,1.0928,1.1746000000000001,1.2638,1.353,1.4421999999999999,1.5314000000000001,1.6206,1.7098,"Plunge","Plunge","ATK"]
[null,"Low Plunge DMG",1.2784,1.3824000000000001,1.4864999999999999,1.6351,1.7392000000000001,1.8581000000000001,2.0215999999999998,2.1850999999999998,2.3485999999999998,2.5270000000000001,2.7054,2.8837999999999999,3.0621999999999998,3.2404999999999999,3.4188999999999998,"Plunge","Plunge","ATK"]
[null,"High Plunge DMG",1.5968,1.7266999999999999,1.8567,2.0424000000000002,2.1722999999999999,2.3209,2.5251000000000001,2.7292999999999998,2.9336000000000002,3.1564000000000001,3.3792,3.6019999999999999,3.8248000000000002,4.0476000000000001,4.2704000000000004,"Plunge","Plunge","ATK"]
[null,"Lightning Stiletto DMG",0.504,0.54179999999999995,0.5796,0.63,0.66779999999999995,0.7056,0.75600000000000001,0.80640000000000001,0.85680000000000001,0.90720000000000001,0.95760000000000001,1.008,1.071,1.1339999999999999,1.1970000000000001,"Skill","Skill","ATK"]
[null,"Skill Re-cast DMG",1.68,1.806,1.9319999999999999,2.1,2.226,2.3519999999999999,2.52,2.6880000000000002,2.8559999999999999,3.024,3.1920000000000002,3.36,3.57,3.78,3.99,"Skill","Skill","ATK"]
[null,"Thunderclap Slash DMG (Per Slash, 2 Slashes)",0.84,0.90300000000000002,0.96599999999999997,1.05,1.113,1.1759999999999999,1.26,1.3440000000000001,1.4279999999999999,1.512,1.5960000000000001,1.68,1.7849999999999999,1.89,1.9950000000000001,"Skill","Skill","ATK"]
[null,"Burst Initial Slash DMG",0.88,0.94599999999999995,1.012,1.1000000000000001,1.1659999999999999,1.232,1.32,1.4079999999999999,1.496,1.5840000000000001,1.6719999999999999,1.76,1.87,1.98,2.09,"Burst","Burst","ATK"]
[null,"Burst Consecutive Slash DMG (Per Slash, 8 Slashes)",0.24,0.25800000000000001,0.27600000000000002,0.3,0.318,0.33600000000000002,0.36,0.38400000000000001,0.40799999999999997,0.432,0.45600000000000002,0.48,0.51,0.54,0.56999999999999995,"Burst","Burst","ATK"]
[null,"Burst Final Slash DMG",1.8879999999999999,2.0295999999999998,2.1711999999999998,2.36,2.5015999999999998,2.6432000000000002,2.8319999999999999,3.0207999999999999,3.2096,3.3984000000000001,3.5872000000000002,3.7759999999999998,4.0119999999999996,4.2480000000000002,4.484,"Burst","Burst","ATK"]
[null,"Thundering Might (C1)",0.5,0.5,0.5,0.5,0.5,0.5,0.5,0.5,0.5,0.5,0.5,0.5,0.5,0.5,0.5,"None","None","ATK"]
[null,"Weapon Proc",null,null,null,null,null,null,null,null,null,null,null,null,null,null,null,"Weapon Proc","Weapon Proc","Select an Attack"]
[null,"Overload",null,null,null,null,null,null,null,null,null,null,null,null,null,null,null,"Transformative","Transformative","EM"]
[null,"Shatter",null,null,null,null,null,null,null,null,null,null,null,null,null,null,null,"Transformative","Transformative","EM"]
[null,"Electrocharged",null,null,null,null,null,null,null,null,null,null,null,null,null,null,null,"Transformative","Transformative","EM"]
[null,"Superconduct",null,null,null,null,null,null,null,null,null,null,null,null,null,null,null,"Transformative","Transformative","EM"]
[null,"Pyro Swirl",null,null,null,null,null,null,null,null,null,null,null,null,null,null,null,"Transformative","Transformative","EM"]
[null,"Cryo Swirl",null,null,null,null,null,null,null,null,null,null,null,null,null,null,null,"Transformative","Transformative","EM"]
[null,"Hydro Swirl",null,null,null,null,null,null,null,null,null,null,null,null,null,null,null,"Transformative","Transformative","EM"]
["Keqing-End","Electro Swirl",null,null,null,null,null,null,null,null,null,null,null,null,null,null,null,"Transformative","Transformative","EM"]
[null,"Klee",1,2,3,4,5,6,7,8,9,10,11,12,13,14,15,"Damage Type","Scaling Talent","Scaling Stat"]
["Klee-Start","1-Hit DMG",0.72160000000000002,0.77569999999999995,0.82979999999999998,0.90200000000000002,0.95609999999999995,1.0102,1.0824,1.1546000000000001,1.2266999999999999,1.2988999999999999,1.3738999999999999,1.4721,1.5702,1.6682999999999999,1.7665,"Normal","Normal","ATK"]
[null,"2-Hit DMG",0.624,0.67079999999999995,0.71760000000000002,0.78,0.82679999999999998,0.87360000000000004,0.93600000000000005,0.99839999999999995,1.0608,1.1232,1.1880999999999999,1.2729999999999999,1.3577999999999999,1.4427000000000001,1.5276000000000001,"Normal","Normal","ATK"]
[null,"3-Hit DMG",0.8992,0.96660000000000001,1.0341,1.1240000000000001,1.1914,1.2588999999999999,1.3488,1.4387000000000001,1.5286,1.6186,1.7121,1.8344,1.9567000000000001,2.0790000000000002,2.2012,"Normal","Normal","ATK"]
[null,"Charged Attack DMG",1.5736000000000001,1.6916,1.8096000000000001,1.9670000000000001,2.085,2.2029999999999998,2.3603999999999998,2.5177999999999998,2.6751,2.8325,2.9961000000000002,3.2101000000000002,3.4241999999999999,3.6381999999999999,3.8521999999999998,"Charged","Charged","ATK"]
[null,"Collision Plunge DMG",0.56830000000000003,0.61450000000000005,0.66080000000000005,0.72689999999999999,0.77310000000000001,0.82599999999999996,0.89870000000000005,0.97140000000000004,1.0441,1.1234,1.2027000000000001,1.282,1.3612,1.4404999999999999,1.5198,"Plunge","Plunge","ATK"]
[null,"Low Plunge DMG",1.1363000000000001,1.2287999999999999,1.3212999999999999,1.4535,1.5459000000000001,1.6516999999999999,1.7969999999999999,1.9422999999999999,2.0876999999999999,2.2462,2.4047999999999998,2.5634000000000001,2.7219000000000002,2.8805000000000001,3.0390000000000001,"Plunge","Plunge","ATK"]
[null,"High Plunge DMG",1.4193,1.5348999999999999,1.6504000000000001,1.8153999999999999,1.931,2.0630000000000002,2.2444999999999999,2.4260999999999999,2.6076000000000001,2.8056999999999999,3.0036999999999998,3.2018,3.3997999999999999,3.5979000000000001,3.7959000000000001,"Plunge","Plunge","ATK"]
[null,"Jumpy Dumpty Bounce DMG",0.95199999999999996,1.0234000000000001,1.0948,1.19,1.2614000000000001,1.3328,1.4279999999999999,1.5232000000000001,1.6184000000000001,1.7136,1.8088,1.9039999999999999,2.0230000000000001,2.1419999999999999,2.2610000000000001,"Skill","Skill","ATK"]
[null,"Jumpy Dumpty Mine DMG",0.32800000000000001,0.35260000000000002,0.37719999999999998,0.41,0.43459999999999999,0.4592,0.49199999999999999,0.52480000000000004,0.55759999999999998,0.59040000000000004,0.62319999999999998,0.65600000000000003,0.69699999999999995,0.73799999999999999,0.77900000000000003,"Skill","Skill","ATK"]
[null,"Burst Tick DMG (Per Tick, 22.8 Ticks Total)",0.4264,0.45839999999999997,0.4904,0.53300000000000003,0.56499999999999995,0.59699999999999998,0.63959999999999995,0.68220000000000003,0.72489999999999999,0.76749999999999996,0.81020000000000003,0.8528,0.90610000000000002,0.95940000000000003,1.0126999999999999,"Burst","Burst","ATK"]
[null,"Chained Reactions (C1)",{"$f":"1.2*C567","v":0.51168000000000002},{"$f":"1.2*D567","v":0.5500799999999999},0.58848,0.63960000000000006,0.67799999999999994,0.71639999999999993,0.76751999999999987,0.81864000000000003,0.86987999999999999,0.92099999999999993,0.97223999999999999,1.02336,1.0873200000000001,1.1512800000000001,1.2152399999999999,"Burst","Burst","ATK"]
[null,"Sparkly Explosion (C4)",5.55,5.55,5.55,5.55,5.55,5.55,5.55,5.55,5.55,5.55,5.55,5.55,5.55,5.55,5.55,"None","None","ATK"]
[null,"Weapon Proc",null,null,null,null,null,null,null,null,null,null,null,null,null,null,null,"Weapon Proc","Weapon Proc","Select an Attack"]
[null,"Overload",null,null,null,null,null,null,null,null,null,null,null,null,null,null,null,"Transformative","Transformative","EM"]
[null,"Shatter",null,null,null,null,null,null,null,null,null,null,null,null,null,null,null,"Transformative","Transformative","EM"]
[null,"Electrocharged",null,null,null,null,null,null,null,null,null,null,null,null,null,null,null,"Transformative","Transformative","EM"]
[null,"Superconduct",null,null,null,null,null,null,null,null,null,null,null,null,null,null,null,"Transformative","Transformative","EM"]
[null,"Pyro Swirl",null,null,null,null,null,null,null,null,null,null,null,null,null,null,null,"Transformative","Transformative","EM"]
[null,"Cryo Swirl",null,null,null,null,null,null,null,null,null,null,null,null,null,null,null,"Transformative","Transformative","EM"]
[null,"Hydro Swirl",null,null,null,null,null,null,null,null,null,null,null,null,null,null,null,"Transformative","Transformative","EM"]
["Klee-End","Electro Swirl",null,null,null,null,null,null,null,null,null,null,null,null,null,null,null,"Transformative","Transformative","EM"]
[null,"Kokomi",1,2,3,4,5,6,7,8,9,10,11,12,13,14,15,"Damage Type","Scaling Talent","Scaling Stat"]
["Kokomi-Start","1-Hit DMG",0.68379999999999996,0.73499999999999999,0.7863,0.85470000000000002,0.90600000000000003,0.95730000000000004,1.0256000000000001,1.0940000000000001,1.1624000000000001,1.2307999999999999,1.2990999999999999,1.3674999999999999,1.4530000000000001,1.5385,1.6238999999999999,"Normal","Normal","ATK"]
[null,"2-Hit DMG",0.61539999999999995,0.66149999999999998,0.7077,0.76919999999999999,0.81540000000000001,0.86150000000000004,0.92310000000000003,0.98460000000000003,1.0462,1.1076999999999999,1.1692,1.2307999999999999,1.3077000000000001,1.3846000000000001,1.4615,"Normal","Normal","ATK"]
[null,"3-Hit DMG",0.94310000000000005,1.0138,1.0845,1.1788000000000001,1.2495000000000001,1.3203,1.4146000000000001,1.5088999999999999,1.6032,1.6975,1.7918000000000001,1.8861000000000001,2.004,2.1219000000000001,2.2397999999999998,"Normal","Normal","ATK"]
[null,"Charged Attack DMG",1.4832000000000001,1.5944,1.7057,1.8540000000000001,1.9652000000000001,2.0764999999999998,2.2248000000000001,2.3731,2.5213999999999999,2.6698,2.8180999999999998,2.9664000000000001,3.1518000000000002,3.3372000000000002,3.5226000000000002,"Charged","Charged","ATK"]
[null,"Collision Plunge DMG",0.56830000000000003,0.61450000000000005,0.66080000000000005,0.72689999999999999,0.77310000000000001,0.82599999999999996,0.89870000000000005,0.97140000000000004,1.0441,1.1234,1.2027000000000001,1.282,1.3612,1.4404999999999999,1.5198,"Plunge","Plunge","ATK"]
[null,"Low Plunge DMG",1.1363000000000001,1.2287999999999999,1.3212999999999999,1.4535,1.5459000000000001,1.6516999999999999,1.7969999999999999,1.9422999999999999,2.0876999999999999,2.2462,2.4047999999999998,2.5634000000000001,2.7219000000000002,2.8805000000000001,3.0390000000000001,"Plunge","Plunge","ATK"]
[null,"High Plunge DMG",1.4193,1.5348999999999999,1.6504000000000001,1.8153999999999999,1.931,2.0630000000000002,2.2444999999999999,2.4260999999999999,2.6076000000000001,2.8056999999999999,3.0036999999999998,3.2018,3.3997999999999999,3.5979000000000001,3.7959000000000001,"Plunge","Plunge","ATK"]
[null,"Skill Regeneration (Percentage)",4.3999999999999997E-2,4.7300000000000002E-2,5.0599999999999999E-2,5.5E-2,5.8299999999999998E-2,6.1600000000000002E-2,6.6000000000000003E-2,7.0400000000000004E-2,7.4800000000000005E-2,7.9200000000000007E-2,8.3599999999999994E-2,8.7999999999999995E-2,9.35E-2,9.9000000000000005E-2,0.1045,"Skill","Skill","HP","Percentage"]
[null,"Skill Regeneration (Flat)",424,466,512,561,614,671,731,795,862,932,1006,1084,1165,1250,1338,"Skill","Skill","HP","Flat"]
[null,"Skill Ripple DMG",1.0919000000000001,1.1738,1.2557,1.3649,1.4468000000000001,1.5286999999999999,1.6378999999999999,1.7470000000000001,1.8562000000000001,1.9654,2.0746000000000002,2.1838000000000002,2.3203,2.4567999999999999,2.5933000000000002,"Skill","Skill","ATK"]
[null,"Burst DMG",0.1042,0.112,0.1198,0.13020000000000001,0.13800000000000001,0.14580000000000001,0.15620000000000001,0.16669999999999999,0.17710000000000001,0.1875,0.19789999999999999,0.20830000000000001,0.2213,0.2344,0.24740000000000001,"Burst","Burst","HP"]
[null,"Normal Attack Bonus (From Burst)",4.8399999999999999E-2,5.1999999999999998E-2,5.57E-2,6.0499999999999998E-2,6.4100000000000004E-2,6.7799999999999999E-2,7.2599999999999998E-2,7.7399999999999997E-2,8.2299999999999998E-2,8.7099999999999997E-2,9.1999999999999998E-2,9.6799999999999997E-2,0.10290000000000001,0.1089,0.115,"Normal","Normal","HP"]
[null,"Charged Attack Bonus (From Burst)",6.7799999999999999E-2,7.2800000000000004E-2,7.7899999999999997E-2,8.4699999999999998E-2,8.9800000000000005E-2,9.4899999999999998E-2,0.1016,0.1084,0.1152,0.122,0.12870000000000001,0.13550000000000001,0.14399999999999999,0.1525,0.16089999999999999,"Charged","Charged","HP"]
[null,"Song of Pearls Normal Bonus",{"$f":"Lookups!$B$75","v":{"$error":"#N/A"}},{"$f":"Lookups!$B$75","v":{"$error":"#N/A"}},{"$f":"Lookups!$B$75","v":{"$error":"#N/A"}},{"$f":"Lookups!$B$75","v":{"$error":"#N/A"}},{"$f":"Lookups!$B$75","v":{"$error":"#N/A"}},{"$f":"Lookups!$B$75","v":{"$error":"#N/A"}},{"$f":"Lookups!$B$75","v":{"$error":"#N/A"}},{"$f":"Lookups!$B$75","v":{"$error":"#N/A"}},{"$f":"Lookups!$B$75","v":{"$error":"#N/A"}},{"$f":"Lookups!$B$75","v":{"$error":"#N/A"}},{"$f":"Lookups!$B$75","v":{"$error":"#N/A"}},{"$f":"Lookups!$B$75","v":{"$error":"#N/A"}},{"$f":"Lookups!$B$75","v":{"$error":"#N/A"}},{"$f":"Lookups!$B$75","v":{"$error":"#N/A"}},{"$f":"Lookups!$B$75","v":{"$error":"#N/A"}},"Normal","Normal","HP"]
[null,"Song of Pearls Charged Bonus",{"$f":"Lookups!$B$75","v":{"$error":"#N/A"}},{"$f":"Lookups!$B$75","v":{"$error":"#N/A"}},{"$f":"Lookups!$B$75","v":{"$error":"#N/A"}},{"$f":"Lookups!$B$75","v":{"$error":"#N/A"}},{"$f":"Lookups!$B$75","v":{"$error":"#N/A"}},{"$f":"Lookups!$B$75","v":{"$error":"#N/A"}},{"$f":"Lookups!$B$75","v":{"$error":"#N/A"}},{"$f":"Lookups!$B$75","v":{"$error":"#N/A"}},{"$f":"Lookups!$B$75","v":{"$error":"#N/A"}},{"$f":"Lookups!$B$75","v":{"$error":"#N/A"}},{"$f":"Lookups!$B$75","v":{"$error":"#N/A"}},{"$f":"Lookups!$B$75","v":{"$error":"#N/A"}},{"$f":"Lookups!$B$75","v":{"$error":"#N/A"}},{"$f":"Lookups!$B$75","v":{"$error":"#N/A"}},{"$f":"Lookups!$B$75","v":{"$error":"#N/A"}},"Charged","Charged","HP"]
[null,"Skill Bonus (From Burst)",7.0999999999999994E-2,7.6300000000000007E-2,8.1600000000000006E-2,8.8700000000000001E-2,9.4E-2,9.9299999999999999E-2,0.10639999999999999,0.1135,0.1206,0.12770000000000001,0.1348,0.1419,0.15079999999999999,0.15970000000000001,0.16850000000000001,"Skill","Skill","HP"]
[null,"Burst On-Hit HP Regeneration (Percentage)",8.0999999999999996E-3,8.6999999999999994E-3,9.2999999999999992E-3,1.01E-2,1.0699999999999999E-2,1.1299999999999999E-2,1.21E-2,1.29E-2,1.37E-2,1.4500000000000001E-2,1.54E-2,1.6199999999999999E-2,1.72E-2,1.8200000000000001E-2,1.9199999999999998E-2,"Burst","Burst","HP","Percentage"]
[null,"Burst On-Hit HP Regeneration (Flat)",77,85,93,102,112,122,133,144,157,169,183,197,212,227,243,"Burst","Burst","HP","Flat"]
[null,"C1 Proc",0.3,0.3,0.3,0.3,0.3,0.3,0.3,0.3,0.3,0.3,0.3,0.3,0.3,0.3,0.3,"None","None","HP"]
[null,"Weapon Proc",null,null,null,null,null,null,null,null,null,null,null,null,null,null,null,"Weapon Proc","Weapon Proc","Select an Attack"]
[null,"Overload",null,null,null,null,null,null,null,null,null,null,null,null,null,null,null,"Transformative","Transformative","EM"]
[null,"Shatter",null,null,null,null,null,null,null,null,null,null,null,null,null,null,null,"Transformative","Transformative","EM"]
[null,"Electrocharged",null,null,null,null,null,null,null,null,null,null,null,null,null,null,null,"Transformative","Transformative","EM"]
[null,"Superconduct",null,null,null,null,null,null,null,null,null,null,null,null,null,null,null,"Transformative","Transformative","EM"]
[null,"Pyro Swirl",null,null,null,null,null,null,null,null,null,null,null,null,null,null,null,"Transformative","Transformative","EM"]
[null,"Cryo Swirl",null,null,null,null,null,null,null,null,null,null,null,null,null,null,null,"Transformative","Transformative","EM"]
[null,"Hydro Swirl",null,null,null,null,null,null,null,null,null,null,null,null,null,null,null,"Transformative","Transformative","EM"]
["Kokomi-End","Electro Swirl",null,null,null,null,null,null,null,null,null,null,null,null,null,null,null,"Transformative","Transformative","EM"]
[null,"Lisa",1,2,3,4,5,6,7,8,9,10,11,12,13,14,15,"Damage Type","Scaling Talent","Scaling Stat"]
["Lisa-Start","1-Hit DMG",0.39600000000000002,0.42570000000000002,0.45540000000000003,0.495,0.52470000000000006,0.5544,0.59399999999999997,0.63360000000000005,0.67320000000000002,0.71279999999999999,0.754,0.80779999999999996,0.86170000000000002,0.91559999999999997,0.96940000000000004,"Normal","Normal","ATK"]
[null,"2-Hit DMG",0.35920000000000002,0.3861,0.41310000000000002,0.44900000000000001,0.47589999999999999,0.50290000000000001,0.53879999999999995,0.57469999999999999,0.61060000000000003,0.64659999999999995,0.68389999999999995,0.73280000000000001,0.78159999999999996,0.83050000000000002,0.87929999999999997,"Normal","Normal","ATK"]
[null,"3-Hit DMG",0.42799999999999999,0.46010000000000001,0.49220000000000003,0.53500000000000003,0.56710000000000005,0.59919999999999995,0.64200000000000002,0.68479999999999996,0.72760000000000002,0.77039999999999997,0.81489999999999996,0.87309999999999999,0.93130000000000002,0.98950000000000005,1.0477000000000001,"Normal","Normal","ATK"]
[null,"4-Hit DMG",0.54959999999999998,0.59079999999999999,0.63200000000000001,0.68700000000000006,0.72819999999999996,0.76939999999999997,0.82440000000000002,0.87939999999999996,0.93430000000000002,0.98929999999999996,1.0464,1.1212,1.1959,1.2706999999999999,1.3453999999999999,"Normal","Normal","ATK"]
[null,"Charged Attack DMG",1.7712000000000001,1.9039999999999999,2.0369000000000002,2.214,2.3468,2.4796999999999998,2.6568000000000001,2.8338999999999999,3.0110000000000001,3.1882000000000001,3.3723999999999998,3.6132,3.8540999999999999,4.0949999999999998,4.3358999999999996,"Charged","Charged","ATK"]
[null,"Collision Plunge DMG",0.56830000000000003,0.61450000000000005,0.66080000000000005,0.72689999999999999,0.77310000000000001,0.82599999999999996,0.89870000000000005,0.97140000000000004,1.0441,1.1234,1.2027000000000001,1.282,1.3612,1.4404999999999999,1.5198,"Plunge","Plunge","ATK"]
[null,"Low Plunge DMG",1.1363000000000001,1.2287999999999999,1.3212999999999999,1.4535,1.5459000000000001,1.6516999999999999,1.7969999999999999,1.9422999999999999,2.0876999999999999,2.2462,2.4047999999999998,2.5634000000000001,2.7219000000000002,2.8805000000000001,3.0390000000000001,"Plunge","Plunge","ATK"]
[null,"High Plunge DMG",1.4193,1.5348999999999999,1.6504000000000001,1.8153999999999999,1.931,2.0630000000000002,2.2444999999999999,2.4260999999999999,2.6076000000000001,2.8056999999999999,3.0036999999999998,3.2018,3.3997999999999999,3.5979000000000001,3.7959000000000001,"Plunge","Plunge","ATK"]
[null,"Skill Press DMG",0.8,0.86,0.92,1,1.06,1.1200000000000001,1.2,1.28,1.36,1.44,1.52,1.6,1.7,1.8,1.9,"Skill","Skill","ATK"]
[null,"Non-Conductive Hold DMG",3.2,3.44,3.68,4,4.24,4.4800000000000004,4.8,5.12,5.44,5.76,6.08,6.4,6.8,7.2,7.6,"Skill","Skill","ATK"]
[null,"Stack 1 Conductive Hold DMG",3.68,3.956,4.2320000000000002,4.5999999999999996,4.8760000000000003,5.1520000000000001,5.52,5.8879999999999999,6.2560000000000002,6.6239999999999997,6.992,7.36,7.82,8.2799999999999994,8.74,"Skill","Skill","ATK"]
[null,"Stack 2 Conductive Hold DMG",4.24,4.5579999999999998,4.8760000000000003,5.3,5.6180000000000003,5.9359999999999999,6.36,6.7839999999999998,7.2080000000000002,7.6319999999999997,8.0559999999999992,8.48,9.01,9.5399999999999991,10.07,"Skill","Skill","ATK"]
[null,"Stack 3 Conductive Hold DMG",4.8719999999999999,5.2374000000000001,5.6028000000000002,6.09,6.4554,6.8208000000000002,7.3079999999999998,7.7952000000000004,8.2824000000000009,8.7696000000000005,9.2568000000000001,9.7439999999999998,10.353,10.962,11.571,"Skill","Skill","ATK"]
[null,"Burst Discharge DMG",0.36559999999999998,0.39300000000000002,0.4204,0.45700000000000002,0.4844,0.51180000000000003,0.5484,0.58499999999999996,0.62150000000000005,0.65810000000000002,0.6946,0.73119999999999996,0.77690000000000003,0.8226,0.86829999999999996,"Burst","Burst","ATK"]
[null,"Burst Summon DMG",0.1,0.1,0.1,0.1,0.1,0.1,0.1,0.1,0.1,0.1,0.1,0.1,0.1,0.1,0.1,"Burst","Burst","ATK"]
[null,"Weapon Proc",null,null,null,null,null,null,null,null,null,null,null,null,null,null,null,"Weapon Proc","Weapon Proc","Select an Attack"]
[null,"Overload",null,null,null,null,null,null,null,null,null,null,null,null,null,null,null,"Transformative","Transformative","EM"]
[null,"Shatter",null,null,null,null,null,null,null,null,null,null,null,null,null,null,null,"Transformative","Transformative","EM"]
[null,"Electrocharged",null,null,null,null,null,null,null,null,null,null,null,null,null,null,null,"Transformative","Transformative","EM"]
[null,"Superconduct",null,null,null,null,null,null,null,null,null,null,null,null,null,null,null,"Transformative","Transformative","EM"]
[null,"Pyro Swirl",null,null,null,null,null,null,null,null,null,null,null,null,null,null,null,"Transformative","Transformative","EM"]
[null,"Cryo Swirl",null,null,null,null,null,null,null,null,null,null,null,null,null,null,null,"Transformative","Transformative","EM"]
[null,"Hydro Swirl",null,null,null,null,null,null,null,null,null,null,null,null,null,null,null,"Transformative","Transformative","EM"]
["Lisa-End","Electro Swirl",null,null,null,null,null,null,null,null,null,null,null,null,null,null,null,"Transformative","Transformative","EM"]
[null,"Mona",1,2,3,4,5,6,7,8,9,10,11,12,13,14,15,"Damage Type","Scaling Talent","Scaling Stat"]
["Mona-Start","1-Hit DMG",0.376,0.4042,0.43240000000000001,0.47,0.49819999999999998,0.52639999999999998,0.56399999999999995,0.60160000000000002,0.63919999999999999,0.67679999999999996,0.71440000000000003,0.752,0.79900000000000004,0.84599999999999997,0.89300000000000002,"Normal","Normal","ATK"]
[null,"2-Hit DMG",0.36,0.38700000000000001,0.41399999999999998,0.45,0.47699999999999998,0.504,0.54,0.57599999999999996,0.61199999999999999,0.64800000000000002,0.68400000000000005,0.72,0.76500000000000001,0.81,0.85499999999999998,"Normal","Normal","ATK"]
[null,"3-Hit DMG",0.44800000000000001,0.48159999999999997,0.51519999999999999,0.56000000000000005,0.59360000000000002,0.62719999999999998,0.67200000000000004,0.71679999999999999,0.76160000000000005,0.80640000000000001,0.85119999999999996,0.89600000000000002,0.95199999999999996,1.008,1.0640000000000001,"Normal","Normal","ATK"]
[null,"4-Hit DMG",0.56159999999999999,0.60370000000000001,0.64580000000000004,0.70199999999999996,0.74409999999999998,0.78620000000000001,0.84240000000000004,0.89859999999999995,0.95469999999999999,1.0108999999999999,1.0669999999999999,1.1232,1.1934,1.2636000000000001,1.3338000000000001,"Normal","Normal","ATK"]
[null,"Charged Attack DMG",1.4972000000000001,1.6094999999999999,1.7218,1.8714999999999999,1.9838,2.0960999999999999,2.2458,2.3955000000000002,2.5451999999999999,2.6949999999999998,2.8506999999999998,3.0543,3.2578999999999998,3.4615,3.6650999999999998,"Charged","Charged","ATK"]
[null,"Plunge DMG",0.56830000000000003,0.61450000000000005,0.66080000000000005,0.72689999999999999,0.77310000000000001,0.82599999999999996,0.89870000000000005,0.97140000000000004,1.0441,1.1234,1.2027000000000001,1.282,1.3612,1.4404999999999999,1.5198,"Plunge","Plunge","ATK"]
[null,"Low Plunge DMG",1.1363000000000001,1.2287999999999999,1.3212999999999999,1.4535,1.5459000000000001,1.6516999999999999,1.7969999999999999,1.9422999999999999,2.0876999999999999,2.2462,2.4047999999999998,2.5634000000000001,2.7219000000000002,2.8805000000000001,3.0390000000000001,"Plunge","Plunge","ATK"]
[null,"High Plunge DMG",1.4193,1.5348999999999999,1.6504000000000001,1.8153999999999999,1.931,2.0630000000000002,2.2444999999999999,2.4260999999999999,2.6076000000000001,2.8056999999999999,3.0036999999999998,3.2018,3.3997999999999999,3.5979000000000001,3.7959000000000001,"Plunge","Plunge","ATK"]
[null,"Skill DoT",0.32,0.34399999999999997,0.36799999999999999,0.4,0.42399999999999999,0.44800000000000001,0.48,0.51200000000000001,0.54400000000000004,0.57599999999999996,0.60799999999999998,0.64,0.68,0.72,0.76,"Skill","Skill","ATK"]
[null,"Skill Explosion DMG",1.3280000000000001,1.4276,1.5271999999999999,1.66,1.7596000000000001,1.8592,1.992,2.1248,2.2576000000000001,2.3904000000000001,2.5232000000000001,2.6560000000000001,2.8220000000000001,2.988,3.1539999999999999,"Skill","Skill","ATK"]
[null,"Illusory Bubble Explosion DMG",4.4240000000000004,4.7557999999999998,5.0876000000000001,5.53,5.8617999999999997,6.1936,6.6360000000000001,7.0784000000000002,7.5208000000000004,7.9631999999999996,8.4055999999999997,8.8480000000000008,9.4009999999999998,9.9540000000000006,10.507,"Burst","Burst","ATK"]
[null,"Weapon Proc",null,null,null,null,null,null,null,null,null,null,null,null,null,null,null,"Weapon Proc","Weapon Proc","Select an Attack"]
[null,"Overload",null,null,null,null,null,null,null,null,null,null,null,null,null,null,null,"Transformative","Transformative","EM"]
[null,"Shatter",null,null,null,null,null,null,null,null,null,null,null,null,null,null,null,"Transformative","Transformative","EM"]
[null,"Electrocharged",null,null,null,null,null,null,null,null,null,null,null,null,null,null,null,"Transformative","Transformative","EM"]
[null,"Superconduct",null,null,null,null,null,null,null,null,null,null,null,null,null,null,null,"Transformative","Transformative","EM"]
[null,"Pyro Swirl",null,null,null,null,null,null,null,null,null,null,null,null,null,null,null,"Transformative","Transformative","EM"]
[null,"Cryo Swirl",null,null,null,null,null,null,null,null,null,null,null,null,null,null,null,"Transformative","Transformative","EM"]
[null,"Hydro Swirl",null,null,null,null,null,null,null,null,null,null,null,null,null,null,null,"Transformative","Transformative","EM"]
["Mona-End","Electro Swirl",null,null,null,null,null,null,null,null,null,null,null,null,null,null,null,"Transformative","Transformative","EM"]
[null,"Ningguang",1,2,3,4,5,6,7,8,9,10,11,12,13,14,15,"Damage Type","Scaling Talent","Scaling Stat"]
["Ningguang-Start","Normal Attack DMG",0.28000000000000003,0.30099999999999999,0.32200000000000001,0.35,0.371,0.39200000000000002,0.42,0.44800000000000001,0.47599999999999998,0.504,0.53310000000000002,0.57120000000000004,0.60929999999999995,0.64739999999999998,0.68540000000000001,"Normal","Normal","ATK"]
[null,"Charged Attack DMG",1.7407999999999999,1.8714,2.0019,2.1760000000000002,2.3066,2.4371,2.6112000000000002,2.7852999999999999,2.9594,3.1334,3.3144999999999998,3.5512000000000001,3.7879999999999998,4.0247000000000002,4.2614999999999998,"Charged","Charged","ATK"]
[null,"DMG per Star Jade",0.496,0.53320000000000001,0.57040000000000002,0.62,0.65720000000000001,0.69440000000000002,0.74399999999999999,0.79359999999999997,0.84319999999999995,0.89280000000000004,0.94440000000000002,1.0118,1.0792999999999999,1.1468,1.2141999999999999,"Charged","Charged","ATK"]
[null,"Collision Plunge DMG",0.56830000000000003,0.61450000000000005,0.66080000000000005,0.72689999999999999,0.77310000000000001,0.82599999999999996,0.89870000000000005,0.97140000000000004,1.0441,1.1234,1.2027000000000001,1.282,1.3612,1.4404999999999999,1.5198,"Plunge","Plunge","ATK"]
[null,"Low Plunge DMG",1.1363000000000001,1.2287999999999999,1.3212999999999999,1.4535,1.5459000000000001,1.6516999999999999,1.7969999999999999,1.9422999999999999,2.0876999999999999,2.2462,2.4047999999999998,2.5634000000000001,2.7219000000000002,2.8805000000000001,3.0390000000000001,"Plunge","Plunge","ATK"]
[null,"High Plunge DMG",1.4193,1.5348999999999999,1.6504000000000001,1.8153999999999999,1.931,2.0630000000000002,2.2444999999999999,2.4260999999999999,2.6076000000000001,2.8056999999999999,3.0036999999999998,3.2018,3.3997999999999999,3.5979000000000001,3.7959000000000001,"Plunge","Plunge","ATK"]
[null,"Skill DMG",2.3039999999999998,2.4767999999999999,2.6496,2.88,3.0528,3.2256,3.456,3.6863999999999999,3.9167999999999998,4.1471999999999998,4.3776000000000002,4.6079999999999997,4.8959999999999999,5.1840000000000002,5.4720000000000004,"Skill","Skill","ATK"]
[null,"Burst DMG Per Gem",0.86960000000000004,0.93479999999999996,1,1.087,1.1521999999999999,1.2174,1.3044,1.3914,1.4782999999999999,1.5652999999999999,1.6521999999999999,1.7392000000000001,1.8479000000000001,1.9565999999999999,2.0653000000000001,"Burst","Burst","ATK"]
[null,"Weapon Proc",null,null,null,null,null,null,null,null,null,null,null,null,null,null,null,"Weapon Proc","Weapon Proc","Select an Attack"]
[null,"Overload",null,null,null,null,null,null,null,null,null,null,null,null,null,null,null,"Transformative","Transformative","EM"]
[null,"Shatter",null,null,null,null,null,null,null,null,null,null,null,null,null,null,null,"Transformative","Transformative","EM"]
[null,"Electrocharged",null,null,null,null,null,null,null,null,null,null,null,null,null,null,null,"Transformative","Transformative","EM"]
[null,"Superconduct",null,null,null,null,null,null,null,null,null,null,null,null,null,null,null,"Transformative","Transformative","EM"]
[null,"Pyro Swirl",null,null,null,null,null,null,null,null,null,null,null,null,null,null,null,"Transformative","Transformative","EM"]
[null,"Cryo Swirl",null,null,null,null,null,null,null,null,null,null,null,null,null,null,null,"Transformative","Transformative","EM"]
[null,"Hydro Swirl",null,null,null,null,null,null,null,null,null,null,null,null,null,null,null,"Transformative","Transformative","EM"]
["Ningguang-End","Electro Swirl",null,null,null,null,null,null,null,null,null,null,null,null,null,null,null,"Transformative","Transformative","EM"]
[null,"Noelle",1,2,3,4,5,6,7,8,9,10,11,12,13,14,15,"Damage Type","Scaling Talent","Scaling Stat"]
["Noelle-Start","1-Hit DMG",0.79120000000000001,0.85560000000000003,0.92,1.012,1.0764,1.1499999999999999,1.2512000000000001,1.3524,1.4536,1.5640000000000001,1.6744000000000001,1.7847999999999999,1.8952,2.0055999999999998,2.1160000000000001,"Normal","Normal","ATK"]
[null,"2-Hit DMG",0.73360000000000003,0.79330000000000001,0.85299999999999998,0.93830000000000002,0.998,1.0663,1.1600999999999999,1.2539,1.3476999999999999,1.4500999999999999,1.5525,1.6548,1.7572000000000001,1.8594999999999999,1.9619,"Normal","Normal","ATK"]
[null,"3-Hit DMG",0.86260000000000003,0.93279999999999996,1.0029999999999999,1.1032999999999999,1.1735,1.2538,1.3641000000000001,1.4743999999999999,1.5847,1.7051000000000001,1.8254999999999999,1.9458,2.0661999999999998,2.1865000000000001,2.3069000000000002,"Normal","Normal","ATK"]
[null,"4-Hit DMG",1.1343000000000001,1.2266999999999999,1.319,1.4509000000000001,1.5431999999999999,1.6488,1.7938000000000001,1.9389000000000001,2.0840000000000001,2.2423000000000002,2.4005999999999998,2.5589,2.7170999999999998,2.8754,3.0337000000000001,"Normal","Normal","ATK"]
[null,"Charged Attack Spinning DMG",0.50739999999999996,0.54869999999999997,0.59,0.64900000000000002,0.69030000000000002,0.73750000000000004,0.8024,0.86729999999999996,0.93220000000000003,1.0029999999999999,1.0738000000000001,1.1446000000000001,1.2154,1.2862,1.357,"Charged","Charged","ATK"]
[null,"Charged Attack Final DMG",0.90469999999999995,0.97840000000000005,1.052,1.1572,1.2307999999999999,1.3149999999999999,1.4307000000000001,1.5464,1.6621999999999999,1.7884,1.9146000000000001,2.0409000000000002,2.1671,2.2934000000000001,2.4196,"Charged","Charged","ATK"]
[null,"Collision Plunge DMG",0.74590000000000001,0.80659999999999998,0.86729999999999996,0.95399999999999996,1.0146999999999999,1.0841000000000001,1.1795,1.2748999999999999,1.3703000000000001,1.4743999999999999,1.5785,1.6826000000000001,1.7866,1.8907,1.9947999999999999,"Plunge","Plunge","ATK"]
[null,"Low Plunge DMG",1.4914000000000001,1.6128,1.7342,1.9077,2.0291000000000001,2.1678000000000002,2.3586,2.5493000000000001,2.7401,2.9481999999999999,3.1562999999999999,3.3643999999999998,3.5724999999999998,3.7806000000000002,3.9887000000000001,"Plunge","Plunge","ATK"]
[null,"High Plunge DMG",1.8629,2.0145,2.1661999999999999,2.3828,2.5344000000000002,2.7077,2.9460000000000002,3.1842000000000001,3.4224999999999999,3.6825000000000001,3.9424000000000001,4.2023000000000001,4.4622999999999999,4.7222,4.9821,"Plunge","Plunge","ATK"]
[null,"Skill HP Regen (Percentage)",0.21279999999999999,0.2288,0.2447,0.26600000000000001,0.28199999999999997,0.2979,0.31919999999999998,0.34050000000000002,0.36180000000000001,0.38300000000000001,0.40429999999999999,0.42559999999999998,0.45219999999999999,0.4788,0.50539999999999996,"HP Regen (Percentage)","HP Regen (Percentage)","DEF"]
[null,"Skill HP Regen (Flat)",103,113,124,136,149,163,177,193,209,226,244,263,282,303,324,"HP Regen (Flat)","HP Regen (Flat)","HP"]
[null,"Skill DMG",1.2,1.29,1.38,1.5,1.59,1.68,1.8,1.92,2.04,2.16,2.2799999999999998,2.4,2.5499999999999998,2.7,2.85,"Skill","Skill","DEF"]
[null,"Burst Swing 1 DMG",0.67200000000000004,0.72240000000000004,0.77280000000000004,0.84,0.89039999999999997,0.94079999999999997,1.008,1.0751999999999999,1.1424000000000001,1.2096,1.2767999999999999,1.3440000000000001,1.4279999999999999,1.512,1.5960000000000001,"Burst","Burst","ATK"]
[null,"Burst Swing 2 DMG",0.92800000000000005,0.99760000000000004,1.0671999999999999,1.1599999999999999,1.2296,1.2991999999999999,1.3919999999999999,1.4847999999999999,1.5775999999999999,1.6704000000000001,1.7632000000000001,1.8560000000000001,1.972,2.0880000000000001,2.2040000000000002,"Burst","Burst","ATK"]
[null,"Breastplate Expiration DMG",4,4,4,4,4,4,4,4,4,4,4,4,4,4,4,"Skill","Skill","ATK"]
[null,"Weapon Proc",null,null,null,null,null,null,null,null,null,null,null,null,null,null,null,"Weapon Proc","Weapon Proc","Select an Attack"]
[null,"Overload",null,null,null,null,null,null,null,null,null,null,null,null,null,null,null,"Transformative","Transformative","EM"]
[null,"Shatter",null,null,null,null,null,null,null,null,null,null,null,null,null,null,null,"Transformative","Transformative","EM"]
[null,"Electrocharged",null,null,null,null,null,null,null,null,null,null,null,null,null,null,null,"Transformative","Transformative","EM"]
[null,"Superconduct",null,null,null,null,null,null,null,null,null,null,null,null,null,null,null,"Transformative","Transformative","EM"]
[null,"Pyro Swirl",null,null,null,null,null,null,null,null,null,null,null,null,null,null,null,"Transformative","Transformative","EM"]
[null,"Cryo Swirl",null,null,null,null,null,null,null,null,null,null,null,null,null,null,null,"Transformative","Transformative","EM"]
[null,"Hydro Swirl",null,null,null,null,null,null,null,null,null,null,null,null,null,null,null,"Transformative","Transformative","EM"]
["Noelle-End","Electro Swirl",null,null,null,null,null,null,null,null,null,null,null,null,null,null,null,"Transformative","Transformative","EM"]
[null,"Qiqi",1,2,3,4,5,6,7,8,9,10,11,12,13,14,15,"Damage Type","Scaling Talent","Scaling Stat"]
["Qiqi-Start","1-Hit DMG",0.3775,0.4083,0.439,0.4829,0.51359999999999995,0.54879999999999995,0.59699999999999998,0.64529999999999998,0.69359999999999999,0.74629999999999996,0.79900000000000004,0.85170000000000001,0.90429999999999999,0.95699999999999996,1.0097,"Normal","Normal","ATK"]
[null,"2-Hit DMG",0.38869999999999999,0.4204,0.45200000000000001,0.49719999999999998,0.52880000000000005,0.56499999999999995,0.61470000000000002,0.66439999999999999,0.71419999999999995,0.76839999999999997,0.8226,0.87690000000000001,0.93110000000000004,0.98540000000000005,1.0396000000000001,"Normal","Normal","ATK"]
[null,"3-Hit DMG (Per Hit, 2 Hits)",0.2417,0.26129999999999998,0.28100000000000003,0.30909999999999999,0.32879999999999998,0.3513,0.38219999999999998,0.41310000000000002,0.44400000000000001,0.47770000000000001,0.51139999999999997,0.54510000000000003,0.57889999999999997,0.61260000000000003,0.64629999999999999,"Normal","Normal","ATK"]
[null,"4-Hit DMG (Per Hit, 2 Hits)",0.24679999999999999,0.26690000000000003,0.28699999999999998,0.31569999999999998,0.33579999999999999,0.35880000000000001,0.39029999999999998,0.4219,0.45350000000000001,0.4879,0.52229999999999999,0.55679999999999996,0.59119999999999995,0.62570000000000003,0.66010000000000002,"Normal","Normal","ATK"]
[null,"5-Hit DMG",0.63039999999999996,0.68169999999999997,0.73299999999999998,0.80630000000000002,0.85760000000000003,0.9163,0.99690000000000001,1.0774999999999999,1.1580999999999999,1.2461,1.3341000000000001,1.4219999999999999,1.51,1.5979000000000001,1.6859,"Normal","Normal","ATK"]
[null,"Charged Attack DMG (Per Hit, 2 Hits)",0.64329999999999998,0.6956,0.748,0.82279999999999998,0.87519999999999998,0.93500000000000005,1.0173000000000001,1.0995999999999999,1.1818,1.2716000000000001,1.3613999999999999,1.4511000000000001,1.5408999999999999,1.6306,1.7203999999999999,"Charged","Charged","ATK"]
[null,"Plunge DMG",0.63929999999999998,0.69140000000000001,0.74339999999999995,0.81769999999999998,0.86980000000000002,0.92930000000000001,1.0109999999999999,1.0928,1.1746000000000001,1.2638,1.353,1.4421999999999999,1.5314000000000001,1.6206,1.7098,"Plunge","Plunge","ATK"]
[null,"Low Plunge DMG",1.2784,1.3824000000000001,1.4864999999999999,1.6351,1.7392000000000001,1.8581000000000001,2.0215999999999998,2.1850999999999998,2.3485999999999998,2.5270000000000001,2.7054,2.8837999999999999,3.0621999999999998,3.2404999999999999,3.4188999999999998,"Plunge","Plunge","ATK"]
[null,"High Plunge DMG",1.5968,1.7266999999999999,1.8567,2.0424000000000002,2.1722999999999999,2.3209,2.5251000000000001,2.7292999999999998,2.9336000000000002,3.1564000000000001,3.3792,3.6019999999999999,3.8248000000000002,4.0476000000000001,4.2704000000000004,"Plunge","Plunge","ATK"]
[null,"Skill Regeneration On Hit (Percentage)",0.1056,0.1135,0.12139999999999999,0.13200000000000001,0.1399,0.14779999999999999,0.15840000000000001,0.16900000000000001,0.17949999999999999,0.19009999999999999,0.2006,0.2112,0.22439999999999999,0.23760000000000001,0.25080000000000002,"Skill","Skill","ATK","Percentage"]
[null,"Skill Regeneration On Hit (Flat)",67,74,81,89,98,107,116,126,137,148,160,172,185,199,213,"Skill","Skill","HP","Flat"]
[null,"Skill Regeneration Continuous (Percentage)",0.69599999999999995,0.74819999999999998,0.8004,0.87,0.92220000000000002,0.97440000000000004,1.044,1.1135999999999999,1.1832,1.2527999999999999,1.3224,1.3919999999999999,1.4790000000000001,1.5660000000000001,1.653,"Skill","Skill","ATK","Percentage"]
[null,"Skill Regeneration Continuous (Flat)",451,496,544,597,653,713,777,845,916,991,1070,1153,1239,1329,1423,"Skill","Skill","HP","Flat"]
[null,"Skill Initial Hit DMG",0.96,1.032,1.1040000000000001,1.2,1.272,1.3440000000000001,1.44,1.536,1.6319999999999999,1.728,1.8240000000000001,1.92,2.04,2.16,2.2799999999999998,"Skill","Skill","ATK"]
[null,"Skill Tick DMG",0.36,0.38700000000000001,0.41399999999999998,0.45,0.47699999999999998,0.504,0.54,0.57599999999999996,0.61199999999999999,0.64800000000000002,0.68400000000000005,0.72,0.76500000000000001,0.81,0.85499999999999998,"Skill","Skill","ATK"]
[null,"Burst Healing (Percentage)",0.9,0.96750000000000003,1.0349999999999999,1.125,1.1924999999999999,1.26,1.35,1.44,1.53,1.62,1.71,1.8,1.9125000000000001,2.0249999999999999,2.1375000000000002,"Burst","Burst","ATK","Percentage"]
[null,"Burst Healing (Flat)",577,635,698,765,837,914,996,1083,1174,1270,1371,1477,1588,1703,1824,"Burst","Burst","HP","Flat"]
[null,"Burst DMG",2.8479999999999999,3.0615999999999999,3.2751999999999999,3.56,3.7736000000000001,3.9872000000000001,4.2720000000000002,4.5568,4.8415999999999997,5.1264000000000003,5.4112,5.6959999999999997,6.0519999999999996,6.4080000000000004,6.7640000000000002,"Burst","Burst","ATK"]
[null,"Weapon Proc",null,null,null,null,null,null,null,null,null,null,null,null,null,null,null,"Weapon Proc","Weapon Proc","Select an Attack"]
[null,"Overload",null,null,null,null,null,null,null,null,null,null,null,null,null,null,null,"Transformative","Transformative","EM"]
[null,"Shatter",null,null,null,null,null,null,null,null,null,null,null,null,null,null,null,"Transformative","Transformative","EM"]
[null,"Electrocharged",null,null,null,null,null,null,null,null,null,null,null,null,null,null,null,"Transformative","Transformative","EM"]
[null,"Superconduct",null,null,null,null,null,null,null,null,null,null,null,null,null,null,null,"Transformative","Transformative","EM"]
[null,"Pyro Swirl",null,null,null,null,null,null,null,null,null,null,null,null,null,null,null,"Transformative","Transformative","EM"]
[null,"Cryo Swirl",null,null,null,null,null,null,null,null,null,null,null,null,null,null,null,"Transformative","Transformative","EM"]
[null,"Hydro Swirl",null,null,null,null,null,null,null,null,null,null,null,null,null,null,null,"Transformative","Transformative","EM"]
["Qiqi-End","Electro Swirl",null,null,null,null,null,null,null,null,null,null,null,null,null,null,null,"Transformative","Transformative","EM"]
[null,"Razor",1,2,3,4,5,6,7,8,9,10,11,12,13,14,15,"Damage Type","Scaling Talent","Scaling Stat"]
["Razor-Start","1-Hit DMG",0.95920000000000005,1.0246,1.0900000000000001,1.1772,1.2425999999999999,1.3189,1.417,1.5150999999999999,1.6132,1.7113,1.8093999999999999,1.9075,2.0055999999999998,2.1036999999999999,2.2018,"Normal","Normal","ATK"]
[null,"2-Hit DMG",0.82630000000000003,0.88270000000000004,0.93899999999999995,1.0141,1.0705,1.1362000000000001,1.2206999999999999,1.3051999999999999,1.3896999999999999,1.4742,1.5587,1.6433,1.7278,1.8123,1.8968,"Normal","Normal","ATK"]
[null,"3-Hit DMG",1.0330999999999999,1.1035999999999999,1.1739999999999999,1.2679,1.3384,1.4205000000000001,1.5262,1.6318999999999999,1.7375,1.8431999999999999,1.9488000000000001,2.0545,2.1602000000000001,2.2658,2.3715000000000002,"Normal","Normal","ATK"]
[null,"4-Hit DMG",1.3605,1.4532,1.546,1.6697,1.7624,1.8707,2.0097999999999998,2.1488999999999998,2.2881,2.4272,2.5663999999999998,2.7054999999999998,2.8445999999999998,2.9838,3.1229,"Normal","Normal","ATK"]
[null,"Charged Attack Spinning DMG",0.62539999999999996,0.67630000000000001,0.72719999999999996,0.79990000000000006,0.8508,0.90900000000000003,0.98899999999999999,1.069,1.149,1.2362,1.3234999999999999,1.4108000000000001,1.498,1.5852999999999999,1.6726000000000001,"Charged","Charged","ATK"]
[null,"Charged Attack Final DMG",1.1309,1.2230000000000001,1.3149999999999999,1.4464999999999999,1.5386,1.6437999999999999,1.7884,1.9331,2.0777000000000001,2.2355,2.3933,2.5510999999999999,2.7088999999999999,2.8666999999999998,3.0245000000000002,"Charged","Charged","ATK"]
[null,"Collision Plunge DMG",0.82050000000000001,0.88719999999999999,0.95399999999999996,1.0494000000000001,1.1162000000000001,1.1924999999999999,1.2975000000000001,1.4024000000000001,1.5074000000000001,1.6218999999999999,1.7363,1.8508,1.9653,2.0798000000000001,2.1943000000000001,"Plunge","Plunge","ATK"]
[null,"Low Plunge DMG",1.6406000000000001,1.7741,1.9077,2.0983999999999998,2.2320000000000002,2.3845999999999998,2.5943999999999998,2.8043,3.0141,3.2429999999999999,3.4719000000000002,3.7008999999999999,3.9298000000000002,4.1586999999999996,4.3875999999999999,"Plunge","Plunge","ATK"]
[null,"High Plunge DMG",2.0491999999999999,2.2160000000000002,2.3828,2.621,2.7877999999999998,2.9784999999999999,3.2406000000000001,3.5026999999999999,3.7648000000000001,4.0507,4.3365999999999998,4.6226000000000003,4.9085000000000001,5.1943999999999999,5.4804000000000004,"Plunge","Plunge","ATK"]
[null,"Press Skill DMG",1.992,2.1414,2.2907999999999999,2.4900000000000002,2.6394000000000002,2.7888000000000002,2.988,3.1871999999999998,3.3864000000000001,3.5855999999999999,3.7848000000000002,3.984,4.2329999999999997,4.4820000000000002,4.7309999999999999,"Skill","Skill","ATK"]
[null,"Hold Skill DMG",2.952,3.1734,3.3948,3.69,3.9114,4.1327999999999996,4.4279999999999999,4.7232000000000003,5.0183999999999997,5.3136000000000001,5.6087999999999996,5.9039999999999999,6.2729999999999997,6.6420000000000003,7.0110000000000001,"Skill","Skill","ATK"]
[null,"Elemental Burst DMG",1.6,1.72,1.84,2,2.12,2.2400000000000002,2.4,2.56,2.72,2.88,3.04,3.2,3.4,3.6,3.8,"Burst","Burst","ATK"]
[null,"Soul Companion DMG",0.24,0.25800000000000001,0.27600000000000002,0.3,0.318,0.33600000000000002,0.36,0.38400000000000001,0.40799999999999997,0.432,0.45600000000000002,0.48,0.51,0.54,0.56999999999999995,"Burst Echo","Burst Echo","ATK"]
[null,"Weapon Proc",null,null,null,null,null,null,null,null,null,null,null,null,null,null,null,"Weapon Proc","Weapon Proc","Select an Attack"]
[null,"Overload",null,null,null,null,null,null,null,null,null,null,null,null,null,null,null,"Transformative","Transformative","EM"]
[null,"Shatter",null,null,null,null,null,null,null,null,null,null,null,null,null,null,null,"Transformative","Transformative","EM"]
[null,"Electrocharged",null,null,null,null,null,null,null,null,null,null,null,null,null,null,null,"Transformative","Transformative","EM"]
[null,"Superconduct",null,null,null,null,null,null,null,null,null,null,null,null,null,null,null,"Transformative","Transformative","EM"]
[null,"Pyro Swirl",null,null,null,null,null,null,null,null,null,null,null,null,null,null,null,"Transformative","Transformative","EM"]
[null,"Cryo Swirl",null,null,null,null,null,null,null,null,null,null,null,null,null,null,null,"Transformative","Transformative","EM"]
[null,"Hydro Swirl",null,null,null,null,null,null,null,null,null,null,null,null,null,null,null,"Transformative","Transformative","EM"]
["Razor-End","Electro Swirl",null,null,null,null,null,null,null,null,null,null,null,null,null,null,null,"Transformative","Transformative","EM"]
[null,"Raiden",1,2,3,4,5,6,7,8,9,10,11,12,13,14,15,"Damage Type","Scaling Talent","Scaling Stat"]
["Raiden-Start","1-Hit DMG",0.39650000000000002,0.42870000000000003,0.46100000000000002,0.5071,0.53939999999999999,0.57630000000000003,0.627,0.67769999999999997,0.72840000000000005,0.78369999999999995,0.84709999999999996,0.92159999999999997,0.99619999999999997,1.0707,1.1519999999999999,"Normal","Normal","ATK"]
[null,"2-Hit DMG",0.39729999999999999,0.42970000000000003,0.46200000000000002,0.50819999999999999,0.54049999999999998,0.57750000000000001,0.62829999999999997,0.67910000000000004,0.73,0.78539999999999999,0.84889999999999999,0.92359999999999998,0.99829999999999997,1.073,1.1545000000000001,"Normal","Normal","ATK"]
[null,"3-Hit DMG",0.49880000000000002,0.53939999999999999,0.57999999999999996,0.63800000000000001,0.67859999999999998,0.72499999999999998,0.78879999999999995,0.85260000000000002,0.91639999999999999,0.98599999999999999,1.0658000000000001,1.1595,1.2533000000000001,1.3471,1.4494,"Normal","Normal","ATK"]
[null,"4-Hit DMG (Per Hit, 2 Hits)",0.2898,0.31340000000000001,0.33700000000000002,0.37069999999999997,0.39429999999999998,0.42130000000000001,0.45829999999999999,0.49540000000000001,0.53249999999999997,0.57289999999999996,0.61919999999999997,0.67369999999999997,0.72819999999999996,0.78269999999999995,0.84219999999999995,"Normal","Normal","ATK"]
[null,"5-Hit DMG",0.65449999999999997,0.7077,0.76100000000000001,0.83709999999999996,0.89039999999999997,0.95130000000000003,1.0349999999999999,1.1187,1.2023999999999999,1.2937000000000001,1.3983000000000001,1.5214000000000001,1.6444000000000001,1.7675000000000001,1.9016999999999999,"Normal","Normal","ATK"]
[null,"Charged Attack DMG",0.99590000000000001,1.0769,1.1579999999999999,1.2738,1.3549,1.4475,1.5749,1.7022999999999999,1.8295999999999999,1.9685999999999999,2.1278000000000001,2.3151000000000002,2.5023,2.6896,2.8938000000000001,"Charged","Charged","ATK"]
[null,"Collision Plunge DMG",0.63929999999999998,0.69140000000000001,0.74339999999999995,0.81769999999999998,0.86980000000000002,0.92930000000000001,1.0109999999999999,1.0928,1.1746000000000001,1.2638,1.353,1.4421999999999999,1.5314000000000001,1.6206,1.7098,"Plunge","Plunge","ATK"]
[null,"Low Plunge DMG",1.2784,1.3824000000000001,1.4864999999999999,1.6351,1.7392000000000001,1.8581000000000001,2.0215999999999998,2.1850999999999998,2.3485999999999998,2.5270000000000001,2.7054,2.8837999999999999,3.0621999999999998,3.2404999999999999,3.4188999999999998,"Plunge","Plunge","ATK"]
[null,"High Plunge DMG",1.5968,1.7266999999999999,1.8567,2.0424000000000002,2.1722999999999999,2.3209,2.5251000000000001,2.7292999999999998,2.9336000000000002,3.1564000000000001,3.3792,3.6019999999999999,3.8248000000000002,4.0476000000000001,4.2704000000000004,"Plunge","Plunge","ATK"]
[null,"Skill DMG",1.1719999999999999,1.2599,1.3478000000000001,1.4650000000000001,1.5528999999999999,1.6408,1.758,1.8752,1.9923999999999999,2.1095999999999999,2.2267999999999999,2.3439999999999999,2.4904999999999999,2.637,2.7835000000000001,"Skill","Skill","ATK"]
[null,"Coordinated ATK DMG",0.42,0.45150000000000001,0.48299999999999998,0.52500000000000002,0.55649999999999999,0.58799999999999997,0.63,0.67200000000000004,0.71399999999999997,0.75600000000000001,0.79800000000000004,0.84,0.89249999999999996,0.94499999999999995,0.99750000000000005,"Skill","Skill","ATK"]
[null,"Musou no Hitotachi Base DMG",4.008,4.3086000000000002,4.6092000000000004,5.01,5.3106,5.6112000000000002,6.0119999999999996,6.4127999999999998,6.8136000000000001,7.2144000000000004,7.6151999999999997,8.016,8.5169999999999995,9.0180000000000007,9.5190000000000001,"Burst","Burst","ATK"]
[null,"Initial Hit Resolve Bonus Per Stack",3.8899999999999997E-2,4.1799999999999997E-2,4.4699999999999997E-2,4.8599999999999997E-2,5.1499999999999997E-2,5.4399999999999997E-2,5.8299999999999998E-2,6.2199999999999998E-2,6.6100000000000006E-2,7.0000000000000007E-2,7.3899999999999993E-2,7.7799999999999994E-2,8.2600000000000007E-2,8.7499999999999994E-2,9.2299999999999993E-2,"Burst","Burst","ATK"]
[null,"Normal ATK Resolve Bonus Per Stack",7.3000000000000001E-3,7.7999999999999996E-3,8.3999999999999995E-3,9.1000000000000004E-3,9.5999999999999992E-3,1.0200000000000001E-2,1.09E-2,1.1599999999999999E-2,1.23E-2,1.3100000000000001E-2,1.38E-2,1.4500000000000001E-2,1.54E-2,1.6299999999999999E-2,1.72E-2,"Burst","Burst","ATK"]
[null,"Musou Isshin 1-Hit DMG",0.44740000000000002,0.47789999999999999,0.50839999999999996,0.54910000000000003,0.5796,0.61509999999999998,0.66090000000000004,0.70660000000000001,0.75239999999999996,0.79820000000000002,0.84389999999999998,0.88970000000000005,0.93540000000000001,0.98119999999999996,1.0268999999999999,"Burst","Burst","ATK"]
[null,"Musou Isshin 2-Hit DMG",0.43959999999999999,0.46949999999999997,0.4995,0.53949999999999998,0.56940000000000002,0.60440000000000005,0.64939999999999998,0.69430000000000003,0.73929999999999996,0.78420000000000001,0.82920000000000005,0.87409999999999999,0.91910000000000003,0.96399999999999997,1.0089999999999999,"Burst","Burst","ATK"]
[null,"Musou Isshin 3-Hit DMG",0.53820000000000001,0.57489999999999997,0.61160000000000003,0.66049999999999998,0.69720000000000004,0.74,0.79510000000000003,0.85009999999999997,0.9052,0.96020000000000005,1.0153000000000001,1.0703,1.1254,1.1803999999999999,1.2355,"Burst","Burst","ATK"]
[null,"Musou Isshin 4-Hit Hit 1 DMG",0.30890000000000001,0.32990000000000003,0.35099999999999998,0.37909999999999999,0.40010000000000001,0.42470000000000002,0.45629999999999998,0.4879,0.51949999999999996,0.55110000000000003,0.5827,0.61429999999999996,0.64580000000000004,0.6774,0.70899999999999996,"Burst","Burst","ATK"]
[null,"Musou Isshin 4-Hit Hit 2 DMG",0.30980000000000002,0.33090000000000003,0.35199999999999998,0.38019999999999998,0.40129999999999999,0.4259,0.45760000000000001,0.48930000000000001,0.52100000000000002,0.55259999999999998,0.58430000000000004,0.61599999999999999,0.64770000000000005,0.6794,0.71099999999999997,"Burst","Burst","ATK"]
[null,"Musou Isshin 5-Hit DMG",0.73939999999999995,0.78990000000000005,0.84030000000000005,0.90749999999999997,0.95789999999999997,1.0166999999999999,1.0924,1.1679999999999999,1.2436,1.3191999999999999,1.3948,1.4704999999999999,1.5461,1.6216999999999999,1.6973,"Burst","Burst","ATK"]
[null,"Musou Isshin Charged Attack Hit 1 DMG",0.61599999999999999,0.65800000000000003,0.7,0.75600000000000001,0.79800000000000004,0.84699999999999998,0.91,0.97299999999999998,1.036,1.099,1.1619999999999999,1.2250000000000001,1.288,1.351,1.4139999999999999,"Burst","Burst","ATK"]
[null,"Musou Isshin Charged Attack Hit 2 DMG",0.74360000000000004,0.79430000000000001,0.84499999999999997,0.91259999999999997,0.96330000000000005,1.0225,1.0985,1.1746000000000001,1.2505999999999999,1.3267,1.4027000000000001,1.4787999999999999,1.5548,1.6309,1.7069000000000001,"Burst","Burst","ATK"]
[null,"Musou Isshin Collision Plunge DMG",0.63929999999999998,0.69140000000000001,0.74339999999999995,0.81769999999999998,0.86980000000000002,0.92930000000000001,1.0109999999999999,1.0928,1.1746000000000001,1.2638,1.353,1.4421999999999999,1.5314000000000001,1.6206,1.7098,"Burst","Burst","ATK"]
[null,"Musou Isshin Low Plunge DMG",1.2784,1.3824000000000001,1.4864999999999999,1.6351,1.7392000000000001,1.8581000000000001,2.0215999999999998,2.1850999999999998,2.3485999999999998,2.5270000000000001,2.7054,2.8837999999999999,3.0621999999999998,3.2404999999999999,3.4188999999999998,"Burst","Burst","ATK"]
[null,"Musou Isshin High Plunge DMG",1.5968,1.7266999999999999,1.8567,2.0424000000000002,2.1722999999999999,2.3209,2.5251000000000001,2.7292999999999998,2.9336000000000002,3.1564000000000001,3.3792,3.6019999999999999,3.8248000000000002,4.0476000000000001,4.2704000000000004,"Burst","Burst","ATK"]
[null,"Weapon Proc",null,null,null,null,null,null,null,null,null,null,null,null,null,null,null,"Weapon Proc","Weapon Proc","Select an Attack"]
[null,"Overload",null,null,null,null,null,null,null,null,null,null,null,null,null,null,null,"Transformative","Transformative","EM"]
[null,"Shatter",null,null,null,null,null,null,null,null,null,null,null,null,null,null,null,"Transformative","Transformative","EM"]
[null,"Electrocharged",null,null,null,null,null,null,null,null,null,null,null,null,null,null,null,"Transformative","Transformative","EM"]
[null,"Superconduct",null,null,null,null,null,null,null,null,null,null,null,null,null,null,null,"Transformative","Transformative","EM"]
[null,"Pyro Swirl",null,null,null,null,null,null,null,null,null,null,null,null,null,null,null,"Transformative","Transformative","EM"]
[null,"Cryo Swirl",null,null,null,null,null,null,null,null,null,null,null,null,null,null,null,"Transformative","Transformative","EM"]
[null,"Hydro Swirl",null,null,null,null,null,null,null,null,null,null,null,null,null,null,null,"Transformative","Transformative","EM"]
["Raiden-End","Electro Swirl",null,null,null,null,null,null,null,null,null,null,null,null,null,null,null,"Transformative","Transformative","EM"]
[null,"Rosaria",1,2,3,4,5,6,7,8,9,10,11,12,13,14,15,"Damage Type","Scaling Talent","Scaling Stat"]
["Rosaria-Start","1-Hit DMG",0.52459999999999996,0.56730000000000003,0.61,0.67100000000000004,0.7137,0.76249999999999996,0.8296,0.89670000000000005,0.96379999999999999,1.0369999999999999,1.1102000000000001,1.1834,1.2565999999999999,1.3298000000000001,1.403,"Normal","Normal","ATK"]
[null,"2-Hit DMG",0.51600000000000001,0.55800000000000005,0.6,0.66,0.70199999999999996,0.75,0.81599999999999995,0.88200000000000001,0.94799999999999995,1.02,1.0920000000000001,1.1639999999999999,1.236,1.3080000000000001,1.38,"Normal","Normal","ATK"]
[null,"3-Hit DMG (Per Hit, 2 Hits)",0.31819999999999998,0.34410000000000002,0.37,0.40699999999999997,0.43290000000000001,0.46250000000000002,0.50319999999999998,0.54390000000000005,0.58460000000000001,0.629,0.6734,0.71779999999999999,0.76219999999999999,0.80659999999999998,0.85099999999999998,"Normal","Normal","ATK"]
[null,"4-Hit DMG",0.6966,0.75329999999999997,0.81,0.89100000000000001,0.94769999999999999,1.0125,1.1015999999999999,1.1907000000000001,1.2798,1.377,1.4742,1.5713999999999999,1.6686000000000001,1.7658,1.863,"Normal","Normal","ATK"]
[null,"5-Hit Hit 1 DMG",0.41620000000000001,0.4501,0.48399999999999999,0.53239999999999998,0.56630000000000003,0.60499999999999998,0.65820000000000001,0.71150000000000002,0.76470000000000005,0.82279999999999998,0.88090000000000002,0.93899999999999995,0.997,1.0550999999999999,1.1132,"Normal","Normal","ATK"]
[null,"5-Hit Hit 2 DMG",0.43,0.46500000000000002,0.5,0.55000000000000004,0.58499999999999996,0.625,0.68,0.73499999999999999,0.79,0.85,0.91,0.97,1.03,1.0900000000000001,1.1499999999999999,"Normal","Normal","ATK"]
[null,"Charged Attack DMG",1.3673999999999999,1.4786999999999999,1.59,1.7490000000000001,1.8603000000000001,1.9875,2.1623999999999999,2.3372999999999999,2.5122,2.7029999999999998,2.8938000000000001,3.0846,3.2753999999999999,3.4662000000000002,3.657,"Charged","Charged","ATK"]
[null,"Collision Plunge DMG",0.63929999999999998,0.69140000000000001,0.74339999999999995,0.81769999999999998,0.86980000000000002,0.92930000000000001,1.0109999999999999,1.0928,1.1746000000000001,1.2638,1.353,1.4421999999999999,1.5314000000000001,1.6206,1.7098,"Plunge","Plunge","ATK"]
[null,"Low Plunge DMG",1.2784,1.3824000000000001,1.4864999999999999,1.6351,1.7392000000000001,1.8581000000000001,2.0215999999999998,2.1850999999999998,2.3485999999999998,2.5270000000000001,2.7054,2.8837999999999999,3.0621999999999998,3.2404999999999999,3.4188999999999998,"Plunge","Plunge","ATK"]
[null,"High Plunge DMG",1.5968,1.7266999999999999,1.8567,2.0424000000000002,2.1722999999999999,2.3209,2.5251000000000001,2.7292999999999998,2.9336000000000002,3.1564000000000001,3.3792,3.6019999999999999,3.8248000000000002,4.0476000000000001,4.2704000000000004,"Plunge","Plunge","ATK"]
[null,"Skill Hit 1 DMG",0.58399999999999996,0.62780000000000002,0.67159999999999997,0.73,0.77380000000000004,0.81759999999999999,0.876,0.93440000000000001,0.99280000000000002,1.0511999999999999,1.1095999999999999,1.1679999999999999,1.2410000000000001,1.3140000000000001,1.387,"Skill","Skill","ATK"]
[null,"Skill Hit 2 DMG",1.36,1.462,1.5640000000000001,1.7,1.802,1.9039999999999999,2.04,2.1760000000000002,2.3119999999999998,2.448,2.5840000000000001,2.72,2.89,3.06,3.23,"Skill","Skill","ATK"]
[null,"Burst Hit 1 DMG",1.04,1.1180000000000001,1.196,1.3,1.3779999999999999,1.456,1.56,1.6639999999999999,1.768,1.8720000000000001,1.976,2.08,2.21,2.34,2.4700000000000002,"Burst","Burst","ATK"]
[null,"Burst Hit 2 DMG",1.52,1.6339999999999999,1.748,1.9,2.0139999999999998,2.1280000000000001,2.2799999999999998,2.4319999999999999,2.5840000000000001,2.7360000000000002,2.8879999999999999,3.04,3.23,3.42,3.61,"Burst","Burst","ATK"]
[null,"Ice Lance DoT",1.32,1.419,1.518,1.65,1.7490000000000001,1.8480000000000001,1.98,2.1120000000000001,2.2440000000000002,2.3759999999999999,2.508,2.64,2.8050000000000002,2.97,3.1349999999999998,"Burst","Burst","ATK"]
[null,"Weapon Proc",null,null,null,null,null,null,null,null,null,null,null,null,null,null,null,"Weapon Proc","Weapon Proc","Select an Attack"]
[null,"Overload",null,null,null,null,null,null,null,null,null,null,null,null,null,null,null,"Transformative","Transformative","EM"]
[null,"Shatter",null,null,null,null,null,null,null,null,null,null,null,null,null,null,null,"Transformative","Transformative","EM"]
[null,"Electrocharged",null,null,null,null,null,null,null,null,null,null,null,null,null,null,null,"Transformative","Transformative","EM"]
[null,"Superconduct",null,null,null,null,null,null,null,null,null,null,null,null,null,null,null,"Transformative","Transformative","EM"]
[null,"Pyro Swirl",null,null,null,null,null,null,null,null,null,null,null,null,null,null,null,"Transformative","Transformative","EM"]
[null,"Cryo Swirl",null,null,null,null,null,null,null,null,null,null,null,null,null,null,null,"Transformative","Transformative","EM"]
[null,"Hydro Swirl",null,null,null,null,null,null,null,null,null,null,null,null,null,null,null,"Transformative","Transformative","EM"]
["Rosaria-End","Electro Swirl",null,null,null,null,null,null,null,null,null,null,null,null,null,null,null,"Transformative","Transformative","EM"]
[null,"Sara",1,2,3,4,5,6,7,8,9,10,11,12,13,14,15,"Damage Type","Scaling Talent","Scaling Stat"]
["Sara-Start","1-Hit DMG",0.36890000000000001,0.39900000000000002,0.42899999999999999,0.47189999999999999,0.50190000000000001,0.5363,0.58340000000000003,0.63060000000000005,0.67779999999999996,0.72929999999999995,0.78080000000000005,0.83230000000000004,0.88370000000000004,0.93520000000000003,0.98670000000000002,"Normal","Normal","ATK"]
[null,"2-Hit DMG",0.38700000000000001,0.41849999999999998,0.45,0.495,0.52649999999999997,0.5625,0.61199999999999999,0.66149999999999998,0.71099999999999997,0.76500000000000001,0.81899999999999995,0.873,0.92700000000000005,0.98099999999999998,1.0349999999999999,"Normal","Normal","ATK"]
[null,"3-Hit DMG",0.48499999999999999,0.52449999999999997,0.56399999999999995,0.62039999999999995,0.65990000000000004,0.70499999999999996,0.76700000000000002,0.82909999999999995,0.8911,0.95879999999999999,1.0265,1.0942000000000001,1.1617999999999999,1.2295,1.2971999999999999,"Normal","Normal","ATK"]
[null,"4-Hit DMG",0.504,0.54500000000000004,0.58599999999999997,0.64459999999999995,0.68559999999999999,0.73250000000000004,0.79700000000000004,0.86140000000000005,0.92589999999999995,0.99619999999999997,1.0665,1.1368,1.2072000000000001,1.2775000000000001,1.3478000000000001,"Normal","Normal","ATK"]
[null,"5-Hit DMG",0.58050000000000002,0.62780000000000002,0.67500000000000004,0.74250000000000005,0.78969999999999996,0.84379999999999999,0.91800000000000004,0.99229999999999996,1.0665,1.1475,1.2284999999999999,1.3095000000000001,1.3905000000000001,1.4715,1.5525,"Normal","Normal","ATK"]
[null,"Aimed Shot",0.43859999999999999,0.4743,0.51,0.56100000000000005,0.59670000000000001,0.63749999999999996,0.69359999999999999,0.74970000000000003,0.80579999999999996,0.86699999999999999,0.92820000000000003,0.98939999999999995,1.0506,1.1117999999999999,1.173,"Charged","Charged","ATK"]
[null,"Fully-Charged Aimed Shot",1.24,1.333,1.4259999999999999,1.55,1.643,1.736,1.86,1.984,2.1080000000000001,2.2320000000000002,2.3559999999999999,2.48,2.6349999999999998,2.79,2.9449999999999998,"Charged","Charged","ATK"]
[null,"Collision Plunge DMG",0.56830000000000003,0.61450000000000005,0.66080000000000005,0.72689999999999999,0.77310000000000001,0.82599999999999996,0.89870000000000005,0.97140000000000004,1.0441,1.1234,1.2027000000000001,1.282,1.3612,1.4404999999999999,1.5198,"Plunge","Plunge","ATK"]
[null,"Low Plunge DMG",1.1363000000000001,1.2287999999999999,1.3212999999999999,1.4535,1.5459000000000001,1.6516999999999999,1.7969999999999999,1.9422999999999999,2.0876999999999999,2.2462,2.4047999999999998,2.5634000000000001,2.7219000000000002,2.8805000000000001,3.0390000000000001,"Plunge","Plunge","ATK"]
[null,"High Plunge DMG",1.4193,1.5348999999999999,1.6504000000000001,1.8153999999999999,1.931,2.0630000000000002,2.2444999999999999,2.4260999999999999,2.6076000000000001,2.8056999999999999,3.0036999999999998,3.2018,3.3997999999999999,3.5979000000000001,3.7959000000000001,"Plunge","Plunge","ATK"]
[null,"Tengu Juurai: Ambush DMG",1.2576000000000001,1.3519000000000001,1.4461999999999999,1.5720000000000001,1.6662999999999999,1.7605999999999999,1.8864000000000001,2.0122,2.1379000000000001,2.2637,2.3894000000000002,2.5152000000000001,2.6724000000000001,2.8296000000000001,2.9868000000000001,"Skill","Skill","ATK"]
[null,"Tengu Juurai: Titanbreaker DMG",4.0960000000000001,4.4032,4.7103999999999999,5.12,5.4272,5.7343999999999999,6.1440000000000001,6.5536000000000003,6.9631999999999996,7.3727999999999998,7.7824,8.1920000000000002,8.7040000000000006,9.2159999999999993,9.7279999999999998,"Burst","Burst","ATK"]
[null,"Tengu Juurai: Stormcluster DMG",0.3412,0.36680000000000001,0.39240000000000003,0.42649999999999999,0.4521,0.47770000000000001,0.51180000000000003,0.54590000000000005,0.57999999999999996,0.61419999999999997,0.64829999999999999,0.68240000000000001,0.72509999999999997,0.76770000000000005,0.81040000000000001,"Burst","Burst","ATK"]
[null,"Dark Wings (C2)",{"$f":"30%*C819","v":0.37728},0.40557000000000004,0.43385999999999997,0.47160000000000002,0.49988999999999995,0.52817999999999998,0.56591999999999998,0.60365999999999997,0.64137,0.67910999999999999,0.71682000000000001,0.75456000000000001,0.80171999999999999,0.84887999999999997,0.89604000000000006,"Skill","Skill","ATK"]
[null,"Weapon Proc",null,null,null,null,null,null,null,null,null,null,null,null,null,null,null,"Weapon Proc","Weapon Proc","Select an Attack"]
[null,"Overload",null,null,null,null,null,null,null,null,null,null,null,null,null,null,null,"Transformative","Transformative","EM"]
[null,"Shatter",null,null,null,null,null,null,null,null,null,null,null,null,null,null,null,"Transformative","Transformative","EM"]
[null,"Electrocharged",null,null,null,null,null,null,null,null,null,null,null,null,null,null,null,"Transformative","Transformative","EM"]
[null,"Superconduct",null,null,null,null,null,null,null,null,null,null,null,null,null,null,null,"Transformative","Transformative","EM"]
[null,"Pyro Swirl",null,null,null,null,null,null,null,null,null,null,null,null,null,null,null,"Transformative","Transformative","EM"]
[null,"Cryo Swirl",null,null,null,null,null,null,null,null,null,null,null,null,null,null,null,"Transformative","Transformative","EM"]
[null,"Hydro Swirl",null,null,null,null,null,null,null,null,null,null,null,null,null,null,null,"Transformative","Transformative","EM"]
["Sara-End","Electro Swirl",null,null,null,null,null,null,null,null,null,null,null,null,null,null,null,"Transformative","Transformative","EM"]
[null,"Sayu",1,2,3,4,5,6,7,8,9,10,11,12,13,14,15,"Damage Type","Scaling Talent","Scaling Stat"]
["Sayu-Start","1-Hit DMG",0.72240000000000004,0.78120000000000001,0.84,0.92400000000000004,0.98280000000000001,1.05,1.1424000000000001,1.2347999999999999,1.3271999999999999,1.4279999999999999,1.5435000000000001,1.6793,1.8151999999999999,1.9510000000000001,2.0992000000000002,"Normal","Normal","ATK"]
[null,"2-Hit DMG",0.71379999999999999,0.77190000000000003,0.83,0.91300000000000003,0.97109999999999996,1.0375000000000001,1.1288,1.2201,1.3113999999999999,1.411,1.5250999999999999,1.6593,1.7935000000000001,1.9278,2.0741999999999998,"Normal","Normal","ATK"]
[null,"3-Hit DMG (Per Hit, 2 Hits)",0.43430000000000002,0.46970000000000001,0.505,0.55549999999999999,0.59089999999999998,0.63129999999999997,0.68679999999999997,0.74229999999999996,0.79790000000000005,0.85850000000000004,0.92789999999999995,1.0096000000000001,1.0912999999999999,1.1729000000000001,1.262,"Normal","Normal","ATK"]
[null,"4-Hit DMG",0.98129999999999995,1.0610999999999999,1.141,1.2551000000000001,1.335,1.4262999999999999,1.5518000000000001,1.6773,1.8028,1.9397,2.0966,2.2810999999999999,2.4655999999999998,2.6501000000000001,2.8513999999999999,"Normal","Normal","ATK"]
[null,"Charged Attack Spinning DMG",0.62549999999999994,0.6764,0.72729999999999995,0.8,0.85089999999999999,0.90910000000000002,0.98909999999999998,1.0690999999999999,1.1491,1.2363999999999999,1.3364,1.454,1.5716000000000001,1.6892,1.8174999999999999,"Charged","Charged","ATK"]
[null,"Charged Attack Final DMG",1.1309,1.2230000000000001,1.3149999999999999,1.4464999999999999,1.5386,1.6437999999999999,1.7884,1.9331,2.0777000000000001,2.2355,2.4163000000000001,2.6288999999999998,2.8416000000000001,3.0541999999999998,3.2862,"Charged","Charged","ATK"]
[null,"Collision Plunge DMG",0.74590000000000001,0.80659999999999998,0.86729999999999996,0.95399999999999996,1.0146999999999999,1.0841000000000001,1.1795,1.2748999999999999,1.3703000000000001,1.4743999999999999,1.5785,1.6826000000000001,1.7866,1.8907,1.9947999999999999,"Plunge","Plunge","ATK"]
[null,"Low Plunge DMG",1.4914000000000001,1.6128,1.7342,1.9077,2.0291000000000001,2.1678000000000002,2.3586,2.5493000000000001,2.7401,2.9481999999999999,3.1562999999999999,3.3643999999999998,3.5724999999999998,3.7806000000000002,3.9887000000000001,"Plunge","Plunge","ATK"]
[null,"High Plunge DMG",1.8629,2.0145,2.1661999999999999,2.3828,2.5344000000000002,2.7077,2.9460000000000002,3.1842000000000001,3.4224999999999999,3.6825000000000001,3.9424000000000001,4.2023000000000001,4.4622999999999999,4.7222,4.9821,"Plunge","Plunge","ATK"]
[null,"Fuufuu Windwheel DMG",0.36,0.38700000000000001,0.41399999999999998,0.45,0.47699999999999998,0.504,0.54,0.57599999999999996,0.61199999999999999,0.64800000000000002,0.68400000000000005,0.72,0.76500000000000001,0.81,0.85499999999999998,"Skill","Skill","ATK"]
[null,"Fuufuu Whirlwind Kick Press DMG",1.5840000000000001,1.7028000000000001,1.8216000000000001,1.98,2.0988000000000002,2.2176,2.3759999999999999,2.5344000000000002,2.6928000000000001,2.8512,3.0095999999999998,3.1680000000000001,3.3660000000000001,3.5640000000000001,3.762,"Skill","Skill","ATK"]
[null,"Fuufuu Whirlwind Kick Hold DMG",2.1760000000000002,2.3391999999999999,2.5024000000000002,2.72,2.8832,3.0464000000000002,3.2639999999999998,3.4815999999999998,3.6991999999999998,3.9167999999999998,4.1344000000000003,4.3520000000000003,4.6239999999999997,4.8959999999999999,5.1680000000000001,"Skill","Skill","ATK"]
[null,"Fuufuu Whirlwind Roll Elemental DMG",0.16800000000000001,0.18060000000000001,0.19320000000000001,0.21,0.22259999999999999,0.23519999999999999,0.252,0.26879999999999998,0.28560000000000002,0.3024,0.31919999999999998,0.33600000000000002,0.35699999999999998,0.378,0.39900000000000002,"Skill Echo","Skill","ATK"]
[null,"Fuufuu Whirlwind Kick Elemental DMG",0.76160000000000005,0.81869999999999998,0.87580000000000002,0.95199999999999996,1.0091000000000001,1.0662,1.1424000000000001,1.2185999999999999,1.2947,1.3709,1.4470000000000001,1.5232000000000001,1.6184000000000001,1.7136,1.8088,"Skill Echo","Skill","ATK"]
[null,"Burst Activation Healing (Percentage)",0.92159999999999997,0.99070000000000003,1.0598000000000001,1.1519999999999999,1.2211000000000001,1.2902,1.3824000000000001,1.4745999999999999,1.5667,1.6589,1.7509999999999999,1.8431999999999999,1.9583999999999999,2.0735999999999999,2.1888000000000001,"Burst","Burst","ATK","Percentage"]
[null,"Burst Activation Healing (Flat)",577,635,698,765,837,914,996,1083,1174,1270,1371,1477,1588,1703,1824,"Burst","Burst","HP","Flat"]
[null,"Burst Tick Healing (Percentage)",0.79869999999999997,0.85860000000000003,0.91849999999999998,0.99839999999999995,1.0583,1.1182000000000001,1.1980999999999999,1.278,1.3577999999999999,1.4377,1.5176000000000001,1.5973999999999999,1.6973,1.7970999999999999,1.897,"Burst","Burst","ATK","Percentage"]
[null,"Burst Tick Healing (Flat)",500,550,605,663,726,792,863,938,1017,1101,1188,1280,1376,1476,1580,"Burst","Burst","HP","Flat"]
[null,"Burst Activation DMG",1.1679999999999999,1.2556,1.3431999999999999,1.46,1.5476000000000001,1.6352,1.752,1.8688,1.9856,2.1023999999999998,2.2191999999999998,2.3359999999999999,2.4820000000000002,2.6280000000000001,2.774,"Burst","Burst","ATK"]
[null,"Muji-Muji Daruma DMG",0.52,0.55900000000000005,0.59799999999999998,0.65,0.68899999999999995,0.72799999999999998,0.78,0.83199999999999996,0.88400000000000001,0.93600000000000005,0.98799999999999999,1.04,1.105,1.17,1.2350000000000001,"Burst","Burst","ATK"]
[null,"Healing Per Swirl (Flat)",300,300,300,300,300,300,300,300,300,300,300,300,300,300,300,"None","None","HP","Flat"]
[null,"C6 Additional Healing Restoration",3,3,3,3,3,3,3,3,3,3,3,3,3,3,3,"None","None","EM","Percentage"]
[null,"Weapon Proc",null,null,null,null,null,null,null,null,null,null,null,null,null,null,null,"Weapon Proc","Weapon Proc","Select an Attack"]
[null,"Overload",null,null,null,null,null,null,null,null,null,null,null,null,null,null,null,"Transformative","Transformative","EM"]
[null,"Shatter",null,null,null,null,null,null,null,null,null,null,null,null,null,null,null,"Transformative","Transformative","EM"]
[null,"Electrocharged",null,null,null,null,null,null,null,null,null,null,null,null,null,null,null,"Transformative","Transformative","EM"]
[null,"Superconduct",null,null,null,null,null,null,null,null,null,null,null,null,null,null,null,"Transformative","Transformative","EM"]
[null,"Pyro Swirl",null,null,null,null,null,null,null,null,null,null,null,null,null,null,null,"Transformative","Transformative","EM"]
[null,"Cryo Swirl",null,null,null,null,null,null,null,null,null,null,null,null,null,null,null,"Transformative","Transformative","EM"]
[null,"Hydro Swirl",null,null,null,null,null,null,null,null,null,null,null,null,null,null,null,"Transformative","Transformative","EM"]
["Sayu-End","Electro Swirl",null,null,null,null,null,null,null,null,null,null,null,null,null,null,null,"Transformative","Transformative","EM"]
[null,"Shenhe",null,null,null,null,null,null,null,null,null,null,null,null,null,null,null,"Damage Type","Scaling Talent","Scaling Stat"]
["Shenhe-Start","1-Hit DMG",0.43259999999999998,0.46779999999999999,0.503,0.55330000000000001,0.58850000000000002,0.62880000000000003,0.68410000000000004,0.73939999999999995,0.79469999999999996,0.85509999999999997,0.91549999999999998,0.9758,1.0362,1.0965,1.1569,"Normal","Normal","ATK"]
[null,"2-Hit DMG",0.40250000000000002,0.43519999999999998,0.46800000000000003,0.51480000000000004,0.54759999999999998,0.58499999999999996,0.63649999999999995,0.68799999999999994,0.73939999999999995,0.79559999999999997,0.8518,0.90790000000000004,0.96409999999999996,1.0202,1.0764,"Normal","Normal","ATK"]
[null,"3-Hit DMG",0.53320000000000001,0.5766,0.62,0.68200000000000005,0.72540000000000004,0.77500000000000002,0.84319999999999995,0.91139999999999999,0.97960000000000003,1.054,1.1284000000000001,1.2028000000000001,1.2771999999999999,1.3515999999999999,1.4259999999999999,"Normal","Normal","ATK"]
[null,"4-Hit DMG (Per Hit, 2 Hits)",0.26319999999999999,0.28460000000000002,0.30599999999999999,0.33660000000000001,0.35799999999999998,0.38250000000000001,0.41620000000000001,0.44979999999999998,0.48349999999999999,0.5202,0.55689999999999995,0.59360000000000002,0.63039999999999996,0.66710000000000003,0.70379999999999998,"Normal","Normal","ATK"]
[null,"5-Hit DMG",0.65620000000000001,0.70960000000000001,0.76300000000000001,0.83930000000000005,0.89270000000000005,0.95379999999999998,1.0377000000000001,1.1215999999999999,1.2055,1.2970999999999999,1.3887,1.4802,1.5718000000000001,1.6633,1.7548999999999999,"Normal","Normal","ATK"]
[null,"Charged Attack DMG",1.1067,1.1968000000000001,1.2868999999999999,1.4156,1.5057,1.6086,1.7502,1.8916999999999999,2.0333000000000001,2.1877,2.3422000000000001,2.4965999999999999,2.6509999999999998,2.8054000000000001,2.9599000000000002,"Charged","Charged","ATK"]
[null,"Collision Plunge DMG",0.63929999999999998,0.69140000000000001,0.74339999999999995,0.81769999999999998,0.86980000000000002,0.92930000000000001,1.0109999999999999,1.0928,1.1746000000000001,1.2638,1.353,1.4421999999999999,1.5314000000000001,1.6206,1.7098,"Plunge","Plunge","ATK"]
[null,"Low Plunge DMG",1.2784,1.3824000000000001,1.4864999999999999,1.6351,1.7392000000000001,1.8581000000000001,2.0215999999999998,2.1850999999999998,2.3485999999999998,2.5270000000000001,2.7054,2.8837999999999999,3.0621999999999998,3.2404999999999999,3.4188999999999998,"Plunge","Plunge","ATK"]
[null,"High Plunge DMG",1.5968,1.7266999999999999,1.8567,2.0424000000000002,2.1722999999999999,2.3209,2.5251000000000001,2.7292999999999998,2.9336000000000002,3.1564000000000001,3.3792,3.6019999999999999,3.8248000000000002,4.0476000000000001,4.2704000000000004,"Plunge","Plunge","ATK"]
[null,"Press Skill DMG",1.3919999999999999,1.4964,1.6008,1.74,1.8444,1.9488000000000001,2.0880000000000001,2.2271999999999998,2.3664000000000001,2.5055999999999998,2.6448,2.7839999999999998,2.9580000000000002,3.1320000000000001,3.306,"Skill","Skill","ATK"]
[null,"Hold Skill DMG",1.8879999999999999,2.0295999999999998,2.1711999999999998,2.36,2.5015999999999998,2.6432000000000002,2.8319999999999999,3.0207999999999999,3.2096,3.3984000000000001,3.5872000000000002,3.7759999999999998,4.0119999999999996,4.2480000000000002,4.484,"Skill","Skill","ATK"]
[null,"Icy Quill DMG Bonus (Per Quill)",0.45660000000000001,0.49080000000000001,0.52500000000000002,0.57069999999999999,0.60489999999999999,0.63919999999999999,0.68479999999999996,0.73050000000000004,0.7762,0.82179999999999997,0.86750000000000005,0.91310000000000002,0.97019999999999995,1.0273000000000001,1.0843,"Shenhe Special","Skill","ATK"]
[null,"Burst DMG",1.008,1.0835999999999999,1.1592,1.26,1.3355999999999999,1.4112,1.512,1.6128,1.7136,1.8144,1.9152,2.016,2.1419999999999999,2.2679999999999998,2.3940000000000001,"Burst","Burst","ATK"]
[null,"DoT",0.33119999999999999,0.35599999999999998,0.38090000000000002,0.41399999999999998,0.43880000000000002,0.4637,0.49680000000000002,0.52990000000000004,0.56299999999999994,0.59619999999999995,0.62929999999999997,0.66239999999999999,0.70379999999999998,0.74519999999999997,0.78659999999999997,"Burst","Burst","ATK"]
[null,"Weapon Proc",null,null,null,null,null,null,null,null,null,null,null,null,null,null,null,"Weapon Proc","Weapon Proc","Select an Attack"]
[null,"Overload",null,null,null,null,null,null,null,null,null,null,null,null,null,null,null,"Transformative","Transformative","EM"]
[null,"Shatter",null,null,null,null,null,null,null,null,null,null,null,null,null,null,null,"Transformative","Transformative","EM"]
[null,"Electrocharged",null,null,null,null,null,null,null,null,null,null,null,null,null,null,null,"Transformative","Transformative","EM"]
[null,"Superconduct",null,null,null,null,null,null,null,null,null,null,null,null,null,null,null,"Transformative","Transformative","EM"]
[null,"Pyro Swirl",null,null,null,null,null,null,null,null,null,null,null,null,null,null,null,"Transformative","Transformative","EM"]
[null,"Cryo Swirl",null,null,null,null,null,null,null,null,null,null,null,null,null,null,null,"Transformative","Transformative","EM"]
[null,"Hydro Swirl",null,null,null,null,null,null,null,null,null,null,null,null,null,null,null,"Transformative","Transformative","EM"]
["Shenhe-End","Electro Swirl",null,null,null,null,null,null,null,null,null,null,null,null,null,null,null,"Transformative","Transformative","EM"]
[null,"Sucrose",1,2,3,4,5,6,7,8,9,10,11,12,13,14,15,"Damage Type","Scaling Talent","Scaling Stat"]
["Sucrose-Start","1-Hit DMG",0.33460000000000001,0.35970000000000002,0.38479999999999998,0.41830000000000001,0.44340000000000002,0.46850000000000003,0.502,0.53539999999999999,0.56889999999999996,0.60240000000000005,0.63580000000000003,0.66930000000000001,0.71109999999999995,0.75290000000000001,0.79479999999999995,"Normal","Normal","ATK"]
[null,"2-Hit DMG",0.30620000000000003,0.3291,0.35210000000000002,0.38269999999999998,0.40570000000000001,0.42859999999999998,0.4592,0.4899,0.52049999999999996,0.55110000000000003,0.58169999999999999,0.61229999999999996,0.65059999999999996,0.68889999999999996,0.72709999999999997,"Normal","Normal","ATK"]
[null,"3-Hit DMG",0.38450000000000001,0.4133,0.44219999999999998,0.48060000000000003,0.50939999999999996,0.5383,0.57669999999999999,0.61519999999999997,0.65359999999999996,0.69210000000000005,0.73050000000000004,0.76900000000000002,0.81699999999999995,0.86509999999999998,0.91310000000000002,"Normal","Normal","ATK"]
[null,"4-Hit DMG",0.47920000000000001,0.5151,0.55110000000000003,0.59899999999999998,0.63490000000000002,0.67079999999999995,0.71879999999999999,0.76670000000000005,0.81459999999999999,0.86250000000000004,0.91039999999999999,0.95840000000000003,1.0182,1.0781000000000001,1.1379999999999999,"Normal","Normal","ATK"]
[null,"Charged Attack DMG",1.2016,1.2917000000000001,1.3817999999999999,1.502,1.5921000000000001,1.6821999999999999,1.8024,1.9226000000000001,2.0427,2.1629,2.2829999999999999,2.4032,2.5533999999999999,2.7035999999999998,2.8538000000000001,"Charged","Charged","ATK"]
[null,"Collision Plunge DMG",0.56830000000000003,0.61450000000000005,0.66080000000000005,0.72689999999999999,0.77310000000000001,0.82599999999999996,0.89870000000000005,0.97140000000000004,1.0441,1.1234,1.2027000000000001,1.282,1.3612,1.4404999999999999,1.5198,"Plunge","Plunge","ATK"]
[null,"Low Plunge DMG",1.1363000000000001,1.2287999999999999,1.3212999999999999,1.4535,1.5459000000000001,1.6516999999999999,1.7969999999999999,1.9422999999999999,2.0876999999999999,2.2462,2.4047999999999998,2.5634000000000001,2.7219000000000002,2.8805000000000001,3.0390000000000001,"Plunge","Plunge","ATK"]
[null,"High Plunge DMG",1.4193,1.5348999999999999,1.6504000000000001,1.8153999999999999,1.931,2.0630000000000002,2.2444999999999999,2.4260999999999999,2.6076000000000001,2.8056999999999999,3.0036999999999998,3.2018,3.3997999999999999,3.5979000000000001,3.7959000000000001,"Plunge","Plunge","ATK"]
[null,"Skill DMG",2.1120000000000001,2.2704,2.4287999999999998,2.64,2.7984,2.9567999999999999,3.1680000000000001,3.3792,3.5903999999999998,3.8016000000000001,4.0128000000000004,4.2240000000000002,4.4880000000000004,4.7519999999999998,5.016,"Skill","Skill","ATK"]
[null,"Burst DoT",1.48,1.591,1.702,1.85,1.9610000000000001,2.0720000000000001,2.2200000000000002,2.3679999999999999,2.516,2.6640000000000001,2.8119999999999998,2.96,3.145,3.33,3.5150000000000001,"Burst","Burst","ATK"]
[null,"Additional Elemental DMG",0.44,0.47299999999999998,0.50600000000000001,0.55000000000000004,0.58299999999999996,0.61599999999999999,0.66,0.70399999999999996,0.748,0.79200000000000004,0.83599999999999997,0.88,0.93500000000000005,0.99,1.0449999999999999,"Burst Echo","Burst","ATK"]
[null,"Weapon Proc",null,null,null,null,null,null,null,null,null,null,null,null,null,null,null,"Weapon Proc","Weapon Proc","Select an Attack"]
[null,"Overload",null,null,null,null,null,null,null,null,null,null,null,null,null,null,null,"Transformative","Transformative","EM"]
[null,"Shatter",null,null,null,null,null,null,null,null,null,null,null,null,null,null,null,"Transformative","Transformative","EM"]
[null,"Electrocharged",null,null,null,null,null,null,null,null,null,null,null,null,null,null,null,"Transformative","Transformative","EM"]
[null,"Superconduct",null,null,null,null,null,null,null,null,null,null,null,null,null,null,null,"Transformative","Transformative","EM"]
[null,"Pyro Swirl",null,null,null,null,null,null,null,null,null,null,null,null,null,null,null,"Transformative","Transformative","EM"]
[null,"Cryo Swirl",null,null,null,null,null,null,null,null,null,null,null,null,null,null,null,"Transformative","Transformative","EM"]
[null,"Hydro Swirl",null,null,null,null,null,null,null,null,null,null,null,null,null,null,null,"Transformative","Transformative","EM"]
["Sucrose-End","Electro Swirl",null,null,null,null,null,null,null,null,null,null,null,null,null,null,null,"Transformative","Transformative","EM"]
[null,"Childe",1,2,3,4,5,6,7,8,9,10,11,12,13,14,15,"Damage Type","Scaling Talent","Scaling Stat"]
["Childe-Start","1-Hit DMG",0.4128,0.44640000000000002,0.48,0.52800000000000002,0.56159999999999999,0.6,0.65280000000000005,0.7056,0.75839999999999996,0.81599999999999995,0.87360000000000004,0.93120000000000003,0.98880000000000001,1.0464,1.1040000000000001,"Normal","Normal","ATK"]
[null,"2-Hit DMG",0.4627,0.50029999999999997,0.53800000000000003,0.59179999999999999,0.62949999999999995,0.67249999999999999,0.73170000000000002,0.79090000000000005,0.85,0.91459999999999997,0.97919999999999996,1.0437000000000001,1.1083000000000001,1.1728000000000001,1.2374000000000001,"Normal","Normal","ATK"]
[null,"3-Hit DMG",0.55379999999999996,0.59889999999999999,0.64400000000000002,0.70840000000000003,0.75349999999999995,0.80500000000000005,0.87580000000000002,0.94669999999999999,1.0175000000000001,1.0948,1.1720999999999999,1.2494000000000001,1.3266,1.4038999999999999,1.4812000000000001,"Normal","Normal","ATK"]
[null,"4-Hit DMG",0.57020000000000004,0.61660000000000004,0.66300000000000003,0.72929999999999995,0.77569999999999995,0.82879999999999998,0.90169999999999995,0.97460000000000002,1.0475000000000001,1.1271,1.2067000000000001,1.2862,1.3657999999999999,1.4453,1.5248999999999999,"Normal","Normal","ATK"]
[null,"5-Hit DMG",0.6089,0.65839999999999999,0.70799999999999996,0.77880000000000005,0.82840000000000003,0.88500000000000001,0.96289999999999998,1.0407999999999999,1.1186,1.2036,1.2886,1.3734999999999999,1.4584999999999999,1.5434000000000001,1.6284000000000001,"Normal","Normal","ATK"]
[null,"6-Hit DMG",0.72760000000000002,0.78680000000000005,0.84599999999999997,0.93059999999999998,0.98980000000000001,1.0575000000000001,1.1506000000000001,1.2436,1.3367,1.4381999999999999,1.5397000000000001,1.6412,1.7427999999999999,1.8443000000000001,1.9458,"Normal","Normal","ATK"]
[null,"Aimed Shot",0.43859999999999999,0.4743,0.51,0.56100000000000005,0.59670000000000001,0.63749999999999996,0.69359999999999999,0.74970000000000003,0.80579999999999996,0.86699999999999999,0.92820000000000003,0.98939999999999995,1.0506,1.1117999999999999,1.173,"Charged","Charged","ATK"]
[null,"Fully-Charged Aimed Shot",1.24,1.333,1.4259999999999999,1.55,1.643,1.736,1.86,1.984,2.1080000000000001,2.2320000000000002,2.3559999999999999,2.48,2.6349999999999998,2.79,2.9449999999999998,"Charged","Charged","ATK"]
[null,"Riptide Flash DMG (Per Hit, 3 Hits)",0.124,0.1333,0.1426,0.155,0.1643,0.1736,0.186,0.19839999999999999,0.21079999999999999,0.22320000000000001,0.2356,0.248,0.26350000000000001,0.27900000000000003,0.29449999999999998,"Normal","Normal","ATK"]
[null,"Riptide Burst DMG",0.62,0.66649999999999998,0.71299999999999997,0.77500000000000002,0.82150000000000001,0.86799999999999999,0.93,0.99199999999999999,1.054,1.1160000000000001,1.1779999999999999,1.24,1.3174999999999999,1.395,1.4724999999999999,"Normal","Normal","ATK"]
[null,"Collision Plunge DMG",0.63929999999999998,0.69140000000000001,0.74339999999999995,0.81769999999999998,0.86980000000000002,0.92930000000000001,1.0109999999999999,1.0928,1.1746000000000001,1.2638,1.353,1.4421999999999999,1.5314000000000001,1.6206,1.7098,"Plunge","Plunge","ATK"]
[null,"Low Plunge DMG",1.2784,1.3824000000000001,1.4864999999999999,1.6351,1.7392000000000001,1.8581000000000001,2.0215999999999998,2.1850999999999998,2.3485999999999998,2.5270000000000001,2.7054,2.8837999999999999,3.0621999999999998,3.2404999999999999,3.4188999999999998,"Plunge","Plunge","ATK"]
[null,"High Plunge DMG",1.5968,1.7266999999999999,1.8567,2.0424000000000002,2.1722999999999999,2.3209,2.5251000000000001,2.7292999999999998,2.9336000000000002,3.1564000000000001,3.3792,3.6019999999999999,3.8248000000000002,4.0476000000000001,4.2704000000000004,"Plunge","Plunge","ATK"]
[null,"Stance Change DMG",0.72,0.77400000000000002,0.82799999999999996,0.9,0.95399999999999996,1.008,1.08,1.1519999999999999,1.224,1.296,1.3680000000000001,1.44,1.53,1.62,1.71,"Skill","Skill","ATK"]
[null,"Skill 1-Hit DMG",0.38869999999999999,0.4204,0.45200000000000001,0.49719999999999998,0.52880000000000005,0.56499999999999995,0.61470000000000002,0.66439999999999999,0.71419999999999995,0.76839999999999997,0.8226,0.87690000000000001,0.93110000000000004,0.98540000000000005,1.0396000000000001,"Normal","Skill","ATK"]
[null,"Skill 2-Hit DMG",0.41620000000000001,0.4501,0.48399999999999999,0.53239999999999998,0.56630000000000003,0.60499999999999998,0.65820000000000001,0.71150000000000002,0.76470000000000005,0.82279999999999998,0.88090000000000002,0.93899999999999995,0.997,1.0550999999999999,1.1132,"Normal","Skill","ATK"]
[null,"Skill 3-Hit DMG",0.56330000000000002,0.60919999999999996,0.65500000000000003,0.72050000000000003,0.76639999999999997,0.81879999999999997,0.89080000000000004,0.96289999999999998,1.0348999999999999,1.1134999999999999,1.1920999999999999,1.2706999999999999,1.3492999999999999,1.4278999999999999,1.5065,"Normal","Skill","ATK"]
[null,"Skill 4-Hit DMG",0.59940000000000004,0.6482,0.69699999999999995,0.76670000000000005,0.8155,0.87129999999999996,0.94789999999999996,1.0246,1.1012999999999999,1.1849000000000001,1.2685,1.3522000000000001,1.4358,1.5195000000000001,1.6031,"Normal","Skill","ATK"]
[null,"Skill 5-Hit DMG",0.55300000000000005,0.59799999999999998,0.64300000000000002,0.70730000000000004,0.75229999999999997,0.80379999999999996,0.87450000000000006,0.94520000000000004,1.0159,1.0931,1.1702999999999999,1.2474000000000001,1.3246,1.4016999999999999,1.4789000000000001,"Normal","Skill","ATK"]
[null,"Skill 6-Hit Hit 1 DMG",0.3543,0.38319999999999999,0.41199999999999998,0.45319999999999999,0.48199999999999998,0.51500000000000001,0.56030000000000002,0.60560000000000003,0.65100000000000002,0.70040000000000002,0.74980000000000002,0.79930000000000001,0.84870000000000001,0.8982,0.9476,"Normal","Skill","ATK"]
[null,"Skill 6-Hit Hit 2 DMG",0.37669999999999998,0.4073,0.438,0.48180000000000001,0.51249999999999996,0.54749999999999999,0.59570000000000001,0.64390000000000003,0.69199999999999995,0.74460000000000004,0.79720000000000002,0.84970000000000001,0.90229999999999999,0.95479999999999998,1.0074000000000001,"Normal","Skill","ATK"]
[null,"Skill Charged Attack Hit 1 DMG",0.60199999999999998,0.65100000000000002,0.7,0.77,0.81899999999999995,0.875,0.95199999999999996,1.0289999999999999,1.1060000000000001,1.19,1.274,1.3580000000000001,1.4419999999999999,1.526,1.61,"Charged","Skill","ATK"]
[null,"Skill Charged Attack Hit 2 DMG",0.7198,0.77839999999999998,0.83699999999999997,0.92069999999999996,0.97929999999999995,1.0462,1.1383000000000001,1.2303999999999999,1.3225,1.4229000000000001,1.5233000000000001,1.6237999999999999,1.7242,1.8247,1.9251,"Charged","Skill","ATK"]
[null,"Riptide Slash",0.60199999999999998,0.65100000000000002,0.7,0.77,0.81899999999999995,0.875,0.95199999999999996,1.0289999999999999,1.1060000000000001,1.19,1.274,1.3580000000000001,1.4419999999999999,1.526,1.61,"Skill","Skill","ATK"]
[null,"Burst DMG: Melee",4.6399999999999997,4.9880000000000004,5.3360000000000003,5.8,6.1479999999999997,6.4960000000000004,6.96,7.4240000000000004,7.8879999999999999,8.3520000000000003,8.8160000000000007,9.2799999999999994,9.86,10.44,11.02,"Burst","Burst","ATK"]
[null,"Burst DMG: Ranged",3.7839999999999998,4.0678000000000001,4.3516000000000004,4.7300000000000004,5.0137999999999998,5.2976000000000001,5.6760000000000002,6.0544000000000002,6.4328000000000003,6.8112000000000004,7.1896000000000004,7.5679999999999996,8.0410000000000004,8.5139999999999993,8.9870000000000001,"Burst","Burst","ATK"]
[null,"Riptide Blast DMG",1.2,1.29,1.38,1.5,1.59,1.68,1.8,1.92,2.04,2.16,2.2799999999999998,2.4,2.5499999999999998,2.7,2.85,"Burst","Burst","ATK"]
[null,"Weapon Proc",null,null,null,null,null,null,null,null,null,null,null,null,null,null,null,"Weapon Proc","Weapon Proc","Select an Attack"]
[null,"Overload",null,null,null,null,null,null,null,null,null,null,null,null,null,null,null,"Transformative","Transformative","EM"]
[null,"Shatter",null,null,null,null,null,null,null,null,null,null,null,null,null,null,null,"Transformative","Transformative","EM"]
[null,"Electrocharged",null,null,null,null,null,null,null,null,null,null,null,null,null,null,null,"Transformative","Transformative","EM"]
[null,"Superconduct",null,null,null,null,null,null,null,null,null,null,null,null,null,null,null,"Transformative","Transformative","EM"]
[null,"Pyro Swirl",null,null,null,null,null,null,null,null,null,null,null,null,null,null,null,"Transformative","Transformative","EM"]
[null,"Cryo Swirl",null,null,null,null,null,null,null,null,null,null,null,null,null,null,null,"Transformative","Transformative","EM"]
[null,"Hydro Swirl",null,null,null,null,null,null,null,null,null,null,null,null,null,null,null,"Transformative","Transformative","EM"]
["Childe-End","Electro Swirl",null,null,null,null,null,null,null,null,null,null,null,null,null,null,null,"Transformative","Transformative","EM"]
[null,"Thoma",1,2,3,4,5,6,7,8,9,10,11,12,13,14,15,"Damage Type","Scaling Talent","Scaling Stat"]
["Thoma-Start","1-Hit DMG",0.44390000000000002,0.48010000000000003,0.51619999999999999,0.56779999999999997,0.60399999999999998,0.64529999999999998,0.70199999999999996,0.75880000000000003,0.81559999999999999,0.87749999999999995,0.9395,1.0014000000000001,1.0633999999999999,1.1253,1.1873,"Normal","Normal","ATK"]
[null,"2-Hit DMG",0.43630000000000002,0.4718,0.50729999999999997,0.55800000000000005,0.59350000000000003,0.6341,0.68989999999999996,0.74570000000000003,0.80149999999999999,0.86240000000000006,0.92330000000000001,0.98419999999999996,1.0449999999999999,1.1059000000000001,1.1668000000000001,"Normal","Normal","ATK"]
[null,"3-Hit DMG (Per Hit, 2 Hits)",0.26790000000000003,0.28970000000000001,0.3115,0.3427,0.36449999999999999,0.38940000000000002,0.42359999999999998,0.45789999999999997,0.49220000000000003,0.52959999999999996,0.56689999999999996,0.60429999999999995,0.64170000000000005,0.67910000000000004,0.71650000000000003,"Normal","Normal","ATK"]
[null,"4-Hit DMG",0.67359999999999998,0.72840000000000005,0.78320000000000001,0.86150000000000004,0.9163,0.97899999999999998,1.0651999999999999,1.1513,1.2375,1.3313999999999999,1.4254,1.5194000000000001,1.6133999999999999,1.7074,1.8013999999999999,"Normal","Normal","ATK"]
[null,"Charged Attack DMG",1.1274999999999999,1.2192000000000001,1.3109999999999999,1.4420999999999999,1.5339,1.6388,1.7829999999999999,1.9272,2.0714000000000001,2.2286999999999999,2.3860000000000001,2.5432999999999999,2.7006999999999999,2.8580000000000001,3.0152999999999999,"Charged","Charged","ATK"]
[null,"Collision Plunge DMG",0.63929999999999998,0.69140000000000001,0.74339999999999995,0.81769999999999998,0.86980000000000002,0.92930000000000001,1.0109999999999999,1.0928,1.1746000000000001,1.2638,1.353,1.4421999999999999,1.5314000000000001,1.6206,1.7098,"Plunge","Plunge","ATK"]
[null,"Low Plunge DMG",1.2784,1.3824000000000001,1.4864999999999999,1.6351,1.7392000000000001,1.8581000000000001,2.0215999999999998,2.1850999999999998,2.3485999999999998,2.5270000000000001,2.7054,2.8837999999999999,3.0621999999999998,3.2404999999999999,3.4188999999999998,"Plunge","Plunge","ATK"]
[null,"High Plunge DMG",1.5968,1.7266999999999999,1.8567,2.0424000000000002,2.1722999999999999,2.3209,2.5251000000000001,2.7292999999999998,2.9336000000000002,3.1564000000000001,3.3792,3.6019999999999999,3.8248000000000002,4.0476000000000001,4.2704000000000004,"Plunge","Plunge","ATK"]
[null,"Skill DMG",1.464,1.5738000000000001,1.6836,1.83,1.9398,2.0495999999999999,2.1960000000000002,2.3424,2.4887999999999999,2.6352000000000002,2.7816000000000001,2.9279999999999999,3.1110000000000002,3.294,3.4769999999999999,"Skill","Skill","ATK"]
[null,"Burst DMG",0.88,0.94599999999999995,1.012,1.1000000000000001,1.1659999999999999,1.232,1.32,1.4079999999999999,1.496,1.5840000000000001,1.6719999999999999,1.76,1.87,1.98,2.09,"Burst","Burst","ATK"]
[null,"Fiery Collapse DMG",0.57999999999999996,0.62350000000000005,0.66700000000000004,0.72499999999999998,0.76849999999999996,0.81200000000000006,0.87,0.92800000000000005,0.98599999999999999,1.044,1.1020000000000001,1.1599999999999999,1.2324999999999999,1.3049999999999999,1.3774999999999999,"Burst","Burst","ATK"]
[null,"Flaming Assault DMG (A4)",2.1999999999999999E-2,2.1999999999999999E-2,2.1999999999999999E-2,2.1999999999999999E-2,2.1999999999999999E-2,2.1999999999999999E-2,2.1999999999999999E-2,2.1999999999999999E-2,2.1999999999999999E-2,2.1999999999999999E-2,2.1999999999999999E-2,2.1999999999999999E-2,2.1999999999999999E-2,2.1999999999999999E-2,2.1999999999999999E-2,"Burst","Burst","HP"]
[null,"Weapon Proc",null,null,null,null,null,null,null,null,null,null,null,null,null,null,null,"Weapon Proc","Weapon Proc","Select an Attack"]
[null,"Overload",null,null,null,null,null,null,null,null,null,null,null,null,null,null,null,"Transformative","Transformative","EM"]
[null,"Shatter",null,null,null,null,null,null,null,null,null,null,null,null,null,null,null,"Transformative","Transformative","EM"]
[null,"Electrocharged",null,null,null,null,null,null,null,null,null,null,null,null,null,null,null,"Transformative","Transformative","EM"]
[null,"Superconduct",null,null,null,null,null,null,null,null,null,null,null,null,null,null,null,"Transformative","Transformative","EM"]
[null,"Pyro Swirl",null,null,null,null,null,null,null,null,null,null,null,null,null,null,null,"Transformative","Transformative","EM"]
[null,"Cryo Swirl",null,null,null,null,null,null,null,null,null,null,null,null,null,null,null,"Transformative","Transformative","EM"]
[null,"Hydro Swirl",null,null,null,null,null,null,null,null,null,null,null,null,null,null,null,"Transformative","Transformative","EM"]
["Thoma-End","Electro Swirl",null,null,null,null,null,null,null,null,null,null,null,null,null,null,null,"Transformative","Transformative","EM"]
[null,"Venti",1,2,3,4,5,6,7,8,9,10,11,12,13,14,15,"Damage Type","Scaling Talent","Scaling Stat"]
["Venti-Start","1-Hit Hit 1 DMG",0.20380000000000001,0.22040000000000001,0.23699999999999999,0.26069999999999999,0.27729999999999999,0.29630000000000001,0.32229999999999998,0.34839999999999999,0.3745,0.40289999999999998,0.4355,0.4738,0.5121,0.55049999999999999,0.59230000000000005,"Normal","Normal","ATK"]
[null,"1-Hit Hit 2 DMG",0.20380000000000001,0.22040000000000001,0.23699999999999999,0.26069999999999999,0.27729999999999999,0.29630000000000001,0.32229999999999998,0.34839999999999999,0.3745,0.40289999999999998,0.4355,0.4738,0.5121,0.55049999999999999,0.59230000000000005,"Normal","Normal","ATK"]
[null,"2-Hit DMG",0.44379999999999997,0.47989999999999999,0.51600000000000001,0.56759999999999999,0.60370000000000001,0.64500000000000002,0.70179999999999998,0.75849999999999995,0.81530000000000002,0.87719999999999998,0.94820000000000004,1.0316000000000001,1.115,1.1984999999999999,1.2895000000000001,"Normal","Normal","ATK"]
[null,"3-Hit DMG",0.52370000000000005,0.56640000000000001,0.60899999999999999,0.66990000000000005,0.71250000000000002,0.76129999999999998,0.82820000000000005,0.8952,0.96220000000000006,1.0353000000000001,1.119,1.2175,1.3160000000000001,1.4145000000000001,1.5219,"Normal","Normal","ATK"]
[null,"4-Hit Hit 1 DMG",0.2606,0.28179999999999999,0.30299999999999999,0.33329999999999999,0.35449999999999998,0.37869999999999998,0.41210000000000002,0.44540000000000002,0.47870000000000001,0.5151,0.55679999999999996,0.60580000000000001,0.65480000000000005,0.70369999999999999,0.75719999999999998,"Normal","Normal","ATK"]
[null,"4-Hit Hit 2 DMG",0.2606,0.28179999999999999,0.30299999999999999,0.33329999999999999,0.35449999999999998,0.37869999999999998,0.41210000000000002,0.44540000000000002,0.47870000000000001,0.5151,0.55679999999999996,0.60580000000000001,0.65480000000000005,0.70369999999999999,0.75719999999999998,"Normal","Normal","ATK"]
[null,"5-Hit DMG",0.50649999999999995,0.54779999999999995,0.58899999999999997,0.64790000000000003,0.68910000000000005,0.73629999999999995,0.80100000000000005,0.86580000000000001,0.93059999999999998,1.0013000000000001,1.0823,1.1775,1.2727999999999999,1.3680000000000001,1.4719,"Normal","Normal","ATK"]
[null,"6-Hit DMG",0.70950000000000002,0.76729999999999998,0.82499999999999996,0.90749999999999997,0.96530000000000005,1.0313000000000001,1.1220000000000001,1.2128000000000001,1.3035000000000001,1.4025000000000001,1.5159,1.6493,1.7827,1.9160999999999999,2.0617000000000001,"Normal","Normal","ATK"]
[null,"Aimed Shot",0.43859999999999999,0.4743,0.51,0.56100000000000005,0.59670000000000001,0.63749999999999996,0.69359999999999999,0.74970000000000003,0.80579999999999996,0.86699999999999999,0.93710000000000004,1.0196000000000001,1.1021000000000001,1.1845000000000001,1.2745,"Charged","Charged","ATK"]
[null,"Fully-Charged Aimed Shot",1.24,1.333,1.4259999999999999,1.55,1.643,1.736,1.86,1.984,2.1080000000000001,2.2320000000000002,2.3610000000000002,2.5295999999999998,2.6981999999999999,2.8668999999999998,3.0354999999999999,"Charged","Charged","ATK"]
[null,"Collision Plunge DMG",0.56830000000000003,0.61450000000000005,0.66080000000000005,0.72689999999999999,0.77310000000000001,0.82599999999999996,0.89870000000000005,0.97140000000000004,1.0441,1.1234,1.2027000000000001,1.282,1.3612,1.4404999999999999,1.5198,"Plunge","Plunge","ATK"]
[null,"Low Plunge DMG",1.1363000000000001,1.2287999999999999,1.3212999999999999,1.4535,1.5459000000000001,1.6516999999999999,1.7969999999999999,1.9422999999999999,2.0876999999999999,2.2462,2.4047999999999998,2.5634000000000001,2.7219000000000002,2.8805000000000001,3.0390000000000001,"Plunge","Plunge","ATK"]
[null,"High Plunge DMG",1.4193,1.5348999999999999,1.6504000000000001,1.8153999999999999,1.931,2.0630000000000002,2.2444999999999999,2.4260999999999999,2.6076000000000001,2.8056999999999999,3.0036999999999998,3.2018,3.3997999999999999,3.5979000000000001,3.7959000000000001,"Plunge","Plunge","ATK"]
[null,"Skill Press DMG",2.76,2.9670000000000001,3.1739999999999999,3.45,3.657,3.8639999999999999,4.1399999999999997,4.4160000000000004,4.6920000000000002,4.968,5.2439999999999998,5.52,5.8650000000000002,6.21,6.5549999999999997,"Skill","Skill","ATK"]
[null,"Skill Hold DMG",3.8,4.085,4.37,4.75,5.0350000000000001,5.32,5.7,6.08,6.46,6.84,7.22,7.6,8.0749999999999993,8.5500000000000007,9.0250000000000004,"Skill","Skill","ATK"]
[null,"Burst DoT",0.376,0.4042,0.43240000000000001,0.47,0.49819999999999998,0.52639999999999998,0.56399999999999995,0.60160000000000002,0.63919999999999999,0.67679999999999996,0.71440000000000003,0.752,0.79900000000000004,0.84599999999999997,0.89300000000000002,"Burst","Burst","ATK"]
[null,"Burst Additional Elemental DMG",0.188,0.2021,0.2162,0.23499999999999999,0.24909999999999999,0.26319999999999999,0.28199999999999997,0.30080000000000001,0.3196,0.33839999999999998,0.35720000000000002,0.376,0.39950000000000002,0.42299999999999999,0.44650000000000001,"Burst Echo","Burst","ATK"]
[null,"Weapon Proc",null,null,null,null,null,null,null,null,null,null,null,null,null,null,null,"Weapon Proc","Weapon Proc","Select an Attack"]
[null,"Overload",null,null,null,null,null,null,null,null,null,null,null,null,null,null,null,"Transformative","Transformative","EM"]
[null,"Shatter",null,null,null,null,null,null,null,null,null,null,null,null,null,null,null,"Transformative","Transformative","EM"]
[null,"Electrocharged",null,null,null,null,null,null,null,null,null,null,null,null,null,null,null,"Transformative","Transformative","EM"]
[null,"Superconduct",null,null,null,null,null,null,null,null,null,null,null,null,null,null,null,"Transformative","Transformative","EM"]
[null,"Pyro Swirl",null,null,null,null,null,null,null,null,null,null,null,null,null,null,null,"Transformative","Transformative","EM"]
[null,"Cryo Swirl",null,null,null,null,null,null,null,null,null,null,null,null,null,null,null,"Transformative","Transformative","EM"]
[null,"Hydro Swirl",null,null,null,null,null,null,null,null,null,null,null,null,null,null,null,"Transformative","Transformative","EM"]
["Venti-End","Electro Swirl",null,null,null,null,null,null,null,null,null,null,null,null,null,null,null,"Transformative","Transformative","EM"]
[null,"Xiangling",1,2,3,4,5,6,7,8,9,10,11,12,13,14,15,"Damage Type","Scaling Talent","Scaling Stat"]
["Xiangling-Start","1-Hit DMG",0.42049999999999998,0.45479999999999998,0.48899999999999999,0.53790000000000004,0.57210000000000005,0.61129999999999995,0.66500000000000004,0.71879999999999999,0.77259999999999995,0.83130000000000004,0.89849999999999997,0.97760000000000002,1.0567,1.1357999999999999,1.222,"Normal","Normal","ATK"]
[null,"2-Hit DMG",0.4214,0.45569999999999999,0.49,0.53900000000000003,0.57330000000000003,0.61250000000000004,0.66639999999999999,0.72030000000000005,0.7742,0.83299999999999996,0.90039999999999998,0.97960000000000003,1.0588,1.1380999999999999,1.2244999999999999,"Normal","Normal","ATK"]
[null,"3-Hit DMG (Per Hit, 2 Hits)",0.2606,0.28179999999999999,0.30299999999999999,0.33329999999999999,0.35449999999999998,0.37869999999999998,0.41210000000000002,0.44540000000000002,0.47870000000000001,0.5151,0.55679999999999996,0.60580000000000001,0.65480000000000005,0.70369999999999999,0.75719999999999998,"Normal","Normal","ATK"]
[null,"4-Hit DMG (Per Hit, 4 Hits)",0.14099999999999999,0.1525,0.16400000000000001,0.1804,0.19189999999999999,0.20499999999999999,0.223,0.24110000000000001,0.2591,0.27879999999999999,0.3014,0.32790000000000002,0.35439999999999999,0.38090000000000002,0.4098,"Normal","Normal","ATK"]
[null,"5-Hit DMG",0.71040000000000003,0.76819999999999999,0.82599999999999996,0.90859999999999996,0.96640000000000004,1.0325,1.1234,1.2141999999999999,1.3050999999999999,1.4041999999999999,1.5178,1.6513,1.7848999999999999,1.9185000000000001,2.0642,"Normal","Normal","ATK"]
[null,"Charged Attack DMG",1.2169000000000001,1.3160000000000001,1.415,1.5565,1.6556,1.7687999999999999,1.9244000000000001,2.0800999999999998,2.2357,2.4055,2.6000999999999999,2.8289,3.0577000000000001,3.2865000000000002,3.5360999999999998,"Charged","Charged","ATK"]
[null,"Collision Plunge DMG",0.63929999999999998,0.69140000000000001,0.74339999999999995,0.81769999999999998,0.86980000000000002,0.92930000000000001,1.0109999999999999,1.0928,1.1746000000000001,1.2638,1.353,1.4421999999999999,1.5314000000000001,1.6206,1.7098,"Plunge","Plunge","ATK"]
[null,"Low Plunge DMG",1.2784,1.3824000000000001,1.4864999999999999,1.6351,1.7392000000000001,1.8581000000000001,2.0215999999999998,2.1850999999999998,2.3485999999999998,2.5270000000000001,2.7054,2.8837999999999999,3.0621999999999998,3.2404999999999999,3.4188999999999998,"Plunge","Plunge","ATK"]
[null,"High Plunge DMG",1.5968,1.7266999999999999,1.8567,2.0424000000000002,2.1722999999999999,2.3209,2.5251000000000001,2.7292999999999998,2.9336000000000002,3.1564000000000001,3.3792,3.6019999999999999,3.8248000000000002,4.0476000000000001,4.2704000000000004,"Plunge","Plunge","ATK"]
[null,"Guoba DMG",1.1128,1.1962999999999999,1.2797000000000001,1.391,1.4744999999999999,1.5579000000000001,1.6692,1.7805,1.8917999999999999,2.0030000000000001,2.1143000000000001,2.2256,2.3647,2.5038,2.6429,"Skill","Skill","ATK"]
[null,"C2 Oil Meets Fire Proc",0.75,0.75,0.75,0.75,0.75,0.75,0.75,0.75,0.75,0.75,0.75,0.75,0.75,0.75,0.75,"None","None","ATK"]
[null,"Burst 1-Hit Swing DMG",0.72,0.77400000000000002,0.82799999999999996,0.9,0.95399999999999996,1.008,1.08,1.1519999999999999,1.224,1.296,1.3680000000000001,1.44,1.53,1.62,1.71,"Burst","Burst","ATK"]
[null,"Burst 2-Hit Swing DMG",0.88,0.94599999999999995,1.012,1.1000000000000001,1.1659999999999999,1.232,1.32,1.4079999999999999,1.496,1.5840000000000001,1.6719999999999999,1.76,1.87,1.98,2.09,"Burst","Burst","ATK"]
[null,"Burst 3-Hit Swing DMG",1.0960000000000001,1.1781999999999999,1.2604,1.37,1.4521999999999999,1.5344,1.6439999999999999,1.7536,1.8632,1.9728000000000001,2.0823999999999998,2.1920000000000002,2.3290000000000002,2.4660000000000002,2.6030000000000002,"Burst","Burst","ATK"]
[null,"Pyronado DMG",1.1200000000000001,1.204,1.288,1.4,1.484,1.5680000000000001,1.68,1.792,1.9039999999999999,2.016,2.1280000000000001,2.2400000000000002,2.38,2.52,2.66,"Burst","Burst","ATK"]
[null,"Weapon Proc",null,null,null,null,null,null,null,null,null,null,null,null,null,null,null,"Weapon Proc","Weapon Proc","Select an Attack"]
[null,"Overload",null,null,null,null,null,null,null,null,null,null,null,null,null,null,null,"Transformative","Transformative","EM"]
[null,"Shatter",null,null,null,null,null,null,null,null,null,null,null,null,null,null,null,"Transformative","Transformative","EM"]
[null,"Electrocharged",null,null,null,null,null,null,null,null,null,null,null,null,null,null,null,"Transformative","Transformative","EM"]
[null,"Superconduct",null,null,null,null,null,null,null,null,null,null,null,null,null,null,null,"Transformative","Transformative","EM"]
[null,"Pyro Swirl",null,null,null,null,null,null,null,null,null,null,null,null,null,null,null,"Transformative","Transformative","EM"]
[null,"Cryo Swirl",null,null,null,null,null,null,null,null,null,null,null,null,null,null,null,"Transformative","Transformative","EM"]
[null,"Hydro Swirl",null,null,null,null,null,null,null,null,null,null,null,null,null,null,null,"Transformative","Transformative","EM"]
["Xiangling-End","Electro Swirl",null,null,null,null,null,null,null,null,null,null,null,null,null,null,null,"Transformative","Transformative","EM"]
[null,"Xiao",1,2,3,4,5,6,7,8,9,10,11,12,13,14,15,"Damage Type","Scaling Talent","Scaling Stat"]
["Xiao-Start","1-Hit DMG (Per Hit, 2 Hits)",0.27539999999999998,0.29420000000000002,0.313,0.33800000000000002,0.35680000000000001,0.37869999999999998,0.40689999999999998,0.43509999999999999,0.4632,0.4914,0.51959999999999995,0.54779999999999995,0.57589999999999997,0.60409999999999997,0.63229999999999997,"Normal","Normal","ATK"]
[null,"2-Hit DMG",0.56940000000000002,0.60819999999999996,0.64700000000000002,0.69879999999999998,0.73760000000000003,0.78290000000000004,0.84109999999999996,0.89929999999999999,0.95760000000000001,1.0158,1.0740000000000001,1.1323000000000001,1.1904999999999999,1.2486999999999999,1.3069,"Normal","Normal","ATK"]
[null,"3-Hit DMG",0.6855,0.73229999999999995,0.77900000000000003,0.84130000000000005,0.8881,0.94259999999999999,1.0126999999999999,1.0828,1.1529,1.2230000000000001,1.2930999999999999,1.3633,1.4334,1.5035000000000001,1.5736000000000001,"Normal","Normal","ATK"]
[null,"4-Hit DMG (Per Hit, 2 Hits)",0.37659999999999999,0.40229999999999999,0.42799999999999999,0.4622,0.4879,0.51790000000000003,0.55640000000000001,0.59489999999999998,0.63339999999999996,0.67200000000000004,0.71050000000000002,0.749,0.78749999999999998,0.82599999999999996,0.86460000000000004,"Normal","Normal","ATK"]
[null,"5-Hit DMG",0.71540000000000004,0.76419999999999999,0.81299999999999994,0.878,0.92679999999999996,0.98370000000000002,1.0569,1.1301000000000001,1.2032,1.2764,1.3495999999999999,1.4228000000000001,1.4959,1.5690999999999999,1.6423000000000001,"Normal","Normal","ATK"]
[null,"6-Hit DMG",0.95830000000000004,1.0237000000000001,1.089,1.1760999999999999,1.2415,1.3177000000000001,1.4157,1.5137,1.6116999999999999,1.7097,1.8077000000000001,1.9057999999999999,2.0038,2.1017999999999999,2.1998000000000002,"Normal","Normal","ATK"]
[null,"Charged Attack DMG",1.2109000000000001,1.2934000000000001,1.3759999999999999,1.4861,1.5686,1.665,1.7887999999999999,1.9126000000000001,2.0365000000000002,2.1602999999999999,2.2841999999999998,2.4079999999999999,2.5318000000000001,2.6556999999999999,2.7795000000000001,"Charged","Charged","ATK"]
[null,"Collision Plunge DMG",0.81830000000000003,0.88490000000000002,0.9516,1.0467,1.1133,1.1894,1.2941,1.3988,1.5035000000000001,1.6175999999999999,1.7318,1.8460000000000001,1.9601999999999999,2.0743999999999998,2.1886000000000001,"Plunge","Plunge","ATK"]
[null,"Low Plunge DMG",1.6363000000000001,1.7695000000000001,1.9027000000000001,2.093,2.2262,2.3784000000000001,2.5876999999999999,2.7970000000000002,3.0063,3.2345999999999999,3.4628999999999999,3.6911999999999998,3.9196,4.1478999999999999,4.3761999999999999,"Plunge","Plunge","ATK"]
[null,"High Plunge DMG",2.0438999999999998,2.2101999999999999,2.3765999999999998,2.6141999999999999,2.7806000000000002,2.9706999999999999,3.2321,3.4935999999999998,3.7549999999999999,4.0401999999999996,4.3254000000000001,4.6105999999999998,4.8956999999999997,5.1809000000000003,5.4661,"Plunge","Plunge","ATK"]
[null,"Skill DMG",2.528,2.7176,2.9072,3.16,3.3496000000000001,3.5392000000000001,3.7919999999999998,4.0448000000000004,4.2976000000000001,4.5503999999999998,4.8032000000000004,5.056,5.3719999999999999,5.6879999999999997,6.0039999999999996,"Skill","Skill","ATK"]
[null,"Weapon Proc",null,null,null,null,null,null,null,null,null,null,null,null,null,null,null,"Weapon Proc","Weapon Proc","Select an Attack"]
[null,"Overload",null,null,null,null,null,null,null,null,null,null,null,null,null,null,null,"Transformative","Transformative","EM"]
[null,"Shatter",null,null,null,null,null,null,null,null,null,null,null,null,null,null,null,"Transformative","Transformative","EM"]
[null,"Electrocharged",null,null,null,null,null,null,null,null,null,null,null,null,null,null,null,"Transformative","Transformative","EM"]
[null,"Superconduct",null,null,null,null,null,null,null,null,null,null,null,null,null,null,null,"Transformative","Transformative","EM"]
[null,"Pyro Swirl",null,null,null,null,null,null,null,null,null,null,null,null,null,null,null,"Transformative","Transformative","EM"]
[null,"Cryo Swirl",null,null,null,null,null,null,null,null,null,null,null,null,null,null,null,"Transformative","Transformative","EM"]
[null,"Hydro Swirl",null,null,null,null,null,null,null,null,null,null,null,null,null,null,null,"Transformative","Transformative","EM"]
["Xiao-End","Electro Swirl",null,null,null,null,null,null,null,null,null,null,null,null,null,null,null,"Transformative","Transformative","EM"]
[null,"Xingqiu",1,2,3,4,5,6,7,8,9,10,11,12,13,14,15,"Damage Type","Scaling Talent","Scaling Stat"]
["Xingqiu-Start","1-Hit DMG",0.46610000000000001,0.50409999999999999,0.54200000000000004,0.59619999999999995,0.6341,0.67749999999999999,0.73709999999999998,0.79669999999999996,0.85640000000000005,0.9214,0.99590000000000001,1.0835999999999999,1.1712,1.2587999999999999,1.3545,"Normal","Normal","ATK"]
[null,"2-Hit DMG",0.47639999999999999,0.51519999999999999,0.55400000000000005,0.60940000000000005,0.6482,0.6925,0.75339999999999996,0.81440000000000001,0.87529999999999997,0.94179999999999997,1.018,1.1075999999999999,1.1971000000000001,1.2867,1.3844000000000001,"Normal","Normal","ATK"]
[null,"3-Hit DMG (Per Hit, 2 Hits)",0.28549999999999998,0.30880000000000002,0.33200000000000002,0.36520000000000002,0.38840000000000002,0.41499999999999998,0.45150000000000001,0.48799999999999999,0.52459999999999996,0.56440000000000001,0.61009999999999998,0.66369999999999996,0.71740000000000004,0.77110000000000001,0.82969999999999999,"Normal","Normal","ATK"]
[null,"4-Hit DMG",0.55989999999999995,0.60540000000000005,0.65100000000000002,0.71609999999999996,0.76170000000000004,0.81379999999999997,0.88539999999999996,0.95699999999999996,1.0286,1.1067,1.1961999999999999,1.3015000000000001,1.4067000000000001,1.512,1.6268,"Normal","Normal","ATK"]
[null,"5-Hit DMG (Per Hit, 2 Hits)",0.35859999999999997,0.38779999999999998,0.41699999999999998,0.4587,0.4879,0.52129999999999999,0.56710000000000005,0.61299999999999999,0.65890000000000004,0.70889999999999997,0.76619999999999999,0.8337,0.90110000000000001,0.96850000000000003,1.0421,"Normal","Normal","ATK"]
[null,"Charged Attack Hit 1 DMG",0.47299999999999998,0.51149999999999995,0.55000000000000004,0.60499999999999998,0.64349999999999996,0.6875,0.748,0.8085,0.86899999999999999,0.93500000000000005,1.0105999999999999,1.0995999999999999,1.1884999999999999,1.2774000000000001,1.3745000000000001,"Charged","Charged","ATK"]
[null,"Charged Attack Hit 2 DMG",0.56159999999999999,0.60729999999999995,0.65300000000000002,0.71830000000000005,0.76400000000000001,0.81630000000000003,0.8881,0.95989999999999998,1.0317000000000001,1.1101000000000001,1.1999,1.3055000000000001,1.4111,1.5166999999999999,1.6317999999999999,"Charged","Charged","ATK"]
[null,"Collision Plunge DMG",0.63929999999999998,0.69140000000000001,0.74339999999999995,0.81769999999999998,0.86980000000000002,0.92930000000000001,1.0109999999999999,1.0928,1.1746000000000001,1.2638,1.353,1.4421999999999999,1.5314000000000001,1.6206,1.7098,"Plunge","Plunge","ATK"]
[null,"Low Plunge DMG",1.2784,1.3824000000000001,1.4864999999999999,1.6351,1.7392000000000001,1.8581000000000001,2.0215999999999998,2.1850999999999998,2.3485999999999998,2.5270000000000001,2.7054,2.8837999999999999,3.0621999999999998,3.2404999999999999,3.4188999999999998,"Plunge","Plunge","ATK"]
[null,"High Plunge DMG",1.5968,1.7266999999999999,1.8567,2.0424000000000002,2.1722999999999999,2.3209,2.5251000000000001,2.7292999999999998,2.9336000000000002,3.1564000000000001,3.3792,3.6019999999999999,3.8248000000000002,4.0476000000000001,4.2704000000000004,"Plunge","Plunge","ATK"]
[null,"Skill Hit 1 DMG",1.68,1.806,1.9319999999999999,2.1,2.226,2.3519999999999999,2.52,2.6880000000000002,2.8559999999999999,3.024,3.1920000000000002,3.36,3.57,3.78,3.99,"Skill","Skill","ATK"]
[null,"Skill Hit 2 DMG",1.9119999999999999,2.0554000000000001,2.1987999999999999,2.39,2.5333999999999999,2.6768000000000001,2.8679999999999999,3.0592000000000001,3.2504,3.4416000000000002,3.6328,3.8239999999999998,4.0629999999999997,4.3019999999999996,4.5410000000000004,"Skill","Skill","ATK"]
[null,"Skill Hit 1 DMG (C4)",2.52,2.7090000000000001,2.8979999999999997,3.1500000000000004,3.339,3.5279999999999996,3.7800000000000002,4.032,4.2839999999999998,4.5359999999999996,4.7880000000000003,5.04,5.3549999999999995,5.67,5.9850000000000003,"Skill","Skill","ATK"]
[null,"Skill Hit 2 DMG (C4)",2.8679999999999999,3.0831,3.2981999999999996,3.585,3.8000999999999996,4.0152000000000001,4.3019999999999996,4.5888,4.8756000000000004,5.1623999999999999,5.4492000000000003,5.7359999999999998,6.0945,6.4529999999999994,6.8115000000000006,"Skill","Skill","ATK"]
[null,"Sword Rain DMG",0.54269999999999996,0.58340000000000003,0.62409999999999999,0.6784,0.71909999999999996,0.75980000000000003,0.81410000000000005,0.86839999999999995,0.92259999999999998,0.97689999999999999,1.0311999999999999,1.0853999999999999,1.1533,1.2211000000000001,1.2889999999999999,"Burst","Burst","ATK"]
[null,"Rainsword Healing (Percentage)",0.06,0.06,0.06,0.06,0.06,0.06,0.06,0.06,0.06,0.06,0.06,0.06,0.06,0.06,0.06,"None","None","HP","Percentage"]
[null,"Weapon Proc",null,null,null,null,null,null,null,null,null,null,null,null,null,null,null,"Weapon Proc","Weapon Proc","Select an Attack"]
[null,"Overload",null,null,null,null,null,null,null,null,null,null,null,null,null,null,null,"Transformative","Transformative","EM"]
[null,"Shatter",null,null,null,null,null,null,null,null,null,null,null,null,null,null,null,"Transformative","Transformative","EM"]
[null,"Electrocharged",null,null,null,null,null,null,null,null,null,null,null,null,null,null,null,"Transformative","Transformative","EM"]
[null,"Superconduct",null,null,null,null,null,null,null,null,null,null,null,null,null,null,null,"Transformative","Transformative","EM"]
[null,"Pyro Swirl",null,null,null,null,null,null,null,null,null,null,null,null,null,null,null,"Transformative","Transformative","EM"]
[null,"Cryo Swirl",null,null,null,null,null,null,null,null,null,null,null,null,null,null,null,"Transformative","Transformative","EM"]
[null,"Hydro Swirl",null,null,null,null,null,null,null,null,null,null,null,null,null,null,null,"Transformative","Transformative","EM"]
["Xingqiu-End","Electro Swirl",null,null,null,null,null,null,null,null,null,null,null,null,null,null,null,"Transformative","Transformative","EM"]
[null,"Xinyan",1,2,3,4,5,6,7,8,9,10,11,12,13,14,15,"Damage Type","Scaling Talent","Scaling Stat"]
["Xinyan-Start","1-Hit DMG",0.76539999999999997,0.82769999999999999,0.89,0.97899999999999998,1.0412999999999999,1.1125,1.2103999999999999,1.3083,1.4061999999999999,1.5129999999999999,1.6197999999999999,1.7265999999999999,1.8333999999999999,1.9401999999999999,2.0470000000000002,"Normal","Normal","ATK"]
[null,"2-Hit DMG",0.73960000000000004,0.79979999999999996,0.86,0.94599999999999995,1.0062,1.075,1.1696,1.2642,1.3588,1.462,1.5651999999999999,1.6684000000000001,1.7716000000000001,1.8748,1.978,"Normal","Normal","ATK"]
[null,"3-Hit DMG",0.9546,1.0323,1.1100000000000001,1.2210000000000001,1.2987,1.3875,1.5096000000000001,1.6316999999999999,1.7538,1.887,2.0202,2.1534,2.2866,2.4198,2.5529999999999999,"Normal","Normal","ATK"]
[null,"4-Hit DMG",1.1584000000000001,1.2526999999999999,1.347,1.4817,1.5760000000000001,1.6838,1.8319000000000001,1.9801,2.1282999999999999,2.2898999999999998,2.4514999999999998,2.6132,2.7747999999999999,2.9365000000000001,3.0981000000000001,"Normal","Normal","ATK"]
[null,"Charged Attack Spinning DMG",0.62549999999999994,0.6764,0.72729999999999995,0.8,0.85089999999999999,0.90910000000000002,0.98909999999999998,1.0690999999999999,1.1491,1.2363999999999999,1.3236000000000001,1.4109,1.4982,1.5854999999999999,1.6727000000000001,"Charged","Charged","ATK"]
[null,"Charged Attack Final DMG",1.1309,1.2230000000000001,1.3149999999999999,1.4464999999999999,1.5386,1.6437999999999999,1.7884,1.9331,2.0777000000000001,2.2355,2.3933,2.5510999999999999,2.7088999999999999,2.8666999999999998,3.0245000000000002,"Charged","Charged","ATK"]
[null,"Collision Plunge DMG",0.74590000000000001,0.80659999999999998,0.86729999999999996,0.95399999999999996,1.0146999999999999,1.0841000000000001,1.1795,1.2748999999999999,1.3703000000000001,1.4743999999999999,1.5785,1.6826000000000001,1.7866,1.8907,1.9947999999999999,"Plunge","Plunge","ATK"]
[null,"Low Plunge DMG",1.4914000000000001,1.6128,1.7342,1.9077,2.0291000000000001,2.1678000000000002,2.3586,2.5493000000000001,2.7401,2.9481999999999999,3.1562999999999999,3.3643999999999998,3.5724999999999998,3.7806000000000002,3.9887000000000001,"Plunge","Plunge","ATK"]
[null,"High Plunge DMG",1.8629,2.0145,2.1661999999999999,2.3828,2.5344000000000002,2.7077,2.9460000000000002,3.1842000000000001,3.4224999999999999,3.6825000000000001,3.9424000000000001,4.2023000000000001,4.4622999999999999,4.7222,4.9821,"Plunge","Plunge","ATK"]
[null,"Skill Swing DMG",1.696,1.8231999999999999,1.9503999999999999,2.12,2.2471999999999999,2.3744000000000001,2.544,2.7136,2.8832,3.0528,3.2223999999999999,3.3919999999999999,3.6040000000000001,3.8159999999999998,4.0279999999999996,"Skill","Skill","ATK"]
[null,"Skill DoT",0.33600000000000002,0.36120000000000002,0.38640000000000002,0.42,0.44519999999999998,0.47039999999999998,0.504,0.53759999999999997,0.57120000000000004,0.6048,0.63839999999999997,0.67200000000000004,0.71399999999999997,0.75600000000000001,0.79800000000000004,"Skill","Skill","ATK"]
[null,"Burst DMG",3.4079999999999999,3.6636000000000002,3.9192,4.26,4.5156000000000001,4.7712000000000003,5.1120000000000001,5.4527999999999999,5.7935999999999996,6.1344000000000003,6.4752000000000001,6.8159999999999998,7.242,7.6680000000000001,8.0939999999999994,"Burst","Burst","ATK"]
[null,"Burst Pyro DoT DMG",0.4,0.43,0.46,0.5,0.53,0.56000000000000005,0.6,0.64,0.68,0.72,0.76,0.8,0.85,0.9,0.95,"Burst","Burst","ATK"]
[null,"Rockin' in a Flaming World (C6)",0.5,0.5,0.5,0.5,0.5,0.5,0.5,0.5,0.5,0.5,0.5,0.5,0.5,0.5,0.5,"Charged","Charged","DEF"]
[null,"Weapon Proc",null,null,null,null,null,null,null,null,null,null,null,null,null,null,null,"Weapon Proc","Weapon Proc","Select an Attack"]
[null,"Overload",null,null,null,null,null,null,null,null,null,null,null,null,null,null,null,"Transformative","Transformative","EM"]
[null,"Shatter",null,null,null,null,null,null,null,null,null,null,null,null,null,null,null,"Transformative","Transformative","EM"]
[null,"Electrocharged",null,null,null,null,null,null,null,null,null,null,null,null,null,null,null,"Transformative","Transformative","EM"]
[null,"Superconduct",null,null,null,null,null,null,null,null,null,null,null,null,null,null,null,"Transformative","Transformative","EM"]
[null,"Pyro Swirl",null,null,null,null,null,null,null,null,null,null,null,null,null,null,null,"Transformative","Transformative","EM"]
[null,"Cryo Swirl",null,null,null,null,null,null,null,null,null,null,null,null,null,null,null,"Transformative","Transformative","EM"]
[null,"Hydro Swirl",null,null,null,null,null,null,null,null,null,null,null,null,null,null,null,"Transformative","Transformative","EM"]
["Xinyan-End","Electro Swirl",null,null,null,null,null,null,null,null,null,null,null,null,null,null,null,"Transformative","Transformative","EM"]
[null,"Yae",1,2,3,4,5,6,7,8,9,10,11,12,13,14,15,"Damage Type","Scaling Talent","Scaling Stat"]
["Yae-Start","1-Hit DMG",0.39660000000000001,0.42630000000000001,0.45610000000000001,0.49569999999999997,0.52549999999999997,0.55520000000000003,0.59489999999999998,0.63449999999999995,0.67420000000000002,0.71389999999999998,0.75349999999999995,0.79320000000000002,0.8427,0.89229999999999998,0.94189999999999996,"Normal","Normal","ATK"]
[null,"2-Hit DMG",0.38519999999999999,0.41410000000000002,0.443,0.48149999999999998,0.51039999999999996,0.5393,0.57779999999999998,0.61629999999999996,0.65480000000000005,0.69330000000000003,0.7319,0.77039999999999997,0.81850000000000001,0.86670000000000003,0.91479999999999995,"Normal","Normal","ATK"]
[null,"3-Hit DMG",0.56889999999999996,0.61160000000000003,0.6542,0.71109999999999995,0.75380000000000003,0.7964,0.85329999999999995,0.91020000000000001,0.96709999999999996,1.024,1.0809,1.1377999999999999,1.2089000000000001,1.28,1.3511,"Normal","Normal","ATK"]
[null,"Charged ATK DMG",1.4289000000000001,1.5361,1.6433,1.7862,1.8934,2.0005000000000002,2.1434000000000002,2.2863000000000002,2.4291999999999998,2.5720999999999998,2.7149999999999999,2.8578999999999999,3.0365000000000002,3.2151000000000001,3.3938000000000001,"Charged","Charged","ATK"]
[null,"Collision Plunge DMG",0.56830000000000003,0.61450000000000005,0.66080000000000005,0.72689999999999999,0.77310000000000001,0.82599999999999996,0.89870000000000005,0.97140000000000004,1.0441,1.1234,1.2027000000000001,1.282,1.3612,1.4404999999999999,1.5198,"Plunge","Plunge","ATK"]
[null,"Low Plunge DMG",1.1363000000000001,1.2287999999999999,1.3212999999999999,1.4535,1.5459000000000001,1.6516999999999999,1.7969999999999999,1.9422999999999999,2.0876999999999999,2.2462,2.4047999999999998,2.5634000000000001,2.7219000000000002,2.8805000000000001,3.0390000000000001,"Plunge","Plunge","ATK"]
[null,"High Plunge DMG",1.4193,1.5348999999999999,1.6504000000000001,1.8153999999999999,1.931,2.0630000000000002,2.2444999999999999,2.4260999999999999,2.6076000000000001,2.8056999999999999,3.0036999999999998,3.2018,3.3997999999999999,3.5979000000000001,3.7959000000000001,"Plunge","Plunge","ATK"]
[null,"Sesshou Sakura DMG: Level 1",0.60670000000000002,0.6522,0.69769999999999999,0.75839999999999996,0.80389999999999995,0.84940000000000004,0.91010000000000002,0.9708,1.0314000000000001,1.0921000000000001,1.1528,1.2134,1.2892999999999999,1.3651,1.4410000000000001,"Skill","Skill","ATK"]
[null,"Sesshou Sakura DMG: Level 2",0.75839999999999996,0.81530000000000002,0.87219999999999998,0.94799999999999995,1.0048999999999999,1.0618000000000001,1.1375999999999999,1.2134,1.2892999999999999,1.3651,1.4410000000000001,1.5167999999999999,1.6115999999999999,1.7063999999999999,1.8011999999999999,"Skill","Skill","ATK"]
[null,"Sesshou Sakura DMG: Level 3",0.94799999999999995,1.0190999999999999,1.0902000000000001,1.1850000000000001,1.2561,1.3271999999999999,1.4219999999999999,1.5167999999999999,1.6115999999999999,1.7063999999999999,1.8011999999999999,1.8959999999999999,2.0145,2.133,2.2515000000000001,"Skill","Skill","ATK"]
[null,"Sesshou Sakura DMG: Level 4",1.1850000000000001,1.2739,1.3628,1.4813000000000001,1.5701000000000001,1.659,1.7775000000000001,1.8959999999999999,2.0145,2.133,2.2515000000000001,2.37,2.5181,2.6663000000000001,2.8144,"Skill","Skill","ATK"]
[null,"Burst DMG",2.6,2.7949999999999999,2.99,3.25,3.4449999999999998,3.64,3.9,4.16,4.42,4.68,4.9400000000000004,5.2,5.5250000000000004,5.85,6.1749999999999998,"Burst","Burst","ATK"]
[null,"Sky Kitsune Thunderbolt DMG",3.3382000000000001,3.5884999999999998,3.8389000000000002,4.1726999999999999,4.4230999999999998,4.6734,5.0072000000000001,5.3411,5.6749000000000001,6.0087000000000002,6.3425000000000002,6.6763000000000003,7.0936000000000003,7.5109000000000004,7.9280999999999997,"Burst","Burst","ATK"]
[null,"Weapon Proc",null,null,null,null,null,null,null,null,null,null,null,null,null,null,null,"Weapon Proc","Weapon Proc","Select an Attack"]
[null,"Overload",null,null,null,null,null,null,null,null,null,null,null,null,null,null,null,"Transformative","Transformative","EM"]
[null,"Shatter",null,null,null,null,null,null,null,null,null,null,null,null,null,null,null,"Transformative","Transformative","EM"]
[null,"Electrocharged",null,null,null,null,null,null,null,null,null,null,null,null,null,null,null,"Transformative","Transformative","EM"]
[null,"Superconduct",null,null,null,null,null,null,null,null,null,null,null,null,null,null,null,"Transformative","Transformative","EM"]
[null,"Pyro Swirl",null,null,null,null,null,null,null,null,null,null,null,null,null,null,null,"Transformative","Transformative","EM"]
[null,"Cryo Swirl",null,null,null,null,null,null,null,null,null,null,null,null,null,null,null,"Transformative","Transformative","EM"]
[null,"Hydro Swirl",null,null,null,null,null,null,null,null,null,null,null,null,null,null,null,"Transformative","Transformative","EM"]
["Yae-End","Electro Swirl",null,null,null,null,null,null,null,null,null,null,null,null,null,null,null,"Transformative","Transformative","EM"]
[null,"Yanfei",1,2,3,4,5,6,7,8,9,10,11,12,13,14,15,"Damage Type","Scaling Talent","Scaling Stat"]
["Yanfei-Start","1-Hit DMG",0.58340000000000003,0.62719999999999998,0.67090000000000005,0.72929999999999995,0.77300000000000002,0.81679999999999997,0.87509999999999999,0.9335,0.99180000000000001,1.0501,1.1085,1.1668000000000001,1.2398,1.3127,1.3855999999999999,"Normal","Normal","ATK"]
[null,"2-Hit DMG",0.52129999999999999,0.56040000000000001,0.59940000000000004,0.65159999999999996,0.69069999999999998,0.7298,0.78190000000000004,0.83399999999999996,0.8861,0.93830000000000002,0.99039999999999995,1.0425,1.1076999999999999,1.1728000000000001,1.238,"Normal","Normal","ATK"]
[null,"3-Hit DMG",0.7601,0.81710000000000005,0.87409999999999999,0.95020000000000004,1.0072000000000001,1.0642,1.1402000000000001,1.2161999999999999,1.2922,1.3682000000000001,1.4441999999999999,1.5203,1.6153,1.7102999999999999,1.8052999999999999,"Normal","Normal","ATK"]
[null,"Charged Attack 0 Stacks",0.98229999999999995,1.0410999999999999,1.0999000000000001,1.1763999999999999,1.2352000000000001,1.294,1.3705000000000001,1.4470000000000001,1.5234000000000001,1.5999000000000001,1.6763999999999999,1.7527999999999999,1.8292999999999999,1.9057999999999999,1.9822,"Charged","Charged","ATK"]
[null,"Charged Attack 1 Stack",1.1556,1.2248000000000001,1.294,1.3839999999999999,1.4532,1.5224,1.6124000000000001,1.7022999999999999,1.7923,1.8822000000000001,1.9722,2.0621999999999998,2.1520999999999999,2.2421000000000002,2.3319999999999999,"Charged","Charged","ATK"]
[null,"Charged Attack 2 Stacks",1.329,1.4086000000000001,1.4881,1.5915999999999999,1.6712,1.7507999999999999,1.8542000000000001,1.9577,2.0611000000000002,2.1646000000000001,2.2679999999999998,2.3715000000000002,2.4748999999999999,2.5783999999999998,2.6818,"Charged","Charged","ATK"]
[null,"Charged Attack 3 Stacks",1.5023,1.5923,1.6822999999999999,1.7991999999999999,1.8892,1.9791000000000001,2.0960999999999999,2.2130000000000001,2.33,2.4468999999999999,2.5638999999999998,2.6808000000000001,2.7978000000000001,2.9146999999999998,3.0316999999999998,"Charged","Charged","ATK"]
[null,"Charged Attack 4 Stacks",1.6757,1.776,1.8764000000000001,2.0068000000000001,2.1071,2.2075,2.3378999999999999,2.4683999999999999,2.5988000000000002,2.7292000000000001,2.8597000000000001,2.9901,3.1206,3.2509999999999999,3.3815,"Charged","Charged","ATK"]
[null,"Collision Plunge DMG",0.56830000000000003,0.61450000000000005,0.66080000000000005,0.72689999999999999,0.77310000000000001,0.82599999999999996,0.89870000000000005,0.97140000000000004,1.0441,1.1234,1.2027000000000001,1.282,1.3612,1.4404999999999999,1.5198,"Plunge","Plunge","ATK"]
[null,"Low Plunge DMG",1.1363000000000001,1.2287999999999999,1.3212999999999999,1.4535,1.5459000000000001,1.6516999999999999,1.7969999999999999,1.9422999999999999,2.0876999999999999,2.2462,2.4047999999999998,2.5634000000000001,2.7219000000000002,2.8805000000000001,3.0390000000000001,"Plunge","Plunge","ATK"]
[null,"High Plunge DMG",1.4193,1.5348999999999999,1.6504000000000001,1.8153999999999999,1.931,2.0630000000000002,2.2444999999999999,2.4260999999999999,2.6076000000000001,2.8056999999999999,3.0036999999999998,3.2018,3.3997999999999999,3.5979000000000001,3.7959000000000001,"Plunge","Plunge","ATK"]
[null,"Skill DMG",1.696,1.8231999999999999,1.9503999999999999,2.12,2.2471999999999999,2.3744000000000001,2.544,2.7136,2.8832,3.0528,3.2223999999999999,3.3919999999999999,3.6040000000000001,3.8159999999999998,4.0279999999999996,"Skill","Skill","ATK"]
[null,"Burst DMG",1.8240000000000001,1.9608000000000001,2.0975999999999999,2.2799999999999998,2.4167999999999998,2.5535999999999999,2.7360000000000002,2.9184000000000001,3.1008,3.2831999999999999,3.4655999999999998,3.6480000000000001,3.8759999999999999,4.1040000000000001,4.3319999999999999,"Burst","Burst","ATK"]
[null,"Blazing Eye (A4)",0.8,0.8,0.8,0.8,0.8,0.8,0.8,0.8,0.8,0.8,0.8,0.8,0.8,0.8,0.8,"Charged","Charged","ATK"]
[null,"Weapon Proc",null,null,null,null,null,null,null,null,null,null,null,null,null,null,null,"Weapon Proc","Weapon Proc","Select an Attack"]
[null,"Overload",null,null,null,null,null,null,null,null,null,null,null,null,null,null,null,"Transformative","Transformative","EM"]
[null,"Shatter",null,null,null,null,null,null,null,null,null,null,null,null,null,null,null,"Transformative","Transformative","EM"]
[null,"Electrocharged",null,null,null,null,null,null,null,null,null,null,null,null,null,null,null,"Transformative","Transformative","EM"]
[null,"Superconduct",null,null,null,null,null,null,null,null,null,null,null,null,null,null,null,"Transformative","Transformative","EM"]
[null,"Pyro Swirl",null,null,null,null,null,null,null,null,null,null,null,null,null,null,null,"Transformative","Transformative","EM"]
[null,"Cryo Swirl",null,null,null,null,null,null,null,null,null,null,null,null,null,null,null,"Transformative","Transformative","EM"]
[null,"Hydro Swirl",null,null,null,null,null,null,null,null,null,null,null,null,null,null,null,"Transformative","Transformative","EM"]
["Yanfei-End","Electro Swirl",null,null,null,null,null,null,null,null,null,null,null,null,null,null,null,"Transformative","Transformative","EM"]
[null,"Yoimiya",1,2,3,4,5,6,7,8,9,10,11,12,13,14,15,"Damage Type","Scaling Talent","Scaling Stat"]
["Yoimiya-Start","1-Hit DMG (Per Hit, 2 Hits)",0.35639999999999999,0.38069999999999998,0.40500000000000003,0.43740000000000001,0.4617,0.49009999999999998,0.52649999999999997,0.56289999999999996,0.59940000000000004,0.63590000000000002,0.67230000000000001,0.70879999999999999,0.74519999999999997,0.78169999999999995,0.81810000000000005,"Normal","Normal","ATK"]
[null,"2-Hit DMG",0.68379999999999996,0.73040000000000005,0.77700000000000002,0.83919999999999995,0.88580000000000003,0.94020000000000004,1.0101,1.08,1.1499999999999999,1.2199,1.2898000000000001,1.3597999999999999,1.4297,1.4996,1.5694999999999999,"Normal","Normal","ATK"]
[null,"3-Hit DMG",0.88890000000000002,0.94950000000000001,1.0101,1.0909,1.1515,1.2222,1.3130999999999999,1.4039999999999999,1.4948999999999999,1.5859000000000001,1.6768000000000001,1.7677,1.8586,1.9495,2.0404,"Normal","Normal","ATK"]
[null,"4-Hit DMG (Per Hit, 2 Hits)",0.4642,0.49590000000000001,0.52749999999999997,0.56969999999999998,0.60140000000000005,0.63829999999999998,0.68579999999999997,0.73319999999999996,0.78069999999999995,0.82820000000000005,0.87570000000000003,0.92310000000000003,0.97060000000000002,1.0181,1.0656000000000001,"Normal","Normal","ATK"]
[null,"5-Hit DMG",1.0586,1.1308,1.2030000000000001,1.2991999999999999,1.3714,1.4556,1.5639000000000001,1.6721999999999999,1.7804,1.8887,1.9970000000000001,2.1053000000000002,2.2134999999999998,2.3218000000000001,2.4300999999999999,"Normal","Normal","ATK"]
[null,"Aimed Shot",0.43859999999999999,0.4743,0.51,0.56100000000000005,0.59670000000000001,0.63749999999999996,0.69359999999999999,0.74970000000000003,0.80579999999999996,0.86699999999999999,0.92820000000000003,0.98939999999999995,1.0506,1.1117999999999999,1.173,"Charged","Charged","ATK"]
[null,"Fully-Charged Aimed Shot",1.24,1.333,1.4259999999999999,1.55,1.643,1.736,1.86,1.984,2.1080000000000001,2.2320000000000002,2.3559999999999999,2.48,2.6349999999999998,2.79,2.9449999999999998,"Charged","Charged","ATK"]
[null,"Kindling Arrow DMG",0.16400000000000001,0.17630000000000001,0.18859999999999999,0.20499999999999999,0.21729999999999999,0.2296,0.246,0.26240000000000002,0.27879999999999999,0.29520000000000002,0.31159999999999999,0.32800000000000001,0.34849999999999998,0.36899999999999999,0.38950000000000001,"Charged","Charged","ATK"]
[null,"Collision Plunge DMG",0.56830000000000003,0.61450000000000005,0.66080000000000005,0.72689999999999999,0.77310000000000001,0.82599999999999996,0.89870000000000005,0.97140000000000004,1.0441,1.1234,1.2027000000000001,1.282,1.3612,1.4404999999999999,1.5198,"Plunge","Plunge","ATK"]
[null,"Low Plunge DMG",1.1363000000000001,1.2287999999999999,1.3212999999999999,1.4535,1.5459000000000001,1.6516999999999999,1.7969999999999999,1.9422999999999999,2.0876999999999999,2.2462,2.4047999999999998,2.5634000000000001,2.7219000000000002,2.8805000000000001,3.0390000000000001,"Plunge","Plunge","ATK"]
[null,"High Plunge DMG",1.4193,1.5348999999999999,1.6504000000000001,1.8153999999999999,1.931,2.0630000000000002,2.2444999999999999,2.4260999999999999,2.6076000000000001,2.8056999999999999,3.0036999999999998,3.2018,3.3997999999999999,3.5979000000000001,3.7959000000000001,"Plunge","Plunge","ATK"]
[null,"Burst Initial Hit DMG",1.272,1.3673999999999999,1.4628000000000001,1.59,1.6854,1.7807999999999999,1.9079999999999999,2.0352000000000001,2.1623999999999999,2.2896000000000001,2.4167999999999998,2.544,2.7029999999999998,2.8620000000000001,3.0209999999999999,"Burst","Burst","ATK"]
[null,"Aurous Blaze Explosion DMG",1.22,1.3115000000000001,1.403,1.5249999999999999,1.6165,1.708,1.83,1.952,2.0739999999999998,2.1960000000000002,2.3180000000000001,2.44,2.5924999999999998,2.7450000000000001,2.8975,"Burst","Burst","ATK"]
[null,"C6 1-Hit DMG",0.42768,0.45683999999999997,0.48599999999999999,0.52488000000000001,0.55403999999999998,0.58811999999999998,0.63179999999999992,0.67547999999999997,0.71928000000000003,0.76307999999999998,0.80676000000000003,0.85055999999999998,0.89423999999999992,0.93803999999999987,0.98172000000000004,"Normal","Normal","ATK"]
[null,"C6 2-Hit DMG",0.41027999999999998,0.43824000000000002,0.4662,0.50351999999999997,0.53147999999999995,0.56411999999999995,0.60605999999999993,0.64800000000000002,0.69,0.73193999999999992,0.77388000000000001,0.81587999999999994,0.85781999999999992,0.89976,0.94169999999999987,"Normal","Normal","ATK"]
[null,"C6 3-Hit DMG",0.53334000000000004,0.56969999999999998,0.60605999999999993,0.65454000000000001,0.69089999999999996,0.73331999999999997,0.78785999999999989,0.84239999999999993,0.89693999999999996,0.95154000000000005,1.0060800000000001,1.0606199999999999,1.1151599999999999,1.1697,1.22424,"Normal","Normal","ATK"]
[null,"C6 4-Hit DMG",0.55703999999999998,0.59507999999999994,0.6329999999999999,0.68363999999999991,0.72167999999999999,0.76595999999999997,0.82295999999999991,0.87983999999999996,0.9368399999999999,0.99384000000000006,1.05084,1.10772,1.16472,1.2217199999999999,1.2787200000000001,"Normal","Normal","ATK"]
[null,"C6 5-Hit DMG",0.63515999999999995,0.67847999999999997,0.7218,0.77951999999999988,0.8228399999999999,0.87336000000000003,0.93833999999999995,1.00332,1.0682399999999999,1.1332199999999999,1.1981999999999999,1.26318,1.3280999999999998,1.3930800000000001,1.4580599999999999,"Normal","Normal","ATK"]
[null,"Weapon Proc",null,null,null,null,null,null,null,null,null,null,null,null,null,null,null,"Weapon Proc","Weapon Proc","Select an Attack"]
[null,"Overload",null,null,null,null,null,null,null,null,null,null,null,null,null,null,null,"Transformative","Transformative","EM"]
[null,"Shatter",null,null,null,null,null,null,null,null,null,null,null,null,null,null,null,"Transformative","Transformative","EM"]
[null,"Electrocharged",null,null,null,null,null,null,null,null,null,null,null,null,null,null,null,"Transformative","Transformative","EM"]
[null,"Superconduct",null,null,null,null,null,null,null,null,null,null,null,null,null,null,null,"Transformative","Transformative","EM"]
[null,"Pyro Swirl",null,null,null,null,null,null,null,null,null,null,null,null,null,null,null,"Transformative","Transformative","EM"]
[null,"Cryo Swirl",null,null,null,null,null,null,null,null,null,null,null,null,null,null,null,"Transformative","Transformative","EM"]
[null,"Hydro Swirl",null,null,null,null,null,null,null,null,null,null,null,null,null,null,null,"Transformative","Transformative","EM"]
["Yoimiya-End","Electro Swirl",null,null,null,null,null,null,null,null,null,null,null,null,null,null,null,"Transformative","Transformative","EM"]
[null,"Yunjin",null,null,null,null,null,null,null,null,null,null,null,null,null,null,null,"Damage Type","Scaling Talent","Scaling Stat"]
["Yunjin-Start","1-Hit DMG",0.40510000000000002,0.438,0.47099999999999997,0.5181,0.55110000000000003,0.58879999999999999,0.64059999999999995,0.69240000000000002,0.74419999999999997,0.80069999999999997,0.85719999999999996,0.91369999999999996,0.97030000000000005,1.0267999999999999,1.0832999999999999,"Normal","Normal","ATK"]
[null,"2-Hit DMG",0.40250000000000002,0.43519999999999998,0.46800000000000003,0.51480000000000004,0.54759999999999998,0.58499999999999996,0.63649999999999995,0.68799999999999994,0.73939999999999995,0.79559999999999997,0.8518,0.90790000000000004,0.96409999999999996,1.0202,1.0764,"Normal","Normal","ATK"]
[null,"3-Hit Hit 1 DMG",0.2296,0.24829999999999999,0.26700000000000002,0.29370000000000002,0.31240000000000001,0.33379999999999999,0.36309999999999998,0.39250000000000002,0.4219,0.45390000000000003,0.4859,0.51800000000000002,0.55000000000000004,0.58209999999999995,0.61409999999999998,"Normal","Normal","ATK"]
[null,"3-Hit Hit 2 DMG",0.2752,0.29759999999999998,0.32,0.35199999999999998,0.37440000000000001,0.4,0.43519999999999998,0.47039999999999998,0.50560000000000005,0.54400000000000004,0.58240000000000003,0.62080000000000002,0.65920000000000001,0.6976,0.73599999999999999,"Normal","Normal","ATK"]
[null,"4-Hit Hit 1 DMG",0.2399,0.25950000000000001,0.27900000000000003,0.30690000000000001,0.32640000000000002,0.3488,0.37940000000000002,0.41010000000000002,0.44080000000000003,0.4743,0.50780000000000003,0.5413,0.57469999999999999,0.60819999999999996,0.64170000000000005,"Normal","Normal","ATK"]
[null,"4-Hit Hit 2 DMG",0.28810000000000002,0.31159999999999999,0.33500000000000002,0.36849999999999999,0.39200000000000002,0.41880000000000001,0.4556,0.49249999999999999,0.52929999999999999,0.56950000000000001,0.60970000000000002,0.64990000000000003,0.69010000000000005,0.73029999999999995,0.77049999999999996,"Normal","Normal","ATK"]
[null,"5-Hit DMG",0.6734,0.72819999999999996,0.78300000000000003,0.86129999999999995,0.91610000000000003,0.9788,1.0649,1.151,1.2371000000000001,1.3310999999999999,1.4251,1.5189999999999999,1.613,1.7069000000000001,1.8008999999999999,"Normal","Normal","ATK"]
[null,"Charged Attack DMG",1.2169000000000001,1.3160000000000001,1.415,1.5565,1.6556,1.7687999999999999,1.9244000000000001,2.0800999999999998,2.2357,2.4055,2.6000999999999999,2.8289,3.0577000000000001,3.2865000000000002,3.5360999999999998,"Charged","Charged","ATK"]
[null,"Collision Plunge DMG",0.63929999999999998,0.69140000000000001,0.74339999999999995,0.81769999999999998,0.86980000000000002,0.92930000000000001,1.0109999999999999,1.0928,1.1746000000000001,1.2638,1.353,1.4421999999999999,1.5314000000000001,1.6206,1.7098,"Plunge","Plunge","ATK"]
[null,"Low Plunge DMG",1.2784,1.3824000000000001,1.4864999999999999,1.6351,1.7392000000000001,1.8581000000000001,2.0215999999999998,2.1850999999999998,2.3485999999999998,2.5270000000000001,2.7054,2.8837999999999999,3.0621999999999998,3.2404999999999999,3.4188999999999998,"Plunge","Plunge","ATK"]
[null,"High Plunge DMG",1.5968,1.7266999999999999,1.8567,2.0424000000000002,2.1722999999999999,2.3209,2.5251000000000001,2.7292999999999998,2.9336000000000002,3.1564000000000001,3.3792,3.6019999999999999,3.8248000000000002,4.0476000000000001,4.2704000000000004,"Plunge","Plunge","ATK"]
[null,"Skill Press DMG",1.4912000000000001,1.603,1.7149000000000001,1.8640000000000001,1.9758,2.0876999999999999,2.2368000000000001,2.3858999999999999,2.5350000000000001,2.6842000000000001,2.8332999999999999,2.9824000000000002,3.1688000000000001,3.3552,3.5415999999999999,"Skill","Skill","DEF"]
[null,"Skill Charge Level 1 DMG",2.6095999999999999,2.8052999999999999,3.0009999999999999,3.262,3.4577,3.6534,3.9144000000000001,4.1753999999999998,4.4363000000000001,4.6973000000000003,4.9581999999999997,5.2191999999999998,5.5453999999999999,5.8715999999999999,6.1978,"Skill","Skill","DEF"]
[null,"Skill Charge Level 2 DMG",3.7280000000000002,4.0076000000000001,4.2872000000000003,4.66,4.9396000000000004,5.2191999999999998,5.5919999999999996,5.9648000000000003,6.3376000000000001,6.7103999999999999,7.0831999999999997,7.4560000000000004,7.9219999999999997,8.3879999999999999,8.8539999999999992,"Skill","Skill","DEF"]
[null,"Burst DMG",2.44,2.6230000000000002,2.806,3.05,3.2330000000000001,3.4159999999999999,3.66,3.9039999999999999,4.1479999999999997,4.3920000000000003,4.6360000000000001,4.88,5.1849999999999996,5.49,5.7949999999999999,"Burst","Burst","ATK"]
[null,"Weapon Proc",null,null,null,null,null,null,null,null,null,null,null,null,null,null,null,"Weapon Proc","Weapon Proc","Select an Attack"]
[null,"Overload",null,null,null,null,null,null,null,null,null,null,null,null,null,null,null,"Transformative","Transformative","EM"]
[null,"Shatter",null,null,null,null,null,null,null,null,null,null,null,null,null,null,null,"Transformative","Transformative","EM"]
[null,"Electrocharged",null,null,null,null,null,null,null,null,null,null,null,null,null,null,null,"Transformative","Transformative","EM"]
[null,"Superconduct",null,null,null,null,null,null,null,null,null,null,null,null,null,null,null,"Transformative","Transformative","EM"]
[null,"Pyro Swirl",null,null,null,null,null,null,null,null,null,null,null,null,null,null,null,"Transformative","Transformative","EM"]
[null,"Cryo Swirl",null,null,null,null,null,null,null,null,null,null,null,null,null,null,null,"Transformative","Transformative","EM"]
[null,"Hydro Swirl",null,null,null,null,null,null,null,null,null,null,null,null,null,null,null,"Transformative","Transformative","EM"]
["Yunjin-End","Electro Swirl",null,null,null,null,null,null,null,null,null,null,null,null,null,null,null,"Transformative","Transformative","EM"]
[null,"Zhongli",1,2,3,4,5,6,7,8,9,10,11,12,13,14,15,"Damage Type","Scaling Talent","Scaling Stat"]
["Zhongli-Start","1-Hit DMG",0.30769999999999997,0.3327,0.35780000000000001,0.39360000000000001,0.41860000000000003,0.44719999999999999,0.48659999999999998,0.52590000000000003,0.56530000000000002,0.60819999999999996,0.65739999999999998,0.71530000000000005,0.77310000000000001,0.83099999999999996,0.89410000000000001,"Normal","Normal","ATK"]
[null,"2-Hit DMG",0.3115,0.33689999999999998,0.36220000000000002,0.39850000000000002,0.42380000000000001,0.45279999999999998,0.49259999999999998,0.53249999999999997,0.57230000000000003,0.61580000000000001,0.66559999999999997,0.72419999999999995,0.78269999999999995,0.84130000000000005,0.9052,"Normal","Normal","ATK"]
[null,"3-Hit DMG",0.38579999999999998,0.41720000000000002,0.4486,0.49340000000000001,0.52480000000000004,0.56069999999999998,0.61,0.65939999999999999,0.7087,0.76259999999999994,0.82420000000000004,0.89680000000000004,0.96930000000000005,1.0418000000000001,1.121,"Normal","Normal","ATK"]
[null,"4-Hit DMG",0.4294,0.46429999999999999,0.49930000000000002,0.54920000000000002,0.58420000000000005,0.62409999999999999,0.67900000000000005,0.73399999999999999,0.78890000000000005,0.8488,0.91739999999999999,0.99819999999999998,1.0789,1.1597,1.2477,"Normal","Normal","ATK"]
[null,"5-Hit DMG (Per Hit, 4 Hits)",0.1075,0.1163,0.125,0.13750000000000001,0.14630000000000001,0.15629999999999999,0.17,0.18379999999999999,0.19750000000000001,0.21249999999999999,0.22969999999999999,0.24990000000000001,0.27010000000000001,0.2903,0.31240000000000001,"Normal","Normal","ATK"]
[null,"6-Hit DMG",0.54500000000000004,0.58930000000000005,0.63370000000000004,0.69699999999999995,0.74139999999999995,0.79210000000000003,0.86180000000000001,0.93149999999999999,1.0012000000000001,1.0772999999999999,1.1644000000000001,1.2668999999999999,1.3693,1.4718,1.5835999999999999,"Normal","Normal","ATK"]
[null,"Charged Attack DMG",1.1103000000000001,1.2005999999999999,1.2909999999999999,1.4200999999999999,1.5105,1.6137999999999999,1.7558,1.8977999999999999,2.0398000000000001,2.1947000000000001,2.3721999999999999,2.581,2.7896999999999998,2.9984999999999999,3.2262,"Charged","Charged","ATK"]
[null,"Collision Plunge DMG",0.63929999999999998,0.69140000000000001,0.74339999999999995,0.81769999999999998,0.86980000000000002,0.92930000000000001,1.0109999999999999,1.0928,1.1746000000000001,1.2638,1.353,1.4421999999999999,1.5314000000000001,1.6206,1.7098,"Plunge","Plunge","ATK"]
[null,"Low Plunge DMG",1.2784,1.3824000000000001,1.4864999999999999,1.6351,1.7392000000000001,1.8581000000000001,2.0215999999999998,2.1850999999999998,2.3485999999999998,2.5270000000000001,2.7054,2.8837999999999999,3.0621999999999998,3.2404999999999999,3.4188999999999998,"Plunge","Plunge","ATK"]
[null,"High Plunge DMG",1.5968,1.7266999999999999,1.8567,2.0424000000000002,2.1722999999999999,2.3209,2.5251000000000001,2.7292999999999998,2.9336000000000002,3.1564000000000001,3.3792,3.6019999999999999,3.8248000000000002,4.0476000000000001,4.2704000000000004,"Plunge","Plunge","ATK"]
[null,"Hold DMG",0.8,0.86,0.92,1,1.06,1.1200000000000001,1.2,1.28,1.36,1.44,1.52,1.6,1.7,1.8,1.9,"Skill","Skill","ATK"]
[null,"Stone Stele DMG",0.16,0.17199999999999999,0.184,0.2,0.21199999999999999,0.224,0.24,0.25600000000000001,0.27200000000000002,0.28799999999999998,0.30399999999999999,0.32,0.34,0.36,0.38,"Skill","Skill","ATK"]
[null,"Resonance DMG",0.32,0.34399999999999997,0.36799999999999999,0.4,0.42399999999999999,0.44800000000000001,0.48,0.51200000000000001,0.54400000000000004,0.57599999999999996,0.60799999999999998,0.64,0.68,0.72,0.76,"Skill","Skill","ATK"]
[null,"Burst DMG",4.0107999999999997,4.4443999999999999,4.8780000000000001,5.42,5.9077999999999999,6.3956,7.0460000000000003,7.6963999999999997,8.3468,8.9971999999999994,9.6476000000000006,10.298,10.84,11.382,11.923999999999999,"Burst","Burst","ATK"]
[null,"Dominance of Earth Normal Bonus",1.3899999999999999E-2,1.3899999999999999E-2,1.3899999999999999E-2,1.3899999999999999E-2,1.3899999999999999E-2,1.3899999999999999E-2,1.3899999999999999E-2,1.3899999999999999E-2,1.3899999999999999E-2,1.3899999999999999E-2,1.3899999999999999E-2,1.3899999999999999E-2,1.3899999999999999E-2,1.3899999999999999E-2,1.3899999999999999E-2,"Normal","Normal","HP"]
[null,"Dominance of Earth Charged Bonus",1.3899999999999999E-2,1.3899999999999999E-2,1.3899999999999999E-2,1.3899999999999999E-2,1.3899999999999999E-2,1.3899999999999999E-2,1.3899999999999999E-2,1.3899999999999999E-2,1.3899999999999999E-2,1.3899999999999999E-2,1.3899999999999999E-2,1.3899999999999999E-2,1.3899999999999999E-2,1.3899999999999999E-2,1.3899999999999999E-2,"Charged","Charged","HP"]
[null,"Dominance of Earth Plunge Bonus",1.3899999999999999E-2,1.3899999999999999E-2,1.3899999999999999E-2,1.3899999999999999E-2,1.3899999999999999E-2,1.3899999999999999E-2,1.3899999999999999E-2,1.3899999999999999E-2,1.3899999999999999E-2,1.3899999999999999E-2,1.3899999999999999E-2,1.3899999999999999E-2,1.3899999999999999E-2,1.3899999999999999E-2,1.3899999999999999E-2,"Plunge","Plunge","HP"]
[null,"Skill DMG Bonus",1.9E-2,1.9E-2,1.9E-2,1.9E-2,1.9E-2,1.9E-2,1.9E-2,1.9E-2,1.9E-2,1.9E-2,1.9E-2,1.9E-2,1.9E-2,1.9E-2,1.9E-2,"Skill","Skill","HP"]
[null,"Burst DMG Bonus",0.33,0.33,0.33,0.33,0.33,0.33,0.33,0.33,0.33,0.33,0.33,0.33,0.33,0.33,0.33,"Burst","Burst","HP"]
[null,"Weapon Proc",null,null,null,null,null,null,null,null,null,null,null,null,null,null,null,"Weapon Proc","Weapon Proc","Select an Attack"]
[null,"Overload",null,null,null,null,null,null,null,null,null,null,null,null,null,null,null,"Transformative","Transformative","EM"]
[null,"Shatter",null,null,null,null,null,null,null,null,null,null,null,null,null,null,null,"Transformative","Transformative","EM"]
[null,"Electrocharged",null,null,null,null,null,null,null,null,null,null,null,null,null,null,null,"Transformative","Transformative","EM"]
[null,"Superconduct",null,null,null,null,null,null,null,null,null,null,null,null,null,null,null,"Transformative","Transformative","EM"]
[null,"Pyro Swirl",null,null,null,null,null,null,null,null,null,null,null,null,null,null,null,"Transformative","Transformative","EM"]
[null,"Cryo Swirl",null,null,null,null,null,null,null,null,null,null,null,null,null,null,null,"Transformative","Transformative","EM"]
[null,"Hydro Swirl",null,null,null,null,null,null,null,null,null,null,null,null,null,null,null,"Transformative","Transformative","EM"]
["Zhongli-End","Electro Swirl",null,null,null,null,null,null,null,null,null,null,null,null,null,null,null,"Transformative","Transformative","EM"]
[null,"Heizou",1,2,3,4,5,6,7,8,9,10,11,12,13,14,15,"Damage Type","Scaling Talent","Scaling Stat"]
["Heizou-Start","1-Hit DMG",0.37469999999999998,0.40279999999999999,0.43090000000000001,0.46839999999999998,0.4965,0.52459999999999996,0.56210000000000004,0.59960000000000002,0.6371,0.67449999999999999,0.71199999999999997,0.74950000000000006,0.79630000000000001,0.84319999999999995,0.89,"Normal","Normal","ATK"]
[null,"2-Hit DMG",0.36849999999999999,0.3962,0.42380000000000001,0.4607,0.48830000000000001,0.51590000000000003,0.55279999999999996,0.58960000000000001,0.62649999999999995,0.6633,0.70020000000000004,0.73699999999999999,0.78310000000000002,0.82920000000000005,0.87519999999999998,"Normal","Normal","ATK"]
[null,"3-Hit DMG",0.51060000000000005,0.54890000000000005,0.58720000000000006,0.63829999999999998,0.67649999999999999,0.71479999999999999,0.76590000000000003,0.81699999999999995,0.86799999999999999,0.91910000000000003,0.97009999999999996,1.0212000000000001,1.085,1.1489,1.2126999999999999,"Normal","Normal","ATK"]
[null,"4-Hit Hit 1 DMG",0.14779999999999999,0.15890000000000001,0.17,0.18479999999999999,0.19589999999999999,0.20699999999999999,0.22170000000000001,0.23649999999999999,0.25130000000000002,0.2661,0.28089999999999998,0.29559999999999997,0.31409999999999999,0.33260000000000001,0.35110000000000002,"Normal","Normal","ATK"]
[null,"4-Hit Hit 2 DMG",0.16259999999999999,0.17480000000000001,0.187,0.20330000000000001,0.2155,0.22770000000000001,0.24390000000000001,0.26019999999999999,0.27639999999999998,0.29270000000000002,0.309,0.32519999999999999,0.34549999999999997,0.3659,0.38619999999999999,"Normal","Normal","ATK"]
[null,"4-Hit Hit 3 DMG",0.19220000000000001,0.20660000000000001,0.221,0.2402,0.25459999999999999,0.26900000000000002,0.2883,0.3075,0.32669999999999999,0.34589999999999999,0.36509999999999998,0.38440000000000002,0.40839999999999999,0.43240000000000001,0.45639999999999997,"Normal","Normal","ATK"]
[null,"5-Hit DMG",0.61450000000000005,0.66059999999999997,0.70669999999999999,0.7681,0.81420000000000003,0.86029999999999995,0.92169999999999996,0.98319999999999996,1.0446,1.1061000000000001,1.1675,1.2290000000000001,1.3058000000000001,1.3826000000000001,1.4594,"Normal","Normal","ATK"]
[null,"Charged Attack",0.73,0.78480000000000005,0.83950000000000002,0.91249999999999998,0.96730000000000005,1.022,1.095,1.1679999999999999,1.2410000000000001,1.3140000000000001,1.387,1.46,1.5512999999999999,1.6425000000000001,1.7338,"Charged","Charged","ATK"]
[null,"Collision Plunge DMG",0.56830000000000003,0.61450000000000005,0.66080000000000005,0.72689999999999999,0.77310000000000001,0.82599999999999996,0.89870000000000005,0.97140000000000004,1.0441,1.1234,1.2027000000000001,1.282,1.3612,1.4404999999999999,1.5198,"Plunge","Plunge","ATK"]
[null,"Low Plunge DMG",1.1363000000000001,1.2287999999999999,1.3212999999999999,1.4535,1.5459000000000001,1.6516999999999999,1.7969999999999999,1.9422999999999999,2.0876999999999999,2.2462,2.4047999999999998,2.5634000000000001,2.7219000000000002,2.8805000000000001,3.0390000000000001,"Plunge","Plunge","ATK"]
[null,"High Plunge DMG",1.4193,1.5348999999999999,1.6504000000000001,1.8153999999999999,1.931,2.0630000000000002,2.2444999999999999,2.4260999999999999,2.6076000000000001,2.8056999999999999,3.0036999999999998,3.2018,3.3997999999999999,3.5979000000000001,3.7959000000000001,"Plunge","Plunge","ATK"]
[null,"Skill DMG",2.2751999999999999,2.4458000000000002,2.6164999999999998,2.8439999999999999,3.0146000000000002,3.1852999999999998,3.4127999999999998,3.6402999999999999,3.8677999999999999,4.0953999999999997,4.3228999999999997,4.5503999999999998,4.8348000000000004,5.1192000000000002,5.4036,"Skill","Skill","ATK"]
[null,"Declension DMG Bonus (Per Stack)",0.56879999999999997,0.61150000000000004,0.65410000000000001,0.71099999999999997,0.75370000000000004,0.79630000000000001,0.85319999999999996,0.91010000000000002,0.96699999999999997,1.0238,1.0807,1.1375999999999999,1.2087000000000001,1.2798,1.3509,"Skill","Skill","ATK"]
[null,"Conviction DMG Bonus",1.1375999999999999,1.2229000000000001,1.3082,1.4219999999999999,1.5073000000000001,1.5926,1.7063999999999999,1.8202,1.9339,2.0476999999999999,2.1614,2.2751999999999999,2.4174000000000002,2.5596000000000001,2.7018,"Skill","Skill","ATK"]
[null,"Fudou Style Vacuum Slugger DMG",3.1469,3.3828999999999998,3.6189,3.9336000000000002,4.1696,4.4055999999999997,4.7202999999999999,5.0350000000000001,5.3497000000000003,5.6643999999999997,5.9790999999999999,6.2938000000000001,6.6871,7.0804999999999998,7.4737999999999998,"Burst","Burst","ATK"]
[null,"Windmuster Iris DMG",0.21460000000000001,0.23069999999999999,0.2467,0.26819999999999999,0.2843,0.3004,0.32179999999999997,0.34329999999999999,0.36480000000000001,0.38619999999999999,0.40770000000000001,0.42909999999999998,0.45590000000000003,0.48280000000000001,0.50960000000000005,"Burst Echo","Burst Echo","ATK"]
[null,"Weapon Proc",null,null,null,null,null,null,null,null,null,null,null,null,null,null,null,"Weapon Proc","Weapon Proc","Select an Attack"]
[null,"Overload",null,null,null,null,null,null,null,null,null,null,null,null,null,null,null,"Transformative","Transformative","EM"]
[null,"Shatter",null,null,null,null,null,null,null,null,null,null,null,null,null,null,null,"Transformative","Transformative","EM"]
[null,"Electrocharged",null,null,null,null,null,null,null,null,null,null,null,null,null,null,null,"Transformative","Transformative","EM"]
[null,"Superconduct",null,null,null,null,null,null,null,null,null,null,null,null,null,null,null,"Transformative","Transformative","EM"]
[null,"Pyro Swirl",null,null,null,null,null,null,null,null,null,null,null,null,null,null,null,"Transformative","Transformative","EM"]
[null,"Cryo Swirl",null,null,null,null,null,null,null,null,null,null,null,null,null,null,null,"Transformative","Transformative","EM"]
[null,"Hydro Swirl",null,null,null,null,null,null,null,null,null,null,null,null,null,null,null,"Transformative","Transformative","EM"]
["Heizou-End","Electro Swirl",null,null,null,null,null,null,null,null,null,null,null,null,null,null,null,"Transformative","Transformative","EM"]
[null,"Yelan",1,2,3,4,5,6,7,8,9,10,11,12,13,14,15,"Damage Type","Scaling Talent","Scaling Stat"]
["Yelan-Start","1-Hit DMG",0.40679999999999999,0.43990000000000001,0.47299999999999998,0.52029999999999998,0.5534,0.59130000000000005,0.64329999999999998,0.69530000000000003,0.74729999999999996,0.80410000000000004,0.8609,0.91759999999999997,0.97440000000000004,1.0310999999999999,1.0879000000000001,"Normal","Normal","ATK"]
[null,"2-Hit DMG",0.39040000000000002,0.42220000000000002,0.45400000000000001,0.49940000000000001,0.53120000000000001,0.5675,0.61739999999999995,0.66739999999999999,0.71730000000000005,0.77180000000000004,0.82630000000000003,0.88080000000000003,0.93520000000000003,0.98970000000000002,1.0442,"Normal","Normal","ATK"]
[null,"3-Hit DMG",0.51600000000000001,0.55800000000000005,0.6,0.66,0.70199999999999996,0.75,0.81599999999999995,0.88200000000000001,0.94799999999999995,1.02,1.0920000000000001,1.1639999999999999,1.236,1.3080000000000001,1.38,"Normal","Normal","ATK"]
[null,"4-Hit DMG (Per Hit, 2 Hits)",0.3251,0.35149999999999998,0.378,0.4158,0.44230000000000003,0.47349999999999998,0.5141,0.55569999999999997,0.59719999999999995,0.64259999999999995,0.68799999999999994,0.73329999999999995,0.77869999999999995,0.82399999999999995,0.86939999999999995,"Normal","Normal","ATK"]
[null,"Aimed Shot",0.43859999999999999,0.4743,0.51,0.56100000000000005,0.59670000000000001,0.63749999999999996,0.69359999999999999,0.74970000000000003,0.80579999999999996,0.86699999999999999,0.92820000000000003,0.98939999999999995,1.0506,1.1117999999999999,1.173,"Charged","Charged","ATK"]
[null,"Fully-Charged Aimed Shot",1.24,1.333,1.4259999999999999,1.55,1.643,1.736,1.86,1.984,2.1080000000000001,2.2320000000000002,2.3559999999999999,2.48,2.6349999999999998,2.79,2.9449999999999998,"Charged","Charged","ATK"]
[null,"Breakthrough Barb DMG",0.1158,0.1244,0.1331,0.1447,0.15340000000000001,0.16209999999999999,0.1736,0.1852,0.1968,0.2084,0.21990000000000001,0.23150000000000001,0.246,0.26050000000000001,0.27489999999999998,"Charged","Charged","HP"]
[null,"C6 Breakthrough Barb DMG",{"$f":"C1253*156%","v":0.180648},{"$f":"D1253*156%","v":0.19406400000000001},0.20763599999999999,0.22573199999999999,0.23930400000000002,0.25287599999999999,0.270816,0.288912,0.307008,0.325104,0.34304400000000002,0.36114000000000002,0.38375999999999999,0.40638000000000002,0.428844,"Charged","Charged","HP"]
[null,"Collision Plunge DMG",0.56830000000000003,0.61450000000000005,0.66080000000000005,0.72689999999999999,0.77310000000000001,0.82599999999999996,0.89870000000000005,0.97140000000000004,1.0441,1.1234,1.2027000000000001,1.282,1.3612,1.4404999999999999,1.5198,"Plunge","Plunge","ATK"]
[null,"Low Plunge DMG",1.1363000000000001,1.2287999999999999,1.3212999999999999,1.4535,1.5459000000000001,1.6516999999999999,1.7969999999999999,1.9422999999999999,2.0876999999999999,2.2462,2.4047999999999998,2.5634000000000001,2.7219000000000002,2.8805000000000001,3.0390000000000001,"Plunge","Plunge","ATK"]
[null,"High Plunge DMG",1.4193,1.5348999999999999,1.6504000000000001,1.8153999999999999,1.931,2.0630000000000002,2.2444999999999999,2.4260999999999999,2.6076000000000001,2.8056999999999999,3.0036999999999998,3.2018,3.3997999999999999,3.5979000000000001,3.7959000000000001,"Plunge","Plunge","ATK"]
[null,"Lingering Lifeline DMG",0.2261,0.24310000000000001,0.2601,0.28270000000000001,0.29959999999999998,0.31659999999999999,0.3392,0.36180000000000001,0.38440000000000002,0.40699999999999997,0.42970000000000003,0.45229999999999998,0.48049999999999998,0.50880000000000003,0.53710000000000002,"Skill","Skill","HP"]
[null,"Skill DMG",7.3099999999999998E-2,7.8600000000000003E-2,8.4000000000000005E-2,9.1399999999999995E-2,9.6799999999999997E-2,0.1023,0.1096,0.1169,0.1242,0.13150000000000001,0.1389,0.1462,0.15529999999999999,0.16439999999999999,0.1736,"Burst","Burst","HP"]
[null,"Exquisite Throw DMG",4.87E-2,5.2400000000000002E-2,5.6000000000000001E-2,6.0900000000000003E-2,6.4600000000000005E-2,6.8199999999999997E-2,7.3099999999999998E-2,7.8E-2,8.2799999999999999E-2,8.77E-2,9.2600000000000002E-2,9.74E-2,0.10349999999999999,0.1096,0.1157,"Burst","Burst","HP"]
[null,"C2 Additional Damage",0.2,0.2,0.2,0.2,0.2,0.2,0.2,0.2,0.2,0.2,0.2,0.2,0.2,0.2,0.2,"Burst","Burst","HP"]
[null,"Weapon Proc",null,null,null,null,null,null,null,null,null,null,null,null,null,null,null,"Weapon Proc","Weapon Proc","Select an Attack"]
[null,"Overload",null,null,null,null,null,null,null,null,null,null,null,null,null,null,null,"Transformative","Transformative","EM"]
[null,"Shatter",null,null,null,null,null,null,null,null,null,null,null,null,null,null,null,"Transformative","Transformative","EM"]
[null,"Electrocharged",null,null,null,null,null,null,null,null,null,null,null,null,null,null,null,"Transformative","Transformative","EM"]
[null,"Superconduct",null,null,null,null,null,null,null,null,null,null,null,null,null,null,null,"Transformative","Transformative","EM"]
[null,"Pyro Swirl",null,null,null,null,null,null,null,null,null,null,null,null,null,null,null,"Transformative","Transformative","EM"]
[null,"Cryo Swirl",null,null,null,null,null,null,null,null,null,null,null,null,null,null,null,"Transformative","Transformative","EM"]
[null,"Hydro Swirl",null,null,null,null,null,null,null,null,null,null,null,null,null,null,null,"Transformative","Transformative","EM"]
["Yelan-End","Electro Swirl",null,null,null,null,null,null,null,null,null,null,null,null,null,null,null,"Transformative","Transformative","EM"]
[null,"Kuki",1,2,3,4,5,6,7,8,9,10,11,12,13,14,15,"Damage Type","Scaling Talent","Scaling Stat"]
["Kuki-Start","1-Hit DMG",0.48759999999999998,0.52729999999999999,0.56699999999999995,0.62370000000000003,0.66339999999999999,0.70879999999999999,0.77110000000000001,0.83350000000000002,0.89590000000000003,0.96389999999999998,1.0319,1.1000000000000001,1.1679999999999999,1.2361,1.3041,"Normal","Normal","ATK"]
[null,"2-Hit DMG",0.44550000000000001,0.48170000000000002,0.51800000000000002,0.56979999999999997,0.60609999999999997,0.64749999999999996,0.70450000000000002,0.76149999999999995,0.81840000000000002,0.88060000000000005,0.94279999999999997,1.0048999999999999,1.0670999999999999,1.1292,1.1914,"Normal","Normal","ATK"]
[null,"3-Hit DMG",0.59340000000000004,0.64170000000000005,0.69,0.75900000000000001,0.80730000000000002,0.86250000000000004,0.93840000000000001,1.0143,1.0902000000000001,1.173,1.2558,1.3386,1.4214,1.5042,1.587,"Normal","Normal","ATK"]
[null,"4-Hit DMG",0.7611,0.82310000000000005,0.88500000000000001,0.97350000000000003,1.0355000000000001,1.1063000000000001,1.2036,1.3009999999999999,1.3983000000000001,1.5044999999999999,1.6107,1.7169000000000001,1.8230999999999999,1.9293,2.0354999999999999,"Normal","Normal","ATK"]
[null,"Charged Attack Hit 1 DMG",0.55630000000000002,0.60160000000000002,0.64690000000000003,0.71160000000000001,0.75690000000000002,0.80859999999999999,0.87980000000000003,0.95089999999999997,1.0221,1.0996999999999999,1.1774,1.2549999999999999,1.3326,1.4101999999999999,1.4879,"Charged","Charged","ATK"]
[null,"Charged Attack Hit 2 DMG",0.66769999999999996,0.72199999999999998,0.77629999999999999,0.85399999999999998,0.9083,0.97040000000000004,1.0558000000000001,1.1412,1.2265999999999999,1.3198000000000001,1.4129,1.5061,1.5992999999999999,1.6923999999999999,1.7856000000000001,"Charged","Charged","ATK"]
[null,"Collision Plunge DMG",0.63929999999999998,0.69140000000000001,0.74339999999999995,0.81769999999999998,0.86980000000000002,0.92930000000000001,1.0109999999999999,1.0928,1.1746000000000001,1.2638,1.353,1.4421999999999999,1.5314000000000001,1.6206,1.7098,"Plunge","Plunge","ATK"]
[null,"Low Plunge DMG",1.2784,1.3824000000000001,1.4864999999999999,1.6351,1.7392000000000001,1.8581000000000001,2.0215999999999998,2.1850999999999998,2.3485999999999998,2.5270000000000001,2.7054,2.8837999999999999,3.0621999999999998,3.2404999999999999,3.4188999999999998,"Plunge","Plunge","ATK"]
[null,"High Plunge DMG",1.5968,1.7266999999999999,1.8567,2.0424000000000002,2.1722999999999999,2.3209,2.5251000000000001,2.7292999999999998,2.9336000000000002,3.1564000000000001,3.3792,3.6019999999999999,3.8248000000000002,4.0476000000000001,4.2704000000000004,"Plunge","Plunge","ATK"]
[null,"Skill DMG",0.7571,0.81389999999999996,0.87070000000000003,0.94640000000000002,1.0032000000000001,1.06,1.1356999999999999,1.2114,1.2870999999999999,1.3628,1.4384999999999999,1.5142,1.6089,1.7035,1.7982,"Skill","Skill","ATK"]
[null,"Skill Healing (Percentage)",0.03,3.2300000000000002E-2,3.4500000000000003E-2,3.7499999999999999E-2,3.9800000000000002E-2,4.2000000000000003E-2,4.4999999999999998E-2,4.8000000000000001E-2,5.0999999999999997E-2,5.3999999999999999E-2,5.7000000000000002E-2,0.06,6.3799999999999996E-2,6.7500000000000004E-2,7.1300000000000002E-2,"None","None","HP","Percentage"]
[null,"Skill Healing (Flat)",289,318,349,383,419,457,498,542,587,636,686,739,795,852,913,"None","None","HP","Flat"]
[null,"Burst DMG",3.5999999999999997E-2,3.8800000000000001E-2,4.1500000000000002E-2,4.5100000000000001E-2,4.7800000000000002E-2,5.0500000000000003E-2,5.4100000000000002E-2,5.7700000000000001E-2,6.13E-2,6.4899999999999999E-2,6.8500000000000005E-2,7.2099999999999997E-2,7.6600000000000001E-2,8.1100000000000005E-2,8.5599999999999996E-2,"Burst","Burst","HP"]
[null,"C4 Thundergrass Mark DMG",9.7000000000000003E-2,9.7000000000000003E-2,9.7000000000000003E-2,9.7000000000000003E-2,9.7000000000000003E-2,9.7000000000000003E-2,9.7000000000000003E-2,9.7000000000000003E-2,9.7000000000000003E-2,9.7000000000000003E-2,9.7000000000000003E-2,9.7000000000000003E-2,9.7000000000000003E-2,9.7000000000000003E-2,9.7000000000000003E-2,"None","None","HP"]
[null,"Weapon Proc",null,null,null,null,null,null,null,null,null,null,null,null,null,null,null,"Weapon Proc","Weapon Proc","Select an Attack"]
[null,"Overload",null,null,null,null,null,null,null,null,null,null,null,null,null,null,null,"Transformative","Transformative","EM"]
[null,"Shatter",null,null,null,null,null,null,null,null,null,null,null,null,null,null,null,"Transformative","Transformative","EM"]
[null,"Electrocharged",null,null,null,null,null,null,null,null,null,null,null,null,null,null,null,"Transformative","Transformative","EM"]
[null,"Superconduct",null,null,null,null,null,null,null,null,null,null,null,null,null,null,null,"Transformative","Transformative","EM"]
[null,"Pyro Swirl",null,null,null,null,null,null,null,null,null,null,null,null,null,null,null,"Transformative","Transformative","EM"]
[null,"Cryo Swirl",null,null,null,null,null,null,null,null,null,null,null,null,null,null,null,"Transformative","Transformative","EM"]
[null,"Hydro Swirl",null,null,null,null,null,null,null,null,null,null,null,null,null,null,null,"Transformative","Transformative","EM"]
["Kuki-End","Electro Swirl",null,null,null,null,null,null,null,null,null,null,null,null,null,null,null,"Transformative","Transformative","EM"]
[null,"Ayato",1,2,3,4,5,6,7,8,9,10,11,12,13,14,15,"Damage Type","Scaling Talent","Scaling Stat"]
["Ayato-Start","1-Hit DMG",0.4496,0.48620000000000002,0.52280000000000004,0.57509999999999994,0.61170000000000002,0.65349999999999997,0.71099999999999997,0.76849999999999996,0.82599999999999996,0.88880000000000003,0.95150000000000001,1.0143,1.077,1.1396999999999999,1.2024999999999999,"Normal","Normal","ATK"]
[null,"2-Hit DMG",0.47160000000000002,0.51,0.54830000000000001,0.60319999999999996,0.64159999999999995,0.68540000000000001,0.74570000000000003,0.80610000000000004,0.86639999999999995,0.93220000000000003,0.998,1.0638000000000001,1.1295999999999999,1.1954,1.2612000000000001,"Normal","Normal","ATK"]
[null,"3-Hit DMG",0.58609999999999995,0.63380000000000003,0.68149999999999999,0.74970000000000003,0.7974,0.85189999999999999,0.92689999999999995,1.0019,1.0768,1.1586000000000001,1.2403999999999999,1.3222,1.4039999999999999,1.4858,1.5674999999999999,"Normal","Normal","ATK"]
[null,"4-Hit DMG (Per Hit, 2 Hits)",0.29449999999999998,0.31850000000000001,0.34239999999999998,0.37669999999999998,0.40060000000000001,0.42799999999999999,0.4657,0.50339999999999996,0.54100000000000004,0.58209999999999995,0.62319999999999998,0.6643,0.70540000000000003,0.74650000000000005,0.78759999999999997,"Normal","Normal","ATK"]
[null,"5-Hit DMG",0.75600000000000001,0.81759999999999999,0.87909999999999999,0.96699999999999997,1.0286,1.0989,1.1956,1.2923,1.389,1.4944999999999999,1.6,1.7055,1.8109999999999999,1.9165000000000001,2.0219999999999998,"Normal","Normal","ATK"]
[null,"Charged Attack DMG",1.2952999999999999,1.4007000000000001,1.5062,1.6568000000000001,1.7622,1.8827,2.0484,2.2141000000000002,2.3797000000000001,2.5605000000000002,2.7412000000000001,2.9218999999999999,3.1027,3.2833999999999999,3.4641999999999999,"Charged","Charged","ATK"]
[null,"Plunge DMG",0.63929999999999998,0.69140000000000001,0.74339999999999995,0.81769999999999998,0.86980000000000002,0.92930000000000001,1.0109999999999999,1.0928,1.1746000000000001,1.2638,1.353,1.4421999999999999,1.5314000000000001,1.6206,1.7098,"Plunge","Plunge","ATK"]
[null,"Low Plunge DMG",1.2784,1.3824000000000001,1.4864999999999999,1.6351,1.7392000000000001,1.8581000000000001,2.0215999999999998,2.1850999999999998,2.3485999999999998,2.5270000000000001,2.7054,2.8837999999999999,3.0621999999999998,3.2404999999999999,3.4188999999999998,"Plunge","Plunge","ATK"]
[null,"High Plunge DMG",1.5968,1.7266999999999999,1.8567,2.0424000000000002,2.1722999999999999,2.3209,2.5251000000000001,2.7292999999999998,2.9336000000000002,3.1564000000000001,3.3792,3.6019999999999999,3.8248000000000002,4.0476000000000001,4.2704000000000004,"Plunge","Plunge","ATK"]
[null,"Shunsuiken 1-Hit DMG",0.52890000000000004,0.57199999999999995,0.61499999999999999,0.67649999999999999,0.71960000000000002,0.76880000000000004,0.83640000000000003,0.90410000000000001,0.97170000000000001,1.0455000000000001,1.1193,1.1931,1.2668999999999999,1.3407,1.4145000000000001,"Normal","Skill","ATK"]
[null,"Shunsuiken 2-Hit DMG",0.58909999999999996,0.6371,0.68500000000000005,0.75349999999999995,0.80149999999999999,0.85629999999999995,0.93159999999999998,1.0069999999999999,1.0823,1.1645000000000001,1.2466999999999999,1.3289,1.4111,1.4933000000000001,1.5754999999999999,"Normal","Skill","ATK"]
[null,"Shunsuiken 3-Hit DMG",0.64929999999999999,0.70220000000000005,0.755,0.83050000000000002,0.88339999999999996,0.94379999999999997,1.0267999999999999,1.1099000000000001,1.1929000000000001,1.2835000000000001,1.3741000000000001,1.4646999999999999,1.5552999999999999,1.6458999999999999,1.7364999999999999,"Normal","Skill","ATK"]
[null,"Wave Flash DMG Bonus Per Stack",5.5999999999999999E-3,6.1000000000000004E-3,6.4999999999999997E-3,7.1999999999999998E-3,7.6E-3,8.2000000000000007E-3,8.8999999999999999E-3,9.5999999999999992E-3,1.03E-2,1.11E-2,1.1900000000000001E-2,1.2699999999999999E-2,1.34E-2,1.4200000000000001E-2,1.4999999999999999E-2,"Skill","Skill","HP"]
[null,"Water Illusion DMG",1.0147999999999999,1.0973999999999999,1.18,1.298,1.3806,1.4750000000000001,1.6048,1.7345999999999999,1.8644000000000001,2.0059999999999998,2.1476000000000002,2.2892000000000001,2.4308000000000001,2.5724,2.714,"Burst","Burst","ATK"]
[null,"Bloomwater Blade DMG",0.66459999999999997,0.71440000000000003,0.76419999999999999,0.83069999999999999,0.88049999999999995,0.9304,0.99680000000000002,1.0632999999999999,1.1297999999999999,1.1961999999999999,1.2626999999999999,1.3290999999999999,1.4121999999999999,1.4953000000000001,1.5783,"Burst","Burst","ATK"]
[null,"Boundless Origin (C6)",4.5,4.5,4.5,4.5,4.5,4.5,4.5,4.5,4.5,4.5,4.5,4.5,4.5,4.5,4.5,"Skill","Skill","ATK"]
[null,"Weapon Proc",null,null,null,null,null,null,null,null,null,null,null,null,null,null,null,"Weapon Proc","Weapon Proc","Select an Attack"]
[null,"Overload",null,null,null,null,null,null,null,null,null,null,null,null,null,null,null,"Transformative","Transformative","EM"]
[null,"Shatter",null,null,null,null,null,null,null,null,null,null,null,null,null,null,null,"Transformative","Transformative","EM"]
[null,"Electrocharged",null,null,null,null,null,null,null,null,null,null,null,null,null,null,null,"Transformative","Transformative","EM"]
[null,"Superconduct",null,null,null,null,null,null,null,null,null,null,null,null,null,null,null,"Transformative","Transformative","EM"]
[null,"Pyro Swirl",null,null,null,null,null,null,null,null,null,null,null,null,null,null,null,"Transformative","Transformative","EM"]
[null,"Cryo Swirl",null,null,null,null,null,null,null,null,null,null,null,null,null,null,null,"Transformative","Transformative","EM"]
[null,"Hydro Swirl",null,null,null,null,null,null,null,null,null,null,null,null,null,null,null,"Transformative","Transformative","EM"]
["Ayato-End","Electro Swirl",null,null,null,null,null,null,null,null,null,null,null,null,null,null,null,"Transformative","Transformative","EM"]

{"sheet":"Char Stats","index":11,"n_rows":795,"n_cols":7,"rows_kept":795,"cut":false,"hidden":false,"merged":[]}
["Albedo","Base HP","Base ATK","Base DEF","Geo DMG%","CR%","CDMG%"]
[1,1030,20,68,0,5,50]
[20,2671,51,177,0,5,50]
["20+",3554,67,235,0,5,50]
[40,5317,101,352,0,5,50]
["40+",5944,113,394,7.2,5,50]
[50,6839,130,453,7.2,5,50]
["50+",7675,146,508,14.4,5,50]
[60,8579,163,568,14.4,5,50]
["60+",9207,175,610,14.4,5,50]
[70,10119,192,670,14.4,5,50]
["70+",10746,204,712,21.6,5,50]
[80,11669,222,773,21.6,5,50]
["80+",12296,233,815,28.8,5,50]
[90,13226,251,876,28.8,5,50]
["Aloy","Base HP","Base ATK","Base DEF","Cryo DMG%","CR%","CDMG%"]
[1,848,18,53,0,5,50]
[20,2201,47,137,0,5,50]
["20+",2928,63,182,0,5,50]
[40,4382,94,272,0,5,50]
["40+",4899,105,304,7.2,5,50]
[50,5636,121,350,7.2,5,50]
["50+",6325,136,393,14.4,5,50]
[60,7070,152,439,14.4,5,50]
["60+",7587,163,471,14.4,5,50]
[70,8339,179,517,14.4,5,50]
["70+",8856,190,550,21.6,5,50]
[80,9616,206,597,21.6,5,50]
["80+",10133,217,629,28.8,5,50]
[90,10899,234,676,28.8,5,50]
["Amber","Base HP","Base ATK","Base DEF","ATK%","CR%","CDMG%"]
[1,793,19,50,0,5,50]
[20,2038,48,129,0,5,50]
["20+",2630,62,167,0,5,50]
[40,3940,93,250,0,5,50]
["40+",4361,103,277,6,5,50]
[50,5016,118,318,6,5,50]
["50+",5578,131,354,12,5,50]
[60,6233,147,396,12,5,50]
["60+",6654,157,422,12,5,50]
[70,7309,172,464,12,5,50]
["70+",7730,182,491,18,5,50]
[80,8385,198,532,18,5,50]
["80+",8806,208,559,24,5,50]
[90,9461,223,601,24,5,50]
["Ayaka","Base HP","Base ATK","Base DEF","CDMG%","CR%"]
[1,1001,27,61,50,5]
[20,2597,69,158,50,5]
["20+",3455,92,211,50,5]
[40,5170,138,315,50,5]
["40+",5779,154,352,59.6,5]
[50,6649,177,405,59.6,5]
["50+",7462,198,455,69.2,5]
[60,8341,222,509,69.2,5]
["60+",8951,238,546,69.2,5]
[70,9838,262,600,69.2,5]
["70+",10448,278,637,78.8,5]
[80,11345,302,692,78.8,5]
["80+",11954,318,729,88.4,5]
[90,12858,342,784,88.4,5]
["Barbara","Base HP","Base ATK","Base DEF","HP%","CR%","CDMG%"]
[1,821,13,56,0,5,50]
[20,2108,34,144,0,5,50]
["20+",2721,44,186,0,5,50]
[40,4076,66,279,0,5,50]
["40+",4512,73,308,6,5,50]
[50,5189,84,355,6,5,50]
["50+",5770,94,394,12,5,50]
[60,6448,105,441,12,5,50]
["60+",6884,112,470,12,5,50]
[70,7561,123,517,12,5,50]
["70+",7996,130,546,18,5,50]
[80,8674,141,593,18,5,50]
["80+",9110,148,623,24,5,50]
[90,9787,159,669,24,5,50]
["Beidou","Base HP","Base ATK","Base DEF","Electro DMG%","CR%","CDMG%"]
[1,1094,19,54,0,5,50]
[20,2811,48,140,0,5,50]
["20+",3628,63,180,0,5,50]
[40,5435,94,270,0,5,50]
["40+",6015,104,299,6,5,50]
[50,6919,119,344,6,5,50]
["50+",7694,133,382,12,5,50]
[60,8597,148,427,12,5,50]
["60+",9178,158,456,12,5,50]
[70,10081,174,501,12,5,50]
["70+",10662,184,530,18,5,50]
[80,11565,200,575,18,5,50]
["80+",12146,210,603,24,5,50]
[90,13050,225,648,24,5,50]
["Bennett","Base HP","Base ATK","Base DEF","ER%","CR%","CDMG%"]
[1,1039,16,65,0,5,50]
[20,2670,41,166,0,5,50]
["20+",3447,53,214,0,5,50]
[40,5163,80,321,0,5,50]
["40+",5715,88,356,6.7,5,50]
[50,6573,101,409,6.7,5,50]
["50+",7309,113,455,13.3,5,50]
[60,8168,126,508,13.3,5,50]
["60+",8719,134,542,13.3,5,50]
[70,9577,148,596,13.3,5,50]
["70+",10129,156,630,20,5,50]
[80,10987,169,684,20,5,50]
["80+",11539,178,718,26.7,5,50]
[90,12397,191,771,26.7,5,50]
["Childe","Base HP","Base ATK","Base DEF","Hydro DMG%","CR%","CDMG%"]
[1,1020,23,63,0,5,50]
[20,2646,61,165,0,5,50]
["20+",3521,81,219,0,5,50]
[40,5268,121,328,0,5,50]
["40+",5889,135,366,7.2,5,50]
[50,6776,156,421,7.2,5,50]
["50+",7604,175,473,14.4,5,50]
[60,8500,195,528,14.4,5,50]
["60+",9121,210,567,14.4,5,50]
[70,10025,231,623,14.4,5,50]
["70+",10647,245,662,21.6,5,50]
[80,11561,266,719,21.6,5,50]
["80+",12182,280,757,28.8,5,50]
[90,13103,301,815,28.8,5,50]
["Chongyun","Base HP","Base ATK","Base DEF","ATK%","CR%","CDMG%"]
[1,921,19,54,0,5,50]
[20,2366,48,140,0,5,50]
["20+",3054,62,180,0,5,50]
[40,4574,93,270,0,5,50]
["40+",5063,103,299,6,5,50]
[50,5824,118,344,6,5,50]
["50+",6475,131,382,12,5,50]
[60,7236,147,427,12,5,50]
["60+",7725,157,456,12,5,50]
[70,8485,172,501,12,5,50]
["70+",8974,182,530,18,5,50]
[80,9734,198,575,18,5,50]
["80+",10223,208,603,24,5,50]
[90,10984,223,648,24,5,50]
["Diluc","Base HP","Base ATK","Base DEF","CR%","CDMG%","CDMG%"]
[1,1011,26,61,5,50,50]
[20,2621,68,158,5,50,50]
["20+",3488,90,211,5,50,50]
[40,5219,135,315,5,50,50]
["40+",5834,151,352,9.8000000000000007,50,50]
[50,6712,173,405,9.8000000000000007,50,50]
["50+",7533,194,455,14.6,50,50]
[60,8421,217,509,14.6,50,50]
["60+",9036,233,546,14.6,50,50]
[70,9932,256,600,14.6,50,50]
["70+",10547,272,637,19.399999999999999,50,50]
[80,11453,295,692,19.399999999999999,50,50]
["80+",12068,311,729,24.2,50,50]
[90,12981,335,784,24.2,50,50]
["Diona","Base HP","Base ATK","Base DEF","Cryo DMG%","CR%","CDMG%"]
[1,802,18,50,0,5,50]
[20,2061,46,129,0,5,50]
["20+",2661,59,167,0,5,50]
[40,3985,88,250,0,5,50]
["40+",4411,98,277,6,5,50]
[50,5074,113,318,6,5,50]
["50+",5642,125,354,12,5,50]
[60,6305,140,396,12,5,50]
["60+",6731,149,422,12,5,50]
[70,7393,164,464,12,5,50]
["70+",7818,174,491,18,5,50]
[80,8481,188,532,18,5,50]
["80+",8907,198,559,24,5,50]
[90,9570,212,601,24,5,50]
["Eula","Base HP","Base ATK","Base DEF","CDMG%","CR%"]
[1,1030,27,58,50,5]
[20,2671,69,152,50,5]
["20+",3554,92,202,50,5]
[40,5317,138,302,50,5]
["40+",5944,154,334,59.6,5]
[50,6839,177,388,59.6,5]
["50+",7675,198,436,69.2,5]
[60,8579,222,487,69.2,5]
["60+",9207,238,523,69.2,5]
[70,10119,262,574,69.2,5]
["70+",10746,278,610,78.8,5]
[80,11669,302,662,78.8,5]
["80+",12296,318,698,88.4,5]
[90,13226,342,751,88.4,5]
["Fischl","Base HP","Base ATK","Base DEF","ATK%","CR%","CDMG%"]
[1,770,20,50,0,5,50]
[20,1979,53,128,0,5,50]
["20+",2555,68,165,0,5,50]
[40,3827,102,247,0,5,50]
["40+",4236,113,274,6,5,50]
[50,4872,130,315,6,5,50]
["50+",5418,144,350,12,5,50]
[60,6054,161,391,12,5,50]
["60+",6463,172,418,12,5,50]
[70,7099,189,459,12,5,50]
["70+",7508,200,485,18,5,50]
[80,8144,216,526,18,5,50]
["80+",8553,227,553,24,5,50]
[90,9189,244,594,24,5,50]
["Ganyu","Base HP","Base ATK","Base DEF","CDMG%","CR%","CDMG%"]
[1,763,26,49,50,5,50]
[20,1978,68,127,50,5,50]
["20+",2632,90,169,50,5,50]
[40,3939,135,253,50,5,50]
["40+",4403,151,283,59.6,5,50]
[50,5066,173,326,59.6,5,50]
["50+",5686,194,366,69.2,5,50]
[60,6355,217,409,69.2,5,50]
["60+",6820,233,439,69.2,5,50]
[70,7495,256,482,69.2,5,50]
["70+",7960,272,512,78.8,5,50]
[80,8643,295,556,78.8,5,50]
["80+",9108,311,586,88.4,5,50]
[90,9797,335,630,88.4,5,50]
["Gorou","Base HP","Base ATK","Base DEF","Geo DMG%","CR%","CDMG%"]
[1,802,15,54,0,5,50]
[20,2061,39,140,0,5,50]
["20+",2661,51,180,0,5,50]
[40,3985,76,270,0,5,50]
["40+",4411,84,299,6,5,50]
[50,5074,97,344,6,5,50]
["50+",5642,108,382,12,5,50]
[60,6305,120,427,12,5,50]
["60+",6731,128,456,12,5,50]
[70,7393,141,501,12,5,50]
["70+",7818,149,530,18,5,50]
[80,8481,162,575,18,5,50]
["80+",8907,170,603,24,5,50]
[90,9570,183,648,24,5,50]
["HuTao","Base HP","Base ATK","Base DEF","CDMG%","CR%","CDMG%"]
[1,1211,8,68,50,5,50]
[20,3141,21,177,50,5,50]
["20+",4179,29,235,50,5,50]
[40,6253,43,352,50,5,50]
["40+",6990,48,394,59.6,5,50]
[50,8042,55,453,59.6,5,50]
["50+",9026,62,508,69.2,5,50]
[60,10089,69,568,69.2,5,50]
["60+",10826,74,610,69.2,5,50]
[70,11899,81,670,69.2,5,50]
["70+",12637,86,712,78.8,5,50]
[80,13721,94,773,78.8,5,50]
["80+",14459,99,815,88.4,5,50]
[90,15552,106,876,88.4,5,50]
["Itto","Base HP","Base ATK","Base DEF","CR%","CDMG%"]
[1,1067,15,72,5,50]
[20,2767,39,188,5,50]
["20+",3682,51,250,5,50]
[40,5509,77,374,5,50]
["40+",6159,86,418,9.8000000000000007,50]
[50,7086,99,481,9.8000000000000007,50]
["50+",7953,111,540,14.6,50]
[60,8889,124,603,14.6,50]
["60+",9539,133,647,14.6,50]
[70,10484,146,712,14.6,50]
["70+",11134,155,756,19.399999999999999,50]
[80,12090,169,820,19.399999999999999,50]
["80+",12740,178,865,24.2,50]
[90,13703,191,930,24.2,50]
["Jean","Base HP","Base ATK","Base DEF","Healing Bonus%","CR%","CDMG%"]
[1,1144,19,60,0,5,50]
[20,2967,48,155,0,5,50]
["20+",3948,64,206,0,5,50]
[40,5908,96,309,0,5,50]
["40+",6605,108,345,5.5,5,50]
[50,7599,124,397,5.5,5,50]
["50+",8528,139,446,11.1,5,50]
[60,9533,155,499,11.1,5,50]
["60+",10230,166,535,11.1,5,50]
[70,11243,183,588,11.1,5,50]
["70+",11940,194,624,16.600000000000001,5,50]
[80,12965,211,678,16.600000000000001,5,50]
["80+",13662,222,715,22.2,5,50]
[90,14695,239,769,22.2,5,50]
["Kaeya","Base HP","Base ATK","Base DEF","ER%","CR%","CDMG%"]
[1,976,19,66,0,5,50]
[20,2506,48,171,0,5,50]
["20+",3235,62,220,0,5,50]
[40,4846,93,330,0,5,50]
["40+",5364,103,365,6.7,5,50]
[50,6170,118,420,6.7,5,50]
["50+",6860,131,467,13.3,5,50]
[60,7666,147,522,13.3,5,50]
["60+",8184,157,557,13.3,5,50]
[70,8989,172,612,13.3,5,50]
["70+",9507,182,647,20,5,50]
[80,10312,198,702,20,5,50]
["80+",10830,208,737,26.7,5,50]
[90,11636,223,792,26.7,5,50]
["Keqing","Base HP","Base ATK","Base DEF","CDMG%","CR%","CDMG%"]
[1,1020,25,62,50,5,50]
[20,2646,65,161,50,5,50]
["20+",3521,87,215,50,5,50]
[40,5268,130,321,50,5,50]
["40+",5889,145,359,59.6,5,50]
[50,6776,167,413,59.6,5,50]
["50+",7604,187,464,69.2,5,50]
[60,8500,209,519,69.2,5,50]
["60+",9121,225,556,69.2,5,50]
[70,10025,247,612,69.2,5,50]
["70+",10647,262,649,78.8,5,50]
[80,11561,285,705,78.8,5,50]
["80+",12182,300,743,88.4,5,50]
[90,13103,323,799,88.4,5,50]
["Klee","Base HP","Base ATK","Base DEF","Pyro DMG%","CR%","CDMG%"]
[1,801,24,48,0,5,50]
[20,2077,63,124,0,5,50]
["20+",2764,84,165,0,5,50]
[40,4136,125,247,0,5,50]
["40+",4623,140,276,7.2,5,50]
[50,5319,161,318,7.2,5,50]
["50+",5970,180,357,14.4,5,50]
[60,6673,202,399,14.4,5,50]
["60+",7161,216,428,14.4,5,50]
[70,7870,238,470,14.4,5,50]
["70+",8358,253,500,21.6,5,50]
[80,9076,274,542,21.6,5,50]
["80+",9563,289,572,28.8,5,50]
[90,10287,311,615,28.8,5,50]
["Kokomi","Base HP","Base ATK","Base DEF","Hydro DMG%","CR%","CDMG%"]
[1,1049,18,51,0,-95,50]
[20,2720,47,133,0,-95,50]
["20+",3619,63,177,0,-95,50]
[40,5416,94,264,0,-95,50]
["40+",6055,105,295,7.2,-95,50]
[50,6966,121,340,7.2,-95,50]
["50+",7818,136,381,14.4,-95,50]
[60,8738,152,426,14.4,-95,50]
["60+",9377,163,457,14.4,-95,50]
[70,10306,179,503,14.4,-95,50]
["70+",10945,190,534,21.6,-95,50]
[80,11885,207,580,21.6,-95,50]
["80+",12524,218,611,28.8,-95,50]
[90,13471,234,657,28.8,-95,50]
["Lisa","Base HP","Base ATK","Base DEF","EM","CR%","CDMG%"]
[" ",802,19,48,0,5,50]
[20,2061,50,123,0,5,50]
["20+",2661,64,159,0,5,50]
[40,3985,96,239,0,5,50]
["40+",4411,107,264,24,5,50]
[50,5074,123,304,24,5,50]
["50+",5642,136,338,48,5,50]
[60,6305,153,378,48,5,50]
["60+",6731,163,403,48,5,50]
[70,7393,179,443,48,5,50]
["70+",7818,189,468,72,5,50]
[80,8481,205,508,72,5,50]
["80+",8907,215,534,96,5,50]
[90,9570,232,573,96,5,50]
["Mona","Base HP","Base ATK","Base DEF","ER%","CR%","CDMG%"]
[1,810,22,51,0,5,50]
[20,2102,58,132,0,5,50]
["20+",2797,77,176,0,5,50]
[40,4185,115,263,0,5,50]
["40+",4678,129,294,8,5,50]
[50,5383,148,338,8,5,50]
["50+",6041,167,379,16,5,50]
[60,6752,186,424,16,5,50]
["60+",7246,200,455,16,5,50]
[70,7964,220,500,16,5,50]
["70+",8458,233,531,24,5,50]
[80,9184,253,576,24,5,50]
["80+",9677,267,607,32,5,50]
[90,10409,287,653,32,5,50]
["Ningguang","Base HP","Base ATK","Base DEF","Geo DMG%","CR%","CDMG%"]
[1,821,18,48,0,5,50]
[20,2108,46,123,0,5,50]
["20+",2721,59,159,0,5,50]
[40,4076,88,239,0,5,50]
["40+",4512,98,264,6,5,50]
[50,5189,113,304,6,5,50]
["50+",5770,125,338,12,5,50]
[60,6448,140,378,12,5,50]
["60+",6884,149,403,12,5,50]
[70,7561,164,443,12,5,50]
["70+",7996,174,468,18,5,50]
[80,8674,188,508,18,5,50]
["80+",9110,198,534,24,5,50]
[90,9787,212,573,24,5,50]
["Noelle","Base HP","Base ATK","Base DEF","DEF%","CR%","CDMG%"]
[1,1012,16,67,0,5,50]
[20,2600,41,172,0,5,50]
["20+",3356,53,222,0,5,50]
[40,5027,80,333,0,5,50]
["40+",5564,88,368,7.5,5,50]
[50,6400,101,423,7.5,5,50]
["50+",7117,113,471,15,5,50]
[60,7953,126,526,15,5,50]
["60+",8490,134,562,15,5,50]
[70,9325,148,617,15,5,50]
["70+",9862,156,652,22.5,5,50]
[80,10698,169,708,22.5,5,50]
["80+",11235,178,743,30,5,50]
[90,12071,191,799,30,5,50]
["Qiqi","Base HP","Base ATK","Base DEF","Healing Bonus%","CR%","CDMG%"]
[1,963,22,72,0,5,50]
[20,2498,58,186,0,5,50]
["20+",3323,77,248,0,5,50]
[40,4973,115,371,0,5,50]
["40+",5559,129,415,5.5,5,50]
[50,6396,148,477,5.5,5,50]
["50+",7178,167,535,11.1,5,50]
[60,8023,186,598,11.1,5,50]
["60+",8610,200,642,11.1,5,50]
[70,9463,220,706,11.1,5,50]
["70+",10050,233,749,16.600000000000001,5,50]
[80,10912,253,814,16.600000000000001,5,50]
["80+",11499,267,857,22.2,5,50]
[90,12368,287,922,22.2,5,50]
["Raiden","Base HP","Base ATK","Base DEF","ER%","CR%","CDMG%"]
[1,1005,26,61,0,5,50]
[20,2606,68,159,0,5,50]
["20+",3468,91,212,0,5,50]
[40,5189,136,317,0,5,50]
["40+",5801,152,355,8,5,50]
[50,6675,174,408,8,5,50]
["50+",7491,196,458,16,5,50]
[60,8373,219,512,16,5,50]
["60+",8985,235,549,16,5,50]
[70,9875,258,604,16,5,50]
["70+",10487,274,641,24,5,50]
[80,11388,298,696,24,5,50]
["80+",12000,314,734,32,5,50]
[90,12907,337,789,32,5,50]
["Razor","Base HP","Base ATK","Base DEF","Phys DMG%","CR%","CDMG%"]
[1,1003,20,63,0,5,50]
[20,2577,50,162,0,5,50]
["20+",3326,65,209,0,5,50]
[40,4982,97,313,0,5,50]
["40+",5514,108,346,7.5,5,50]
[50,6343,124,398,7.5,5,50]
["50+",7052,138,443,15,5,50]
[60,7881,154,495,15,5,50]
["60+",8413,164,528,15,5,50]
[70,9241,180,580,15,5,50]
["70+",9773,191,613,22.5,5,50]
[80,10602,207,665,22.5,5,50]
["80+",11134,217,699,30,5,50]
[90,11962,234,751,30,5,50]
["Rosaria","Base HP","Base ATK","Base DEF","ATK%","CR%","CDMG%"]
[1,1030,20,60,0,5,50]
[20,2647,52,153,0,5,50]
["20+",3417,67,197,0,5,50]
[40,5118,100,296,0,5,50]
["40+",5665,111,327,6,5,50]
[50,6516,127,376,6,5,50]
["50+",7245,141,418,12,5,50]
[60,8096,158,468,12,5,50]
["60+",8643,169,499,12,5,50]
[70,9493,185,548,12,5,50]
["70+",10040,196,580,18,5,50]
[80,10891,213,629,18,5,50]
["80+",11438,223,661,24,5,50]
[90,12289,240,710,24,5,50]
["Sayu","Base HP","Base ATK","Base DEF","EM","CR%","CDMG%"]
[1,994,20,62,0,5,50]
[20,2553,53,160,0,5,50]
["20+",3296,68,207,0,5,50]
[40,4937,102,310,0,5,50]
["40+",5464,113,343,24,5,50]
[50,6285,130,395,24,5,50]
["50+",6988,144,439,48,5,50]
[60,7809,161,491,48,5,50]
["60+",8337,172,524,48,5,50]
[70,9157,189,575,48,5,50]
["70+",9684,200,608,72,5,50]
[80,10505,216,660,72,5,50]
["80+",11033,227,693,96,5,50]
[90,11854,244,745,96,5,50]
["Sucrose","Base HP","Base ATK","Base DEF","Anemo DMG%","CR%","CDMG%"]
[1,775,14,59,0,5,50]
[20,1991,37,151,0,5,50]
["20+",2570,47,195,0,5,50]
[40,3850,71,293,0,5,50]
["40+",4261,78,324,6,5,50]
[50,4901,90,373,6,5,50]
["50+",5450,100,414,12,5,50]
[60,6090,112,463,12,5,50]
["60+",6501,120,494,12,5,50]
[70,7141,131,543,12,5,50]
["70+",7552,139,574,18,5,50]
[80,8192,151,623,18,5,50]
["80+",8604,158,654,24,5,50]
[90,9244,170,703,24,5,50]
["Venti","Base HP","Base ATK","Base DEF","ER%","CR%","CDMG%"]
[1,820,20,52,0,5,50]
[20,2127,53,135,0,5,50]
["20+",2830,71,180,0,5,50]
[40,4234,106,269,0,5,50]
["40+",4734,118,301,8,5,50]
[50,5446,136,346,8,5,50]
["50+",6112,153,388,16,5,50]
[60,6832,171,434,16,5,50]
["60+",7331,183,465,16,5,50]
[70,8058,201,512,16,5,50]
["70+",8557,214,543,24,5,50]
[80,9292,232,590,24,5,50]
["80+",9791,245,622,32,5,50]
[90,10531,263,669,32,5,50]
["Xiangling","Base HP","Base ATK","Base DEF","EM","CR%","CDMG%"]
[1,912,19,56,0,5,50]
[20,2342,48,144,0,5,50]
["20+",3024,63,186,0,5,50]
[40,4529,94,279,0,5,50]
["40+",5013,104,308,24,5,50]
[50,5766,119,355,24,5,50]
["50+",6411,133,394,48,5,50]
[60,7164,148,441,48,5,50]
["60+",7648,158,470,48,5,50]
[70,8401,174,517,48,5,50]
["70+",8885,184,546,72,5,50]
[80,9638,200,593,72,5,50]
["80+",10122,210,623,96,5,50]
[90,10875,225,669,96,5,50]
["Xiao","Base HP","Base ATK","Base DEF","CR%","CDMG%"]
[1,991,27,62,5,50]
[20,2572,71,161,5,50]
["20+",3422,94,215,5,50]
[40,5120,140,321,5,50]
["40+",5724,157,359,9.8000000000000007,50]
[50,6586,181,413,9.8000000000000007,50]
["50+",7391,203,464,14.6,50]
[60,8262,227,519,14.6,50]
["60+",8866,243,556,14.6,50]
[70,9744,267,612,14.6,50]
["70+",10348,284,649,19.399999999999999,50]
[80,11236,308,705,19.399999999999999,50]
["80+",11840,325,743,24.2,50]
[90,12736,349,799,24.2,50]
["Xingqiu","Base HP","Base ATK","Base DEF","ATK%","CR%","CDMG%"]
[1,857,17,64,0,5,50]
[20,2202,43,163,0,5,50]
["20+",2842,56,211,0,5,50]
[40,4257,84,316,0,5,50]
["40+",4712,93,349,6,5,50]
[50,5420,107,402,6,5,50]
["50+",6027,119,447,12,5,50]
[60,6735,133,499,12,5,50]
["60+",7190,142,533,12,5,50]
[70,7897,156,585,12,5,50]
["70+",8352,165,619,18,5,50]
[80,9060,179,671,18,5,50]
["80+",9514,188,705,24,5,50]
[90,10222,202,758,24,5,50]
["Xinyan","Base HP","Base ATK","Base DEF","ATK%","CR%","CDMG%"]
[1,939,21,67,0,5,50]
[20,2413,54,172,0,5,50]
["20+",3114,69,222,0,5,50]
[40,4665,103,333,0,5,50]
["40+",5163,115,368,6,5,50]
[50,5939,132,423,6,5,50]
["50+",6604,147,471,12,5,50]
[60,7379,164,526,12,5,50]
["60+",7878,175,562,12,5,50]
[70,8653,192,617,12,5,50]
["70+",9151,203,652,18,5,50]
[80,9927,220,708,18,5,50]
["80+",10425,231,743,24,5,50]
[90,11201,249,799,24,5,50]
["Yanfei","Base HP","Base ATK","Base DEF","Pyro DMG%","CR%","CDMG%"]
[1,784,20,49,0,5,50]
[20,2014,52,126,0,5,50]
["20+",2600,67,163,0,5,50]
[40,3895,100,244,0,5,50]
["40+",4311,111,271,6,5,50]
[50,4959,127,311,6,5,50]
["50+",5514,141,346,12,5,50]
[60,6161,158,387,12,5,50]
["60+",6578,169,413,12,5,50]
[70,7225,185,453,12,5,50]
["70+",7641,196,480,18,5,50]
[80,8289,213,520,18,5,50]
["80+",8705,223,546,24,5,50]
[90,9352,240,587,24,5,50]
["Yoimiya","Base HP","Base ATK","Base DEF","CR%","CDMG%"]
[1,791,25,48,5,50]
[20,2053,65,124,5,50]
["20+",2731,87,165,5,50]
[40,4086,130,247,5,50]
["40+",4568,145,276,9.8000000000000007,50]
[50,5256,167,318,9.8000000000000007,50]
["50+",5899,187,357,14.6,50]
[60,6593,209,399,14.6,50]
["60+",7075,225,428,14.6,50]
[70,7777,247,470,14.6,50]
["70+",8259,262,500,19.399999999999999,50]
[80,8968,285,542,19.399999999999999,50]
["80+",9450,300,572,24.2,50]
[90,10164,323,615,24.2,50]
["Zhongli","Base HP","Base ATK","Base DEF","Geo DMG%","CR%","CDMG%"]
[1,1144,20,57,0,5,50]
[20,2967,51,149,0,5,50]
["20+",3948,67,198,0,5,50]
[40,5908,101,297,0,5,50]
["40+",6605,113,332,7.2,5,50]
[50,7599,130,382,7.2,5,50]
["50+",8528,146,428,14.4,5,50]
[60,9533,163,479,14.4,5,50]
["60+",10230,175,514,14.4,5,50]
[70,11243,192,564,14.4,5,50]
["70+",11940,204,599,21.6,5,50]
[80,12965,222,651,21.6,5,50]
["80+",13662,233,686,28.8,5,50]
[90,14695,251,738,28.8,5,50]
["GMC","Base HP","Base ATK","Base DEF","ATK%","CR%","CDMG%"]
[1,912,18,57,0,5,50]
[20,2342,46,147,0,5,50]
["20+",3024,59,190,0,5,50]
[40,4529,88,284,0,5,50]
["40+",5013,98,315,6,5,50]
[50,5766,113,362,6,5,50]
["50+",6411,125,402,12,5,50]
[60,7164,140,450,12,5,50]
["60+",7648,149,480,12,5,50]
[70,8401,164,527,12,5,50]
["70+",8885,174,558,18,5,50]
[80,9638,188,605,18,5,50]
["80+",10122,198,635,24,5,50]
[90,10875,212,683,24,5,50]
["AMC","Base HP","Base ATK","Base DEF","ATK%","CR%","CDMG%"]
[1,912,18,57,0,5,50]
[20,2342,46,147,0,5,50]
["20+",3024,59,190,0,5,50]
[40,4529,88,284,0,5,50]
["40+",5013,98,315,6,5,50]
[50,5766,113,362,6,5,50]
["50+",6411,125,402,12,5,50]
[60,7164,140,450,12,5,50]
["60+",7648,149,480,12,5,50]
[70,8401,164,527,12,5,50]
["70+",8885,174,558,18,5,50]
[80,9638,188,605,18,5,50]
["80+",10122,198,635,24,5,50]
[90,10875,212,683,24,5,50]
["EMC","Base HP","Base ATK","Base DEF","ATK%","CR%","CDMG%"]
[1,912,18,57,0,5,50]
[20,2342,46,147,0,5,50]
["20+",3024,59,190,0,5,50]
[40,4529,88,284,0,5,50]
["40+",5013,98,315,6,5,50]
[50,5766,113,362,6,5,50]
["50+",6411,125,402,12,5,50]
[60,7164,140,450,12,5,50]
["60+",7648,149,480,12,5,50]
[70,8401,164,527,12,5,50]
["70+",8885,174,558,18,5,50]
[80,9638,188,605,18,5,50]
["80+",10122,198,635,24,5,50]
[90,10875,212,683,24,5,50]
["Thoma","Base HP","Base ATK","Base DEF","ATK%","CR%","CDMG%"]
[1,866,17,63,0,5,50]
[20,2225,43,162,0,5,50]
["20+",2872,56,209,0,5,50]
[40,4302,84,313,0,5,50]
["40+",4762,93,346,6,5,50]
[50,5478,107,398,6,5,50]
["50+",6091,119,443,12,5,50]
[60,6806,133,495,12,5,50]
["60+",7266,142,528,12,5,50]
[70,7981,156,580,12,5,50]
["70+",8440,165,613,18,5,50]
[80,9156,179,665,18,5,50]
["80+",9616,188,699,24,5,50]
[90,10331,202,751,24,5,50]
["Shenhe","Base HP","Base ATK","Base DEF","ATK%","CR%","CDMG%"]
[1,1011,24,65,0,5,50]
[20,2624,61,168,0,5,50]
["20+",2491,82,223,0,5,50]
[40,5224,122,334,0,5,50]
["40+",5840,137,373,7.2,5,50]
[50,6719,157,429,7.2,5,50]
["50+",7540,176,482,14.4,5,50]
[60,8429,197,538,14.4,5,50]
["60+",9045,211,578,14.4,5,50]
[70,9941,232,635,14.4,5,50]
["70+",10557,247,674,21.6,5,50]
[80,11463,268,732,21.6,5,50]
["80+",12080,282,772,28.8,5,50]
[90,12993,304,830,28.8,5,50]
["Sara","Base HP","Base ATK","Base DEF","ATK%","CR%","CDMG%"]
[1,802,16,53,0,5,50]
[20,2061,42,135,0,5,50]
["20+",2661,54,175,0,5,50]
[40,3985,81,262,0,5,50]
["40+",4411,90,289,6,5,50]
[50,5074,104,333,6,5,50]
["50+",5642,115,370,12,5,50]
[60,6305,129,414,12,5,50]
["60+",6731,137,442,12,5,50]
[70,7393,151,485,12,5,50]
["70+",7818,160,513,18,5,50]
[80,8481,173,556,18,5,50]
["80+",8907,182,584,24,5,50]
[90,9570,195,628,24,5,50]
["Yunjin","Base HP","Base ATK","Base DEF","ER%","CR%","CDMG%"]
[1,894,16,62,0,5,50]
[20,2296,41,158,0,5,50]
["20+",2963,53,204,0,5,50]
[40,4438,80,306,0,5,50]
["40+",4913,88,339,6.7,5,50]
[50,5651,101,389,6.7,5,50]
["50+",6283,113,433,13.3,5,50]
[60,7021,126,484,13.3,5,50]
["60+",7495,134,517,13.3,5,50]
[70,8233,148,567,13.3,5,50]
["70+",8707,156,600,20,5,50]
[80,9445,169,651,20,5,50]
["80+",9919,178,684,26.7,5,50]
[90,10657,191,734,26.7,5,50]
["Yae","Base HP","Base ATK","Base DEF","CR%","CDMG%"]
[1,8807,26,44,5,50]
[20,2095,69,115,5,50]
["20+",2787,91,153,5,50]
[40,4170,137,229,5,50]
["40+",4662,153,256,9.8000000000000007,50]
[50,5364,176,294,9.8000000000000007,50]
["50+",6020,197,330,14.6,50]
[60,6729,220,369,14.6,50]
["60+",7220,236,396,14.6,50]
[70,7936,260,435,14.6,50]
["70+",8428,276,462,19.399999999999999,50]
[80,9151,300,502,19.399999999999999,50]
["80+",9643,316,529,24.2,50]
[90,10372,340,569,24.2,50]
["Kazuha","Base HP","Base ATK","Base DEF","EM","CR%","CDMG%"]
[1,1039,23,63,0,5,50]
[20,2695,60,163,0,5,50]
["20+",3586,80,217,0,5,50]
[40,5366,119,324,0,5,50]
["40+",5999,133,363,28.8,5,50]
[50,6902,153,417,28.8,5,50]
["50+",7747,172,468,57.6,5,50]
[60,8659,192,523,57.6,5,50]
["60+",9292,206,562,57.6,5,50]
[70,10213,227,617,57.6,5,50]
["70+",10846,241,656,86.4,5,50]
[80,11777,262,712,86.4,5,50]
["80+",12410,276,750,115.2,5,50]
[90,13348,297,807,115.2,5,50]
["Kuki","Base HP","Base ATK","Base DEF","HP%","CR%","CDMG%"]
[1,1030,18,63,0,5,50]
[20,2647,46,162,0,5,50]
["20+",3417,59,209,0,5,50]
[40,5118,88,313,0,5,50]
["40+",5665,98,346,6,5,50]
[50,6516,113,398,6,5,50]
["50+",7245,125,443,12,5,50]
[60,8096,140,495,12,5,50]
["60+",8643,149,528,12,5,50]
[70,9493,164,580,12,5,50]
["70+",10040,174,613,18,5,50]
[80,10891,188,665,18,5,50]
["80+",11438,198,699,24,5,50]
[90,12289,212,751,24,5,50]
["Yelan","Base HP","Base ATK","Base DEF","CR%","CDMG%"]
[1,1125,19,43,5,50]
[20,2918,49,111,5,50]
["20+",3883,66,147,5,50]
[40,5810,98,220,5,50]
["40+",6495,110,246,9.8000000000000007,50]
[50,7472,126,283,9.8000000000000007,50]
["50+",8386,142,318,14.6,50]
[60,9374,158,355,14.6,50]
["60+",10059,170,381,14.6,50]
[70,11056,187,419,14.6,50]
["70+",11741,198,445,19.400000000000002,50]
[80,12749,215,483,19.400000000000002,50]
["80+",13434,227,509,24.2,50]
[90,14450,244,548,24.2,50]
["Heizou","Base HP","Base ATK","Base DEF","Anemo DMG%","CR%","CDMG%"]
[1,894,19,57,0,5,50]
[20,2296,48,147,0,5,50]
["20+",2963,63,190,0,5,50]
[40,4438,94,285,0,5,50]
["40+",4913,104,315,6,5,50]
[50,5651,119,363,6,5,50]
["50+",6283,133,403,12,5,50]
[60,7021,148,451,12,5,50]
["60+",7495,158,481,12,5,50]
[70,8233,174,528,12,5,50]
["70+",8707,184,559,18,5,50]
[80,9445,200,606,18,5,50]
["80+",9919,210,637,24,5,50]
[90,10657,225,684,24,5,50]
["Ayato","Base HP","Base ATK","Base DEF","CDMG%","CR%"]
[1,1068,23,60,50,5]
[20,2770,60,155,50,5]
["20+",3685,80,206,50,5]
[40,5514,120,309,50,5]
["40+",6165,134,345,59.599999999999994,5]
[50,7092,155,397,59.599999999999994,5]
["50+",7960,174,446,69.199999999999989,5]
[60,8897,194,499,69.199999999999989,5]
["60+",9548,208,535,69.199999999999989,5]
[70,10494,229,588,69.199999999999989,5]
["70+",11144,243,624,78.8,5]
[80,12101,264,678,78.8,5]
["80+",12751,278,715,88.4,5]
[90,13715,299,769,88.4,5]

{"sheet":"weapons","index":12,"n_rows":263,"n_cols":106,"rows_kept":263,"cut":false,"hidden":true,"merged":[]}
["Character 1","Skyward Pride","The Unforged","Redhorn Stonethresher","Wolf's Gravestone","Song of Broken Pines","Serpent Spine","The Bell","Royal Greatsword","Whiteblind","Favonius Greatsword","Snow-Tombed Starsilver","Rainslasher","Lithic Blade","Prototype Archaic","Luxurious Sea-Lord","Katsuragikiri Nagamasa","Sacrificial Greatsword","Akuoumaru","Blackcliff Slasher","Skyward Spine","Engulfing Lightning","Primordial Jade-Winged Spear","Vortex Vanquisher","Staff of Homa","Calamity Queller","The Catch","Kitain Cross-Spear","Dragonspine Spear","Favonius Lance","Prototype Starglitter","Lithic Spear","Dragon's Bane","Wavebreaker's Fin","Deathmatch","Crescent Pike","Blackcliff Pole","White Tassel","Black Tassel","Jade Cutter","Freedom Sworn","Mistsplitter Reforged","Haran Tsukishiro Futsu","Summit Shaper","Skyward Blade","Aquila Favonia","Festering Desire","The Flute","The Black Sword","The Alley Flash","Sacrificial Sword","Royal Longsword","Prototype Rancour","Lion's Roar","Iron Sting","Favonius Sword","Blackcliff Longsword","Amenoma Kageuchi","Cinnabar Spindle","Skyrider Sword","Dark Iron Sword","Cool Steel","Harbinger of Dawn","Memory of Dust","Kagura's Verity","Skyward Atlas","Lost Prayers","Everlasting Moonglow","Frostbearer","Eye of Perception","Wine and Song","The Widsith","Solar Pearl","Sacrificial Fragments","Royal Grimore","Prototype Amber","Mappa Mare","Favonius Codex","Dodoco Tales","Oathsworn Eye","Magic Guide","Blackcliff Agate","Hakushin Ring","Thrilling Tales of Dragon Slayers","Elegy for the End","Polar Star","Skyward Harp","Aqua Simulacra","Amos Bow","Fading Twilight","Rust","Mouun's Moon","Viridescent Hunt","Compound Bow","Blackcliff Warbow","Prototype Crescent","Favonius Warbow","Windblume Ode","Alley Hunter","Sacrificial Bow","Hamayumi","The Stringless","Royal Bow","Mitternacht's Waltz","Slingshot","Thundering Pulse"]
["Base ATK",674,608,542,608,741,510,510,565,510,454,565,510,510,565,454,510,565,510,510,674,608,674,608,608,741,510,565,454,565,510,565,454,620,454,565,510,401,354,542,608,674,608,608,608,674,510,510,510,620,454,510,565,510,510,454,565,454,454,354,401,401,401,608,608,674,608,608,510,454,565,510,510,454,565,510,565,510,454,565,354,510,565,401,608,608,674,542,608,565,510,565,510,454,565,510,454,510,565,565,454,510,510,510,354,608]
["ATK%",0,{"$f":"49.6%+IF(char1WeapToggle, 2*char1WeapStacks*(4+(char1Refine-1))%, char1WeapStacks*(4+(char1Refine-1))%)","v":0.89600000000000002},0,{"$f":"49.6%+(20+(char1Refine-1)*5)%+IF(char1WeapToggle,(40+(char1Refine-1)*10),0)%","v":1.0960000000000001},{"$f":"IF(char1WeapToggle, (20+(char1Refine-1)*5)%, 0%) + (16+(char1Refine-1)*4)%","v":0.36},0,0,0.27600000000000002,{"$f":"char1WeapStacks*(6+1.5*(char1Refine-1))%","v":0.3},0,0,0,{"$f":"41.3%+char1WeapStacks*(7+(char1Refine-1))%","v":0.76300000000000001},0.27600000000000002,0.55100000000000005,0,0,0.41299999999999998,{"$f":"char1WeapStacks*(12+(char1Refine-1)*3)%","v":0.6},0,{"$f":"MIN((28%+(char1Refine-1)*7%)*(char1FinalER-100%),(80+(char1Refine-1)*10)%)","v":6.1711999999999989E-2},{"$f":"char1WeapStacks*(3.2+(char1Refine-1)*0.7)%","v":0.16},{"$f":"(49.6+(char1WeapStacks*IF(char1WeapToggle,2,1)*(4+(char1Refine-1)*1)))%","v":0.89599999999999991},0,{"$f":"IF(char1WeapToggle = FALSE, (3.2%+0.8%*(char1Refine-1))*char1WeapStacks, (3.2%+0.8%*(char1Refine-1))*char1WeapStacks*2)","v":0.32},0,0,0,0,0,{"$f":"(27.6+(7+(char1Refine-1)*1)*char1WeapStacks)%","v":0.626},0,0.13800000000000001,{"$f":"IF(char1WeapToggle,(24+(char1Refine-1)*6),(16+(char1Refine-1)*4))%","v":0.24},0,{"$f":"(12+(char1Refine-1)*3)*char1WeapStacks%","v":0.60000000000000009},0,0,0,{"$f":"IF(char1WeapToggle, (20+(char1Refine-1)*5), 0)%","v":0.2},0,0,{"$f":"(49.6+IF(char1WeapToggle,(4+(char1Refine-1))*char1WeapStacks*2,(4+(char1Refine-1))*char1WeapStacks))%","v":0.89599999999999991},0,{"$f":"(20+(char1Refine-1)*5)%","v":0.2},0,0.41299999999999998,0,0,0,0.41299999999999998,{"$f":"char1WeapStacks*(4+(char1Refine-1))%","v":0.2},0.41299999999999998,0,0,{"$f":"(char1WeapStacks*(12+(char1Refine-1)*3))%","v":0.6},0.55100000000000005,0,{"$f":"IF(char1WeapToggle,12+(char1Refine-1)*3,0)%","v":0.12},{"$f":"IF(char1WeapToggle, 20+(char1Refine-1)*5)%","v":0.2},0.35199999999999998,0,{"$f":"(49.6+IF(char1WeapToggle,(4+(char1Refine-1))*char1WeapStacks*2,(4+(char1Refine-1))*char1WeapStacks))%","v":0.89599999999999991},0,0.33100000000000002,0,0,0.41299999999999998,0.55100000000000005,{"$f":"IF(char1WeapToggle, 20+(char1Refine-1)*5,0)%","v":0.2},{"$f":"IF(char1WeapToggle, 20+(char1Refine-1)*5,0)%","v":0.2},0,0,0.27600000000000002,0,0,0,{"$f":"(55.1+IF(char1WeapToggle,8+(char1Refine-1)*2))%","v":0.63100000000000001},0.27600000000000002,0,{"$f":"char1WeapStacks*(12+(char1Refine-1)*3)%","v":0.6},0,0,{"$f":"IF(char1WeapToggle, 20+(char1Refine-1)*5, 0)%","v":0.2},{"$f":"IF(char1WeapStacks=0, 0, IF(char1WeapStacks=1, 10+(char1Refine-1)*2.5, IF(char1WeapStacks=2, 20+(char1Refine-1)*5, IF(char1WeapStacks=3, 30+(char1Refine-1)*7.5, IF(char1WeapStacks=4, 48+(char1Refine-1)*12,0)))))%","v":0},0,0,0.496,0,0.41299999999999998,0.27600000000000002,0,{"$f":"char1WeapStacks*(4+(char1Refine-1))%","v":0.2},{"$f":"char1WeapStacks*(12+(char1Refine-1)*3)%","v":0.6},{"$f":"41.3%+IF(char1WeapToggle, 36+(char1Refine-1)*9)%","v":0.77299999999999991},0,{"$f":"IF(char1WeapToggle, 16+(char1Refine-1)*4,0)%","v":0.16},0.27600000000000002,0,0.55100000000000005,0,0.41299999999999998,0,0,{"$f":"(20+(char1Refine-1)*5)%","v":0.2}]
["DEF%",0,0,{"$f":"(28+(char1Refine-1)*7)%","v":0.28000000000000003},0,0,0,0,0,{"$f":"51.7%+char1WeapStacks*(6+1.5*(char1Refine-1))%","v":0.81699999999999995},0,0,0,0,0,0,0,0,0,0,0,0,0,0,0,0,0,0,0,0,0,0,0,0,{"$f":"(16+(char1Refine-1)*4)%","v":0.16},0,0,0,0,0,0,0,0,0,0,0,0,0,0,0,0,0,{"$f":"char1WeapStacks*(4+(char1Refine-1))%","v":0.2},0,0,0,0,0,0.69,0,0,0,0,0,0,0,0,0,0,0,0,0,0,0,0,0,0,0,0,0,0,0,0,0,0,0,0,0,0,0,0,0,0,0,0,0,0,0,0,0,0,0,0,0,0,0]
["HP%",0,0,0,0,0,0,0.41299999999999998,0,0,0,0,0,0,0,0,0,0,0,0,0,0,0,0,{"$f":"(20+(char1Refine-1)*5)%","v":0.2},0,0,0,0,0,0,0,0,0,0,0,0,0,0.46899999999999997,{"$f":"0.2+(char1Refine-1)*0.05","v":0.2},0,0,0,0,0,0,0,0,0,0,0,0,0,0,0,0,0,0,0,0,0,0,0,0,0,0,0,0.496,0,0,0,0,0,0,0,0.41299999999999998,0,0,0,0,0,0,0,0.35199999999999998,0,0,0,{"$f":"16%+(4%*(char1Refine-1))","v":0.16},0,0,0,0,0,0,0,0,0,0,0,0,0,0,0,0,0,0]
["CR%",0,0,0,0,0,0.27600000000000002,0,{"$f":"(char1WeapStacks*(8%+(char1Refine-1)*2%))","v":0.4},0,0,0,0,{"$f":"char1WeapStacks*(3+(char1Refine-1))%","v":0.15},0,0,0,0,0,0,{"$f":"(8+(char1Refine-1)*2)%","v":0.08},0,0.221,0,0,0,0,0,0,0,0,{"$f":"(3+(char1Refine-1)*1)*char1WeapStacks%","v":0.15000000000000002},0,0,0.36799999999999999,0,0,0.23400000000000001,0,0.441,0,0,0.33100000000000002,0,{"$f":"(4+(char1Refine-1))%","v":0.04},0,0,0,0.27600000000000002,0,0,{"$f":"(char1WeapStacks*(8+(char1Refine-1)*2))%","v":0.4},0,0,0,0,0,0,0,0,0,0,{"$f":"IF(char1WeapToggle,14+(char1Refine-1)*3.5,0)%","v":0.14000000000000001},0,0,0,0.33100000000000002,0,0,0,0,0,0.27600000000000002,0,{"$f":"char1WeapStacks*(8+(char1Refine-1)*2)%","v":0.4},0,0,0,0,0,0,0,0,0,0,0.33100000000000002,0.221,0,0,0,0,0,0.27600000000000002,0,0,0,0,0,0,0,0,0,{"$f":"char1WeapStacks*(8+(char1Refine-1)*2)%","v":0.4},0,0.312,0]
["CDMG%",0,0,0.88200000000000001,0,0,0,0,0,0,0,0,0,0,0,0,0,0,0,0.55100000000000005,0,0,0,0,0.66200000000000003,0,0,0,0,0,0,0,0,0,0,0,0.55100000000000005,0,0,0,0,0.441,0,0,0,0,0,0,0,0,0,0,0,0,0,0,0.36799999999999999,0,0,0,0,0,0.46899999999999997,0,0.66200000000000003,0,0,0,0,0,0,0.55100000000000005,0,0,0,0,0,0,0,0,0,0.55100000000000005,0,0,0,0,{"$f":"(20+(char1Refine-1)*5)%","v":0.2},0.88200000000000001,0,0,0,0,0,0,0.36799999999999999,0,0,0,0,0,0,0,0,0,0,0.66200000000000003]
["ER%",0.36799999999999999,0,0,0,0,0,0,0,0,0.61299999999999999,0,0,0,0,0,0.45900000000000002,0.30599999999999999,0,0,0.36799999999999999,{"$f":"55.1%+IF(char1WeapToggle, 30+(char1Refine-1)*5,0)%","v":0.85099999999999998},0,0,0,0,0.45900000000000002,0,0,0.30599999999999999,0.45900000000000002,0,0,0,0,0,0,0,0,0,0,0,0,0,0.55100000000000005,0,0.45900000000000002,0,0,0,0.61299999999999999,0,0,0,0,0.61299999999999999,0,0,0,0.51700000000000002,0,0,0,0,0,0,0,0,0,0,0.30599999999999999,0,0,0,0,0,0,0.45900000000000002,0,{"$f":"IF(char1WeapToggle, 24%+(6%*(char1Refine-1)),  0)","v":0.24},0,0,0.30599999999999999,0,0.55100000000000005,0,0,0,0,0.30599999999999999,0,0,0,0,0,0,0.61299999999999999,0,0,0.30599999999999999,0,0,0,0,0,0]
["Phys DMG%",0,0,0,0,0.20699999999999999,0,0,0,0,0,0.34499999999999997,0,0,0,0,0,0,0,0,0,0,0,0,0,0,0,0,0.69,0,0,0,0,0,0,0.34499999999999997,0,0,0,0,0,0,0,0,0,0.41299999999999998,0,0,0,0,0,0,0.34499999999999997,0,0,0,0,0,0,0,0,0,0,0,0,0,0,0,0,0,0,0,0,0,0,0,0,0,0,0,0,0,0,0,0,0,0,0,0,0,0,0,0,0.69,0,0,0,0,0,0,0,0,0,0.51700000000000002,0,0]
["Anemo DMG%",0,0,0,0,0,0,0,0,0,0,0,0,0,0,0,0,0,0,0,0,0,0,0,0,{"$f":"12%+3%*(char1Refine-1)","v":0.12},0,0,0,0,0,0,0,0,0,0,0,0,0,0,0,{"$f":"(IF(Lookups!$K$1 = weapons!A10,IF(char1WeapStacks=1, (8+(char1Refine-1)*2)%, IF(char1WeapStacks=2, (16+(char1Refine-1)*4)%, IF(char1WeapStacks=3, (28+(char1Refine-1)*7)%, 0)))))+(12+(char1Refine-1)*3)%","v":0.12},{"$f":"(12%+3%*(char1Refine-1))","v":0.12},0,0,0,0,0,0,0,0,0,0,0,0,0,0,0,0,0,0,0,0,0,{"$f":"IF(char1WeapStacks=3, 12%+(char1Refine-1)*3%, 0%)","v":0},{"$f":"(12+(char1Refine-1)*3)%","v":0.12},{"$f":"(char1WeapStacks*(8+(char1Refine-1)*2))%","v":0.4},0,0,0,0,{"$f":"IF(char1WeapToggle, 16+(char1Refine-1)*4,0)%","v":0.16},0,0,0,0,{"$f":"char1WeapStacks*(8+(char1Refine-1)*2)%","v":0.4},0,0,0,0,0,0,0,0,0,0,0,0,0,0,0,0,0,0,0,0,0,0,0,0,0,0,0,0,0]
["Geo DMG%",0,0,0,0,0,0,0,0,0,0,0,0,0,0,0,0,0,0,0,0,0,0,0,0,0.12,0,0,0,0,0,0,0,0,0,0,0,0,0,0,0,{"$f":"(IF(Lookups!$K$1 = weapons!A11,IF(char1WeapStacks=1, (8+(char1Refine-1)*2)%, IF(char1WeapStacks=2, (16+(char1Refine-1)*4)%, IF(char1WeapStacks=3, (28+(char1Refine-1)*7)%, 0)))))+(12+(char1Refine-1)*3)%","v":0.12},0.12,0,0,0,0,0,0,0,0,0,0,0,0,0,0,0,0,0,0,0,0,0,0,0.12,0.4,0,0,0,0,0.16,0,0,0,0,0.4,0,0,0,0,0,0,0,0,0,0,0,0,0,0,0,0,0,0,0,0,0,0,0,0,0,0,0,0,0]
["Pyro DMG%",0,0,0,0,0,0,0,0,0,0,0,0,0,0,0,0,0,0,0,0,0,0,0,0,0.12,0,0,0,0,0,0,0,0,0,0,0,0,0,0,0,{"$f":"(IF(Lookups!$K$1 = weapons!A12,IF(char1WeapStacks=1, (8+(char1Refine-1)*2)%, IF(char1WeapStacks=2, (16+(char1Refine-1)*4)%, IF(char1WeapStacks=3, (28+(char1Refine-1)*7)%, 0)))))+(12+(char1Refine-1)*3)%","v":0.12},0.12,0,0,0,0,0,0,0,0,0,0,0,0,0,0,0,0,0,0,0,0,0,0,0.12,0.4,0,0,0,0,0.16,0,0,0,0,0.4,0,0,0,0,0,0,0,0,0,0,0,0,0,0,0,0,0,0,0,0,0,0,0,0,0,0,0,0,0]
["Cryo DMG%",0,0,0,0,0,0,0,0,0,0,0,0,0,0,0,0,0,0,0,0,0,0,0,0,0.12,0,0,0,0,0,0,0,0,0,0,0,0,0,0,0,{"$f":"(IF(Lookups!$K$1 = weapons!A13,IF(char1WeapStacks=1, (8+(char1Refine-1)*2)%, IF(char1WeapStacks=2, (16+(char1Refine-1)*4)%, IF(char1WeapStacks=3, (28+(char1Refine-1)*7)%, 0)))))+(12+(char1Refine-1)*3)%","v":0.12},0.12,0,0,0,0,0,0,0,0,0,0,0,0,0,0,0,0,0,0,0,0,0,0,0.12,0.4,0,0,0,0,0.16,0,0,0,0,0.4,0,0,0,0,0,0,0,0,0,0,0,0,0,0,0,0,0,0,0,0,0,0,0,0,0,0,0,0,0]
["Hydro DMG%",0,0,0,0,0,0,0,0,0,0,0,0,0,0,0,0,0,0,0,0,0,0,0,0,0.12,0,0,0,0,0,0,0,0,0,0,0,0,0,0,0,{"$f":"(IF(Lookups!$K$1 = weapons!A14,IF(char1WeapStacks=1, (8+(char1Refine-1)*2)%, IF(char1WeapStacks=2, (16+(char1Refine-1)*4)%, IF(char1WeapStacks=3, (28+(char1Refine-1)*7)%, 0)))))+(12+(char1Refine-1)*3)%","v":0.12},0.12,0,0,0,0,0,0,0,0,0,0,0,0,0,0,0,0,0,0,0,0,0,0,0.12,0.4,0,0,0,0,0.16,0,0,0,0,0.4,0,0,0,0,0,0,0,0,0,0,0,0,0,0,0,0,0,0,0,0,0,0,0,0,0,0,0,0,0]
["Electro DMG%",0,0,0,0,0,0,0,0,0,0,0,0,0,0,0,0,0,0,0,0,0,0,0,0,0.12,0,0,0,0,0,0,0,0,0,0,0,0,0,0,0,{"$f":"(IF(Lookups!$K$1 = weapons!A15,IF(char1WeapStacks=1, (8+(char1Refine-1)*2)%, IF(char1WeapStacks=2, (16+(char1Refine-1)*4)%, IF(char1WeapStacks=3, (28+(char1Refine-1)*7)%, 0)))))+(12+(char1Refine-1)*3)%","v":0.12},0.12,0,0,0,0,0,0,0,0,0,0,0,0,0,0,0,0,0,0,0,0,0,0,0.12,0.4,0,0,0,0,0.16,0,0,0,0,0.4,0,0,0,0,0,0,0,0,0,0,0,0,0,0,0,0,0,0,0,0,0,0,0,0,0,0,0,0,0]
["EM",0,0,0,0,0,0,0,0,0,0,0,165,0,0,0,0,0,0,0,0,0,0,0,0,0,0,110,0,0,0,0,221,0,0,0,0,0,0,0,198,0,0,0,0,0,0,0,0,55,0,0,0,0,165,0,0,0,0,0,141,0,0,0,0,0,0,0,0,0,0,{"$f":"IF(char1WeapToggle,80+(char1Refine-1)*20,0)","v":80},0,221,0,0,110,0,0,0,187,0,0,0,{"$f":"60+(char1Refine-1)*15+IF(char1WeapToggle, 100+(char1Refine-1)*25,0)","v":160},0,0,0,0,0,0,0,0,0,0,0,0,165,0,0,0,165,0,0,0,0]
["Healing Received%",0,0,0,0,0,0,0,0,0,0,0,0,0,0,0,0,0,0,0,0,0,0,0,0,0,0,0,0,0,0,0,0,0,0,0,0,0,0,0,0,0,0,0,0,0,0,0,0,0,0,0,0,0,0,0,0,0,0,0,0,0,0,0,0,0,0,0,0,0,0,0,0,0,0,0,0,0,0,0,0,0,0,0,0,0,0,0,0,0,0,0,0,0,0,0,0,0,0,0,0,0,0,0,0,0]
["Healing Bonus%",0,0,0,0,0,0,0,0,0,0,0,0,0,0,0,0,0,0,0,0,0,0,0,0,0,0,0,0,0,0,0,0,0,0,0,0,0,0,0,0,0,0,0,0,0,0,0,0,0,0,0,0,0,0,0,0,0,0,0,0,0,0,0,0,0,0,{"$f":"(10+(char1Refine-1)*2.5)%","v":0.1},0,0,0,0,0,0,0,0,0,0,0,0,0,0,0,0,0,0,0,0,0,0,0,0,0,0,0,0,0,0,0,0,0,0,0,0,0,0]
["Normal DMG%",0,0,0,0,0,0,0,0,0,0,0,0,0,0,0,0,0,0,0,0,0,0,0,0,0,0,0,0,0,{"$f":"((8+(char1Refine-1)*4)*char1WeapStacks)%","v":0.4},0,0,0,0,0,0,{"$f":"(24+(char1Refine-1)*6)%","v":0.24},0,0,{"$f":"IF(char1WeapToggle, (16+(char1Refine-1)*4), 0)%","v":0.16},0,{"$f":"(20%+5%*(char1Refine-1))*MIN(2, char1WeapStacks)","v":0.4},0,0,0,0,0,{"$f":"(20+(char1Refine-1)*5)%","v":0.2},0,0,0,0,0,0,0,0,0,0,0,0,0,0,0,0,0,0,0,0,0,0,0,{"$f":"IF(char1WeapToggle,20+(char1Refine-1)*5,0)%","v":0.2},0,0,0,0,0,0,0,0,0,0,0,0,0,0,0,{"$f":"(12+(char1Refine-1)*3)%+char1WeapStacks*(8+(char1Refine-1)*2)%","v":0.52},0,{"$f":"(40+(char1Refine-1)*10)%","v":0.4},0,0,0,0,0,0,0,0,0,{"$f":"IF(char1WeapToggle, 2*(16+(char1Refine-1)*4), 16+(char1Refine-1)*4)%","v":0.32},0,0,{"$f":"IF(char1WeapToggle, 20+(char1Refine-1)*5, 0)%","v":0.2},{"$f":"IF(char1WeapToggle, (36+(char1Refine-1)*6)%, -10%)","v":0.36},{"$f":"IF(char1WeapStacks=1, (12+(char1Refine-1)*3)%, IF(char1WeapStacks=2, (24+(char1Refine-1)*6)%, IF(char1WeapStacks=3, (40+(char1Refine-1)*10)%, 0)))","v":0}]
["Charged DMG%",0,0,0,0,0,0,0,0,0,0,0,0,0,0,0,0,0,0,0,0,0,0,0,0,0,0,0,0,0,{"$f":"((8+(char1Refine-1)*4)*char1WeapStacks)%","v":0.4},0,0,0,0,0,0,0,0,0,{"$f":"IF(char1WeapToggle, (16+(char1Refine-1)*4), 0)%","v":0.16},0,0,0,0,0,0,0,{"$f":"(20+(char1Refine-1)*5)%","v":0.2},0,0,0,0,0,0,0,0,0,0,0,0,0,0,0,0,0,0,0,0,0,0,0,0,0,0,0,0,0,{"$f":"IF(char1WeapToggle,16+(char1Refine-1)*4,0)%","v":0.16},0,0,0,0,0,0,0,0,0,{"$f":"(12+(char1Refine-1)*3)%+char1WeapStacks*(8+(char1Refine-1)*2)%","v":0.52},0,{"$f":"-10%","v":-0.1},0,0,0,0,0,0,0,0,0,{"$f":"IF(char1WeapToggle, 2*(12+(char1Refine-1)*3), (12+(char1Refine-1)*3))%","v":0.24},0,0,0,{"$f":"IF(char1WeapToggle, (36+(char1Refine-1)*6)%, -10%)","v":0.36},0]
["Plunging DMG%",0,0,0,0,0,0,0,0,0,0,0,0,0,0,0,0,0,0,0,0,0,0,0,0,0,0,0,0,0,0,0,0,0,0,0,0,0,0,0,{"$f":"IF(char1WeapToggle, (16+(char1Refine-1)*4), 0)%","v":0.16},0,0,0,0,0,0,0,0,0,0,0,0,0,0,0,0,0,0,0,0,0,0,0,0,0,0,0,0,0,0,0,0,0,0,0,0,0,0,0,0,0,0,0,0,0,0,0,0,0,0,0,0,0,0,0,0,0,0,0,0,0,0,0,0,0]
["Skill DMG%",0,0,0,0,0,0,0,0,0,0,0,0,0,0,0,0,0,0,0,0,0,0,0,0,0,0,{"$f":"(6+(char1Refine-1)*1.5)%","v":0.06},0,0,0,0,0,0,0,0,0,0,0,0,0,0,0,0,0,0,{"$f":"(16+(char1Refine-1)*4)%","v":0.16},0,0,0,0,0,0,0,0,0,0,0,0,0,0,0,0,0,{"$f":"(12%+(char1Refine-1)*3%)*(char1WeapStacks)","v":0.6},0,0,0,0,0,0,0,{"$f":"IF(char1WeapToggle, 20+(char1Refine-1)*5,0)%","v":0.2},0,0,0,0,0,0,0,0,0,0,0,0,{"$f":"12%+(char1Refine-1)*3%","v":0.12},0,0,0,0,0,0,0,0,0,0,0,0,0,0,0,{"$f":"(24+(char1Refine-1)*6)%","v":0.24},0,{"$f":"IF(char1WeapToggle, 20+(char1Refine-1)*5, 0)%","v":0.2},0,0]
["Burst DMG%",0,0,0,0,0,0,0,0,0,0,0,0,0,0,{"$f":"(12+(char1Refine-1)*3)%","v":0.12},0,0,{"$f":"MIN((40+(char1Refine-1)*10)%, char1WeapStacks*(0.12%+(char1Refine-1)*0.03%))","v":5.9999999999999993E-3},0,0,0,0,0,0,0,{"$f":"(16+(char1Refine-1)*4)%","v":0.16},0,0,0,0,0,0,{"$f":"MIN((40+(char1Refine-1)*10)%, (0.12+(char1Refine-1)*0.03)*char1WeapStacks%)","v":6.0000000000000001E-3},0,0,0,0,0,0,0,0,0,0,0,0,0,0,0,0,0,0,0,0,0,0,0,0,0,0,0,0,0,0,0,0,0,0,0,0,0,0,{"$f":"IF(char1WeapToggle, 20+(char1Refine-1)*5,0)%","v":0.2},0,0,0,0,0,0,0,0,0,0,0,0,{"$f":"12%+(char1Refine-1)*3%","v":0.12},0,0,0,0,0,{"$f":"MIN((char1WeapStacks*(0.12%+0.03%*(char1Refine-1))), 40%+(10%*(char1Refine-1)))","v":5.9999999999999993E-3},0,0,0,0,0,0,0,0,0,{"$f":"(24+(char1Refine-1)*6)%","v":0.24},0,0,0,0]
["DMG%",{"$f":"(8+(char1Refine-1)*2)%","v":0.08},0,0,0,0,{"$f":"char1WeapStacks*(6+(char1Refine-1))%","v":0.3},{"$f":"IF(char1WeapToggle, 12+(char1Refine-1)*3)%","v":0.12},0,0,0,0,{"$f":"IF(char1WeapToggle, 20+(char1Refine-1)*4, 0)%","v":0.2},0,0,0,0,0,0,0,0,0,{"$f":"IF(char1WeapStacks>=7,(12+(char1Refine-1)*3),0)%","v":0},0,0,0,0,0,0,0,0,0,{"$f":"IF(char1WeapToggle,(20+(char1Refine-1)*4),0)%","v":0.2},0,0,0,0,0,{"$f":"IF(char1WeapToggle,(40+(char1Refine-1)*10),0)%","v":0.4},0,{"$f":"(10+(char1Refine-1)*2.5)%","v":0.1},0,0,0,0,0,0,0,0,{"$f":"IF(char1WeapToggle,(12+(char1Refine-1)*3),0)%","v":0.12},0,0,0,{"$f":"IF(char1WeapToggle,(20+(char1Refine-1)*4),0)%","v":0.2},{"$f":"(char1WeapStacks*(6+(char1Refine-1)*1.5))%","v":0.3},0,0,0,0,0,0,{"$f":"IF(char1WeapToggle, 12%+(char1Refine-1)*3%, 0%)","v":0.12},0,0,0,0,0,0,0,0,0,0,0,0,0,0,0,0,0,0,{"$f":"IF(char1WeapToggle, 12+(char1Refine-1)*3, 0)%","v":0.12},0,{"$f":"IF(char1WeapToggle, 10+(char1Refine-1)*2.5,0)%","v":0.1},0,0,0,0,{"$f":"IF(char1WeapToggle, 20%+(char1Refine-1)*5%, 0%)","v":0.2},0,{"$f":"IF(char1WeapStacks=1,6%+(char1Refine-1)*1.5%,IF(char1WeapStacks=2,10%+(char1Refine-1)*2.5%,IF(char1WeapStacks>=3,14%+(char1Refine-1)*3.5%,0)))","v":0.14000000000000001},0,0,0,0,0,0,0,0,{"$f":"IF(char1WeapToggle, 20%+(char1Refine-1)*4%, 0%)","v":0.2},0,0,0,0,0,0,0]
["Shield Strength%",0,{"$f":"(20+(char1Refine-1)*5)%","v":0.2},0,0,0,0,0,0,0,0,0,0,0,0,0,0,0,0,0,0,0,0,{"$f":"(20+5*(char1Refine-1))%","v":0.2},0,0,0,0,0,0,0,0,0,0,0,0,0,0,0,0,0,0,0,{"$f":"(20+5*(char1Refine-1))%","v":0.2},0,0,0,0,0,0,0,0,0,0,0,0,0,0,0,0,0,0,0,{"$f":"(20+5*(char1Refine-1))%","v":0.2},0,0,0,0,0,0,0,0,0,0,0,0,0,0,0,0,0,0,0,0,0,0,0,0,0,0,0,0,0,0,0,0,0,0,0,0,0,0,0,0,0,0]
["Swirl%",0,0,0,0,0,0,0,0,0,0,0,0,0,0,0,0,0,0,0,0,0,0,0,0,0,0,0,0,0,0,0,0,0,0,0,0,0,0,0,0,0,0,0,0,0,0,0,0,0,0,0,0,0,0,0,0,0,0,0,0,0,0,0,0,0,0,0,0,0,0,0,0,0,0,0,0,0,0,0,0,0,0,0,0,0,0,0,0,0,0,0,0,0,0,0,0,0,0,0,0,0,0,0,0,0]
["Overload%",0,0,0,0,0,0,0,0,0,0,0,0,0,0,0,0,0,0,0,0,0,0,0,0,0,0,0,0,0,0,0,0,0,0,0,0,0,0,0,0,0,0,0,0,0,0,0,0,0,0,0,0,0,0,0,0,0,0,0,0,0,0,0,0,0,0,0,0,0,0,0,0,0,0,0,0,0,0,0,0,0,0,0,0,0,0,0,0,0,0,0,0,0,0,0,0,0,0,0,0,0,0,0,0,0]
["Crystallize%",0,0,0,0,0,0,0,0,0,0,0,0,0,0,0,0,0,0,0,0,0,0,0,0,0,0,0,0,0,0,0,0,0,0,0,0,0,0,0,0,0,0,0,0,0,0,0,0,0,0,0,0,0,0,0,0,0,0,0,0,0,0,0,0,0,0,0,0,0,0,0,0,0,0,0,0,0,0,0,0,0,0,0,0,0,0,0,0,0,0,0,0,0,0,0,0,0,0,0,0,0,0,0,0,0]
["Superconduct%",0,0,0,0,0,0,0,0,0,0,0,0,0,0,0,0,0,0,0,0,0,0,0,0,0,0,0,0,0,0,0,0,0,0,0,0,0,0,0,0,0,0,0,0,0,0,0,0,0,0,0,0,0,0,0,0,0,0,0,0,0,0,0,0,0,0,0,0,0,0,0,0,0,0,0,0,0,0,0,0,0,0,0,0,0,0,0,0,0,0,0,0,0,0,0,0,0,0,0,0,0,0,0,0,0]
["Electrocharged%",0,0,0,0,0,0,0,0,0,0,0,0,0,0,0,0,0,0,0,0,0,0,0,0,0,0,0,0,0,0,0,0,0,0,0,0,0,0,0,0,0,0,0,0,0,0,0,0,0,0,0,0,0,0,0,0,0,0,0,0,0,0,0,0,0,0,0,0,0,0,0,0,0,0,0,0,0,0,0,0,0,0,0,0,0,0,0,0,0,0,0,0,0,0,0,0,0,0,0,0,0,0,0,0,0]
["Melt%",0,0,0,0,0,0,0,0,0,0,0,0,0,0,0,0,0,0,0,0,0,0,0,0,0,0,0,0,0,0,0,0,0,0,0,0,0,0,0,0,0,0,0,0,0,0,0,0,0,0,0,0,0,0,0,0,0,0,0,0,0,0,0,0,0,0,0,0,0,0,0,0,0,0,0,0,0,0,0,0,0,0,0,0,0,0,0,0,0,0,0,0,0,0,0,0,0,0,0,0,0,0,0,0,0]
["Vaporize%",0,0,0,0,0,0,0,0,0,0,0,0,0,0,0,0,0,0,0,0,0,0,0,0,0,0,0,0,0,0,0,0,0,0,0,0,0,0,0,0,0,0,0,0,0,0,0,0,0,0,0,0,0,0,0,0,0,0,0,0,0,0,0,0,0,0,0,0,0,0,0,0,0,0,0,0,0,0,0,0,0,0,0,0,0,0,0,0,0,0,0,0,0,0,0,0,0,0,0,0,0,0,0,0,0]
["Shatter%",0,0,0,0,0,0,0,0,0,0,0,0,0,0,0,0,0,0,0,0,0,0,0,0,0,0,0,0,0,0,0,0,0,0,0,0,0,0,0,0,0,0,0,0,0,0,0,0,0,0,0,0,0,0,0,0,0,0,0,0,0,0,0,0,0,0,0,0,0,0,0,0,0,0,0,0,0,0,0,0,0,0,0,0,0,0,0,0,0,0,0,0,0,0,0,0,0,0,0,0,0,0,0,0,0]
["Anemo Res%",0,0,0,0,0,0,0,0,0,0,0,0,0,0,0,0,0,0,0,0,0,0,0,0,0,0,0,0,0,0,0,0,0,0,0,0,0,0,0,0,0,0,0,0,0,0,0,0,0,0,0,0,0,0,0,0,0,0,0,0,0,0,0,0,0,0,0,0,0,0,0,0,0,0,0,0,0,0,0,0,0,0,0,0,0,0,0,0,0,0,0,0,0,0,0,0,0,0,0,0,0,0,0,0,0]
["Geo Res%",0,0,0,0,0,0,0,0,0,0,0,0,0,0,0,0,0,0,0,0,0,0,0,0,0,0,0,0,0,0,0,0,0,0,0,0,0,0,0,0,0,0,0,0,0,0,0,0,0,0,0,0,0,0,0,0,0,0,0,0,0,0,0,0,0,0,0,0,0,0,0,0,0,0,0,0,0,0,0,0,0,0,0,0,0,0,0,0,0,0,0,0,0,0,0,0,0,0,0,0,0,0,0,0,0]
["Pyro Res%",0,0,0,0,0,0,0,0,0,0,0,0,0,0,0,0,0,0,0,0,0,0,0,0,0,0,0,0,0,0,0,0,0,0,0,0,0,0,0,0,0,0,0,0,0,0,0,0,0,0,0,0,0,0,0,0,0,0,0,0,0,0,0,0,0,0,0,0,0,0,0,0,0,0,0,0,0,0,0,0,0,0,0,0,0,0,0,0,0,0,0,0,0,0,0,0,0,0,0,0,0,0,0,0,0]
["Cryo Res%",0,0,0,0,0,0,0,0,0,0,0,0,0,0,0,0,0,0,0,0,0,0,0,0,0,0,0,0,0,0,0,0,0,0,0,0,0,0,0,0,0,0,0,0,0,0,0,0,0,0,0,0,0,0,0,0,0,0,0,0,0,0,0,0,0,0,0,0,0,0,0,0,0,0,0,0,0,0,0,0,0,0,0,0,0,0,0,0,0,0,0,0,0,0,0,0,0,0,0,0,0,0,0,0,0]
["Hydro Res%",0,0,0,0,0,0,0,0,0,0,0,0,0,0,0,0,0,0,0,0,0,0,0,0,0,0,0,0,0,0,0,0,0,0,0,0,0,0,0,0,0,0,0,0,0,0,0,0,0,0,0,0,0,0,0,0,0,0,0,0,0,0,0,0,0,0,0,0,0,0,0,0,0,0,0,0,0,0,0,0,0,0,0,0,0,0,0,0,0,0,0,0,0,0,0,0,0,0,0,0,0,0,0,0,0]
["Electro Res%",0,0,0,0,0,0,0,0,0,0,0,0,0,0,0,0,0,0,0,0,0,0,0,0,0,0,0,0,0,0,0,0,0,0,0,0,0,0,0,0,0,0,0,0,0,0,0,0,0,0,0,0,0,0,0,0,0,0,0,0,0,0,0,0,0,0,0,0,0,0,0,0,0,0,0,0,0,0,0,0,0,0,0,0,0,0,0,0,0,0,0,0,0,0,0,0,0,0,0,0,0,0,0,0,0]
["Phys Res%",0,0,0,0,0,0,0,0,0,0,0,0,0,0,0,0,0,0,0,0,0,0,0,0,0,0,0,0,0,0,0,0,0,0,0,0,0,0,0,0,0,0,0,0,0,0,0,0,0,0,0,0,0,0,0,0,0,0,0,0,0,0,0,0,0,0,0,0,0,0,0,0,0,0,0,0,0,0,0,0,0,0,0,0,0,0,0,0,0,0,0,0,0,0,0,0,0,0,0,0,0,0,0,0,0]
["Skill CR%",0,0,0,0,0,0,0,0,0,0,0,0,0,0,0,0,0,0,0,0,0,0,0,0,0,0,0,0,0,0,0,0,0,0,0,0,0,0,0,0,0,0,0,0,0,{"$f":"6%+(char1Refine-1)*2%","v":0.06},0,0,0,0,0,0,0,0,0,0,0,0,0,0,0,0,0,0,0,0,0,0,0,0,0,0,0,0,0,0,0,0,0,0,0,0,0,0,0,0,0,0,0,0,0,0,0,0,0,0,0,0,0,0,0,0,0,0,0]
["Burst CR%",0,0,0,0,0,0,0,0,0,0,0,0,0,0,0,0,0,0,0,0,0,0,0,0,0,{"$f":"6%+(char1Refine-1)*1.5%","v":0.06},0,0,0,0,0,0,0,0,0,0,0,0,0,0,0,0,0,0,0,0,0,0,0,0,0,0,0,0,0,0,0,0,0,0,0,0,0,0,0,0,0,0,0,0,0,0,0,0,0,0,0,0,0,0,0,0,0,0,0,0,0,0,0,0,0,0,0,0,0,0,0,0,0,0,0,0,0,0,0]
["Skill CDMG%",0,0,0,0,0,0,0,0,0,0,0,0,0,0,0,0,0,0,0,0,0,0,0,0,0,0,0,0,0,0,0,0,0,0,0,0,0,0,0,0,0,0,0,0,0,0,0,0,0,0,0,0,0,0,0,0,0,0,0,0,0,0,0,0,0,0,0,0,0,0,0,0,0,0,0,0,0,0,0,0,0,0,0,0,0,0,0,0,0,0,0,0,0,0,0,0,0,0,0,0,0,0,0,0,0]
["Burst CDMG%",0,0,0,0,0,0,0,0,0,0,0,0,0,0,0,0,0,0,0,0,0,0,0,0,0,0,0,0,0,0,0,0,0,0,0,0,0,0,0,0,0,0,0,0,0,0,0,0,0,0,0,0,0,0,0,0,0,0,0,0,0,0,0,0,0,0,0,0,0,0,0,0,0,0,0,0,0,0,0,0,0,0,0,0,0,0,0,0,0,0,0,0,0,0,0,0,0,0,0,0,0,0,0,0,0]
["Flat ATK",0,0,0,0,0,0,0,0,0,0,0,0,0,0,0,0,0,0,0,0,0,0,0,{"$f":"IF(char1WeapToggle,(char1FinalHP*(0.008+(char1Refine-1)*0.002))+(char1FinalHP*(0.01+(char1Refine-1)*0.002)),(char1FinalHP*(0.008+(char1Refine-1)*0.002)))","v":352.01871360000001},0,0,0,0,0,0,0,0,0,0,0,0,0,0,{"$f":"((1.2+(char1Refine-1)*0.3)/100)*char1FinalHP","v":234.67914239999999},0,0,0,0,0,0,0,0,0,0,0,0,0,0,0,0,0,0,0,0,0,0,0,0,0,0,0,0,0,0,0,0,0,0,0,0,0,0,0,0,0,0,0,0,0,0,0,0,0,0,0,0,0,0,0,0,0,0,0,0,0,0,0,0,0,0]
["Flat HP",0,0,0,0,0,0,0,0,0,0,0,0,0,0,0,0,0,0,0,0,0,0,0,0,0,0,0,0,0,0,0,0,0,0,0,0,0,0,0,0,0,0,0,0,0,0,0,0,0,0,0,0,0,0,0,0,0,0,0,0,0,0,0,0,0,0,0,0,0,0,0,0,0,0,0,0,0,0,0,0,0,0,0,0,0,0,0,0,0,0,0,0,0,0,0,0,0,0,0,0,0,0,0,0,0]
["Flat DEF",0,0,0,0,0,0,0,0,0,0,0,0,0,0,0,0,0,0,0,0,0,0,0,0,0,0,0,0,0,0,0,0,0,0,0,0,0,0,0,0,0,0,0,0,0,0,0,0,0,0,0,0,0,0,0,0,0,0,0,0,0,0,0,0,0,0,0,0,0,0,0,0,0,0,0,0,0,0,0,0,0,0,0,0,0,0,0,0,0,0,0,0,0,0,0,0,0,0,0,0,0,0,0,0,0]
["Proc 1 Exists",true,false,true,false,false,false,false,false,false,false,true,false,false,true,true,false,false,false,false,true,false,false,false,false,false,false,false,true,false,true,false,false,false,false,true,false,false,false,false,false,false,false,false,true,true,false,true,false,false,false,false,false,false,false,false,false,false,true,false,false,false,false,false,false,true,false,true,true,true,false,false,false,false,false,true,false,false,false,false,false,false,false,false,false,false,false,false,false,false,false,false,false,false,false,false,false,false,false,false,false,false,false,false,false,false]
["Proc 2 Exists",false,false,true,false,false,false,false,false,false,false,true,false,false,false,false,false,false,false,false,false,false,false,false,false,false,false,false,true,false,false,false,false,false,false,false,false,false,false,false,false,false,false,false,false,false,false,false,false,false,false,false,false,false,false,false,false,false,false,false,false,false,false,false,false,false,false,false,true,false,false,false,false,false,false,false,false,false,false,false,false,false,false,false,false,false,false,false,false,false,false,false,false,false,false,false,false,false,false,false,false,false,false,false,false,false]
["Proc 3 Exists",false,false,false,false,false,false,false,false,false,false,false,false,false,false,false,false,false,false,false,false,false,false,false,false,false,false,false,false,false,false,false,false,false,false,false,false,false,false,false,false,false,false,false,false,false,false,false,false,false,false,false,false,false,false,false,false,false,false,false,false,false,false,false,false,false,false,false,false,false,false,false,false,false,false,false,false,false,false,false,false,false,false,false,false,false,false,false,false,false,false,false,false,false,false,false,false,false,false,false,false,false,false,false,false,false]
["Proc 1 Name","Vacuum Blades",null,"Redhorn Normal Proc",null,null,null,null,null,null,null,"STSS Proc, No Cryo",null,null,"Archaic Proc","Tuna",null,null,null,null,"Vacuum Blade",null,null,null,null,null,null,null,"Frost Burial, No Cryo",null,"Prototype Amber Healing",null,null,null,null,"Infusion Needle",null,null,null,null,null,null,null,null,"Sky-Piercing Fang","Falcon's Defiance",null,"Harmonic Proc",null,null,null,null,null,null,null,null,null,null,"Cinnabar Spindle Proc",null,null,null,null,null,null,"Wandering Clouds",null,"Byakuya Kougetsu","Frost Burial No Cryo","Bolt of Perception",null,null,null,null,null,"Prototype Amber Healing",null,null,null,null,null,null,null,null,null,null,"Echoing Ballad",null,null,null,null,null,"Cyclone"]
["Proc 1 Damage Type","None",null,"Normal",null,null,null,null,null,null,null,"None",null,null,"None","None",null,null,null,null,"None",null,null,null,null,null,null,null,"None",null,"Healing",null,null,null,null,"None",null,null,null,null,null,null,null,null,"None","None",null,"None",null,null,null,null,null,null,null,null,null,null,"Skill",null,null,null,null,null,null,"None",null,"Normal","None","None",null,null,null,null,null,"Healing",null,null,null,null,null,null,null,null,null,null,"None",null,null,null,null,null,"None"]
["Proc 1 Scaling Stat","ATK",null,"DEF",null,null,null,null,null,null,null,"ATK",null,null,"ATK","ATK",null,null,null,null,"ATK",null,null,null,null,null,null,null,"ATK",null,"HP",null,null,null,null,"ATK",null,null,null,null,null,null,null,null,"ATK","ATK",null,"ATK",null,null,null,null,null,null,null,null,null,null,"DEF",null,null,null,null,null,null,"ATK",null,"HP","ATK","ATK",null,null,null,null,null,"HP",null,null,null,null,null,null,null,null,null,null,"ATK",null,null,null,null,null,"ATK"]
["Proc 1 Talent%",{"$f":"80%+(char1Refine-1)*20%","v":0.8},null,{"$f":"40%+(char1Refine-1)*10%","v":0.4},null,null,null,null,null,null,null,{"$f":"80%+(char1Refine-1)*15%","v":0.8},null,null,{"$f":"240%+(char1Refine-1)*60%","v":2.4},{"$f":"100%+(char1Refine-1)*25%","v":1},null,null,null,null,{"$f":"40%+(char1Refine-1)*15%","v":0.4},null,null,null,null,null,null,null,{"$f":"60%+(char1Refine-1)*15%","v":0.6},null,0.04,null,null,null,null,{"$f":"20%+(char1Refine-1)*5%","v":0.2},null,null,null,null,null,null,null,null,{"$f":"20%+(char1Refine-1)*5%","v":0.2},{"$f":"200%+(char1Refine-1)*30%","v":2},null,{"$f":"100%+(char1Refine-1)*25%","v":1},null,null,null,null,null,null,null,null,null,null,{"$f":"40%+(char1Refine-1)*10%","v":0.4},null,null,null,null,null,null,{"$f":"160%+(char1Refine-1)*40%","v":1.6},null,{"$f":"1%+(char1Refine-1)*0.5%","v":0.01},{"$f":"60%+(char1Refine-1)*15%","v":0.6},{"$f":"240%+(char1Refine-1)*30%","v":2.4},null,null,null,null,null,{"$f":"4%+0.5%*(char1Refine-1)","v":0.04},null,null,null,null,null,null,null,null,null,null,1.25,null,null,null,null,null,{"$f":"40%+(char1Refine-1)*10%","v":0.4}]
["Proc 1 Element","Phys",null,{"$f":"char1NAElement","v":"Pyro"},null,null,null,null,null,null,null,"Phys",null,null,"Phys","Phys",null,null,null,null,"Phys",null,null,null,null,null,null,null,"Phys",null,"None",null,null,null,null,null,null,null,null,null,null,null,null,null,"Phys","Phys",null,"Phys",null,null,null,null,null,null,null,null,null,null,{"$f":"char1SkillElement","v":"Pyro"},null,null,null,null,null,null,"Phys",null,{"$f":"char1NAElement","v":"Pyro"},"Phys","Phys",null,null,null,null,null,"None",null,null,null,null,null,null,null,null,null,null,"Phys",null,null,null,null,null,"Phys"]
["Proc 2 Name",null,null,"Redhorn Charged Proc",null,null,null,null,null,null,null,"STSS Proc, With Cryo",null,null,null,null,null,null,null,null,null,null,null,null,null,null,null,null,"Frost Burial, With Cryo",null,null,null,null,null,null,null,null,null,null,null,null,null,null,null,null,null,null,null,null,null,null,null,null,null,null,null,null,null,null,null,null,null,null,null,null,null,null,null,"Frost Burial, With Cryo"]
["Proc 2 Damage Type",null,null,"Charged",null,null,null,null,null,null,null,"None",null,null,null,null,null,null,null,null,null,null,null,null,null,null,null,null,"None",null,null,null,null,null,null,null,null,null,null,null,null,null,null,null,null,null,null,null,null,null,null,null,null,null,null,null,null,null,null,null,null,null,null,null,null,null,null,null,"None"]
["Proc 2 Scaling Stat",null,null,"DEF",null,null,null,null,null,null,null,"ATK",null,null,null,null,null,null,null,null,null,null,null,null,null,null,null,null,"ATK",null,null,null,null,null,null,null,null,null,null,null,null,null,null,null,null,null,null,null,null,null,null,null,null,null,null,null,null,null,null,null,null,null,null,null,null,null,null,null,"ATK"]
["Proc 2 Talent%",null,null,{"$f":"0.4+(char1Refine-1)*0.1","v":0.4},null,null,null,null,null,null,null,{"$f":"200%+(char1Refine-1)*40%","v":2},null,null,null,null,null,null,null,null,null,null,null,null,null,null,null,null,{"$f":"200%+(char1Refine-1)*40%","v":2},null,null,null,null,null,null,null,null,null,null,null,null,null,null,null,null,null,null,null,null,null,null,null,null,null,null,null,null,null,null,null,null,null,null,null,null,null,null,null,{"$f":"200%+(char1Refine-1)*40%","v":2}]
["Proc 2 Element",null,null,{"$f":"char1CAElement","v":"Pyro"},null,null,null,null,null,null,null,"Phys",null,null,null,null,null,null,null,null,null,null,null,null,null,null,null,null,"Phys",null,null,null,null,null,null,null,null,null,null,null,null,null,null,null,null,null,null,null,null,null,null,null,null,null,null,null,null,null,null,null,null,null,null,null,null,null,null,null,"Phys"]
["Proc 3 Name"]
["Proc 3 Damage Type"]
["Proc 3 Scaling Stat"]
["Proc 3 Talent%"]
["Proc 3 Element"]
[]
["Character 2","Skyward Pride","The Unforged","Redhorn Stonethresher","Wolf's Gravestone","Song of Broken Pines","Serpent Spine","The Bell","Royal Greatsword","Whiteblind","Favonius Greatsword","Snow-Tombed Starsilver","Rainslasher","Lithic Blade","Prototype Archaic","Luxurious Sea-Lord","Katsuragikiri Nagamasa","Sacrificial Greatsword","Akuoumaru","Blackcliff Slasher","Skyward Spine","Engulfing Lightning","Primordial Jade-Winged Spear","Vortex Vanquisher","Staff of Homa","Calamity Queller","The Catch","Kitain Cross-Spear","Dragonspine Spear","Favonius Lance","Prototype Starglitter","Lithic Spear","Dragon's Bane","Wavebreaker's Fin","Deathmatch","Crescent Pike","Blackcliff Pole","White Tassel","Black Tassel","Jade Cutter","Freedom Sworn","Mistsplitter Reforged","Haran Tsukishiro Futsu","Summit Shaper","Skyward Blade","Aquila Favonia","Festering Desire","The Flute","The Black Sword","The Alley Flash","Sacrificial Sword","Royal Longsword","Prototype Rancour","Lion's Roar","Iron Sting","Favonius Sword","Blackcliff Longsword","Amenoma Kageuchi","Cinnabar Spindle","Skyrider Sword","Dark Iron Sword","Cool Steel","Harbinger of Dawn","Memory of Dust","Kagura's Verity","Skyward Atlas","Lost Prayers","Everlasting Moonglow","Frostbearer","Eye of Perception","Wine and Song","The Widsith","Solar Pearl","Sacrificial Fragments","Royal Grimore","Prototype Amber","Mappa Mare","Favonius Codex","Dodoco Tales","Oathsworn Eye","Magic Guide","Blackcliff Agate","Hakushin Ring","Thrilling Tales of Dragon Slayers","Elegy for the End","Polar Star","Skyward Harp","Aqua Simulacra","Amos Bow","Fading Twilight","Rust","Mouun's Moon","Viridescent Hunt","Compound Bow","Blackcliff Warbow","Prototype Crescent","Favonius Warbow","Windblume Ode","Alley Hunter","Sacrificial Bow","Hamayumi","The Stringless","Royal Bow","Mitternacht's Waltz","Slingshot","Thundering Pulse"]
["Base ATK",674,608,542,608,741,510,510,565,510,454,565,510,510,565,454,510,565,510,510,674,608,674,608,608,741,510,565,454,565,510,565,454,620,454,565,510,401,354,542,608,674,608,608,608,674,510,510,510,620,454,510,565,510,510,454,565,454,454,354,401,401,401,608,608,674,608,608,510,454,565,510,510,454,565,510,565,510,454,565,354,510,565,401,608,608,674,542,608,565,510,565,510,454,565,510,454,510,565,565,454,510,510,510,354,608]
["ATK%",0,{"$f":"49.6%+IF(char2WeapToggle, 2*char2WeapStacks*(4+(char2Refine-1))%, char2WeapStacks*(4+(char2Refine-1))%)","v":0.496},0,{"$f":"49.6%+(20+(char2Refine-1)*5)%+IF(char2WeapToggle,(40+(char2Refine-1)*10),0)%","v":0.69599999999999995},{"$f":"IF(char2WeapToggle, (20+(char2Refine-1)*5)%, 0%) + (16+(char2Refine-1)*4)%","v":0.16},0,0,0.27600000000000002,{"$f":"char2WeapStacks*(6+1.5*(char2Refine-1))%","v":0},0,0,0,{"$f":"41.3%+char2WeapStacks*(7+(char2Refine-1))%","v":0.41299999999999998},0.27600000000000002,0.55100000000000005,0,0,0.41299999999999998,{"$f":"char2WeapStacks*(12+(char2Refine-1)*3)%","v":0},0,{"$f":"MIN((28%+(char2Refine-1)*7%)*(char2FinalER-100%),(80+(char2Refine-1)*10)%)","v":0.30478},{"$f":"char2WeapStacks*(3.2+(char2Refine-1)*0.7)%","v":0},{"$f":"(49.6+(char2WeapStacks*IF(char2WeapToggle,2,1)*(4+(char2Refine-1)*1)))%","v":0.496},0,{"$f":"IF(char2WeapToggle = FALSE, (3.2%+0.8%*(char2Refine-1))*char2WeapStacks, (3.2%+0.8%*(char2Refine-1))*char2WeapStacks*2)","v":0},0,0,0,0,0,{"$f":"(27.6+(7+(char2Refine-1)*1)*char2WeapStacks)%","v":0.27600000000000002},0,0.13800000000000001,{"$f":"IF(char2WeapToggle,(24+(char2Refine-1)*6),(16+(char2Refine-1)*4))%","v":0.16},0,{"$f":"(12+(char2Refine-1)*3)*char2WeapStacks%","v":0},0,0,0,{"$f":"IF(char2WeapToggle, (20+(char2Refine-1)*5), 0)%","v":0},0,0,{"$f":"(49.6+IF(char2WeapToggle,(4+(char2Refine-1))*char2WeapStacks*2,(4+(char2Refine-1))*char2WeapStacks))%","v":0.496},0,{"$f":"(20+(char2Refine-1)*5)%","v":0.2},0,0.41299999999999998,0,0,0,0.41299999999999998,{"$f":"char2WeapStacks*(4+(char2Refine-1))%","v":0},0.41299999999999998,0,0,{"$f":"(char2WeapStacks*(12+(char2Refine-1)*3))%","v":0},0.55100000000000005,0,{"$f":"IF(char2WeapToggle,12+(char2Refine-1)*3,0)%","v":0},{"$f":"IF(char2WeapToggle, 20+(char2Refine-1)*5)%","v":0},0.35199999999999998,0,{"$f":"(49.6+IF(char2WeapToggle,(4+(char2Refine-1))*char2WeapStacks*2,(4+(char2Refine-1))*char2WeapStacks))%","v":0.496},0,0.33100000000000002,0,0,0.41299999999999998,0.55100000000000005,{"$f":"IF(char2WeapToggle, 20+(char2Refine-1)*5,0)%","v":0},{"$f":"IF(char2WeapToggle, 20+(char2Refine-1)*5,0)%","v":0},0,0,0.27600000000000002,0,0,0,{"$f":"(55.1+IF(char2WeapToggle,8+(char2Refine-1)*2))%","v":0.55100000000000005},0.27600000000000002,0,{"$f":"char2WeapStacks*(12+(char2Refine-1)*3)%","v":0},0,0,{"$f":"IF(char2WeapToggle, 20+(char2Refine-1)*5, 0)%","v":0},{"$f":"IF(char2WeapStacks=0, 0, IF(char2WeapStacks=1, 10+(char2Refine-1)*2.5, IF(char2WeapStacks=2, 20+(char2Refine-1)*5, IF(char2WeapStacks=3, 30+(char2Refine-1)*7.5, IF(char2WeapStacks=4, 48+(char2Refine-1)*12,0)))))%","v":0},0,0,0.496,0,0.41299999999999998,0.27600000000000002,0,{"$f":"char2WeapStacks*(4+(char2Refine-1))%","v":0},{"$f":"char2WeapStacks*(12+(char2Refine-1)*3)%","v":0},{"$f":"41.3%+IF(char2WeapToggle, 36+(char2Refine-1)*9)%","v":0.41299999999999998},0,{"$f":"IF(char2WeapToggle, 16+(char2Refine-1)*4,0)%","v":0},0.27600000000000002,0,0.55100000000000005,0,0.41299999999999998,0,0,{"$f":"(20+(char2Refine-1)*5)%","v":0.2}]
["DEF%",0,0,{"$f":"(28+(char2Refine-1)*7)%","v":0.28000000000000003},0,0,0,0,0,{"$f":"51.7%+char2WeapStacks*(6+1.5*(char2Refine-1))%","v":0.51700000000000002},0,0,0,0,0,0,0,0,0,0,0,0,0,0,0,0,0,0,0,0,0,0,0,0,{"$f":"(16+(char2Refine-1)*4)%","v":0.16},0,0,0,0,0,0,0,0,0,0,0,0,0,0,0,0,0,{"$f":"char2WeapStacks*(4+(char2Refine-1))%","v":0},0,0,0,0,0,0.69,0,0,0,0,0,0,0,0,0,0,0,0,0,0,0,0,0,0,0,0,0,0,0,0,0,0,0,0,0,0,0,0,0,0,0,0,0,0,0,0,0,0,0,0,0,0,0]
["HP%",0,0,0,0,0,0,0.41299999999999998,0,0,0,0,0,0,0,0,0,0,0,0,0,0,0,0,{"$f":"(20+(char2Refine-1)*5)%","v":0.2},0,0,0,0,0,0,0,0,0,0,0,0,0,0.46899999999999997,{"$f":"0.2+(char2Refine-1)*0.05","v":0.2},0,0,0,0,0,0,0,0,0,0,0,0,0,0,0,0,0,0,0,0,0,0,0,0,0,0,0,0.496,0,0,0,0,0,0,0,0.41299999999999998,0,0,0,0,0,0,0,0.35199999999999998,0,0,0,{"$f":"16%+(4%*(char2Refine-1))","v":0.16},0,0,0,0,0,0,0,0,0,0,0,0,0,0,0,0,0,0]
["CR%",0,0,0,0,0,0.27600000000000002,0,{"$f":"(char2WeapStacks*(8%+(char2Refine-1)*2%))","v":0},0,0,0,0,{"$f":"char2WeapStacks*(3+(char2Refine-1))%","v":0},0,0,0,0,0,0,{"$f":"(8+(char2Refine-1)*2)%","v":0.08},0,0.221,0,0,0,0,0,0,0,0,{"$f":"(3+(char2Refine-1)*1)*char2WeapStacks%","v":0},0,0,0.36799999999999999,0,0,0.23400000000000001,0,0.441,0,0,0.33100000000000002,0,{"$f":"(4+(char2Refine-1))%","v":0.04},0,0,0,0.27600000000000002,0,0,{"$f":"(char2WeapStacks*(8+(char2Refine-1)*2))%","v":0},0,0,0,0,0,0,0,0,0,0,{"$f":"IF(char2WeapToggle,14+(char2Refine-1)*3.5,0)%","v":0},0,0,0,0.33100000000000002,0,0,0,0,0,0.27600000000000002,0,{"$f":"char2WeapStacks*(8+(char2Refine-1)*2)%","v":0},0,0,0,0,0,0,0,0,0,0,0.33100000000000002,0.221,0,0,0,0,0,0.27600000000000002,0,0,0,0,0,0,0,0,0,{"$f":"char2WeapStacks*(8+(char2Refine-1)*2)%","v":0},0,0.312,0]
["CDMG%",0,0,0.88200000000000001,0,0,0,0,0,0,0,0,0,0,0,0,0,0,0,0.55100000000000005,0,0,0,0,0.66200000000000003,0,0,0,0,0,0,0,0,0,0,0,0.55100000000000005,0,0,0,0,0.441,0,0,0,0,0,0,0,0,0,0,0,0,0,0,0.36799999999999999,0,0,0,0,0,0.46899999999999997,0,0.66200000000000003,0,0,0,0,0,0,0.55100000000000005,0,0,0,0,0,0,0,0,0,0.55100000000000005,0,0,0,0,{"$f":"(20+(char2Refine-1)*5)%","v":0.2},0.88200000000000001,0,0,0,0,0,0,0.36799999999999999,0,0,0,0,0,0,0,0,0,0,0.66200000000000003]
["ER%",0.36799999999999999,0,0,0,0,0,0,0,0,0.61299999999999999,0,0,0,0,0,0.45900000000000002,0.30599999999999999,0,0,0.36799999999999999,{"$f":"55.1%+IF(char2WeapToggle, 30+(char2Refine-1)*5,0)%","v":0.55100000000000005},0,0,0,0,0.45900000000000002,0,0,0.30599999999999999,0.45900000000000002,0,0,0,0,0,0,0,0,0,0,0,0,0,0.55100000000000005,0,0.45900000000000002,0,0,0,0.61299999999999999,0,0,0,0,0.61299999999999999,0,0,0,0.51700000000000002,0,0,0,0,0,0,0,0,0,0,0.30599999999999999,0,0,0,0,0,0,0.45900000000000002,0,{"$f":"IF(char2WeapToggle, 24%+(6%*(char2Refine-1)),  0)","v":0},0,0,0.30599999999999999,0,0.55100000000000005,0,0,0,0,0.30599999999999999,0,0,0,0,0,0,0.61299999999999999,0,0,0.30599999999999999,0,0,0,0,0,0]
["Phys DMG%",0,0,0,0,0.20699999999999999,0,0,0,0,0,0.34499999999999997,0,0,0,0,0,0,0,0,0,0,0,0,0,0,0,0,0.69,0,0,0,0,0,0,0.34499999999999997,0,0,0,0,0,0,0,0,0,0.41299999999999998,0,0,0,0,0,0,0.34499999999999997,0,0,0,0,0,0,0,0,0,0,0,0,0,0,0,0,0,0,0,0,0,0,0,0,0,0,0,0,0,0,0,0,0,0,0,0,0,0,0,0,0.69,0,0,0,0,0,0,0,0,0,0.51700000000000002,0,0]
["Anemo DMG%",0,0,0,0,0,0,0,0,0,0,0,0,0,0,0,0,0,0,0,0,0,0,0,0,{"$f":"12%+3%*(char2Refine-1)","v":0.12},0,0,0,0,0,0,0,0,0,0,0,0,0,0,0,{"$f":"(IF(Lookups!$K$2 = weapons!A76,IF(char2WeapStacks=1, (8+(char2Refine-1)*2)%, IF(char2WeapStacks=2, (16+(char2Refine-1)*4)%, IF(char2WeapStacks=3, (28+(char2Refine-1)*7)%, 0)))))+(12+(char2Refine-1)*3)%","v":0.12},{"$f":"(12%+3%*(char2Refine-1))","v":0.12},0,0,0,0,0,0,0,0,0,0,0,0,0,0,0,0,0,0,0,0,0,{"$f":"IF(char2WeapStacks=3, 12%+(char2Refine-1)*3%, 0%)","v":0},{"$f":"(12+(char2Refine-1)*3)%","v":0.12},{"$f":"(char2WeapStacks*(8+(char2Refine-1)*2))%","v":0},0,0,0,0,{"$f":"IF(char2WeapToggle, 16+(char2Refine-1)*4,0)%","v":0},0,0,0,0,{"$f":"char2WeapStacks*(8+(char2Refine-1)*2)%","v":0},0,0,0,0,0,0,0,0,0,0,0,0,0,0,0,0,0,0,0,0,0,0,0,0,0,0,0,0,0]
["Geo DMG%",0,0,0,0,0,0,0,0,0,0,0,0,0,0,0,0,0,0,0,0,0,0,0,0,0.12,0,0,0,0,0,0,0,0,0,0,0,0,0,0,0,{"$f":"(IF(Lookups!$K$2 = weapons!A77,IF(char2WeapStacks=1, (8+(char2Refine-1)*2)%, IF(char2WeapStacks=2, (16+(char2Refine-1)*4)%, IF(char2WeapStacks=3, (28+(char2Refine-1)*7)%, 0)))))+(12+(char2Refine-1)*3)%","v":0.12},0.12,0,0,0,0,0,0,0,0,0,0,0,0,0,0,0,0,0,0,0,0,0,0,0.12,0,0,0,0,0,0,0,0,0,0,0,0,0,0,0,0,0,0,0,0,0,0,0,0,0,0,0,0,0,0,0,0,0,0,0,0,0,0,0,0]
["Pyro DMG%",0,0,0,0,0,0,0,0,0,0,0,0,0,0,0,0,0,0,0,0,0,0,0,0,0.12,0,0,0,0,0,0,0,0,0,0,0,0,0,0,0,{"$f":"(IF(Lookups!$K$2 = weapons!A78,IF(char2WeapStacks=1, (8+(char2Refine-1)*2)%, IF(char2WeapStacks=2, (16+(char2Refine-1)*4)%, IF(char2WeapStacks=3, (28+(char2Refine-1)*7)%, 0)))))+(12+(char2Refine-1)*3)%","v":0.12},0.12,0,0,0,0,0,0,0,0,0,0,0,0,0,0,0,0,0,0,0,0,0,0,0.12,0,0,0,0,0,0,0,0,0,0,0,0,0,0,0,0,0,0,0,0,0,0,0,0,0,0,0,0,0,0,0,0,0,0,0,0,0,0,0,0]
["Cryo DMG%",0,0,0,0,0,0,0,0,0,0,0,0,0,0,0,0,0,0,0,0,0,0,0,0,0.12,0,0,0,0,0,0,0,0,0,0,0,0,0,0,0,{"$f":"(IF(Lookups!$K$2 = weapons!A79,IF(char2WeapStacks=1, (8+(char2Refine-1)*2)%, IF(char2WeapStacks=2, (16+(char2Refine-1)*4)%, IF(char2WeapStacks=3, (28+(char2Refine-1)*7)%, 0)))))+(12+(char2Refine-1)*3)%","v":0.12},0.12,0,0,0,0,0,0,0,0,0,0,0,0,0,0,0,0,0,0,0,0,0,0,0.12,0,0,0,0,0,0,0,0,0,0,0,0,0,0,0,0,0,0,0,0,0,0,0,0,0,0,0,0,0,0,0,0,0,0,0,0,0,0,0,0]
["Hydro DMG%",0,0,0,0,0,0,0,0,0,0,0,0,0,0,0,0,0,0,0,0,0,0,0,0,0.12,0,0,0,0,0,0,0,0,0,0,0,0,0,0,0,{"$f":"(IF(Lookups!$K$2 = weapons!A80,IF(char2WeapStacks=1, (8+(char2Refine-1)*2)%, IF(char2WeapStacks=2, (16+(char2Refine-1)*4)%, IF(char2WeapStacks=3, (28+(char2Refine-1)*7)%, 0)))))+(12+(char2Refine-1)*3)%","v":0.12},0.12,0,0,0,0,0,0,0,0,0,0,0,0,0,0,0,0,0,0,0,0,0,0,0.12,0,0,0,0,0,0,0,0,0,0,0,0,0,0,0,0,0,0,0,0,0,0,0,0,0,0,0,0,0,0,0,0,0,0,0,0,0,0,0,0]
["Electro DMG%",0,0,0,0,0,0,0,0,0,0,0,0,0,0,0,0,0,0,0,0,0,0,0,0,0.12,0,0,0,0,0,0,0,0,0,0,0,0,0,0,0,{"$f":"(IF(Lookups!$K$2 = weapons!A81,IF(char2WeapStacks=1, (8+(char2Refine-1)*2)%, IF(char2WeapStacks=2, (16+(char2Refine-1)*4)%, IF(char2WeapStacks=3, (28+(char2Refine-1)*7)%, 0)))))+(12+(char2Refine-1)*3)%","v":0.12},0.12,0,0,0,0,0,0,0,0,0,0,0,0,0,0,0,0,0,0,0,0,0,0,0.12,0,0,0,0,0,0,0,0,0,0,0,0,0,0,0,0,0,0,0,0,0,0,0,0,0,0,0,0,0,0,0,0,0,0,0,0,0,0,0,0]
["EM",0,0,0,0,0,0,0,0,0,0,0,165,0,0,0,0,0,0,0,0,0,0,0,0,0,0,110,0,0,0,0,221,0,0,0,0,0,0,0,198,0,0,0,0,0,0,0,0,55,0,0,0,0,165,0,0,0,0,0,141,0,0,0,0,0,0,0,0,0,0,{"$f":"IF(char2WeapToggle,80+(char2Refine-1)*20,0)","v":0},0,221,0,0,110,0,0,0,187,0,0,0,{"$f":"60+(char2Refine-1)*15+IF(char2WeapToggle, 100+(char2Refine-1)*25,0)","v":60},0,0,0,0,0,0,0,0,0,0,0,0,165,0,0,0,165,0,0,0,0]
["Healing Received%",0,0,0,0,0,0,0,0,0,0,0,0,0,0,0,0,0,0,0,0,0,0,0,0,0,0,0,0,0,0,0,0,0,0,0,0,0,0,0,0,0,0,0,0,0,0,0,0,0,0,0,0,0,0,0,0,0,0,0,0,0,0,0,0,0,0,0,0,0,0,0,0,0,0,0,0,0,0,0,0,0,0,0,0,0,0,0,0,0,0,0,0,0,0,0,0,0,0,0,0,0,0,0,0,0]
["Healing Bonus%",0,0,0,0,0,0,0,0,0,0,0,0,0,0,0,0,0,0,0,0,0,0,0,0,0,0,0,0,0,0,0,0,0,0,0,0,0,0,0,0,0,0,0,0,0,0,0,0,0,0,0,0,0,0,0,0,0,0,0,0,0,0,0,0,0,0,{"$f":"(10+(char2Refine-1)*2.5)%","v":0.1},0,0,0,0,0,0,0,0,0,0,0,0,0,0,0,0,0,0,0,0,0,0,0,0,0,0,0,0,0,0,0,0,0,0,0,0,0,0]
["Normal DMG%",0,0,0,0,0,0,0,0,0,0,0,0,0,0,0,0,0,0,0,0,0,0,0,0,0,0,0,0,0,{"$f":"((8+(char2Refine-1)*4)*char2WeapStacks)%","v":0},0,0,0,0,0,0,{"$f":"(24+(char2Refine-1)*6)%","v":0.24},0,0,{"$f":"IF(char2WeapToggle, (16+(char2Refine-1)*4), 0)%","v":0},0,{"$f":"(20%+5%*(char2Refine-1))*MIN(2, char2WeapStacks)","v":0},0,0,0,0,0,{"$f":"(20+(char2Refine-1)*5)%","v":0.2},0,0,0,0,0,0,0,0,0,0,0,0,0,0,0,0,0,0,0,0,0,0,0,{"$f":"IF(char2WeapToggle,20+(char2Refine-1)*5,0)%","v":0},0,0,0,0,0,0,0,0,0,0,0,0,0,0,0,{"$f":"(12+(char2Refine-1)*3)%+char2WeapStacks*(8+(char2Refine-1)*2)%","v":0.12},0,{"$f":"(40+(char2Refine-1)*10)%","v":0.4},0,0,0,0,0,0,0,0,0,{"$f":"IF(char2WeapToggle, 2*(16+(char2Refine-1)*4), 16+(char2Refine-1)*4)%","v":0.16},0,0,{"$f":"IF(char2WeapToggle, 20+(char2Refine-1)*5, 0)%","v":0},{"$f":"IF(char2WeapToggle, (36+(char2Refine-1)*6)%, -10%)","v":-0.1},{"$f":"IF(char2WeapStacks=1, (12+(char2Refine-1)*3)%, IF(char2WeapStacks=2, (24+(char2Refine-1)*6)%, IF(char2WeapStacks=3, (40+(char2Refine-1)*10)%, 0)))","v":0}]
["Charged DMG%",0,0,0,0,0,0,0,0,0,0,0,0,0,0,0,0,0,0,0,0,0,0,0,0,0,0,0,0,0,{"$f":"((8+(char2Refine-1)*4)*char2WeapStacks)%","v":0},0,0,0,0,0,0,0,0,0,{"$f":"IF(char2WeapToggle, (16+(char2Refine-1)*4), 0)%","v":0},0,0,0,0,0,0,0,{"$f":"(20+(char2Refine-1)*5)%","v":0.2},0,0,0,0,0,0,0,0,0,0,0,0,0,0,0,0,0,0,0,0,0,0,0,0,0,0,0,0,0,{"$f":"IF(char2WeapToggle,16+(char2Refine-1)*4,0)%","v":0},0,0,0,0,0,0,0,0,0,{"$f":"(12+(char2Refine-1)*3)%+char2WeapStacks*(8+(char2Refine-1)*2)%","v":0.12},0,{"$f":"-10%","v":-0.1},0,0,0,0,0,0,0,0,0,{"$f":"IF(char2WeapToggle, 2*(12+(char2Refine-1)*3), (12+(char2Refine-1)*3))%","v":0.12},0,0,0,{"$f":"IF(char2WeapToggle, (36+(char2Refine-1)*6)%, -10%)","v":-0.1},0]
["Plunging DMG%",0,0,0,0,0,0,0,0,0,0,0,0,0,0,0,0,0,0,0,0,0,0,0,0,0,0,0,0,0,0,0,0,0,0,0,0,0,0,0,{"$f":"IF(char2WeapToggle, (16+(char2Refine-1)*4), 0)%","v":0},0,0,0,0,0,0,0,0,0,0,0,0,0,0,0,0,0,0,0,0,0,0,0,0,0,0,0,0,0,0,0,0,0,0,0,0,0,0,0,0,0,0,0,0,0,0,0,0,0,0,0,0,0,0,0,0,0,0,0,0,0,0,0,0,0]
["Skill DMG%",0,0,0,0,0,0,0,0,0,0,0,0,0,0,0,0,0,0,0,0,0,0,0,0,0,0,{"$f":"(6+(char2Refine-1)*1.5)%","v":0.06},0,0,0,0,0,0,0,0,0,0,0,0,0,0,0,0,0,0,{"$f":"(16+(char2Refine-1)*4)%","v":0.16},0,0,0,0,0,0,0,0,0,0,0,0,0,0,0,0,0,{"$f":"(12%+(char2Refine-1)*3%)*(char2WeapStacks)","v":0},0,0,0,0,0,0,0,{"$f":"IF(char2WeapToggle, 20+(char2Refine-1)*5,0)%","v":0},0,0,0,0,0,0,0,0,0,0,0,0,{"$f":"12%+(char2Refine-1)*3%","v":0.12},0,0,0,0,0,0,0,0,0,0,0,0,0,0,0,{"$f":"(24+(char2Refine-1)*6)%","v":0.24},0,{"$f":"IF(char2WeapToggle, 20+(char2Refine-1)*5, 0)%","v":0},0,0]
["Burst DMG%",0,0,0,0,0,0,0,0,0,0,0,0,0,0,{"$f":"(12+(char2Refine-1)*3)%","v":0.12},0,0,{"$f":"MIN((40+(char2Refine-1)*10)%, char2WeapStacks*(0.12%+(char2Refine-1)*0.03%))","v":0},0,0,0,0,0,0,0,{"$f":"(16+(char2Refine-1)*4)%","v":0.16},0,0,0,0,0,0,{"$f":"MIN((40+(char2Refine-1)*10)%, (0.12+(char2Refine-1)*0.03)*char2WeapStacks%)","v":0},0,0,0,0,0,0,0,0,0,0,0,0,0,0,0,0,0,0,0,0,0,0,0,0,0,0,0,0,0,0,0,0,0,0,0,0,0,0,{"$f":"IF(char2WeapToggle, 20+(char2Refine-1)*5,0)%","v":0},0,0,0,0,0,0,0,0,0,0,0,0,{"$f":"12%+(char2Refine-1)*3%","v":0.12},0,0,0,0,0,{"$f":"MIN((char2WeapStacks*(0.12%+0.03%*(char2Refine-1))), 40%+(10%*(char2Refine-1)))","v":0},0,0,0,0,0,0,0,0,0,{"$f":"(24+(char2Refine-1)*6)%","v":0.24},0,0,0,0]
["DMG%",{"$f":"(8+(char2Refine-1)*2)%","v":0.08},0,0,0,0,{"$f":"char2WeapStacks*(6+(char2Refine-1))%","v":0},{"$f":"IF(char2WeapToggle, 12+(char2Refine-1)*3)%","v":0},0,0,0,0,{"$f":"IF(char2WeapToggle, 20+(char2Refine-1)*4, 0)%","v":0},0,0,0,0,0,0,0,0,0,{"$f":"IF(char2WeapStacks>=7,(12+(char2Refine-1)*3),0)%","v":0},0,0,0,0,0,0,0,0,0,{"$f":"IF(char2WeapToggle,(20+(char2Refine-1)*4),0)%","v":0},0,0,0,0,0,{"$f":"IF(char2WeapToggle,(40+(char2Refine-1)*10),0)%","v":0},0,{"$f":"(10+(char2Refine-1)*2.5)%","v":0.1},0,0,0,0,0,0,0,0,{"$f":"IF(char2WeapToggle,(12+(char2Refine-1)*3),0)%","v":0},0,0,0,{"$f":"IF(char2WeapToggle,(20+(char2Refine-1)*4),0)%","v":0},{"$f":"(char2WeapStacks*(6+(char2Refine-1)*1.5))%","v":0},0,0,0,0,0,0,{"$f":"IF(char2WeapToggle, 12%+(char2Refine-1)*3%, 0%)","v":0},0,0,0,0,0,0,0,0,0,0,0,0,0,0,0,0,0,0,{"$f":"IF(char2WeapToggle, 12+(char2Refine-1)*3, 0)%","v":0},0,{"$f":"IF(char2WeapToggle, 10+(char2Refine-1)*2.5,0)%","v":0},0,0,0,0,{"$f":"IF(char2WeapToggle, 20%+(char2Refine-1)*5%, 0%)","v":0},0,{"$f":"IF(char2WeapStacks=1,6%+(char2Refine-1)*1.5%,IF(char2WeapStacks=2,10%+(char2Refine-1)*2.5%,IF(char2WeapStacks>=3,14%+(char2Refine-1)*3.5%,0)))","v":0},0,0,0,0,0,0,0,0,{"$f":"IF(char2WeapToggle, 20%+(char2Refine-1)*4%, 0%)","v":0},0,0,0,0,0,0,0]
["Shield Strength%",0,{"$f":"(20+(char2Refine-1)*5)%","v":0.2},0,0,0,0,0,0,0,0,0,0,0,0,0,0,0,0,0,0,0,0,{"$f":"(20+5*(char2Refine-1))%","v":0.2},0,0,0,0,0,0,0,0,0,0,0,0,0,0,0,0,0,0,0,{"$f":"(20+5*(char2Refine-1))%","v":0.2},0,0,0,0,0,0,0,0,0,0,0,0,0,0,0,0,0,0,0,{"$f":"(20+5*(char2Refine-1))%","v":0.2},0,0,0,0,0,0,0,0,0,0,0,0,0,0,0,0,0,0,0,0,0,0,0,0,0,0,0,0,0,0,0,0,0,0,0,0,0,0,0,0,0,0]
["Swirl%",0,0,0,0,0,0,0,0,0,0,0,0,0,0,0,0,0,0,0,0,0,0,0,0,0,0,0,0,0,0,0,0,0,0,0,0,0,0,0,0,0,0,0,0,0,0,0,0,0,0,0,0,0,0,0,0,0,0,0,0,0,0,0,0,0,0,0,0,0,0,0,0,0,0,0,0,0,0,0,0,0,0,0,0,0,0,0,0,0,0,0,0,0,0,0,0,0,0,0,0,0,0,0,0,0]
["Overload%",0,0,0,0,0,0,0,0,0,0,0,0,0,0,0,0,0,0,0,0,0,0,0,0,0,0,0,0,0,0,0,0,0,0,0,0,0,0,0,0,0,0,0,0,0,0,0,0,0,0,0,0,0,0,0,0,0,0,0,0,0,0,0,0,0,0,0,0,0,0,0,0,0,0,0,0,0,0,0,0,0,0,0,0,0,0,0,0,0,0,0,0,0,0,0,0,0,0,0,0,0,0,0,0,0]
["Crystallize%",0,0,0,0,0,0,0,0,0,0,0,0,0,0,0,0,0,0,0,0,0,0,0,0,0,0,0,0,0,0,0,0,0,0,0,0,0,0,0,0,0,0,0,0,0,0,0,0,0,0,0,0,0,0,0,0,0,0,0,0,0,0,0,0,0,0,0,0,0,0,0,0,0,0,0,0,0,0,0,0,0,0,0,0,0,0,0,0,0,0,0,0,0,0,0,0,0,0,0,0,0,0,0,0,0]
["Superconduct%",0,0,0,0,0,0,0,0,0,0,0,0,0,0,0,0,0,0,0,0,0,0,0,0,0,0,0,0,0,0,0,0,0,0,0,0,0,0,0,0,0,0,0,0,0,0,0,0,0,0,0,0,0,0,0,0,0,0,0,0,0,0,0,0,0,0,0,0,0,0,0,0,0,0,0,0,0,0,0,0,0,0,0,0,0,0,0,0,0,0,0,0,0,0,0,0,0,0,0,0,0,0,0,0,0]
["Electrocharged%",0,0,0,0,0,0,0,0,0,0,0,0,0,0,0,0,0,0,0,0,0,0,0,0,0,0,0,0,0,0,0,0,0,0,0,0,0,0,0,0,0,0,0,0,0,0,0,0,0,0,0,0,0,0,0,0,0,0,0,0,0,0,0,0,0,0,0,0,0,0,0,0,0,0,0,0,0,0,0,0,0,0,0,0,0,0,0,0,0,0,0,0,0,0,0,0,0,0,0,0,0,0,0,0,0]
["Melt%",0,0,0,0,0,0,0,0,0,0,0,0,0,0,0,0,0,0,0,0,0,0,0,0,0,0,0,0,0,0,0,0,0,0,0,0,0,0,0,0,0,0,0,0,0,0,0,0,0,0,0,0,0,0,0,0,0,0,0,0,0,0,0,0,0,0,0,0,0,0,0,0,0,0,0,0,0,0,0,0,0,0,0,0,0,0,0,0,0,0,0,0,0,0,0,0,0,0,0,0,0,0,0,0,0]
["Vaporize%",0,0,0,0,0,0,0,0,0,0,0,0,0,0,0,0,0,0,0,0,0,0,0,0,0,0,0,0,0,0,0,0,0,0,0,0,0,0,0,0,0,0,0,0,0,0,0,0,0,0,0,0,0,0,0,0,0,0,0,0,0,0,0,0,0,0,0,0,0,0,0,0,0,0,0,0,0,0,0,0,0,0,0,0,0,0,0,0,0,0,0,0,0,0,0,0,0,0,0,0,0,0,0,0,0]
["Shatter%",0,0,0,0,0,0,0,0,0,0,0,0,0,0,0,0,0,0,0,0,0,0,0,0,0,0,0,0,0,0,0,0,0,0,0,0,0,0,0,0,0,0,0,0,0,0,0,0,0,0,0,0,0,0,0,0,0,0,0,0,0,0,0,0,0,0,0,0,0,0,0,0,0,0,0,0,0,0,0,0,0,0,0,0,0,0,0,0,0,0,0,0,0,0,0,0,0,0,0,0,0,0,0,0,0]
["Anemo Res%",0,0,0,0,0,0,0,0,0,0,0,0,0,0,0,0,0,0,0,0,0,0,0,0,0,0,0,0,0,0,0,0,0,0,0,0,0,0,0,0,0,0,0,0,0,0,0,0,0,0,0,0,0,0,0,0,0,0,0,0,0,0,0,0,0,0,0,0,0,0,0,0,0,0,0,0,0,0,0,0,0,0,0,0,0,0,0,0,0,0,0,0,0,0,0,0,0,0,0,0,0,0,0,0,0]
["Geo Res%",0,0,0,0,0,0,0,0,0,0,0,0,0,0,0,0,0,0,0,0,0,0,0,0,0,0,0,0,0,0,0,0,0,0,0,0,0,0,0,0,0,0,0,0,0,0,0,0,0,0,0,0,0,0,0,0,0,0,0,0,0,0,0,0,0,0,0,0,0,0,0,0,0,0,0,0,0,0,0,0,0,0,0,0,0,0,0,0,0,0,0,0,0,0,0,0,0,0,0,0,0,0,0,0,0]
["Pyro Res%",0,0,0,0,0,0,0,0,0,0,0,0,0,0,0,0,0,0,0,0,0,0,0,0,0,0,0,0,0,0,0,0,0,0,0,0,0,0,0,0,0,0,0,0,0,0,0,0,0,0,0,0,0,0,0,0,0,0,0,0,0,0,0,0,0,0,0,0,0,0,0,0,0,0,0,0,0,0,0,0,0,0,0,0,0,0,0,0,0,0,0,0,0,0,0,0,0,0,0,0,0,0,0,0,0]
["Cryo Res%",0,0,0,0,0,0,0,0,0,0,0,0,0,0,0,0,0,0,0,0,0,0,0,0,0,0,0,0,0,0,0,0,0,0,0,0,0,0,0,0,0,0,0,0,0,0,0,0,0,0,0,0,0,0,0,0,0,0,0,0,0,0,0,0,0,0,0,0,0,0,0,0,0,0,0,0,0,0,0,0,0,0,0,0,0,0,0,0,0,0,0,0,0,0,0,0,0,0,0,0,0,0,0,0,0]
["Hydro Res%",0,0,0,0,0,0,0,0,0,0,0,0,0,0,0,0,0,0,0,0,0,0,0,0,0,0,0,0,0,0,0,0,0,0,0,0,0,0,0,0,0,0,0,0,0,0,0,0,0,0,0,0,0,0,0,0,0,0,0,0,0,0,0,0,0,0,0,0,0,0,0,0,0,0,0,0,0,0,0,0,0,0,0,0,0,0,0,0,0,0,0,0,0,0,0,0,0,0,0,0,0,0,0,0,0]
["Electro Res%",0,0,0,0,0,0,0,0,0,0,0,0,0,0,0,0,0,0,0,0,0,0,0,0,0,0,0,0,0,0,0,0,0,0,0,0,0,0,0,0,0,0,0,0,0,0,0,0,0,0,0,0,0,0,0,0,0,0,0,0,0,0,0,0,0,0,0,0,0,0,0,0,0,0,0,0,0,0,0,0,0,0,0,0,0,0,0,0,0,0,0,0,0,0,0,0,0,0,0,0,0,0,0,0,0]
["Phys Res%",0,0,0,0,0,0,0,0,0,0,0,0,0,0,0,0,0,0,0,0,0,0,0,0,0,0,0,0,0,0,0,0,0,0,0,0,0,0,0,0,0,0,0,0,0,0,0,0,0,0,0,0,0,0,0,0,0,0,0,0,0,0,0,0,0,0,0,0,0,0,0,0,0,0,0,0,0,0,0,0,0,0,0,0,0,0,0,0,0,0,0,0,0,0,0,0,0,0,0,0,0,0,0,0,0]
["Skill CR%",0,0,0,0,0,0,0,0,0,0,0,0,0,0,0,0,0,0,0,0,0,0,0,0,0,0,0,0,0,0,0,0,0,0,0,0,0,0,0,0,0,0,0,0,0,{"$f":"6%+(char2Refine-1)*2%","v":0.06},0,0,0,0,0,0,0,0,0,0,0,0,0,0,0,0,0,0,0,0,0,0,0,0,0,0,0,0,0,0,0,0,0,0,0,0,0,0,0,0,0,0,0,0,0,0,0,0,0,0,0,0,0,0,0,0,0,0,0]
["Burst CR%",0,0,0,0,0,0,0,0,0,0,0,0,0,0,0,0,0,0,0,0,0,0,0,0,0,{"$f":"6%+(char2Refine-1)*1.5%","v":0.06},0,0,0,0,0,0,0,0,0,0,0,0,0,0,0,0,0,0,0,0,0,0,0,0,0,0,0,0,0,0,0,0,0,0,0,0,0,0,0,0,0,0,0,0,0,0,0,0,0,0,0,0,0,0,0,0,0,0,0,0,0,0,0,0,0,0,0,0,0,0,0,0,0,0,0,0,0,0,0]
["Skill CDMG%",0,0,0,0,0,0,0,0,0,0,0,0,0,0,0,0,0,0,0,0,0,0,0,0,0,0,0,0,0,0,0,0,0,0,0,0,0,0,0,0,0,0,0,0,0,0,0,0,0,0,0,0,0,0,0,0,0,0,0,0,0,0,0,0,0,0,0,0,0,0,0,0,0,0,0,0,0,0,0,0,0,0,0,0,0,0,0,0,0,0,0,0,0,0,0,0,0,0,0,0,0,0,0,0,0]
["Burst CDMG%",0,0,0,0,0,0,0,0,0,0,0,0,0,0,0,0,0,0,0,0,0,0,0,0,0,0,0,0,0,0,0,0,0,0,0,0,0,0,0,0,0,0,0,0,0,0,0,0,0,0,0,0,0,0,0,0,0,0,0,0,0,0,0,0,0,0,0,0,0,0,0,0,0,0,0,0,0,0,0,0,0,0,0,0,0,0,0,0,0,0,0,0,0,0,0,0,0,0,0,0,0,0,0,0,0]
["Flat ATK",0,0,0,0,0,0,0,0,0,0,0,0,0,0,0,0,0,0,0,0,0,0,0,{"$f":"IF(char2WeapToggle,(char2FinalHP*(0.008+(char2Refine-1)*0.002))+(char2FinalHP*(0.01+(char2Refine-1)*0.002)),(char2FinalHP*(0.008+(char2Refine-1)*0.002)))","v":132.19121920000001},0,0,0,0,0,0,0,0,0,0,0,0,0,0,{"$f":"((1.2+(char2Refine-1)*0.3)/100)*char2FinalHP","v":198.28682879999999},0,0,0,0,0,0,0,0,0,0,0,0,0,0,0,0,0,0,0,0,0,0,0,0,0,0,0,0,0,0,0,0,0,0,0,0,0,0,0,0,0,0,0,0,0,0,0,0,0,0,0,0,0,0,0,0,0,0,0,0,0,0,0,0,0,0]
["Flat HP",0,0,0,0,0,0,0,0,0,0,0,0,0,0,0,0,0,0,0,0,0,0,0,0,0,0,0,0,0,0,0,0,0,0,0,0,0,0,0,0,0,0,0,0,0,0,0,0,0,0,0,0,0,0,0,0,0,0,0,0,0,0,0,0,0,0,0,0,0,0,0,0,0,0,0,0,0,0,0,0,0,0,0,0,0,0,0,0,0,0,0,0,0,0,0,0,0,0,0,0,0,0,0,0,0]
["Flat DEF",0,0,0,0,0,0,0,0,0,0,0,0,0,0,0,0,0,0,0,0,0,0,0,0,0,0,0,0,0,0,0,0,0,0,0,0,0,0,0,0,0,0,0,0,0,0,0,0,0,0,0,0,0,0,0,0,0,0,0,0,0,0,0,0,0,0,0,0,0,0,0,0,0,0,0,0,0,0,0,0,0,0,0,0,0,0,0,0,0,0,0,0,0,0,0,0,0,0,0,0,0,0,0,0,0]
["Proc 1 Exists",true,false,true,false,false,false,false,false,false,false,true,false,false,true,true,false,false,false,false,true,false,false,false,false,false,false,false,true,false,false,false,false,false,false,true,false,false,false,false,false,false,false,false,true,true,false,true,false,false,false,false,false,false,false,false,false,false,true,false,false,false,false,false,false,true,false,true,true,true,false,false,false,false,false,true,false,false,false,false,false,false,false,false,false,false,true,false,false,false,false,false,true,false,false,false,false,false,false,false,false,false,false,false,false,false]
["Proc 2 Exists",false,false,true,false,false,false,false,false,false,false,true,false,false,false,false,false,false,false,false,false,false,false,false,false,false,false,false,true,false,false,false,false,false,false,false,false,false,false,false,false,false,false,false,false,false,false,false,false,false,false,false,false,false,false,false,false,false,false,false,false,false,false,false,false,false,false,false,true,false,false,false,false,false,false,false,false,false,false,false,false,false,false,false,false,false,false,false,false,false,false,false,false,false,false,false,false,false,false,false,false,false,false,false,false,false]
["Proc 3 Exists",false,false,false,false,false,false,false,false,false,false,false,false,false,false,false,false,false,false,false,false,false,false,false,false,false,false,false,false,false,false,false,false,false,false,false,false,false,false,false,false,false,false,false,false,false,false,false,false,false,false,false,false,false,false,false,false,false,false,false,false,false,false,false,false,false,false,false,false,false,false,false,false,false,false,false,false,false,false,false,false,false,false,false,false,false,false,false,false,false,false,false,false,false,false,false,false,false,false,false,false,false,false,false,false,false]
["Proc 1 Name","Vacuum Blades",null,"Redhorn Normal Proc",null,null,null,null,null,null,null,"STSS Proc, No Cryo",null,null,"Archaic Proc","Tuna",null,null,null,null,"Vacuum Blade",null,null,null,null,null,null,null,"Frost Burial, No Cryo",null,null,null,null,null,null,"Infusion Needle",null,null,null,null,null,null,null,null,"Sky-Piercing Fang","Falcon's Defiance",null,"Harmonic Proc",null,null,null,null,null,null,null,null,null,null,"Cinnabar Spindle Proc",null,null,null,null,null,null,"Wandering Clouds",null,"Byakuya Kougetsu","Frost Burial No Cryo","Bolt of Perception",null,null,null,null,null,"Prototype Amber Healing",null,null,null,null,null,null,null,null,null,null,"Echoing Ballad",null,null,null,null,null,"Cyclone"]
["Proc 1 Damage Type","None",null,"Normal",null,null,null,null,null,null,null,"None",null,null,"None","None",null,null,null,null,"None",null,null,null,null,null,null,null,"None",null,null,null,null,null,null,"None",null,null,null,null,null,null,null,null,"None","None",null,"None",null,null,null,null,null,null,null,null,null,null,"Skill",null,null,null,null,null,null,"None",null,"Normal","None","None",null,null,null,null,null,"Healing",null,null,null,null,null,null,null,null,null,null,"None",null,null,null,null,null,"None"]
["Proc 1 Scaling Stat","ATK",null,"DEF",null,null,null,null,null,null,null,"ATK",null,null,"ATK","ATK",null,null,null,null,"ATK",null,null,null,null,null,null,null,"ATK",null,null,null,null,null,null,"ATK",null,null,null,null,null,null,null,null,"ATK","ATK",null,"ATK",null,null,null,null,null,null,null,null,null,null,"DEF",null,null,null,null,null,null,"ATK",null,"HP","ATK","ATK",null,null,null,null,null,"HP",null,null,null,null,null,null,null,null,null,null,"ATK",null,null,null,null,null,"ATK"]
["Proc 1 Talent%",{"$f":"80%+(char2Refine-1)*20%","v":0.8},null,{"$f":"40%+(char2Refine-1)*10%","v":0.4},null,null,null,null,null,null,null,{"$f":"80%+(char2Refine-1)*15%","v":0.8},null,null,{"$f":"240%+(char2Refine-1)*60%","v":2.4},{"$f":"100%+(char2Refine-1)*25%","v":1},null,null,null,null,{"$f":"40%+(char2Refine-1)*15%","v":0.4},null,null,null,null,null,null,null,{"$f":"60%+(char2Refine-1)*15%","v":0.6},null,null,null,null,null,null,{"$f":"20%+(char2Refine-1)*5%","v":0.2},null,null,null,null,null,null,null,null,{"$f":"20%+(char2Refine-1)*5%","v":0.2},{"$f":"200%+(char2Refine-1)*30%","v":2},null,{"$f":"100%+(char2Refine-1)*25%","v":1},null,null,null,null,null,null,null,null,null,null,{"$f":"40%+(char2Refine-1)*10%","v":0.4},null,null,null,null,null,null,{"$f":"160%+(char2Refine-1)*40%","v":1.6},null,{"$f":"1%+(char2Refine-1)*0.5%","v":0.01},{"$f":"60%+(char2Refine-1)*15%","v":0.6},{"$f":"240%+(char2Refine-1)*30%","v":2.4},null,null,null,null,null,{"$f":"4%+0.5%*(char2Refine-1)","v":0.04},null,null,null,null,null,null,null,null,null,null,1.25,null,null,null,null,null,{"$f":"40%+(char2Refine-1)*10%","v":0.4}]
["Proc 1 Element","Phys",null,{"$f":"char2NAElement","v":"Phys"},null,null,null,null,null,null,null,"Phys",null,null,"Phys","Phys",null,null,null,null,"Phys",null,null,null,null,null,null,null,"Phys",null,null,null,null,null,null,"Phys",null,null,null,null,null,null,null,null,"Phys","Phys",null,"Phys",null,null,null,null,null,null,null,null,null,null,{"$f":"char2SkillElement","v":"Hydro"},null,null,null,null,null,null,"Phys",null,{"$f":"char2NAElement","v":"Phys"},"Phys","Phys",null,null,null,null,null,"None",null,null,null,null,null,null,null,null,null,null,"Phys",null,null,null,null,null,"Phys"]
["Proc 2 Name",null,null,"Redhorn Charged Proc",null,null,null,null,null,null,null,"STSS Proc, With Cryo",null,null,null,null,null,null,null,null,null,null,null,null,null,null,null,null,"Frost Burial, With Cryo",null,null,null,null,null,null,null,null,null,null,null,null,null,null,null,null,null,null,null,null,null,null,null,null,null,null,null,null,null,null,null,null,null,null,null,null,null,null,null,"Frost Burial, With Cryo"]
["Proc 2 Damage Type",null,null,"Charged",null,null,null,null,null,null,null,"None",null,null,null,null,null,null,null,null,null,null,null,null,null,null,null,null,"None",null,null,null,null,null,null,null,null,null,null,null,null,null,null,null,null,null,null,null,null,null,null,null,null,null,null,null,null,null,null,null,null,null,null,null,null,null,null,null,"None"]
["Proc 2 Scaling Stat",null,null,"DEF",null,null,null,null,null,null,null,"ATK",null,null,null,null,null,null,null,null,null,null,null,null,null,null,null,null,"ATK",null,null,null,null,null,null,null,null,null,null,null,null,null,null,null,null,null,null,null,null,null,null,null,null,null,null,null,null,null,null,null,null,null,null,null,null,null,null,null,"ATK"]
["Proc 2 Talent%",null,null,{"$f":"0.4+(char2Refine-1)*0.1","v":0.4},null,null,null,null,null,null,null,{"$f":"200%+(char2Refine-1)*40%","v":2},null,null,null,null,null,null,null,null,null,null,null,null,null,null,null,null,{"$f":"200%+(char2Refine-1)*40%","v":2},null,null,null,null,null,null,null,null,null,null,null,null,null,null,null,null,null,null,null,null,null,null,null,null,null,null,null,null,null,null,null,null,null,null,null,null,null,null,null,{"$f":"200%+(char2Refine-1)*40%","v":2}]
["Proc 2 Element",null,null,{"$f":"char2CAElement","v":"Phys"},null,null,null,null,null,null,null,"Phys",null,null,null,null,null,null,null,null,null,null,null,null,null,null,null,null,"Phys",null,null,null,null,null,null,null,null,null,null,null,null,null,null,null,null,null,null,null,null,null,null,null,null,null,null,null,null,null,null,null,null,null,null,null,null,null,null,null,"Phys"]
["Proc 3 Name"]
["Proc 3 Damage Type"]
["Proc 3 Scaling Stat"]
["Proc 3 Talent%"]
["Proc 3 Element"]
[]
["Character 3","Skyward Pride","The Unforged","Redhorn Stonethresher","Wolf's Gravestone","Song of Broken Pines","Serpent Spine","The Bell","Royal Greatsword","Whiteblind","Favonius Greatsword","Snow-Tombed Starsilver","Rainslasher","Lithic Blade","Prototype Archaic","Luxurious Sea-Lord","Katsuragikiri Nagamasa","Sacrificial Greatsword","Akuoumaru","Blackcliff Slasher","Skyward Spine","Engulfing Lightning","Primordial Jade-Winged Spear","Vortex Vanquisher","Staff of Homa","Calamity Queller","The Catch","Kitain Cross-Spear","Dragonspine Spear","Favonius Lance","Prototype Starglitter","Lithic Spear","Dragon's Bane","Wavebreaker's Fin","Deathmatch","Crescent Pike","Blackcliff Pole","White Tassel","Black Tassel","Jade Cutter","Freedom Sworn","Mistsplitter Reforged","Haran Tsukishiro Futsu","Summit Shaper","Skyward Blade","Aquila Favonia","Festering Desire","The Flute","The Black Sword","The Alley Flash","Sacrificial Sword","Royal Longsword","Prototype Rancour","Lion's Roar","Iron Sting","Favonius Sword","Blackcliff Longsword","Amenoma Kageuchi","Cinnabar Spindle","Skyrider Sword","Dark Iron Sword","Cool Steel","Harbinger of Dawn","Memory of Dust","Kagura's Verity","Skyward Atlas","Lost Prayers","Everlasting Moonglow","Frostbearer","Eye of Perception","Wine and Song","The Widsith","Solar Pearl","Sacrificial Fragments","Royal Grimore","Prototype Amber","Mappa Mare","Favonius Codex","Dodoco Tales","Oathsworn Eye","Magic Guide","Blackcliff Agate","Hakushin Ring","Thrilling Tales of Dragon Slayers","Elegy for the End","Polar Star","Skyward Harp","Aqua Simulacra","Amos Bow","Fading Twilight","Rust","Mouun's Moon","Viridescent Hunt","Compound Bow","Blackcliff Warbow","Prototype Crescent","Favonius Warbow","Windblume Ode","Alley Hunter","Sacrificial Bow","Hamayumi","The Stringless","Royal Bow","Mitternacht's Waltz","Slingshot","Thundering Pulse"]
["Base ATK",674,608,542,608,741,510,510,565,510,454,565,510,510,565,454,510,565,510,510,674,608,674,608,608,741,510,565,454,565,510,565,454,620,454,565,510,401,354,542,608,674,608,608,608,674,510,510,510,620,454,510,565,510,510,454,565,454,454,354,401,401,401,608,608,674,608,608,510,454,565,510,510,454,565,510,565,510,454,565,354,510,565,401,608,608,674,542,608,565,510,565,510,454,565,510,454,510,565,565,454,510,510,510,354,608]
["ATK%",0,{"$f":"49.6%+IF(char3WeapToggle, 2*char3WeapStacks*(4+(char3Refine-1))%, char3WeapStacks*(4+(char3Refine-1))%)","v":0.496},0,{"$f":"49.6%+(20+(char3Refine-1)*5)%+IF(char3WeapToggle,(40+(char3Refine-1)*10),0)%","v":1.6960000000000002},{"$f":"IF(char3WeapToggle, (20+(char3Refine-1)*5)%, 0%) + (16+(char3Refine-1)*4)%","v":0.72},0,0,0.27600000000000002,{"$f":"char3WeapStacks*(6+1.5*(char3Refine-1))%","v":0},0,0,0,{"$f":"41.3%+char3WeapStacks*(7+(char3Refine-1))%","v":0.41299999999999998},0.27600000000000002,0.55100000000000005,0,0,0.41299999999999998,{"$f":"char3WeapStacks*(12+(char3Refine-1)*3)%","v":0},0,{"$f":"MIN((28%+(char3Refine-1)*7%)*(char3FinalER-100%),(80+(char3Refine-1)*10)%)","v":6.1712000000000052E-2},{"$f":"char3WeapStacks*(3.2+(char3Refine-1)*0.7)%","v":0},{"$f":"(49.6+(char3WeapStacks*IF(char3WeapToggle,2,1)*(4+(char3Refine-1)*1)))%","v":0.496},0,{"$f":"IF(char3WeapToggle = FALSE, (3.2%+0.8%*(char3Refine-1))*char3WeapStacks, (3.2%+0.8%*(char3Refine-1))*char3WeapStacks*2)","v":0},0,0,0,0,0,{"$f":"(27.6+(7+(char3Refine-1)*1)*char3WeapStacks)%","v":0.27600000000000002},0,0.13800000000000001,{"$f":"IF(char3WeapToggle,(24+(char3Refine-1)*6),(16+(char3Refine-1)*4))%","v":0.48},0,{"$f":"(12+(char3Refine-1)*3)*char3WeapStacks%","v":0},0,0,0,{"$f":"IF(char3WeapToggle, (20+(char3Refine-1)*5), 0)%","v":0.4},0,0,{"$f":"(49.6+IF(char3WeapToggle,(4+(char3Refine-1))*char3WeapStacks*2,(4+(char3Refine-1))*char3WeapStacks))%","v":0.496},0,{"$f":"(20+(char3Refine-1)*5)%","v":0.4},0,0.41299999999999998,0,0,0,0.41299999999999998,{"$f":"char3WeapStacks*(4+(char3Refine-1))%","v":0},0.41299999999999998,0,0,{"$f":"(char3WeapStacks*(12+(char3Refine-1)*3))%","v":0},0.55100000000000005,0,{"$f":"IF(char3WeapToggle,12+(char3Refine-1)*3,0)%","v":0.24},{"$f":"IF(char3WeapToggle, 20+(char3Refine-1)*5)%","v":0.4},0.35199999999999998,0,{"$f":"(49.6+IF(char3WeapToggle,(4+(char3Refine-1))*char3WeapStacks*2,(4+(char3Refine-1))*char3WeapStacks))%","v":0.496},0,0.33100000000000002,0,0,0.41299999999999998,0.55100000000000005,{"$f":"IF(char3WeapToggle, 20+(char3Refine-1)*5,0)%","v":0.4},{"$f":"IF(char3WeapToggle, 20+(char3Refine-1)*5,0)%","v":0.4},0,0,0.27600000000000002,0,0,0,{"$f":"(55.1+IF(char3WeapToggle,8+(char3Refine-1)*2))%","v":0.71099999999999997},0.27600000000000002,0,{"$f":"char3WeapStacks*(12+(char3Refine-1)*3)%","v":0},0,0,{"$f":"IF(char3WeapToggle, 20+(char3Refine-1)*5, 0)%","v":0.4},{"$f":"IF(char3WeapStacks=0, 0, IF(char3WeapStacks=1, 10+(char3Refine-1)*2.5, IF(char3WeapStacks=2, 20+(char3Refine-1)*5, IF(char3WeapStacks=3, 30+(char3Refine-1)*7.5, IF(char3WeapStacks=4, 48+(char3Refine-1)*12,0)))))%","v":0},0,0,0.496,0,0.41299999999999998,0.27600000000000002,0,{"$f":"char3WeapStacks*(4+(char3Refine-1))%","v":0},{"$f":"char3WeapStacks*(12+(char3Refine-1)*3)%","v":0},{"$f":"41.3%+IF(char3WeapToggle, 36+(char3Refine-1)*9)%","v":1.133},0,{"$f":"IF(char3WeapToggle, 16+(char3Refine-1)*4,0)%","v":0.32},0.27600000000000002,0,0.55100000000000005,0,0.41299999999999998,0,0,{"$f":"(20+(char3Refine-1)*5)%","v":0.4}]
["DEF%",0,0,{"$f":"(28+(char3Refine-1)*7)%","v":0.56000000000000005},0,0,0,0,0,{"$f":"51.7%+char3WeapStacks*(6+1.5*(char3Refine-1))%","v":0.51700000000000002},0,0,0,0,0,0,0,0,0,0,0,0,0,0,0,0,0,0,0,0,0,0,0,0,{"$f":"(16+(char3Refine-1)*4)%","v":0.32},0,0,0,0,0,0,0,0,0,0,0,0,0,0,0,0,0,{"$f":"char3WeapStacks*(4+(char3Refine-1))%","v":0},0,0,0,0,0,0.69,0,0,0,0,0,0,0,0,0,0,0,0,0,0,0,0,0,0,0,0,0,0,0,0,0,0,0,0,0,0,0,0,0,0,0,0,0,0,0,0,0,0,0,0,0,0,0]
["HP%",0,0,0,0,0,0,0.41299999999999998,0,0,0,0,0,0,0,0,0,0,0,0,0,0,0,0,{"$f":"(20+(char3Refine-1)*5)%","v":0.4},0,0,0,0,0,0,0,0,0,0,0,0,0,0.46899999999999997,{"$f":"0.2+(char3Refine-1)*0.05","v":0.4},0,0,0,0,0,0,0,0,0,0,0,0,0,0,0,0,0,0,0,0,0,0,0,0,0,0,0,0.496,0,0,0,0,0,0,0,0.41299999999999998,0,0,0,0,0,0,0,0.35199999999999998,0,0,0,{"$f":"16%+(4%*(char3Refine-1))","v":0.32},0,0,0,0,0,0,0,0,0,0,0,0,0,0,0,0,0,0]
["CR%",0,0,0,0,0,0.27600000000000002,0,{"$f":"(char3WeapStacks*(8%+(char3Refine-1)*2%))","v":0},0,0,0,0,{"$f":"char3WeapStacks*(3+(char3Refine-1))%","v":0},0,0,0,0,0,0,{"$f":"(8+(char3Refine-1)*2)%","v":0.16},0,0.221,0,0,0,0,0,0,0,0,{"$f":"(3+(char3Refine-1)*1)*char3WeapStacks%","v":0},0,0,0.36799999999999999,0,0,0.23400000000000001,0,0.441,0,0,0.33100000000000002,0,{"$f":"(4+(char3Refine-1))%","v":0.08},0,0,0,0.27600000000000002,0,0,{"$f":"(char3WeapStacks*(8+(char3Refine-1)*2))%","v":0},0,0,0,0,0,0,0,0,0,0,{"$f":"IF(char3WeapToggle,14+(char3Refine-1)*3.5,0)%","v":0.28000000000000003},0,0,0,0.33100000000000002,0,0,0,0,0,0.27600000000000002,0,{"$f":"char3WeapStacks*(8+(char3Refine-1)*2)%","v":0},0,0,0,0,0,0,0,0,0,0,0.33100000000000002,0.221,0,0,0,0,0,0.27600000000000002,0,0,0,0,0,0,0,0,0,{"$f":"char3WeapStacks*(8+(char3Refine-1)*2)%","v":0},0,0.312,0]
["CDMG%",0,0,0.88200000000000001,0,0,0,0,0,0,0,0,0,0,0,0,0,0,0,0.55100000000000005,0,0,0,0,0.66200000000000003,0,0,0,0,0,0,0,0,0,0,0,0.55100000000000005,0,0,0,0,0.441,0,0,0,0,0,0,0,0,0,0,0,0,0,0,0.36799999999999999,0,0,0,0,0,0.46899999999999997,0,0.66200000000000003,0,0,0,0,0,0,0.55100000000000005,0,0,0,0,0,0,0,0,0,0.55100000000000005,0,0,0,0,{"$f":"(20+(char3Refine-1)*5)%","v":0.4},0.88200000000000001,0,0,0,0,0,0,0.36799999999999999,0,0,0,0,0,0,0,0,0,0,0.66200000000000003]
["ER%",0.36799999999999999,0,0,0,0,0,0,0,0,0.61299999999999999,0,0,0,0,0,0.45900000000000002,0.30599999999999999,0,0,0.36799999999999999,{"$f":"55.1%+IF(char3WeapToggle, 30+(char3Refine-1)*5,0)%","v":1.0510000000000002},0,0,0,0,0.45900000000000002,0,0,0.30599999999999999,0.45900000000000002,0,0,0,0,0,0,0,0,0,0,0,0,0,0.55100000000000005,0,0.45900000000000002,0,0,0,0.61299999999999999,0,0,0,0,0.61299999999999999,0,0,0,0.51700000000000002,0,0,0,0,0,0,0,0,0,0,0.30599999999999999,0,0,0,0,0,0,0.45900000000000002,0,{"$f":"IF(char3WeapToggle, 24%+(6%*(char3Refine-1)),  0)","v":0.48},0,0,0.30599999999999999,0,0.55100000000000005,0,0,0,0,0.30599999999999999,0,0,0,0,0,0,0.61299999999999999,0,0,0.30599999999999999,0,0,0,0,0,0]
["Phys DMG%",0,0,0,0,0.20699999999999999,0,0,0,0,0,0.34499999999999997,0,0,0,0,0,0,0,0,0,0,0,0,0,0,0,0,0.69,0,0,0,0,0,0,0.34499999999999997,0,0,0,0,0,0,0,0,0,0.41299999999999998,0,0,0,0,0,0,0.34499999999999997,0,0,0,0,0,0,0,0,0,0,0,0,0,0,0,0,0,0,0,0,0,0,0,0,0,0,0,0,0,0,0,0,0,0,0,0,0,0,0,0,0.69,0,0,0,0,0,0,0,0,0,0.51700000000000002,0,0]
["Anemo DMG%",0,0,0,0,0,0,0,0,0,0,0,0,0,0,0,0,0,0,0,0,0,0,0,0,{"$f":"12%+3%*(char3Refine-1)","v":0.24},0,0,0,0,0,0,0,0,0,0,0,0,0,0,0,{"$f":"(IF(Lookups!$K$3 = weapons!A142,IF(char3WeapStacks=1, (8+(char3Refine-1)*2)%, IF(char3WeapStacks=2, (16+(char3Refine-1)*4)%, IF(char3WeapStacks=3, (28+(char3Refine-1)*7)%, 0)))))+(12+(char3Refine-1)*3)%","v":0.24},{"$f":"(12%+3%*(char3Refine-1))","v":0.24},0,0,0,0,0,0,0,0,0,0,0,0,0,0,0,0,0,0,0,0,0,{"$f":"IF(char3WeapStacks=3, 12%+(char3Refine-1)*3%, 0%)","v":0},{"$f":"(12+(char3Refine-1)*3)%","v":0.24},{"$f":"(char3WeapStacks*(8+(char3Refine-1)*2))%","v":0},0,0,0,0,{"$f":"IF(char3WeapToggle, 16+(char3Refine-1)*4,0)%","v":0.32},0,0,0,0,{"$f":"char3WeapStacks*(8+(char3Refine-1)*2)%","v":0},0,0,0,0,0,0,0,0,0,0,0,0,0,0,0,0,0,0,0,0,0,0,0,0,0,0,0,0,0]
["Geo DMG%",0,0,0,0,0,0,0,0,0,0,0,0,0,0,0,0,0,0,0,0,0,0,0,0,0.24,0,0,0,0,0,0,0,0,0,0,0,0,0,0,0,{"$f":"(IF(Lookups!$K$3 = weapons!A143,IF(char3WeapStacks=1, (8+(char3Refine-1)*2)%, IF(char3WeapStacks=2, (16+(char3Refine-1)*4)%, IF(char3WeapStacks=3, (28+(char3Refine-1)*7)%, 0)))))+(12+(char3Refine-1)*3)%","v":0.24},0.24,0,0,0,0,0,0,0,0,0,0,0,0,0,0,0,0,0,0,0,0,0,0,0.24,0,0,0,0,0,0.32,0,0,0,0,0,0,0,0,0,0,0,0,0,0,0,0,0,0,0,0,0,0,0,0,0,0,0,0,0,0,0,0,0,0]
["Pyro DMG%",0,0,0,0,0,0,0,0,0,0,0,0,0,0,0,0,0,0,0,0,0,0,0,0,0.24,0,0,0,0,0,0,0,0,0,0,0,0,0,0,0,{"$f":"(IF(Lookups!$K$3 = weapons!A144,IF(char3WeapStacks=1, (8+(char3Refine-1)*2)%, IF(char3WeapStacks=2, (16+(char3Refine-1)*4)%, IF(char3WeapStacks=3, (28+(char3Refine-1)*7)%, 0)))))+(12+(char3Refine-1)*3)%","v":0.24},0.24,0,0,0,0,0,0,0,0,0,0,0,0,0,0,0,0,0,0,0,0,0,0,0.24,0,0,0,0,0,0.32,0,0,0,0,0,0,0,0,0,0,0,0,0,0,0,0,0,0,0,0,0,0,0,0,0,0,0,0,0,0,0,0,0,0]
["Cryo DMG%",0,0,0,0,0,0,0,0,0,0,0,0,0,0,0,0,0,0,0,0,0,0,0,0,0.24,0,0,0,0,0,0,0,0,0,0,0,0,0,0,0,{"$f":"(IF(Lookups!$K$3 = weapons!A145,IF(char3WeapStacks=1, (8+(char3Refine-1)*2)%, IF(char3WeapStacks=2, (16+(char3Refine-1)*4)%, IF(char3WeapStacks=3, (28+(char3Refine-1)*7)%, 0)))))+(12+(char3Refine-1)*3)%","v":0.24},0.24,0,0,0,0,0,0,0,0,0,0,0,0,0,0,0,0,0,0,0,0,0,0,0.24,0,0,0,0,0,0.32,0,0,0,0,0,0,0,0,0,0,0,0,0,0,0,0,0,0,0,0,0,0,0,0,0,0,0,0,0,0,0,0,0,0]
["Hydro DMG%",0,0,0,0,0,0,0,0,0,0,0,0,0,0,0,0,0,0,0,0,0,0,0,0,0.24,0,0,0,0,0,0,0,0,0,0,0,0,0,0,0,{"$f":"(IF(Lookups!$K$3 = weapons!A146,IF(char3WeapStacks=1, (8+(char3Refine-1)*2)%, IF(char3WeapStacks=2, (16+(char3Refine-1)*4)%, IF(char3WeapStacks=3, (28+(char3Refine-1)*7)%, 0)))))+(12+(char3Refine-1)*3)%","v":0.24},0.24,0,0,0,0,0,0,0,0,0,0,0,0,0,0,0,0,0,0,0,0,0,0,0.24,0,0,0,0,0,0.32,0,0,0,0,0,0,0,0,0,0,0,0,0,0,0,0,0,0,0,0,0,0,0,0,0,0,0,0,0,0,0,0,0,0]
["Electro DMG%",0,0,0,0,0,0,0,0,0,0,0,0,0,0,0,0,0,0,0,0,0,0,0,0,0.24,0,0,0,0,0,0,0,0,0,0,0,0,0,0,0,{"$f":"(IF(Lookups!$K$3 = weapons!A147,IF(char3WeapStacks=1, (8+(char3Refine-1)*2)%, IF(char3WeapStacks=2, (16+(char3Refine-1)*4)%, IF(char3WeapStacks=3, (28+(char3Refine-1)*7)%, 0)))))+(12+(char3Refine-1)*3)%","v":0.24},0.24,0,0,0,0,0,0,0,0,0,0,0,0,0,0,0,0,0,0,0,0,0,0,0.24,0,0,0,0,0,0.32,0,0,0,0,0,0,0,0,0,0,0,0,0,0,0,0,0,0,0,0,0,0,0,0,0,0,0,0,0,0,0,0,0,0]
["EM",0,0,0,0,0,0,0,0,0,0,0,165,0,0,0,0,0,0,0,0,0,0,0,0,0,0,110,0,0,0,0,221,0,0,0,0,0,0,0,198,0,0,0,0,0,0,0,0,55,0,0,0,0,165,0,0,0,0,0,141,0,0,0,0,0,0,0,0,0,0,{"$f":"IF(char3WeapToggle,80+(char3Refine-1)*20,0)","v":160},0,221,0,0,110,0,0,0,187,0,0,0,{"$f":"60+(char3Refine-1)*15+IF(char3WeapToggle, 100+(char3Refine-1)*25,0)","v":320},0,0,0,0,0,0,0,0,0,0,0,0,165,0,0,0,165,0,0,0,0]
["Healing Received%",0,0,0,0,0,0,0,0,0,0,0,0,0,0,0,0,0,0,0,0,0,0,0,0,0,0,0,0,0,0,0,0,0,0,0,0,0,0,0,0,0,0,0,0,0,0,0,0,0,0,0,0,0,0,0,0,0,0,0,0,0,0,0,0,0,0,0,0,0,0,0,0,0,0,0,0,0,0,0,0,0,0,0,0,0,0,0,0,0,0,0,0,0,0,0,0,0,0,0,0,0,0,0,0,0]
["Healing Bonus%",0,0,0,0,0,0,0,0,0,0,0,0,0,0,0,0,0,0,0,0,0,0,0,0,0,0,0,0,0,0,0,0,0,0,0,0,0,0,0,0,0,0,0,0,0,0,0,0,0,0,0,0,0,0,0,0,0,0,0,0,0,0,0,0,0,0,{"$f":"(10+(char3Refine-1)*2.5)%","v":0.2},0,0,0,0,0,0,0,0,0,0,0,0,0,0,0,0,0,0,0,0,0,0,0,0,0,0,0,0,0,0,0,0,0,0,0,0,0,0]
["Normal DMG%",0,0,0,0,0,0,0,0,0,0,0,0,0,0,0,0,0,0,0,0,0,0,0,0,0,0,0,0,0,{"$f":"((8+(char3Refine-1)*4)*char3WeapStacks)%","v":0},0,0,0,0,0,0,{"$f":"(24+(char3Refine-1)*6)%","v":0.48},0,0,{"$f":"IF(char3WeapToggle, (16+(char3Refine-1)*4), 0)%","v":0.32},0,{"$f":"(20%+5%*(char3Refine-1))*MIN(2, char3WeapStacks)","v":0},0,0,0,0,0,{"$f":"(20+(char3Refine-1)*5)%","v":0.4},0,0,0,0,0,0,0,0,0,0,0,0,0,0,0,0,0,0,0,0,0,0,0,{"$f":"IF(char3WeapToggle,20+(char3Refine-1)*5,0)%","v":0.4},0,0,0,0,0,0,0,0,0,0,0,0,0,0,0,{"$f":"(12+(char3Refine-1)*3)%+char3WeapStacks*(8+(char3Refine-1)*2)%","v":0.24},0,{"$f":"(40+(char3Refine-1)*10)%","v":0.8},0,0,0,0,0,0,0,0,0,{"$f":"IF(char3WeapToggle, 2*(16+(char3Refine-1)*4), 16+(char3Refine-1)*4)%","v":0.64},0,0,{"$f":"IF(char3WeapToggle, 20+(char3Refine-1)*5, 0)%","v":0.4},{"$f":"IF(char3WeapToggle, (36+(char3Refine-1)*6)%, -10%)","v":0.6},{"$f":"IF(char3WeapStacks=1, (12+(char3Refine-1)*3)%, IF(char3WeapStacks=2, (24+(char3Refine-1)*6)%, IF(char3WeapStacks=3, (40+(char3Refine-1)*10)%, 0)))","v":0}]
["Charged DMG%",0,0,0,0,0,0,0,0,0,0,0,0,0,0,0,0,0,0,0,0,0,0,0,0,0,0,0,0,0,{"$f":"((8+(char3Refine-1)*4)*char3WeapStacks)%","v":0},0,0,0,0,0,0,0,0,0,{"$f":"IF(char3WeapToggle, (16+(char3Refine-1)*4), 0)%","v":0.32},0,0,0,0,0,0,0,{"$f":"(20+(char3Refine-1)*5)%","v":0.4},0,0,0,0,0,0,0,0,0,0,0,0,0,0,0,0,0,0,0,0,0,0,0,0,0,0,0,0,0,{"$f":"IF(char3WeapToggle,16+(char3Refine-1)*4,0)%","v":0.32},0,0,0,0,0,0,0,0,0,{"$f":"(12+(char3Refine-1)*3)%+char3WeapStacks*(8+(char3Refine-1)*2)%","v":0.24},0,{"$f":"-10%","v":-0.1},0,0,0,0,0,0,0,0,0,{"$f":"IF(char3WeapToggle, 2*(12+(char3Refine-1)*3), (12+(char3Refine-1)*3))%","v":0.48},0,0,0,{"$f":"IF(char3WeapToggle, (36+(char3Refine-1)*6)%, -10%)","v":0.6},0]
["Plunging DMG%",0,0,0,0,0,0,0,0,0,0,0,0,0,0,0,0,0,0,0,0,0,0,0,0,0,0,0,0,0,0,0,0,0,0,0,0,0,0,0,{"$f":"IF(char3WeapToggle, (16+(char3Refine-1)*4), 0)%","v":0.32},0,0,0,0,0,0,0,0,0,0,0,0,0,0,0,0,0,0,0,0,0,0,0,0,0,0,0,0,0,0,0,0,0,0,0,0,0,0,0,0,0,0,0,0,0,0,0,0,0,0,0,0,0,0,0,0,0,0,0,0,0,0,0,0,0]
["Skill DMG%",0,0,0,0,0,0,0,0,0,0,0,0,0,0,0,0,0,0,0,0,0,0,0,0,0,0,{"$f":"(6+(char3Refine-1)*1.5)%","v":0.12},0,0,0,0,0,0,0,0,0,0,0,0,0,0,0,0,0,0,{"$f":"(16+(char3Refine-1)*4)%","v":0.32},0,0,0,0,0,0,0,0,0,0,0,0,0,0,0,0,0,{"$f":"(12%+(char3Refine-1)*3%)*(char3WeapStacks)","v":0},0,0,0,0,0,0,0,{"$f":"IF(char3WeapToggle, 20+(char3Refine-1)*5,0)%","v":0.4},0,0,0,0,0,0,0,0,0,0,0,0,{"$f":"12%+(char3Refine-1)*3%","v":0.24},0,0,0,0,0,0,0,0,0,0,0,0,0,0,0,{"$f":"(24+(char3Refine-1)*6)%","v":0.48},0,{"$f":"IF(char3WeapToggle, 20+(char3Refine-1)*5, 0)%","v":0.4},0,0]
["Burst DMG%",0,0,0,0,0,0,0,0,0,0,0,0,0,0,{"$f":"(12+(char3Refine-1)*3)%","v":0.24},0,0,{"$f":"MIN((40+(char3Refine-1)*10)%, char3WeapStacks*(0.12%+(char3Refine-1)*0.03%))","v":0},0,0,0,0,0,0,0,{"$f":"(16+(char3Refine-1)*4)%","v":0.32},0,0,0,0,0,0,{"$f":"MIN((40+(char3Refine-1)*10)%, (0.12+(char3Refine-1)*0.03)*char3WeapStacks%)","v":0},0,0,0,0,0,0,0,0,0,0,0,0,0,0,0,0,0,0,0,0,0,0,0,0,0,0,0,0,0,0,0,0,0,0,0,0,0,0,{"$f":"IF(char3WeapToggle, 20+(char3Refine-1)*5,0)%","v":0.4},0,0,0,0,0,0,0,0,0,0,0,0,{"$f":"12%+(char3Refine-1)*3%","v":0.24},0,0,0,0,0,{"$f":"MIN((char3WeapStacks*(0.12%+0.03%*(char3Refine-1))), 40%+(10%*(char3Refine-1)))","v":0},0,0,0,0,0,0,0,0,0,{"$f":"(24+(char3Refine-1)*6)%","v":0.48},0,0,0,0]
["DMG%",{"$f":"(8+(char3Refine-1)*2)%","v":0.16},0,0,0,0,{"$f":"char3WeapStacks*(6+(char3Refine-1))%","v":0},{"$f":"IF(char3WeapToggle, 12+(char3Refine-1)*3)%","v":0.24},0,0,0,0,{"$f":"IF(char3WeapToggle, 20+(char3Refine-1)*4, 0)%","v":0.36},0,0,0,0,0,0,0,0,0,{"$f":"IF(char3WeapStacks>=7,(12+(char3Refine-1)*3),0)%","v":0},0,0,0,0,0,0,0,0,0,{"$f":"IF(char3WeapToggle,(20+(char3Refine-1)*4),0)%","v":0.36},0,0,0,0,0,{"$f":"IF(char3WeapToggle,(40+(char3Refine-1)*10),0)%","v":0.8},0,{"$f":"(10+(char3Refine-1)*2.5)%","v":0.2},0,0,0,0,0,0,0,0,{"$f":"IF(char3WeapToggle,(12+(char3Refine-1)*3),0)%","v":0.24},0,0,0,{"$f":"IF(char3WeapToggle,(20+(char3Refine-1)*4),0)%","v":0.36},{"$f":"(char3WeapStacks*(6+(char3Refine-1)*1.5))%","v":0},0,0,0,0,0,0,{"$f":"IF(char3WeapToggle, 12%+(char3Refine-1)*3%, 0%)","v":0.24},0,0,0,0,0,0,0,0,0,0,0,0,0,0,0,0,0,0,{"$f":"IF(char3WeapToggle, 12+(char3Refine-1)*3, 0)%","v":0.24},0,{"$f":"IF(char3WeapToggle, 10+(char3Refine-1)*2.5,0)%","v":0.2},0,0,0,0,{"$f":"IF(char3WeapToggle, 20%+(char3Refine-1)*5%, 0%)","v":0.4},0,{"$f":"IF(char3WeapStacks=1,6%+(char3Refine-1)*1.5%,IF(char3WeapStacks=2,10%+(char3Refine-1)*2.5%,IF(char3WeapStacks>=3,14%+(char3Refine-1)*3.5%,0)))","v":0},0,0,0,0,0,0,0,0,{"$f":"IF(char3WeapToggle, 20%+(char3Refine-1)*4%, 0%)","v":0.36},0,0,0,0,0,0,0]
["Shield Strength%",0,{"$f":"(20+(char3Refine-1)*5)%","v":0.4},0,0,0,0,0,0,0,0,0,0,0,0,0,0,0,0,0,0,0,0,{"$f":"(20+5*(char3Refine-1))%","v":0.4},0,0,0,0,0,0,0,0,0,0,0,0,0,0,0,0,0,0,0,{"$f":"(20+5*(char3Refine-1))%","v":0.4},0,0,0,0,0,0,0,0,0,0,0,0,0,0,0,0,0,0,0,{"$f":"(20+5*(char3Refine-1))%","v":0.4},0,0,0,0,0,0,0,0,0,0,0,0,0,0,0,0,0,0,0,0,0,0,0,0,0,0,0,0,0,0,0,0,0,0,0,0,0,0,0,0,0,0]
["Swirl%",0,0,0,0,0,0,0,0,0,0,0,0,0,0,0,0,0,0,0,0,0,0,0,0,0,0,0,0,0,0,0,0,0,0,0,0,0,0,0,0,0,0,0,0,0,0,0,0,0,0,0,0,0,0,0,0,0,0,0,0,0,0,0,0,0,0,0,0,0,0,0,0,0,0,0,0,0,0,0,0,0,0,0,0,0,0,0,0,0,0,0,0,0,0,0,0,0,0,0,0,0,0,0,0,0]
["Overload%",0,0,0,0,0,0,0,0,0,0,0,0,0,0,0,0,0,0,0,0,0,0,0,0,0,0,0,0,0,0,0,0,0,0,0,0,0,0,0,0,0,0,0,0,0,0,0,0,0,0,0,0,0,0,0,0,0,0,0,0,0,0,0,0,0,0,0,0,0,0,0,0,0,0,0,0,0,0,0,0,0,0,0,0,0,0,0,0,0,0,0,0,0,0,0,0,0,0,0,0,0,0,0,0,0]
["Crystallize%",0,0,0,0,0,0,0,0,0,0,0,0,0,0,0,0,0,0,0,0,0,0,0,0,0,0,0,0,0,0,0,0,0,0,0,0,0,0,0,0,0,0,0,0,0,0,0,0,0,0,0,0,0,0,0,0,0,0,0,0,0,0,0,0,0,0,0,0,0,0,0,0,0,0,0,0,0,0,0,0,0,0,0,0,0,0,0,0,0,0,0,0,0,0,0,0,0,0,0,0,0,0,0,0,0]
["Superconduct%",0,0,0,0,0,0,0,0,0,0,0,0,0,0,0,0,0,0,0,0,0,0,0,0,0,0,0,0,0,0,0,0,0,0,0,0,0,0,0,0,0,0,0,0,0,0,0,0,0,0,0,0,0,0,0,0,0,0,0,0,0,0,0,0,0,0,0,0,0,0,0,0,0,0,0,0,0,0,0,0,0,0,0,0,0,0,0,0,0,0,0,0,0,0,0,0,0,0,0,0,0,0,0,0,0]
["Electrocharged%",0,0,0,0,0,0,0,0,0,0,0,0,0,0,0,0,0,0,0,0,0,0,0,0,0,0,0,0,0,0,0,0,0,0,0,0,0,0,0,0,0,0,0,0,0,0,0,0,0,0,0,0,0,0,0,0,0,0,0,0,0,0,0,0,0,0,0,0,0,0,0,0,0,0,0,0,0,0,0,0,0,0,0,0,0,0,0,0,0,0,0,0,0,0,0,0,0,0,0,0,0,0,0,0,0]
["Melt%",0,0,0,0,0,0,0,0,0,0,0,0,0,0,0,0,0,0,0,0,0,0,0,0,0,0,0,0,0,0,0,0,0,0,0,0,0,0,0,0,0,0,0,0,0,0,0,0,0,0,0,0,0,0,0,0,0,0,0,0,0,0,0,0,0,0,0,0,0,0,0,0,0,0,0,0,0,0,0,0,0,0,0,0,0,0,0,0,0,0,0,0,0,0,0,0,0,0,0,0,0,0,0,0,0]
["Vaporize%",0,0,0,0,0,0,0,0,0,0,0,0,0,0,0,0,0,0,0,0,0,0,0,0,0,0,0,0,0,0,0,0,0,0,0,0,0,0,0,0,0,0,0,0,0,0,0,0,0,0,0,0,0,0,0,0,0,0,0,0,0,0,0,0,0,0,0,0,0,0,0,0,0,0,0,0,0,0,0,0,0,0,0,0,0,0,0,0,0,0,0,0,0,0,0,0,0,0,0,0,0,0,0,0,0]
["Shatter%",0,0,0,0,0,0,0,0,0,0,0,0,0,0,0,0,0,0,0,0,0,0,0,0,0,0,0,0,0,0,0,0,0,0,0,0,0,0,0,0,0,0,0,0,0,0,0,0,0,0,0,0,0,0,0,0,0,0,0,0,0,0,0,0,0,0,0,0,0,0,0,0,0,0,0,0,0,0,0,0,0,0,0,0,0,0,0,0,0,0,0,0,0,0,0,0,0,0,0,0,0,0,0,0,0]
["Anemo Res%",0,0,0,0,0,0,0,0,0,0,0,0,0,0,0,0,0,0,0,0,0,0,0,0,0,0,0,0,0,0,0,0,0,0,0,0,0,0,0,0,0,0,0,0,0,0,0,0,0,0,0,0,0,0,0,0,0,0,0,0,0,0,0,0,0,0,0,0,0,0,0,0,0,0,0,0,0,0,0,0,0,0,0,0,0,0,0,0,0,0,0,0,0,0,0,0,0,0,0,0,0,0,0,0,0]
["Geo Res%",0,0,0,0,0,0,0,0,0,0,0,0,0,0,0,0,0,0,0,0,0,0,0,0,0,0,0,0,0,0,0,0,0,0,0,0,0,0,0,0,0,0,0,0,0,0,0,0,0,0,0,0,0,0,0,0,0,0,0,0,0,0,0,0,0,0,0,0,0,0,0,0,0,0,0,0,0,0,0,0,0,0,0,0,0,0,0,0,0,0,0,0,0,0,0,0,0,0,0,0,0,0,0,0,0]
["Pyro Res%",0,0,0,0,0,0,0,0,0,0,0,0,0,0,0,0,0,0,0,0,0,0,0,0,0,0,0,0,0,0,0,0,0,0,0,0,0,0,0,0,0,0,0,0,0,0,0,0,0,0,0,0,0,0,0,0,0,0,0,0,0,0,0,0,0,0,0,0,0,0,0,0,0,0,0,0,0,0,0,0,0,0,0,0,0,0,0,0,0,0,0,0,0,0,0,0,0,0,0,0,0,0,0,0,0]
["Cryo Res%",0,0,0,0,0,0,0,0,0,0,0,0,0,0,0,0,0,0,0,0,0,0,0,0,0,0,0,0,0,0,0,0,0,0,0,0,0,0,0,0,0,0,0,0,0,0,0,0,0,0,0,0,0,0,0,0,0,0,0,0,0,0,0,0,0,0,0,0,0,0,0,0,0,0,0,0,0,0,0,0,0,0,0,0,0,0,0,0,0,0,0,0,0,0,0,0,0,0,0,0,0,0,0,0,0]
["Hydro Res%",0,0,0,0,0,0,0,0,0,0,0,0,0,0,0,0,0,0,0,0,0,0,0,0,0,0,0,0,0,0,0,0,0,0,0,0,0,0,0,0,0,0,0,0,0,0,0,0,0,0,0,0,0,0,0,0,0,0,0,0,0,0,0,0,0,0,0,0,0,0,0,0,0,0,0,0,0,0,0,0,0,0,0,0,0,0,0,0,0,0,0,0,0,0,0,0,0,0,0,0,0,0,0,0,0]
["Electro Res%",0,0,0,0,0,0,0,0,0,0,0,0,0,0,0,0,0,0,0,0,0,0,0,0,0,0,0,0,0,0,0,0,0,0,0,0,0,0,0,0,0,0,0,0,0,0,0,0,0,0,0,0,0,0,0,0,0,0,0,0,0,0,0,0,0,0,0,0,0,0,0,0,0,0,0,0,0,0,0,0,0,0,0,0,0,0,0,0,0,0,0,0,0,0,0,0,0,0,0,0,0,0,0,0,0]
["Phys Res%",0,0,0,0,0,0,0,0,0,0,0,0,0,0,0,0,0,0,0,0,0,0,0,0,0,0,0,0,0,0,0,0,0,0,0,0,0,0,0,0,0,0,0,0,0,0,0,0,0,0,0,0,0,0,0,0,0,0,0,0,0,0,0,0,0,0,0,0,0,0,0,0,0,0,0,0,0,0,0,0,0,0,0,0,0,0,0,0,0,0,0,0,0,0,0,0,0,0,0,0,0,0,0,0,0]
["Skill CR%",0,0,0,0,0,0,0,0,0,0,0,0,0,0,0,0,0,0,0,0,0,0,0,0,0,0,0,0,0,0,0,0,0,0,0,0,0,0,0,0,0,0,0,0,0,{"$f":"6%+(char3Refine-1)*2%","v":0.14000000000000001},0,0,0,0,0,0,0,0,0,0,0,0,0,0,0,0,0,0,0,0,0,0,0,0,0,0,0,0,0,0,0,0,0,0,0,0,0,0,0,0,0,0,0,0,0,0,0,0,0,0,0,0,0,0,0,0,0,0,0]
["Burst CR%",0,0,0,0,0,0,0,0,0,0,0,0,0,0,0,0,0,0,0,0,0,0,0,0,0,{"$f":"6%+(char3Refine-1)*1.5%","v":0.12},0,0,0,0,0,0,0,0,0,0,0,0,0,0,0,0,0,0,0,0,0,0,0,0,0,0,0,0,0,0,0,0,0,0,0,0,0,0,0,0,0,0,0,0,0,0,0,0,0,0,0,0,0,0,0,0,0,0,0,0,0,0,0,0,0,0,0,0,0,0,0,0,0,0,0,0,0,0,0]
["Skill CDMG%",0,0,0,0,0,0,0,0,0,0,0,0,0,0,0,0,0,0,0,0,0,0,0,0,0,0,0,0,0,0,0,0,0,0,0,0,0,0,0,0,0,0,0,0,0,0,0,0,0,0,0,0,0,0,0,0,0,0,0,0,0,0,0,0,0,0,0,0,0,0,0,0,0,0,0,0,0,0,0,0,0,0,0,0,0,0,0,0,0,0,0,0,0,0,0,0,0,0,0,0,0,0,0,0,0]
["Burst CDMG%",0,0,0,0,0,0,0,0,0,0,0,0,0,0,0,0,0,0,0,0,0,0,0,0,0,0,0,0,0,0,0,0,0,0,0,0,0,0,0,0,0,0,0,0,0,0,0,0,0,0,0,0,0,0,0,0,0,0,0,0,0,0,0,0,0,0,0,0,0,0,0,0,0,0,0,0,0,0,0,0,0,0,0,0,0,0,0,0,0,0,0,0,0,0,0,0,0,0,0,0,0,0,0,0,0]
["Flat ATK",0,0,0,0,0,0,0,0,0,0,0,0,0,0,0,0,0,0,0,0,0,0,0,{"$f":"IF(char3WeapToggle,(char3FinalHP*(0.008+(char3Refine-1)*0.002))+(char3FinalHP*(0.01+(char3Refine-1)*0.002)),(char3FinalHP*(0.008+(char3Refine-1)*0.002)))","v":1851.6498260000003},0,0,0,0,0,0,0,0,0,0,0,0,0,0,{"$f":"((1.2+(char3Refine-1)*0.3)/100)*char3FinalHP","v":1307.0469360000002},0,0,0,0,0,0,0,0,0,0,0,0,0,0,0,0,0,0,0,0,0,0,0,0,0,0,0,0,0,0,0,0,0,0,0,0,0,0,0,0,0,0,0,0,0,0,0,0,0,0,0,0,0,0,0,0,0,0,0,0,0,0,0,0,0,0]
["Flat HP",0,0,0,0,0,0,0,0,0,0,0,0,0,0,0,0,0,0,0,0,0,0,0,0,0,0,0,0,0,0,0,0,0,0,0,0,0,0,0,0,0,0,0,0,0,0,0,0,0,0,0,0,0,0,0,0,0,0,0,0,0,0,0,0,0,0,0,0,0,0,0,0,0,0,0,0,0,0,0,0,0,0,0,0,0,0,0,0,0,0,0,0,0,0,0,0,0,0,0,0,0,0,0,0,0]
["Flat DEF",0,0,0,0,0,0,0,0,0,0,0,0,0,0,0,0,0,0,0,0,0,0,0,0,0,0,0,0,0,0,0,0,0,0,0,0,0,0,0,0,0,0,0,0,0,0,0,0,0,0,0,0,0,0,0,0,0,0,0,0,0,0,0,0,0,0,0,0,0,0,0,0,0,0,0,0,0,0,0,0,0,0,0,0,0,0,0,0,0,0,0,0,0,0,0,0,0,0,0,0,0,0,0,0,0]
["Proc 1 Exists",true,false,true,false,false,false,false,false,false,false,true,false,false,true,true,false,false,false,false,true,false,false,false,false,false,false,false,true,false,false,false,false,false,false,true,false,false,false,false,false,false,false,false,true,true,false,true,false,false,false,false,false,false,false,false,false,false,true,false,false,false,false,false,false,true,false,true,true,true,false,false,false,false,false,true,false,false,false,false,false,false,false,false,false,false,true,false,false,false,false,false,true,false,false,false,false,false,false,false,false,false,false,false,false,false]
["Proc 2 Exists",false,false,true,false,false,false,false,false,false,false,true,false,false,false,false,false,false,false,false,false,false,false,false,false,false,false,false,true,false,false,false,false,false,false,false,false,false,false,false,false,false,false,false,false,false,false,false,false,false,false,false,false,false,false,false,false,false,false,false,false,false,false,false,false,false,false,false,true,false,false,false,false,false,false,false,false,false,false,false,false,false,false,false,false,false,false,false,false,false,false,false,false,false,false,false,false,false,false,false,false,false,false,false,false,false]
["Proc 3 Exists",false,false,false,false,false,false,false,false,false,false,false,false,false,false,false,false,false,false,false,false,false,false,false,false,false,false,false,false,false,false,false,false,false,false,false,false,false,false,false,false,false,false,false,false,false,false,false,false,false,false,false,false,false,false,false,false,false,false,false,false,false,false,false,false,false,false,false,false,false,false,false,false,false,false,false,false,false,false,false,false,false,false,false,false,false,false,false,false,false,false,false,false,false,false,false,false,false,false,false,false,false,false,false,false,false]
["Proc 1 Name","Vacuum Blades",null,"Redhorn Normal Proc",null,null,null,null,null,null,null,"STSS Proc, No Cryo",null,null,"Archaic Proc","Tuna",null,null,null,null,"Vacuum Blade",null,null,null,null,null,null,null,"Frost Burial, No Cryo",null,null,null,null,null,null,"Infusion Needle",null,null,null,null,null,null,null,null,"Sky-Piercing Fang","Falcon's Defiance",null,"Harmonic Proc",null,null,null,null,null,null,null,null,null,null,"Cinnabar Spindle Proc",null,null,null,null,null,null,"Wandering Clouds",null,"Byakuya Kougetsu","Frost Burial No Cryo","Bolt of Perception",null,null,null,null,null,"Prototype Amber Healing",null,null,null,null,null,null,null,null,null,null,"Echoing Ballad",null,null,null,null,null,"Cyclone"]
["Proc 1 Damage Type","None",null,"Normal",null,null,null,null,null,null,null,"None",null,null,"None","None",null,null,null,null,"None",null,null,null,null,null,null,null,"None",null,null,null,null,null,null,"None",null,null,null,null,null,null,null,null,"None","None",null,"None",null,null,null,null,null,null,null,null,null,null,"Skill",null,null,null,null,null,null,"None",null,"Normal","None","None",null,null,null,null,null,"Healing",null,null,null,null,null,null,null,null,null,null,"None",null,null,null,null,null,"None"]
["Proc 1 Scaling Stat","ATK",null,"DEF",null,null,null,null,null,null,null,"ATK",null,null,"ATK","ATK",null,null,null,null,"ATK",null,null,null,null,null,null,null,"ATK",null,null,null,null,null,null,"ATK",null,null,null,null,null,null,null,null,"ATK","ATK",null,"ATK",null,null,null,null,null,null,null,null,null,null,"DEF",null,null,null,null,null,null,"ATK",null,"HP","ATK","ATK",null,null,null,null,null,"HP",null,null,null,null,null,null,null,null,null,null,"ATK",null,null,null,null,null,"ATK"]
["Proc 1 Talent%",{"$f":"80%+(char3Refine-1)*20%","v":1.6},null,{"$f":"40%+(char3Refine-1)*10%","v":0.8},null,null,null,null,null,null,null,{"$f":"80%+(char3Refine-1)*15%","v":1.4},null,null,{"$f":"240%+(char3Refine-1)*60%","v":4.8},{"$f":"100%+(char3Refine-1)*25%","v":2},null,null,null,null,{"$f":"40%+(char3Refine-1)*15%","v":1},null,null,null,null,null,null,null,{"$f":"60%+(char3Refine-1)*15%","v":1.2},null,null,null,null,null,null,{"$f":"20%+(char3Refine-1)*5%","v":0.4},null,null,null,null,null,null,null,null,{"$f":"20%+(char3Refine-1)*5%","v":0.4},{"$f":"200%+(char3Refine-1)*30%","v":3.2},null,{"$f":"100%+(char3Refine-1)*25%","v":2},null,null,null,null,null,null,null,null,null,null,{"$f":"40%+(char3Refine-1)*10%","v":0.8},null,null,null,null,null,null,{"$f":"160%+(char3Refine-1)*40%","v":3.2},null,{"$f":"1%+(char3Refine-1)*0.5%","v":0.03},{"$f":"60%+(char3Refine-1)*15%","v":1.2},{"$f":"240%+(char3Refine-1)*30%","v":3.5999999999999996},null,null,null,null,null,{"$f":"4%+0.5%*(char3Refine-1)","v":0.06},null,null,null,null,null,null,null,null,null,null,1.25,null,null,null,null,null,{"$f":"40%+(char3Refine-1)*10%","v":0.8}]
["Proc 1 Element","Phys",null,{"$f":"char3NAElement","v":"Phys"},null,null,null,null,null,null,null,"Phys",null,null,"Phys","Phys",null,null,null,null,"Phys",null,null,null,null,null,null,null,"Phys",null,null,null,null,null,null,"Phys",null,null,null,null,null,null,null,null,"Phys","Phys",null,"Phys",null,null,null,null,null,null,null,null,null,null,{"$f":"char3SkillElement","v":"Geo"},null,null,null,null,null,null,"Phys",null,{"$f":"char3NAElement","v":"Phys"},"Phys","Phys",null,null,null,null,null,"None",null,null,null,null,null,null,null,null,null,null,"Phys",null,null,null,null,null,"Phys"]
["Proc 2 Name",null,null,"Redhorn Charged Proc",null,null,null,null,null,null,null,"STSS Proc, With Cryo",null,null,null,null,null,null,null,null,null,null,null,null,null,null,null,null,"Frost Burial, With Cryo",null,null,null,null,null,null,null,null,null,null,null,null,null,null,null,null,null,null,null,null,null,null,null,null,null,null,null,null,null,null,null,null,null,null,null,null,null,null,null,"Frost Burial, With Cryo"]
["Proc 2 Damage Type",null,null,"Charged",null,null,null,null,null,null,null,"None",null,null,null,null,null,null,null,null,null,null,null,null,null,null,null,null,"None",null,null,null,null,null,null,null,null,null,null,null,null,null,null,null,null,null,null,null,null,null,null,null,null,null,null,null,null,null,null,null,null,null,null,null,null,null,null,null,"None"]
["Proc 2 Scaling Stat",null,null,"DEF",null,null,null,null,null,null,null,"ATK",null,null,null,null,null,null,null,null,null,null,null,null,null,null,null,null,"ATK",null,null,null,null,null,null,null,null,null,null,null,null,null,null,null,null,null,null,null,null,null,null,null,null,null,null,null,null,null,null,null,null,null,null,null,null,null,null,null,"ATK"]
["Proc 2 Talent%",null,null,{"$f":"0.4+(char3Refine-1)*0.1","v":0.8},null,null,null,null,null,null,null,{"$f":"200%+(char3Refine-1)*40%","v":3.6},null,null,null,null,null,null,null,null,null,null,null,null,null,null,null,null,{"$f":"200%+(char3Refine-1)*40%","v":3.6},null,null,null,null,null,null,null,null,null,null,null,null,null,null,null,null,null,null,null,null,null,null,null,null,null,null,null,null,null,null,null,null,null,null,null,null,null,null,null,{"$f":"200%+(char3Refine-1)*40%","v":3.6}]
["Proc 2 Element",null,null,{"$f":"char3CAElement","v":"Phys"},null,null,null,null,null,null,null,"Phys",null,null,null,null,null,null,null,null,null,null,null,null,null,null,null,null,"Phys",null,null,null,null,null,null,null,null,null,null,null,null,null,null,null,null,null,null,null,null,null,null,null,null,null,null,null,null,null,null,null,null,null,null,null,null,null,null,null,"Phys"]
["Proc 3 Name"]
["Proc 3 Damage Type"]
["Proc 3 Scaling Stat"]
["Proc 3 Talent%"]
["Proc 3 Element"]
[]
["Character 4","Skyward Pride","The Unforged","Redhorn Stonethresher","Wolf's Gravestone","Song of Broken Pines","Serpent Spine","The Bell","Royal Greatsword","Whiteblind","Favonius Greatsword","Snow-Tombed Starsilver","Rainslasher","Lithic Blade","Prototype Archaic","Luxurious Sea-Lord","Katsuragikiri Nagamasa","Sacrificial Greatsword","Akuoumaru","Blackcliff Slasher","Skyward Spine","Engulfing Lightning","Primordial Jade-Winged Spear","Vortex Vanquisher","Staff of Homa","Calamity Queller","The Catch","Kitain Cross-Spear","Dragonspine Spear","Favonius Lance","Prototype Starglitter","Lithic Spear","Dragon's Bane","Wavebreaker's Fin","Deathmatch","Crescent Pike","Blackcliff Pole","White Tassel","Black Tassel","Jade Cutter","Freedom Sworn","Mistsplitter Reforged","Haran Tsukishiro Futsu","Summit Shaper","Skyward Blade","Aquila Favonia","Festering Desire","The Flute","The Black Sword","The Alley Flash","Sacrificial Sword","Royal Longsword","Prototype Rancour","Lion's Roar","Iron Sting","Favonius Sword","Blackcliff Longsword","Amenoma Kageuchi","Cinnabar Spindle","Skyrider Sword","Dark Iron Sword","Cool Steel","Harbinger of Dawn","Memory of Dust","Kagura's Verity","Skyward Atlas","Lost Prayers","Everlasting Moonglow","Frostbearer","Eye of Perception","Wine and Song","The Widsith","Solar Pearl","Sacrificial Fragments","Royal Grimore","Prototype Amber","Mappa Mare","Favonius Codex","Dodoco Tales","Oathsworn Eye","Magic Guide","Blackcliff Agate","Hakushin Ring","Thrilling Tales of Dragon Slayers","Elegy for the End","Polar Star","Skyward Harp","Aqua Simulacra","Amos Bow","Fading Twilight","Rust","Mouun's Moon","Viridescent Hunt","Compound Bow","Blackcliff Warbow","Prototype Crescent","Favonius Warbow","Windblume Ode","Alley Hunter","Sacrificial Bow","Hamayumi","The Stringless","Royal Bow","Mitternacht's Waltz","Slingshot","Thundering Pulse"]
["Base ATK",674,608,542,608,741,510,510,565,510,454,565,510,510,565,454,510,565,510,510,674,608,674,608,608,741,510,565,454,565,510,565,454,620,454,565,510,401,354,542,608,674,608,608,608,674,510,510,510,620,454,510,565,510,510,454,565,454,454,354,401,401,401,608,608,674,608,608,510,454,565,510,510,454,565,510,565,510,454,565,354,510,565,401,608,608,674,542,608,565,510,565,510,454,565,510,454,510,565,565,454,510,510,510,354,608]
["ATK%",0,{"$f":"49.6%+IF(char4WeapToggle, 2*char4WeapStacks*(4+(char4Refine-1))%, char4WeapStacks*(4+(char4Refine-1))%)","v":0.496},0,{"$f":"49.6%+(20+(char4Refine-1)*5)%+IF(char4WeapToggle,(40+(char4Refine-1)*10),0)%","v":0.69599999999999995},{"$f":"IF(char4WeapToggle, (20+(char4Refine-1)*5)%, 0%) + (16+(char4Refine-1)*4)%","v":0.16},0,0,0.27600000000000002,{"$f":"char4WeapStacks*(6+1.5*(char4Refine-1))%","v":0},0,0,0,{"$f":"41.3%+char4WeapStacks*(7+(char4Refine-1))%","v":0.41299999999999998},0.27600000000000002,0.55100000000000005,0,0,0.41299999999999998,{"$f":"char4WeapStacks*(12+(char4Refine-1)*3)%","v":0},0,{"$f":"MIN((28%+(char4Refine-1)*7%)*(char4FinalER-100%),(80+(char4Refine-1)*10)%)","v":0.34322400000000003},{"$f":"char4WeapStacks*(3.2+(char4Refine-1)*0.7)%","v":0},{"$f":"(49.6+(char4WeapStacks*IF(char4WeapToggle,2,1)*(4+(char4Refine-1)*1)))%","v":0.496},0,{"$f":"IF(char4WeapToggle = FALSE, (3.2%+0.8%*(char4Refine-1))*char4WeapStacks, (3.2%+0.8%*(char4Refine-1))*char4WeapStacks*2)","v":0},0,0,0,0,0,{"$f":"(27.6+(7+(char4Refine-1)*1)*char4WeapStacks)%","v":0.27600000000000002},0,0.13800000000000001,{"$f":"IF(char4WeapToggle,(24+(char4Refine-1)*6),(16+(char4Refine-1)*4))%","v":0.16},0,{"$f":"(12+(char4Refine-1)*3)*char4WeapStacks%","v":0},0,0,0,{"$f":"IF(char4WeapToggle, (20+(char4Refine-1)*5), 0)%","v":0},0,0,{"$f":"(49.6+IF(char4WeapToggle,(4+(char4Refine-1))*char4WeapStacks*2,(4+(char4Refine-1))*char4WeapStacks))%","v":0.496},0,{"$f":"(20+(char4Refine-1)*5)%","v":0.2},0,0.41299999999999998,0,0,0,0.41299999999999998,{"$f":"char4WeapStacks*(4+(char4Refine-1))%","v":0},0.41299999999999998,0,0,{"$f":"(char4WeapStacks*(12+(char4Refine-1)*3))%","v":0},0.55100000000000005,0,{"$f":"IF(char4WeapToggle,12+(char4Refine-1)*3,0)%","v":0},{"$f":"IF(char4WeapToggle, 20+(char4Refine-1)*5)%","v":0},0.35199999999999998,0,{"$f":"(49.6+IF(char4WeapToggle,(4+(char4Refine-1))*char4WeapStacks*2,(4+(char4Refine-1))*char4WeapStacks))%","v":0.496},0,0.33100000000000002,0,0,0.41299999999999998,0.55100000000000005,{"$f":"IF(char4WeapToggle, 20+(char4Refine-1)*5,0)%","v":0},{"$f":"IF(char4WeapToggle, 20+(char4Refine-1)*5,0)%","v":0},0,0,0.27600000000000002,0,0,0,{"$f":"(55.1+IF(char4WeapToggle,8+(char4Refine-1)*2))%","v":0.55100000000000005},0.27600000000000002,0,{"$f":"char4WeapStacks*(12+(char4Refine-1)*3)%","v":0},0,0,{"$f":"IF(char4WeapToggle, 20+(char4Refine-1)*5, 0)%","v":0},{"$f":"IF(char4WeapStacks=0, 0, IF(char4WeapStacks=1, 10+(char4Refine-1)*2.5, IF(char4WeapStacks=2, 20+(char4Refine-1)*5, IF(char4WeapStacks=3, 30+(char4Refine-1)*7.5, IF(char4WeapStacks=4, 48+(char4Refine-1)*12,0)))))%","v":0},0,0,0.496,0,0.41299999999999998,0.27600000000000002,0,{"$f":"char4WeapStacks*(4+(char4Refine-1))%","v":0},{"$f":"char4WeapStacks*(12+(char4Refine-1)*3)%","v":0},{"$f":"41.3%+IF(char4WeapToggle, 36+(char4Refine-1)*9)%","v":0.41299999999999998},0,{"$f":"IF(char4WeapToggle, 16+(char4Refine-1)*4,0)%","v":0},0.27600000000000002,0,0.55100000000000005,0,0.41299999999999998,0,0,{"$f":"(20+(char4Refine-1)*5)%","v":0.2}]
["DEF%",0,0,{"$f":"(28+(char4Refine-1)*7)%","v":0.28000000000000003},0,0,0,0,0,{"$f":"51.7%+char4WeapStacks*(6+1.5*(char4Refine-1))%","v":0.51700000000000002},0,0,0,0,0,0,0,0,0,0,0,0,0,0,0,0,0,0,0,0,0,0,0,0,{"$f":"(16+(char4Refine-1)*4)%","v":0.16},0,0,0,0,0,0,0,0,0,0,0,0,0,0,0,0,0,{"$f":"char4WeapStacks*(4+(char4Refine-1))%","v":0},0,0,0,0,0,0.69,0,0,0,0,0,0,0,0,0,0,0,0,0,0,0,0,0,0,0,0,0,0,0,0,0,0,0,0,0,0,0,0,0,0,0,0,0,0,0,0,0,0,0,0,0,0,0]
["HP%",0,0,0,0,0,0,0.41299999999999998,0,0,0,0,0,0,0,0,0,0,0,0,0,0,0,0,{"$f":"(20+(char4Refine-1)*5)%","v":0.2},0,0,0,0,0,0,0,0,0,0,0,0,0,0.46899999999999997,{"$f":"0.2+(char4Refine-1)*0.05","v":0.2},0,0,0,0,0,0,0,0,0,0,0,0,0,0,0,0,0,0,0,0,0,0,0,0,0,0,0,0.496,0,0,0,0,0,0,0,0.41299999999999998,0,0,0,0,0,0,0,0.35199999999999998,0,0,0,{"$f":"16%+(4%*(char4Refine-1))","v":0.16},0,0,0,0,0,0,0,0,0,0,0,0,0,0,0,0,0,0]
["CR%",0,0,0,0,0,0.27600000000000002,0,{"$f":"(char4WeapStacks*(8%+(char4Refine-1)*2%))","v":0},0,0,0,0,{"$f":"char4WeapStacks*(3+(char4Refine-1))%","v":0},0,0,0,0,0,0,{"$f":"(8+(char4Refine-1)*2)%","v":0.08},0,0.221,0,0,0,0,0,0,0,0,{"$f":"(3+(char4Refine-1)*1)*char4WeapStacks%","v":0},0,0,0.36799999999999999,0,0,0.23400000000000001,0,0.441,0,0,0.33100000000000002,0,{"$f":"(4+(char4Refine-1))%","v":0.04},0,0,0,0.27600000000000002,0,0,{"$f":"(char4WeapStacks*(8+(char4Refine-1)*2))%","v":0},0,0,0,0,0,0,0,0,0,0,{"$f":"IF(char4WeapToggle,14+(char4Refine-1)*3.5,0)%","v":0},0,0,0,0.33100000000000002,0,0,0,0,0,0.27600000000000002,0,{"$f":"char4WeapStacks*(8+(char4Refine-1)*2)%","v":0},0,0,0,0,0,0,0,0,0,0,0.33100000000000002,0.221,0,0,0,0,0,0.27600000000000002,0,0,0,0,0,0,0,0,0,{"$f":"char4WeapStacks*(8+(char4Refine-1)*2)%","v":0},0,0.312,0]
["CDMG%",0,0,0.88200000000000001,0,0,0,0,0,0,0,0,0,0,0,0,0,0,0,0.55100000000000005,0,0,0,0,0.66200000000000003,0,0,0,0,0,0,0,0,0,0,0,0.55100000000000005,0,0,0,0,0.441,0,0,0,0,0,0,0,0,0,0,0,0,0,0,0.36799999999999999,0,0,0,0,0,0.46899999999999997,0,0.66200000000000003,0,0,0,0,0,0,0.55100000000000005,0,0,0,0,0,0,0,0,0,0.55100000000000005,0,0,0,0,{"$f":"(20+(char4Refine-1)*5)%","v":0.2},0.88200000000000001,0,0,0,0,0,0,0.36799999999999999,0,0,0,0,0,0,0,0,0,0,0.66200000000000003]
["ER%",0.36799999999999999,0,0,0,0,0,0,0,0,0.61299999999999999,0,0,0,0,0,0.45900000000000002,0.30599999999999999,0,0,0.36799999999999999,{"$f":"55.1%+IF(char4WeapToggle, 30+(char4Refine-1)*5,0)%","v":0.55100000000000005},0,0,0,0,0.45900000000000002,0,0,0.30599999999999999,0.45900000000000002,0,0,0,0,0,0,0,0,0,0,0,0,0,0.55100000000000005,0,0.45900000000000002,0,0,0,0.61299999999999999,0,0,0,0,0.61299999999999999,0,0,0,0.51700000000000002,0,0,0,0,0,0,0,0,0,0,0.30599999999999999,0,0,0,0,0,0,0.45900000000000002,0,{"$f":"IF(char4WeapToggle, 24%+(6%*(char4Refine-1)),  0)","v":0},0,0,0.30599999999999999,0,0.55100000000000005,0,0,0,0,0.30599999999999999,0,0,0,0,0,0,0.61299999999999999,0,0,0.30599999999999999,0,0,0,0,0,0]
["Phys DMG%",0,0,0,0,0.20699999999999999,0,0,0,0,0,0.34499999999999997,0,0,0,0,0,0,0,0,0,0,0,0,0,0,0,0,0.69,0,0,0,0,0,0,0.34499999999999997,0,0,0,0,0,0,0,0,0,0.41299999999999998,0,0,0,0,0,0,0.34499999999999997,0,0,0,0,0,0,0,0,0,0,0,0,0,0,0,0,0,0,0,0,0,0,0,0,0,0,0,0,0,0,0,0,0,0,0,0,0,0,0,0,0.69,0,0,0,0,0,0,0,0,0,0.51700000000000002,0,0]
["Anemo DMG%",0,0,0,0,0,0,0,0,0,0,0,0,0,0,0,0,0,0,0,0,0,0,0,0,{"$f":"12%+3%*(char4Refine-1)","v":0.12},0,0,0,0,0,0,0,0,0,0,0,0,0,0,0,{"$f":"(IF(Lookups!$K$4 = weapons!A208,IF(char4WeapStacks=1, (8+(char4Refine-1)*2)%, IF(char4WeapStacks=2, (16+(char4Refine-1)*4)%, IF(char4WeapStacks=3, (28+(char4Refine-1)*7)%, 0)))))+(12+(char4Refine-1)*3)%","v":0.12},{"$f":"(12%+3%*(char4Refine-1))","v":0.12},0,0,0,0,0,0,0,0,0,0,0,0,0,0,0,0,0,0,0,0,0,{"$f":"IF(char4WeapStacks=3, 12%+(char4Refine-1)*3%, 0%)","v":0},{"$f":"(12+(char4Refine-1)*3)%","v":0.12},{"$f":"(char4WeapStacks*(8+(char4Refine-1)*2))%","v":0},0,0,0,0,{"$f":"IF(char4WeapToggle, 16+(char4Refine-1)*4,0)%","v":0},0,0,0,0,{"$f":"char4WeapStacks*(8+(char4Refine-1)*2)%","v":0},0,0,0,0,0,0,0,0,0,0,0,0,0,0,0,0,0,0,0,0,0,0,0,0,0,0,0,0,0]
["Geo DMG%",0,0,0,0,0,0,0,0,0,0,0,0,0,0,0,0,0,0,0,0,0,0,0,0,0.12,0,0,0,0,0,0,0,0,0,0,0,0,0,0,0,{"$f":"(IF(Lookups!$K$4 = weapons!A209,IF(char4WeapStacks=1, (8+(char4Refine-1)*2)%, IF(char4WeapStacks=2, (16+(char4Refine-1)*4)%, IF(char4WeapStacks=3, (28+(char4Refine-1)*7)%, 0)))))+(12+(char4Refine-1)*3)%","v":0.12},0.12,0,0,0,0,0,0,0,0,0,0,0,0,0,0,0,0,0,0,0,0,0,0,0.12,0,0,0,0,0,0,0,0,0,0,0,0,0,0,0,0,0,0,0,0,0,0,0,0,0,0,0,0,0,0,0,0,0,0,0,0,0,0,0,0]
["Pyro DMG%",0,0,0,0,0,0,0,0,0,0,0,0,0,0,0,0,0,0,0,0,0,0,0,0,0.12,0,0,0,0,0,0,0,0,0,0,0,0,0,0,0,{"$f":"(IF(Lookups!$K$4 = weapons!A210,IF(char4WeapStacks=1, (8+(char4Refine-1)*2)%, IF(char4WeapStacks=2, (16+(char4Refine-1)*4)%, IF(char4WeapStacks=3, (28+(char4Refine-1)*7)%, 0)))))+(12+(char4Refine-1)*3)%","v":0.12},0.12,0,0,0,0,0,0,0,0,0,0,0,0,0,0,0,0,0,0,0,0,0,0,0.12,0,0,0,0,0,0,0,0,0,0,0,0,0,0,0,0,0,0,0,0,0,0,0,0,0,0,0,0,0,0,0,0,0,0,0,0,0,0,0,0]
["Cryo DMG%",0,0,0,0,0,0,0,0,0,0,0,0,0,0,0,0,0,0,0,0,0,0,0,0,0.12,0,0,0,0,0,0,0,0,0,0,0,0,0,0,0,{"$f":"(IF(Lookups!$K$4 = weapons!A211,IF(char4WeapStacks=1, (8+(char4Refine-1)*2)%, IF(char4WeapStacks=2, (16+(char4Refine-1)*4)%, IF(char4WeapStacks=3, (28+(char4Refine-1)*7)%, 0)))))+(12+(char4Refine-1)*3)%","v":0.12},0.12,0,0,0,0,0,0,0,0,0,0,0,0,0,0,0,0,0,0,0,0,0,0,0.12,0,0,0,0,0,0,0,0,0,0,0,0,0,0,0,0,0,0,0,0,0,0,0,0,0,0,0,0,0,0,0,0,0,0,0,0,0,0,0,0]
["Hydro DMG%",0,0,0,0,0,0,0,0,0,0,0,0,0,0,0,0,0,0,0,0,0,0,0,0,0.12,0,0,0,0,0,0,0,0,0,0,0,0,0,0,0,{"$f":"(IF(Lookups!$K$4 = weapons!A212,IF(char4WeapStacks=1, (8+(char4Refine-1)*2)%, IF(char4WeapStacks=2, (16+(char4Refine-1)*4)%, IF(char4WeapStacks=3, (28+(char4Refine-1)*7)%, 0)))))+(12+(char4Refine-1)*3)%","v":0.12},0.12,0,0,0,0,0,0,0,0,0,0,0,0,0,0,0,0,0,0,0,0,0,0,0.12,0,0,0,0,0,0,0,0,0,0,0,0,0,0,0,0,0,0,0,0,0,0,0,0,0,0,0,0,0,0,0,0,0,0,0,0,0,0,0,0]
["Electro DMG%",0,0,0,0,0,0,0,0,0,0,0,0,0,0,0,0,0,0,0,0,0,0,0,0,0.12,0,0,0,0,0,0,0,0,0,0,0,0,0,0,0,{"$f":"(IF(Lookups!$K$4 = weapons!A213,IF(char4WeapStacks=1, (8+(char4Refine-1)*2)%, IF(char4WeapStacks=2, (16+(char4Refine-1)*4)%, IF(char4WeapStacks=3, (28+(char4Refine-1)*7)%, 0)))))+(12+(char4Refine-1)*3)%","v":0.12},0.12,0,0,0,0,0,0,0,0,0,0,0,0,0,0,0,0,0,0,0,0,0,0,0.12,0,0,0,0,0,0,0,0,0,0,0,0,0,0,0,0,0,0,0,0,0,0,0,0,0,0,0,0,0,0,0,0,0,0,0,0,0,0,0,0]
["EM",0,0,0,0,0,0,0,0,0,0,0,165,0,0,0,0,0,0,0,0,0,0,0,0,0,0,110,0,0,0,0,221,0,0,0,0,0,0,0,198,0,0,0,0,0,0,0,0,55,0,0,0,0,165,0,0,0,0,0,141,0,0,0,0,0,0,0,0,0,0,{"$f":"IF(char4WeapToggle,80+(char4Refine-1)*20,0)","v":0},0,221,0,0,110,0,0,0,187,0,0,0,{"$f":"60+(char4Refine-1)*15+IF(char4WeapToggle, 100+(char4Refine-1)*25,0)","v":60},0,0,0,0,0,0,0,0,0,0,0,0,165,0,0,0,165,0,0,0,0]
["Healing Received%",0,0,0,0,0,0,0,0,0,0,0,0,0,0,0,0,0,0,0,0,0,0,0,0,0,0,0,0,0,0,0,0,0,0,0,0,0,0,0,0,0,0,0,0,0,0,0,0,0,0,0,0,0,0,0,0,0,0,0,0,0,0,0,0,0,0,0,0,0,0,0,0,0,0,0,0,0,0,0,0,0,0,0,0,0,0,0,0,0,0,0,0,0,0,0,0,0,0,0,0,0,0,0,0,0]
["Healing Bonus%",0,0,0,0,0,0,0,0,0,0,0,0,0,0,0,0,0,0,0,0,0,0,0,0,0,0,0,0,0,0,0,0,0,0,0,0,0,0,0,0,0,0,0,0,0,0,0,0,0,0,0,0,0,0,0,0,0,0,0,0,0,0,0,0,0,0,{"$f":"(10+(char4Refine-1)*2.5)%","v":0.1},0,0,0,0,0,0,0,0,0,0,0,0,0,0,0,0,0,0,0,0,0,0,0,0,0,0,0,0,0,0,0,0,0,0,0,0,0,0]
["Normal DMG%",0,0,0,0,0,0,0,0,0,0,0,0,0,0,0,0,0,0,0,0,0,0,0,0,0,0,0,0,0,{"$f":"((8+(char4Refine-1)*4)*char4WeapStacks)%","v":0},0,0,0,0,0,0,{"$f":"(24+(char4Refine-1)*6)%","v":0.24},0,0,{"$f":"IF(char4WeapToggle, (16+(char4Refine-1)*4), 0)%","v":0},0,{"$f":"(20%+5%*(char4Refine-1))*MIN(2, char4WeapStacks)","v":0},0,0,0,0,0,{"$f":"(20+(char4Refine-1)*5)%","v":0.2},0,0,0,0,0,0,0,0,0,0,0,0,0,0,0,0,0,0,0,0,0,0,0,{"$f":"IF(char4WeapToggle,20+(char4Refine-1)*5,0)%","v":0},0,0,0,0,0,0,0,0,0,0,0,0,0,0,0,{"$f":"(12+(char4Refine-1)*3)%+char4WeapStacks*(8+(char4Refine-1)*2)%","v":0.12},0,{"$f":"(40+(char4Refine-1)*10)%","v":0.4},0,0,0,0,0,0,0,0,0,{"$f":"IF(char4WeapToggle, 2*(16+(char4Refine-1)*4), 16+(char4Refine-1)*4)%","v":0.16},0,0,{"$f":"IF(char4WeapToggle, 20+(char4Refine-1)*5, 0)%","v":0},{"$f":"IF(char4WeapToggle, (36+(char4Refine-1)*6)%, -10%)","v":-0.1},{"$f":"IF(char4WeapStacks=1, (12+(char4Refine-1)*3)%, IF(char4WeapStacks=2, (24+(char4Refine-1)*6)%, IF(char4WeapStacks=3, (40+(char4Refine-1)*10)%, 0)))","v":0}]
["Charged DMG%",0,0,0,0,0,0,0,0,0,0,0,0,0,0,0,0,0,0,0,0,0,0,0,0,0,0,0,0,0,{"$f":"((8+(char4Refine-1)*4)*char4WeapStacks)%","v":0},0,0,0,0,0,0,0,0,0,{"$f":"IF(char4WeapToggle, (16+(char4Refine-1)*4), 0)%","v":0},0,0,0,0,0,0,0,{"$f":"(20+(char4Refine-1)*5)%","v":0.2},0,0,0,0,0,0,0,0,0,0,0,0,0,0,0,0,0,0,0,0,0,0,0,0,0,0,0,0,0,{"$f":"IF(char4WeapToggle,16+(char4Refine-1)*4,0)%","v":0},0,0,0,0,0,0,0,0,0,{"$f":"(12+(char4Refine-1)*3)%+char4WeapStacks*(8+(char4Refine-1)*2)%","v":0.12},0,{"$f":"-10%","v":-0.1},0,0,0,0,0,0,0,0,0,{"$f":"IF(char4WeapToggle, 2*(12+(char4Refine-1)*3), (12+(char4Refine-1)*3))%","v":0.12},0,0,0,{"$f":"IF(char4WeapToggle, (36+(char4Refine-1)*6)%, -10%)","v":-0.1},0]
["Plunging DMG%",0,0,0,0,0,0,0,0,0,0,0,0,0,0,0,0,0,0,0,0,0,0,0,0,0,0,0,0,0,0,0,0,0,0,0,0,0,0,0,{"$f":"IF(char4WeapToggle, (16+(char4Refine-1)*4), 0)%","v":0},0,0,0,0,0,0,0,0,0,0,0,0,0,0,0,0,0,0,0,0,0,0,0,0,0,0,0,0,0,0,0,0,0,0,0,0,0,0,0,0,0,0,0,0,0,0,0,0,0,0,0,0,0,0,0,0,0,0,0,0,0,0,0,0,0]
["Skill DMG%",0,0,0,0,0,0,0,0,0,0,0,0,0,0,0,0,0,0,0,0,0,0,0,0,0,0,{"$f":"(6+(char4Refine-1)*1.5)%","v":0.06},0,0,0,0,0,0,0,0,0,0,0,0,0,0,0,0,0,0,{"$f":"(16+(char4Refine-1)*4)%","v":0.16},0,0,0,0,0,0,0,0,0,0,0,0,0,0,0,0,0,{"$f":"(12%+(char4Refine-1)*3%)*(char4WeapStacks)","v":0},0,0,0,0,0,0,0,{"$f":"IF(char4WeapToggle, 20+(char4Refine-1)*5,0)%","v":0},0,0,0,0,0,0,0,0,0,0,0,0,{"$f":"12%+(char4Refine-1)*3%","v":0.12},0,0,0,0,0,0,0,0,0,0,0,0,0,0,0,{"$f":"(24+(char4Refine-1)*6)%","v":0.24},0,{"$f":"IF(char4WeapToggle, 20+(char4Refine-1)*5, 0)%","v":0},0,0]
["Burst DMG%",0,0,0,0,0,0,0,0,0,0,0,0,0,0,{"$f":"(12+(char4Refine-1)*3)%","v":0.12},0,0,{"$f":"MIN((40+(char4Refine-1)*10)%, char4WeapStacks*(0.12%+(char4Refine-1)*0.03%))","v":0},0,0,0,0,0,0,0,{"$f":"(16+(char4Refine-1)*4)%","v":0.16},0,0,0,0,0,0,{"$f":"MIN((40+(char4Refine-1)*10)%, (0.12+(char4Refine-1)*0.03)*char4WeapStacks%)","v":0},0,0,0,0,0,0,0,0,0,0,0,0,0,0,0,0,0,0,0,0,0,0,0,0,0,0,0,0,0,0,0,0,0,0,0,0,0,0,{"$f":"IF(char4WeapToggle, 20+(char4Refine-1)*5,0)%","v":0},0,0,0,0,0,0,0,0,0,0,0,0,{"$f":"12%+(char4Refine-1)*3%","v":0.12},0,0,0,0,0,{"$f":"MIN((char4WeapStacks*(0.12%+0.03%*(char4Refine-1))), 40%+(10%*(char4Refine-1)))","v":0},0,0,0,0,0,0,0,0,0,{"$f":"(24+(char4Refine-1)*6)%","v":0.24},0,0,0,0]
["DMG%",{"$f":"(8+(char4Refine-1)*2)%","v":0.08},0,0,0,0,{"$f":"char4WeapStacks*(6+(char4Refine-1))%","v":0},{"$f":"IF(char4WeapToggle, 12+(char4Refine-1)*3)%","v":0},0,0,0,0,{"$f":"IF(char4WeapToggle, 20+(char4Refine-1)*4, 0)%","v":0},0,0,0,0,0,0,0,0,0,{"$f":"IF(char4WeapStacks>=7,(12+(char4Refine-1)*3),0)%","v":0},0,0,0,0,0,0,0,0,0,{"$f":"IF(char4WeapToggle,(20+(char4Refine-1)*4),0)%","v":0},0,0,0,0,0,{"$f":"IF(char4WeapToggle,(40+(char4Refine-1)*10),0)%","v":0},0,{"$f":"(10+(char4Refine-1)*2.5)%","v":0.1},0,0,0,0,0,0,0,0,{"$f":"IF(char4WeapToggle,(12+(char4Refine-1)*3),0)%","v":0},0,0,0,{"$f":"IF(char4WeapToggle,(20+(char4Refine-1)*4),0)%","v":0},{"$f":"(char4WeapStacks*(6+(char4Refine-1)*1.5))%","v":0},0,0,0,0,0,0,{"$f":"IF(char4WeapToggle, 12%+(char4Refine-1)*3%, 0%)","v":0},0,0,0,0,0,0,0,0,0,0,0,0,0,0,0,0,0,0,{"$f":"IF(char4WeapToggle, 12+(char4Refine-1)*3, 0)%","v":0},0,{"$f":"IF(char4WeapToggle, 10+(char4Refine-1)*2.5,0)%","v":0},0,0,0,0,{"$f":"IF(char4WeapToggle, 20%+(char4Refine-1)*5%, 0%)","v":0},0,{"$f":"IF(char4WeapStacks=1,6%+(char4Refine-1)*1.5%,IF(char4WeapStacks=2,10%+(char4Refine-1)*2.5%,IF(char4WeapStacks>=3,14%+(char4Refine-1)*3.5%,0)))","v":0},0,0,0,0,0,0,0,0,{"$f":"IF(char4WeapToggle, 20%+(char4Refine-1)*4%, 0%)","v":0},0,0,0,0,0,0,0]
["Shield Strength%",0,{"$f":"(20+(char4Refine-1)*5)%","v":0.2},0,0,0,0,0,0,0,0,0,0,0,0,0,0,0,0,0,0,0,0,{"$f":"(20+5*(char4Refine-1))%","v":0.2},0,0,0,0,0,0,0,0,0,0,0,0,0,0,0,0,0,0,0,{"$f":"(20+5*(char4Refine-1))%","v":0.2},0,0,0,0,0,0,0,0,0,0,0,0,0,0,0,0,0,0,0,{"$f":"(20+5*(char4Refine-1))%","v":0.2},0,0,0,0,0,0,0,0,0,0,0,0,0,0,0,0,0,0,0,0,0,0,0,0,0,0,0,0,0,0,0,0,0,0,0,0,0,0,0,0,0,0]
["Swirl%",0,0,0,0,0,0,0,0,0,0,0,0,0,0,0,0,0,0,0,0,0,0,0,0,0,0,0,0,0,0,0,0,0,0,0,0,0,0,0,0,0,0,0,0,0,0,0,0,0,0,0,0,0,0,0,0,0,0,0,0,0,0,0,0,0,0,0,0,0,0,0,0,0,0,0,0,0,0,0,0,0,0,0,0,0,0,0,0,0,0,0,0,0,0,0,0,0,0,0,0,0,0,0,0,0]
["Overload%",0,0,0,0,0,0,0,0,0,0,0,0,0,0,0,0,0,0,0,0,0,0,0,0,0,0,0,0,0,0,0,0,0,0,0,0,0,0,0,0,0,0,0,0,0,0,0,0,0,0,0,0,0,0,0,0,0,0,0,0,0,0,0,0,0,0,0,0,0,0,0,0,0,0,0,0,0,0,0,0,0,0,0,0,0,0,0,0,0,0,0,0,0,0,0,0,0,0,0,0,0,0,0,0,0]
["Crystallize%",0,0,0,0,0,0,0,0,0,0,0,0,0,0,0,0,0,0,0,0,0,0,0,0,0,0,0,0,0,0,0,0,0,0,0,0,0,0,0,0,0,0,0,0,0,0,0,0,0,0,0,0,0,0,0,0,0,0,0,0,0,0,0,0,0,0,0,0,0,0,0,0,0,0,0,0,0,0,0,0,0,0,0,0,0,0,0,0,0,0,0,0,0,0,0,0,0,0,0,0,0,0,0,0,0]
["Superconduct%",0,0,0,0,0,0,0,0,0,0,0,0,0,0,0,0,0,0,0,0,0,0,0,0,0,0,0,0,0,0,0,0,0,0,0,0,0,0,0,0,0,0,0,0,0,0,0,0,0,0,0,0,0,0,0,0,0,0,0,0,0,0,0,0,0,0,0,0,0,0,0,0,0,0,0,0,0,0,0,0,0,0,0,0,0,0,0,0,0,0,0,0,0,0,0,0,0,0,0,0,0,0,0,0,0]
["Electrocharged%",0,0,0,0,0,0,0,0,0,0,0,0,0,0,0,0,0,0,0,0,0,0,0,0,0,0,0,0,0,0,0,0,0,0,0,0,0,0,0,0,0,0,0,0,0,0,0,0,0,0,0,0,0,0,0,0,0,0,0,0,0,0,0,0,0,0,0,0,0,0,0,0,0,0,0,0,0,0,0,0,0,0,0,0,0,0,0,0,0,0,0,0,0,0,0,0,0,0,0,0,0,0,0,0,0]
["Melt%",0,0,0,0,0,0,0,0,0,0,0,0,0,0,0,0,0,0,0,0,0,0,0,0,0,0,0,0,0,0,0,0,0,0,0,0,0,0,0,0,0,0,0,0,0,0,0,0,0,0,0,0,0,0,0,0,0,0,0,0,0,0,0,0,0,0,0,0,0,0,0,0,0,0,0,0,0,0,0,0,0,0,0,0,0,0,0,0,0,0,0,0,0,0,0,0,0,0,0,0,0,0,0,0,0]
["Vaporize%",0,0,0,0,0,0,0,0,0,0,0,0,0,0,0,0,0,0,0,0,0,0,0,0,0,0,0,0,0,0,0,0,0,0,0,0,0,0,0,0,0,0,0,0,0,0,0,0,0,0,0,0,0,0,0,0,0,0,0,0,0,0,0,0,0,0,0,0,0,0,0,0,0,0,0,0,0,0,0,0,0,0,0,0,0,0,0,0,0,0,0,0,0,0,0,0,0,0,0,0,0,0,0,0,0]
["Shatter%",0,0,0,0,0,0,0,0,0,0,0,0,0,0,0,0,0,0,0,0,0,0,0,0,0,0,0,0,0,0,0,0,0,0,0,0,0,0,0,0,0,0,0,0,0,0,0,0,0,0,0,0,0,0,0,0,0,0,0,0,0,0,0,0,0,0,0,0,0,0,0,0,0,0,0,0,0,0,0,0,0,0,0,0,0,0,0,0,0,0,0,0,0,0,0,0,0,0,0,0,0,0,0,0,0]
["Anemo Res%",0,0,0,0,0,0,0,0,0,0,0,0,0,0,0,0,0,0,0,0,0,0,0,0,0,0,0,0,0,0,0,0,0,0,0,0,0,0,0,0,0,0,0,0,0,0,0,0,0,0,0,0,0,0,0,0,0,0,0,0,0,0,0,0,0,0,0,0,0,0,0,0,0,0,0,0,0,0,0,0,0,0,0,0,0,0,0,0,0,0,0,0,0,0,0,0,0,0,0,0,0,0,0,0,0]
["Geo Res%",0,0,0,0,0,0,0,0,0,0,0,0,0,0,0,0,0,0,0,0,0,0,0,0,0,0,0,0,0,0,0,0,0,0,0,0,0,0,0,0,0,0,0,0,0,0,0,0,0,0,0,0,0,0,0,0,0,0,0,0,0,0,0,0,0,0,0,0,0,0,0,0,0,0,0,0,0,0,0,0,0,0,0,0,0,0,0,0,0,0,0,0,0,0,0,0,0,0,0,0,0,0,0,0,0]
["Pyro Res%",0,0,0,0,0,0,0,0,0,0,0,0,0,0,0,0,0,0,0,0,0,0,0,0,0,0,0,0,0,0,0,0,0,0,0,0,0,0,0,0,0,0,0,0,0,0,0,0,0,0,0,0,0,0,0,0,0,0,0,0,0,0,0,0,0,0,0,0,0,0,0,0,0,0,0,0,0,0,0,0,0,0,0,0,0,0,0,0,0,0,0,0,0,0,0,0,0,0,0,0,0,0,0,0,0]
["Cryo Res%",0,0,0,0,0,0,0,0,0,0,0,0,0,0,0,0,0,0,0,0,0,0,0,0,0,0,0,0,0,0,0,0,0,0,0,0,0,0,0,0,0,0,0,0,0,0,0,0,0,0,0,0,0,0,0,0,0,0,0,0,0,0,0,0,0,0,0,0,0,0,0,0,0,0,0,0,0,0,0,0,0,0,0,0,0,0,0,0,0,0,0,0,0,0,0,0,0,0,0,0,0,0,0,0,0]
["Hydro Res%",0,0,0,0,0,0,0,0,0,0,0,0,0,0,0,0,0,0,0,0,0,0,0,0,0,0,0,0,0,0,0,0,0,0,0,0,0,0,0,0,0,0,0,0,0,0,0,0,0,0,0,0,0,0,0,0,0,0,0,0,0,0,0,0,0,0,0,0,0,0,0,0,0,0,0,0,0,0,0,0,0,0,0,0,0,0,0,0,0,0,0,0,0,0,0,0,0,0,0,0,0,0,0,0,0]
["Electro Res%",0,0,0,0,0,0,0,0,0,0,0,0,0,0,0,0,0,0,0,0,0,0,0,0,0,0,0,0,0,0,0,0,0,0,0,0,0,0,0,0,0,0,0,0,0,0,0,0,0,0,0,0,0,0,0,0,0,0,0,0,0,0,0,0,0,0,0,0,0,0,0,0,0,0,0,0,0,0,0,0,0,0,0,0,0,0,0,0,0,0,0,0,0,0,0,0,0,0,0,0,0,0,0,0,0]
["Phys Res%",0,0,0,0,0,0,0,0,0,0,0,0,0,0,0,0,0,0,0,0,0,0,0,0,0,0,0,0,0,0,0,0,0,0,0,0,0,0,0,0,0,0,0,0,0,0,0,0,0,0,0,0,0,0,0,0,0,0,0,0,0,0,0,0,0,0,0,0,0,0,0,0,0,0,0,0,0,0,0,0,0,0,0,0,0,0,0,0,0,0,0,0,0,0,0,0,0,0,0,0,0,0,0,0,0]
["Skill CR%",0,0,0,0,0,0,0,0,0,0,0,0,0,0,0,0,0,0,0,0,0,0,0,0,0,0,0,0,0,0,0,0,0,0,0,0,0,0,0,0,0,0,0,0,0,{"$f":"6%+(char4Refine-1)*2%","v":0.06},0,0,0,0,0,0,0,0,0,0,0,0,0,0,0,0,0,0,0,0,0,0,0,0,0,0,0,0,0,0,0,0,0,0,0,0,0,0,0,0,0,0,0,0,0,0,0,0,0,0,0,0,0,0,0,0,0,0,0]
["Burst CR%",0,0,0,0,0,0,0,0,0,0,0,0,0,0,0,0,0,0,0,0,0,0,0,0,0,{"$f":"6%+(char4Refine-1)*1.5%","v":0.06},0,0,0,0,0,0,0,0,0,0,0,0,0,0,0,0,0,0,0,0,0,0,0,0,0,0,0,0,0,0,0,0,0,0,0,0,0,0,0,0,0,0,0,0,0,0,0,0,0,0,0,0,0,0,0,0,0,0,0,0,0,0,0,0,0,0,0,0,0,0,0,0,0,0,0,0,0,0,0]
["Skill CDMG%",0,0,0,0,0,0,0,0,0,0,0,0,0,0,0,0,0,0,0,0,0,0,0,0,0,0,0,0,0,0,0,0,0,0,0,0,0,0,0,0,0,0,0,0,0,0,0,0,0,0,0,0,0,0,0,0,0,0,0,0,0,0,0,0,0,0,0,0,0,0,0,0,0,0,0,0,0,0,0,0,0,0,0,0,0,0,0,0,0,0,0,0,0,0,0,0,0,0,0,0,0,0,0,0,0]
["Burst CDMG%",0,0,0,0,0,0,0,0,0,0,0,0,0,0,0,0,0,0,0,0,0,0,0,0,0,0,0,0,0,0,0,0,0,0,0,0,0,0,0,0,0,0,0,0,0,0,0,0,0,0,0,0,0,0,0,0,0,0,0,0,0,0,0,0,0,0,0,0,0,0,0,0,0,0,0,0,0,0,0,0,0,0,0,0,0,0,0,0,0,0,0,0,0,0,0,0,0,0,0,0,0,0,0,0,0]
["Flat ATK",0,0,0,0,0,0,0,0,0,0,0,0,0,0,0,0,0,0,0,0,0,0,0,{"$f":"IF(char4WeapToggle,(char4FinalHP*(0.008+(char4Refine-1)*0.002))+(char4FinalHP*(0.01+(char4Refine-1)*0.002)),(char4FinalHP*(0.008+(char4Refine-1)*0.002)))","v":151.31729920000001},0,0,0,0,0,0,0,0,0,0,0,0,0,0,{"$f":"((1.2+(char4Refine-1)*0.3)/100)*char4FinalHP","v":226.97594880000003},0,0,0,0,0,0,0,0,0,0,0,0,0,0,0,0,0,0,0,0,0,0,0,0,0,0,0,0,0,0,0,0,0,0,0,0,0,0,0,0,0,0,0,0,0,0,0,0,0,0,0,0,0,0,0,0,0,0,0,0,0,0,0,0,0,0]
["Flat HP",0,0,0,0,0,0,0,0,0,0,0,0,0,0,0,0,0,0,0,0,0,0,0,0,0,0,0,0,0,0,0,0,0,0,0,0,0,0,0,0,0,0,0,0,0,0,0,0,0,0,0,0,0,0,0,0,0,0,0,0,0,0,0,0,0,0,0,0,0,0,0,0,0,0,0,0,0,0,0,0,0,0,0,0,0,0,0,0,0,0,0,0,0,0,0,0,0,0,0,0,0,0,0,0,0]
["Flat DEF",0,0,0,0,0,0,0,0,0,0,0,0,0,0,0,0,0,0,0,0,0,0,0,0,0,0,0,0,0,0,0,0,0,0,0,0,0,0,0,0,0,0,0,0,0,0,0,0,0,0,0,0,0,0,0,0,0,0,0,0,0,0,0,0,0,0,0,0,0,0,0,0,0,0,0,0,0,0,0,0,0,0,0,0,0,0,0,0,0,0,0,0,0,0,0,0,0,0,0,0,0,0,0,0,0]
["Proc 1 Exists",true,false,true,false,false,false,false,false,false,false,true,false,false,true,true,false,false,false,false,true,false,false,false,false,false,false,false,true,false,false,false,false,false,false,true,false,false,false,false,false,false,false,false,true,true,false,true,false,false,false,false,false,false,false,false,false,false,true,false,false,false,false,false,false,true,false,true,true,true,false,false,false,false,false,true,false,false,false,false,false,false,false,false,false,false,true,false,false,false,false,false,true,false,false,false,false,false,false,false,false,false,false,false,false,false]
["Proc 2 Exists",false,false,true,false,false,false,false,false,false,false,true,false,false,false,false,false,false,false,false,false,false,false,false,false,false,false,false,true,false,false,false,false,false,false,false,false,false,false,false,false,false,false,false,false,false,false,false,false,false,false,false,false,false,false,false,false,false,false,false,false,false,false,false,false,false,false,false,true,false,false,false,false,false,false,false,false,false,false,false,false,false,false,false,false,false,false,false,false,false,false,false,false,false,false,false,false,false,false,false,false,false,false,false,false,false]
["Proc 3 Exists",false,false,false,false,false,false,false,false,false,false,false,false,false,false,false,false,false,false,false,false,false,false,false,false,false,false,false,false,false,false,false,false,false,false,false,false,false,false,false,false,false,false,false,false,false,false,false,false,false,false,false,false,false,false,false,false,false,false,false,false,false,false,false,false,false,false,false,false,false,false,false,false,false,false,false,false,false,false,false,false,false,false,false,false,false,false,false,false,false,false,false,false,false,false,false,false,false,false,false,false,false,false,false,false,false]
["Proc 1 Name","Vacuum Blades",null,"Redhorn Normal Proc",null,null,null,null,null,null,null,"STSS Proc, No Cryo",null,null,"Archaic Proc","Tuna",null,null,null,null,"Vacuum Blade",null,null,null,null,null,null,null,"Frost Burial, No Cryo",null,null,null,null,null,null,"Infusion Needle",null,null,null,null,null,null,null,null,"Sky-Piercing Fang","Falcon's Defiance",null,"Harmonic Proc",null,null,null,null,null,null,null,null,null,null,"Cinnabar Spindle Proc",null,null,null,null,null,null,"Wandering Clouds",null,"Byakuya Kougetsu","Frost Burial No Cryo","Bolt of Perception",null,null,null,null,null,"Prototype Amber Healing",null,null,null,null,null,null,null,null,null,null,"Echoing Ballad",null,null,null,null,null,"Cyclone"]
["Proc 1 Damage Type","None",null,"Normal",null,null,null,null,null,null,null,"None",null,null,"None","None",null,null,null,null,"None",null,null,null,null,null,null,null,"None",null,null,null,null,null,null,"None",null,null,null,null,null,null,null,null,"None","None",null,"None",null,null,null,null,null,null,null,null,null,null,"Skill",null,null,null,null,null,null,"None",null,"Normal","None","None",null,null,null,null,null,"Healing",null,null,null,null,null,null,null,null,null,null,"None",null,null,null,null,null,"None"]
["Proc 1 Scaling Stat","ATK",null,"DEF",null,null,null,null,null,null,null,"ATK",null,null,"ATK","ATK",null,null,null,null,"ATK",null,null,null,null,null,null,null,"ATK",null,null,null,null,null,null,"ATK",null,null,null,null,null,null,null,null,"ATK","ATK",null,"ATK",null,null,null,null,null,null,null,null,null,null,"DEF",null,null,null,null,null,null,"ATK",null,"HP","ATK","ATK",null,null,null,null,null,"HP",null,null,null,null,null,null,null,null,null,null,"ATK",null,null,null,null,null,"ATK"]
["Proc 1 Talent%",{"$f":"80%+(char4Refine-1)*20%","v":0.8},null,{"$f":"40%+(char4Refine-1)*10%","v":0.4},null,null,null,null,null,null,null,{"$f":"80%+(char4Refine-1)*15%","v":0.8},null,null,{"$f":"240%+(char4Refine-1)*60%","v":2.4},{"$f":"100%+(char4Refine-1)*25%","v":1},null,null,null,null,{"$f":"40%+(char4Refine-1)*15%","v":0.4},null,null,null,null,null,null,null,{"$f":"60%+(char4Refine-1)*15%","v":0.6},null,null,null,null,null,null,{"$f":"20%+(char4Refine-1)*5%","v":0.2},null,null,null,null,null,null,null,null,{"$f":"20%+(char4Refine-1)*5%","v":0.2},{"$f":"200%+(char4Refine-1)*30%","v":2},null,{"$f":"100%+(char4Refine-1)*25%","v":1},null,null,null,null,null,null,null,null,null,null,{"$f":"40%+(char4Refine-1)*10%","v":0.4},null,null,null,null,null,null,{"$f":"160%+(char4Refine-1)*40%","v":1.6},null,{"$f":"1%+(char4Refine-1)*0.5%","v":0.01},{"$f":"60%+(char4Refine-1)*15%","v":0.6},{"$f":"240%+(char4Refine-1)*30%","v":2.4},null,null,null,null,null,{"$f":"4%+0.5%*(char4Refine-1)","v":0.04},null,null,null,null,null,null,null,null,null,null,1.25,null,null,null,null,null,{"$f":"40%+(char4Refine-1)*10%","v":0.4}]
["Proc 1 Element","Phys",null,{"$f":"char4NAElement","v":"Geo"},null,null,null,null,null,null,null,"Phys",null,null,"Phys","Phys",null,null,null,null,"Phys",null,null,null,null,null,null,null,"Phys",null,null,null,null,null,null,"Phys",null,null,null,null,null,null,null,null,"Phys","Phys",null,"Phys",null,null,null,null,null,null,null,null,null,null,{"$f":"char4SkillElement","v":"Pyro"},null,null,null,null,null,null,"Phys",null,{"$f":"char4NAElement","v":"Geo"},"Phys","Phys",null,null,null,null,null,"None",null,null,null,null,null,null,null,null,null,null,"Phys",null,null,null,null,null,"Phys"]
["Proc 2 Name",null,null,"Redhorn Charged Proc",null,null,null,null,null,null,null,"STSS Proc, With Cryo",null,null,null,null,null,null,null,null,null,null,null,null,null,null,null,null,"Frost Burial, With Cryo",null,null,null,null,null,null,null,null,null,null,null,null,null,null,null,null,null,null,null,null,null,null,null,null,null,null,null,null,null,null,null,null,null,null,null,null,null,null,null,"Frost Burial, With Cryo"]
["Proc 2 Damage Type",null,null,"Charged",null,null,null,null,null,null,null,"None",null,null,null,null,null,null,null,null,null,null,null,null,null,null,null,null,"None",null,null,null,null,null,null,null,null,null,null,null,null,null,null,null,null,null,null,null,null,null,null,null,null,null,null,null,null,null,null,null,null,null,null,null,null,null,null,null,"None"]
["Proc 2 Scaling Stat",null,null,"DEF",null,null,null,null,null,null,null,"ATK",null,null,null,null,null,null,null,null,null,null,null,null,null,null,null,null,"ATK",null,null,null,null,null,null,null,null,null,null,null,null,null,null,null,null,null,null,null,null,null,null,null,null,null,null,null,null,null,null,null,null,null,null,null,null,null,null,null,"ATK"]
["Proc 2 Talent%",null,null,{"$f":"0.4+(char4Refine-1)*0.1","v":0.4},null,null,null,null,null,null,null,{"$f":"200%+(char4Refine-1)*40%","v":2},null,null,null,null,null,null,null,null,null,null,null,null,null,null,null,null,{"$f":"200%+(char4Refine-1)*40%","v":2},null,null,null,null,null,null,null,null,null,null,null,null,null,null,null,null,null,null,null,null,null,null,null,null,null,null,null,null,null,null,null,null,null,null,null,null,null,null,null,{"$f":"200%+(char4Refine-1)*40%","v":2}]
["Proc 2 Element",null,null,{"$f":"char4CAElement","v":"Geo"},null,null,null,null,null,null,null,"Phys",null,null,null,null,null,null,null,null,null,null,null,null,null,null,null,null,"Phys",null,null,null,null,null,null,null,null,null,null,null,null,null,null,null,null,null,null,null,null,null,null,null,null,null,null,null,null,null,null,null,null,null,null,null,null,null,null,null,"Phys"]
["Proc 3 Name"]
["Proc 3 Damage Type"]
["Proc 3 Scaling Stat"]
["Proc 3 Talent%"]
["Proc 3 Element"]

{"sheet":"artisDB","index":13,"n_rows":231,"n_cols":42,"rows_kept":231,"cut":false,"hidden":true,"merged":[]}
["Artifacts","ATK%","DEF%","HP%","CR%","CDMG%","ER%","Phys DMG%","Anemo DMG%","Geo DMG%","Pyro DMG%","Cryo DMG%","Hydro DMG%","Electro DMG%","EM","Healing Received%","Healing Bonus%","Normal DMG%","Charged DMG%","Plunging DMG%","Skill DMG%","Burst DMG%","DMG%","Shield Strength%","Swirl%","Overload%","Crystallize%","Superconduct%","Electrocharged%","Melt%","Vaporize%","Shatter%","Anemo Res%","Geo Res%","Pyro Res%","Cryo Res%","Hydro Res%","Electro Res%","Phys Res%","Flat ATK","Flat HP","Flat DEF"]
["2-piece Archaic Petra",null,null,null,null,null,null,null,null,0.15]
["2-piece Berserker",null,null,null,0.12]
["2-piece Bloodstained Chivalry",null,null,null,null,null,null,0.25]
["2-piece Brave Heart",0.18]
["2-piece Crimson Witch of Flames",null,null,null,null,null,null,null,null,null,0.15]
["2-piece Defender's Will",null,0.3]
["2-piece Gambler",null,null,null,null,null,null,null,null,null,null,null,null,null,null,null,null,null,null,null,0.2]
["2-piece Gladiator's Finale",0.18]
["2-piece Instructor",null,null,null,null,null,null,null,null,null,null,null,null,null,80]
["2-piece Lavawalker",null,null,null,null,null,null,null,null,null,null,null,null,null,null,null,null,null,null,null,null,null,null,null,null,null,null,null,null,null,null,null,null,null,0.4]
["2-piece Maiden's Beloved",null,null,null,null,null,null,null,null,null,null,null,null,null,null,null,0.15]
["2-piece Martial Artist",null,null,null,null,null,null,null,null,null,null,null,null,null,null,null,null,0.15,0.15]
["2-piece Noblesse Oblige",null,null,null,null,null,null,null,null,null,null,null,null,null,null,null,null,null,null,null,null,0.2]
["2-piece Retracing Bolide",null,null,null,null,null,null,null,null,null,null,null,null,null,null,null,null,null,null,null,null,null,null,0.35]
["2-piece Thundering Fury",null,null,null,null,null,null,null,null,null,null,null,null,0.15]
["2-piece Thundersoother",null,null,null,null,null,null,null,null,null,null,null,null,null,null,null,null,null,null,null,null,null,null,null,null,null,null,null,null,null,null,null,null,null,null,null,null,0.4]
["2-piece Viridescent Venerer",null,null,null,null,null,null,null,0.15]
["2-piece Wanderer's Troupe",null,null,null,null,null,null,null,null,null,null,null,null,null,80]
["2-piece Blizzard Strayer",null,null,null,null,null,null,null,null,null,null,0.15]
["2-piece Heart of Depth",null,null,null,null,null,null,null,null,null,null,null,0.15]
["2-piece Pale Flame",null,null,null,null,null,null,0.25]
["2-piece Tenacity of the Millelith",null,null,0.2]
["2-piece Shimenawa's Reminiscence",0.18]
["2-piece Emblem of Severed Fate",null,null,null,null,null,0.2]
["2-piece Ocean-Hued Clam",null,null,null,null,null,null,null,null,null,null,null,null,null,null,null,0.15]
["2-piece Husk of Opulent Dreams",null,0.3]
["2-piece Vermillion Hereafter",0.18]
["2-piece Echoes of an Offering",0.18]
["4-piece Archaic Petra",null,null,null,null,null,null,null,null,null,{"$f":"IF(char1ArtiToggle, 35%, 0%)","v":0},{"$f":"IF(char1ArtiToggle, 35%, 0%)","v":0},{"$f":"IF(char1ArtiToggle, 35%, 0%)","v":0},{"$f":"IF(char1ArtiToggle, 35%, 0%)","v":0}]
["4-piece Berserker",null,null,null,{"$f":"IF(char1ArtiToggle, 24%, 0%)","v":0}]
["4-piece Bloodstained Chivalry",null,null,null,null,null,null,null,null,null,null,null,null,null,null,null,null,null,{"$f":"IF(char1ArtiToggle, 50%, 0%)","v":0}]
["4-piece Brave Heart",null,null,null,null,null,null,null,null,null,null,null,null,null,null,null,null,null,null,null,null,null,{"$f":"IF(char1ArtiToggle, 30%, 0%)","v":0}]
["4-piece Crimson Witch of Flames",null,null,null,null,null,null,null,null,null,{"$f":"char1ArtiStacks*(7.5%)","v":0},null,null,null,null,null,null,null,null,null,null,null,null,null,null,0.4,null,null,null,0.15,0.15]
["4-piece Defender's Will",null,null,null,null,null,null,null,null,null,null,null,null,null,null,null,null,null,null,null,null,null,null,null,null,null,null,null,null,null,null,null,0.3,0.3,0.3,0.3,0.3,0.3]
["4-piece Gambler"]
["4-piece Gladiator's Finale",null,null,null,null,null,null,null,null,null,null,null,null,null,null,null,null,0.35]
["4-piece Instructor",null,null,null,null,null,null,null,null,null,null,null,null,null,{"$f":"IF(char1ArtiToggle, 120, 0)","v":0}]
["4-piece Lavawalker",null,null,null,null,null,null,{"$f":"IF(char1ArtiToggle, 35%, 0)","v":0},0,0,0,0,0,0]
["4-piece Maiden's Beloved",null,null,null,null,null,null,null,null,null,null,null,null,null,null,0.2]
["4-piece Martial Artist",null,null,null,null,null,null,null,null,null,null,null,null,null,null,null,null,{"$f":"IF(char1ArtiToggle, 25%, 0)","v":0},{"$f":"IF(char1ArtiToggle, 25%, 0)","v":0}]
["4-piece Noblesse Oblige",{"$f":"IF(char1ArtiToggle, 20%, 0)","v":0}]
["4-piece Retracing Bolide",null,null,null,null,null,null,null,null,null,null,null,null,null,null,null,null,{"$f":"IF(char1ArtiToggle, 40%, 0)","v":0},{"$f":"IF(char1ArtiToggle, 40%, 0)","v":0}]
["4-piece Thundering Fury"," ",null,null,null,null,null,null,null,null,null,null,null,null,null,null,null,null,null,null,null,null,null,null,null,0.4,null,0.4,0.4]
["4-piece Thundersoother",null,null,null,null,null,null,null,null,null,null,null,null,null,null,null,null,null,null,null,null,null,{"$f":"IF(char1ArtiToggle, 35%, 0)","v":0}]
["4-piece Viridescent Venerer",null,null,null,null,null,null,null,null,null,null,null,null,null,null,null,null,null,null,null,null,null,null,null,0.6]
["4-piece Wanderer's Troupe",null,null,null,null,null,null,null,null,null,null,null,null,null,null,null,null,null,{"$f":"IF(char1ArtiToggle, 35%, 0)","v":0}]
["4-piece Blizzard Strayer",null,null,null,{"$f":"char1ArtiStacks*(20%)","v":0}]
["4-piece Heart of Depth",null,null,null,null,null,null,null,null,null,null,null,null,null,null,null,null,{"$f":"IF(char1ArtiToggle, 30%, 0)","v":0},{"$f":"IF(char1ArtiToggle, 30%, 0)","v":0}]
["4-piece Pale Flame",{"$f":"char1ArtiStacks*9%","v":0},null,null,null,null,null,{"$f":"IF(char1ArtiStacks=2, 25%, 0)","v":0}]
["4-piece Tenacity of the Millelith",{"$f":"IF(char1ArtiToggle, 20%, 0)","v":0},null,null,null,null,null,null,null,null,null,null,null,null,null,null,null,null,null,null,null,null,null,{"$f":"IF(char1ArtiToggle, 30%, 0)","v":0}]
["4-piece Shimenawa's Reminiscence",null,null,null,null,null,null,null,null,null,null,null,null,null,null,null,null,{"$f":"IF(char1ArtiToggle, 50%, 0)","v":0},{"$f":"IF(char1ArtiToggle, 50%, 0)","v":0},{"$f":"IF(char1ArtiToggle, 50%, 0)","v":0}]
["4-piece Emblem of Severed Fate",null,null,null,null,null,null,null,null,null,null,null,null,null,null,null,null,null,null,null,null,{"$f":"IF(char1FinalER*25%>75%, 75%,char1FinalER*25%)","v":0.30509999999999998}]
["4-piece Ocean-Hued Clam"]
["4-piece Husk of Opulent Dreams",null,{"$f":"6%*char1ArtiStacks","v":0},null,null,null,null,null,null,{"$f":"6%*char1ArtiStacks","v":0}]
["4-piece Vermillion Hereafter",{"$f":"8%+(10%*char1ArtiStacks)","v":0.08}]
["4-piece Echoes of an Offering"]
[]
["Artifacts","ATK%","DEF%","HP%","CR%","CDMG%","ER%","Phys DMG%","Anemo DMG%","Geo DMG%","Pyro DMG%","Cryo DMG%","Hydro DMG%","Electro DMG%","EM","Healing Received%","Healing Bonus%","Normal DMG%","Charged DMG%","Plunging DMG%","Skill DMG%","Burst DMG%","DMG%","Shield Strength%","Swirl%","Overload%","Crystallize%","Superconduct%","Electrocharged%","Melt%","Vaporize%","Shatter%","Anemo Res%","Geo Res%","Pyro Res%","Cryo Res%","Hydro Res%","Electro Res%","Phys Res%","Flat ATK","Flat HP","Flat DEF"]
["2-piece Archaic Petra",null,null,null,null,null,null,null,null,0.15]
["2-piece Berserker",null,null,null,0.12]
["2-piece Bloodstained Chivalry",null,null,null,null,null,null,0.25]
["2-piece Brave Heart",0.18]
["2-piece Crimson Witch of Flames",null,null,null,null,null,null,null,null,null,0.15]
["2-piece Defender's Will",null,0.3]
["2-piece Gambler",null,null,null,null,null,null,null,null,null,null,null,null,null,null,null,null,null,null,null,0.2]
["2-piece Gladiator's Finale",0.18]
["2-piece Instructor",null,null,null,null,null,null,null,null,null,null,null,null,null,80]
["2-piece Lavawalker",null,null,null,null,null,null,null,null,null,null,null,null,null,null,null,null,null,null,null,null,null,null,null,null,null,null,null,null,null,null,null,null,null,0.4]
["2-piece Maiden's Beloved",null,null,null,null,null,null,null,null,null,null,null,null,null,null,null,0.15]
["2-piece Martial Artist",null,null,null,null,null,null,null,null,null,null,null,null,null,null,null,null,0.15,0.15]
["2-piece Noblesse Oblige",null,null,null,null,null,null,null,null,null,null,null,null,null,null,null,null,null,null,null,null,0.2]
["2-piece Retracing Bolide",null,null,null,null,null,null,null,null,null,null,null,null,null,null,null,null,null,null,null,null,null,null,0.35]
["2-piece Thundering Fury",null,null,null,null,null,null,null,null,null,null,null,null,0.15]
["2-piece Thundersoother",null,null,null,null,null,null,null,null,null,null,null,null,null,null,null,null,null,null,null,null,null,null,null,null,null,null,null,null,null,null,null,null,null,null,null,null,0.4]
["2-piece Viridescent Venerer",null,null,null,null,null,null,null,0.15]
["2-piece Wanderer's Troupe",null,null,null,null,null,null,null,null,null,null,null,null,null,80]
["2-piece Blizzard Strayer",null,null,null,null,null,null,null,null,null,null,0.15]
["2-piece Heart of Depth",null,null,null,null,null,null,null,null,null,null,null,0.15]
["2-piece Pale Flame",null,null,null,null,null,null,0.25]
["2-piece Tenacity of the Millelith",null,null,0.2]
["2-piece Shimenawa's Reminiscence",0.18]
["2-piece Emblem of Severed Fate",null,null,null,null,null,0.2]
["2-piece Ocean-Hued Clam",null,null,null,null,null,null,null,null,null,null,null,null,null,null,null,0.15]
["2-piece Husk of Opulent Dreams",null,0.3]
["2-piece Vermillion Hereafter",0.18]
["2-piece Echoes of an Offering",0.18]
["4-piece Archaic Petra",null,null,null,null,null,null,null,null,null,{"$f":"IF(char2ArtiToggle, 35%, 0%)","v":0},{"$f":"IF(char2ArtiToggle, 35%, 0%)","v":0},{"$f":"IF(char2ArtiToggle, 35%, 0%)","v":0},{"$f":"IF(char2ArtiToggle, 35%, 0%)","v":0}]
["4-piece Berserker",null,null,null,{"$f":"IF(char2ArtiToggle, 24%, 0%)","v":0}]
["4-piece Bloodstained Chivalry",null,null,null,null,null,null,null,null,null,null,null,null,null,null,null,null,null,{"$f":"IF(char2ArtiToggle, 50%, 0%)","v":0}]
["4-piece Brave Heart",null,null,null,null,null,null,null,null,null,null,null,null,null,null,null,null,null,null,null,null,null,{"$f":"IF(char2ArtiToggle, 30%, 0%)","v":0}]
["4-piece Crimson Witch of Flames",null,null,null,null,null,null,null,null,null,{"$f":"char2ArtiStacks*(7.5%)","v":0},null,null,null,null,null,null,null,null,null,null,null,null,null,null,0.4,null,null,null,0.15,0.15]
["4-piece Defender's Will",null,null,null,null,null,null,null,null,null,null,null,null,null,null,null,null,null,null,null,null,null,null,null,null,null,null,null,null,null,null,null,0.3,0.3,0.3,0.3,0.3,0.3]
["4-piece Gambler"]
["4-piece Gladiator's Finale",null,null,null,null,null,null,null,null,null,null,null,null,null,null,null,null,0.35]
["4-piece Instructor",null,null,null,null,null,null,null,null,null,null,null,null,null,{"$f":"IF(char2ArtiToggle, 120, 0)","v":0}]
["4-piece Lavawalker",null,null,null,null,null,null,{"$f":"IF(char2ArtiToggle, 35%, 0)","v":0},0,0,0,0,0,0]
["4-piece Maiden's Beloved",null,null,null,null,null,null,null,null,null,null,null,null,null,null,0.2]
["4-piece Martial Artist",null,null,null,null,null,null,null,null,null,null,null,null,null,null,null,null,{"$f":"IF(char2ArtiToggle, 25%, 0)","v":0},{"$f":"IF(char2ArtiToggle, 25%, 0)","v":0}]
["4-piece Noblesse Oblige",{"$f":"IF(char2ArtiToggle, 20%, 0)","v":0}]
["4-piece Retracing Bolide",null,null,null,null,null,null,null,null,null,null,null,null,null,null,null,null,{"$f":"IF(char2ArtiToggle, 40%, 0)","v":0},{"$f":"IF(char2ArtiToggle, 40%, 0)","v":0}]
["4-piece Thundering Fury"," ",null,null,null,null,null,null,null,null,null,null,null,null,null,null,null,null,null,null,null,null,null,null,null,0.4,null,0.4,0.4]
["4-piece Thundersoother",null,null,null,null,null,null,null,null,null,null,null,null,null,null,null,null,null,null,null,null,null,{"$f":"IF(char2ArtiToggle, 35%, 0)","v":0}]
["4-piece Viridescent Venerer",null,null,null,null,null,null,null,null,null,null,null,null,null,null,null,null,null,null,null,null,null,null,null,0.6]
["4-piece Wanderer's Troupe",null,null,null,null,null,null,null,null,null,null,null,null,null,null,null,null,null,{"$f":"IF(char2ArtiToggle, 35%, 0)","v":0}]
["4-piece Blizzard Strayer",null,null,null,{"$f":"char2ArtiStacks*(20%)","v":0}]
["4-piece Heart of Depth",null,null,null,null,null,null,null,null,null,null,null,null,null,null,null,null,{"$f":"IF(char2ArtiToggle, 30%, 0)","v":0},{"$f":"IF(char2ArtiToggle, 30%, 0)","v":0}]
["4-piece Pale Flame",{"$f":"char2ArtiStacks*9%","v":0},null,null,null,null,null,{"$f":"IF(char2ArtiStacks=2, 25%, 0)","v":0}]
["4-piece Tenacity of the Millelith",{"$f":"IF(char2ArtiToggle, 20%, 0)","v":0},null,null,null,null,null,null,null,null,null,null,null,null,null,null,null,null,null,null,null,null,null,{"$f":"IF(char2ArtiToggle, 30%, 0)","v":0}]
["4-piece Shimenawa's Reminiscence",null,null,null,null,null,null,null,null,null,null,null,null,null,null,null,null,{"$f":"IF(char2ArtiToggle, 50%, 0)","v":0},{"$f":"IF(char2ArtiToggle, 50%, 0)","v":0},{"$f":"IF(char2ArtiToggle, 50%, 0)","v":0}]
["4-piece Emblem of Severed Fate",null,null,null,null,null,null,null,null,null,null,null,null,null,null,null,null,null,null,null,null,{"$f":"IF(char2FinalER*25%>75%, 75%,char2FinalER*25%)","v":0.52212499999999995}]
["4-piece Ocean-Hued Clam"]
["4-piece Husk of Opulent Dreams",null,{"$f":"6%*char2ArtiStacks","v":0},null,null,null,null,null,null,{"$f":"6%*char2ArtiStacks","v":0}]
["4-piece Vermillion Hereafter",{"$f":"8%+(10%*char2ArtiStacks)","v":0.08}]
["4-piece Echoes of an Offering"]
[]
["Artifacts","ATK%","DEF%","HP%","CR%","CDMG%","ER%","Phys DMG%","Anemo DMG%","Geo DMG%","Pyro DMG%","Cryo DMG%","Hydro DMG%","Electro DMG%","EM","Healing Received%","Healing Bonus%","Normal DMG%","Charged DMG%","Plunging DMG%","Skill DMG%","Burst DMG%","DMG%","Shield Strength%","Swirl%","Overload%","Crystallize%","Superconduct%","Electrocharged%","Melt%","Vaporize%","Shatter%","Anemo Res%","Geo Res%","Pyro Res%","Cryo Res%","Hydro Res%","Electro Res%","Phys Res%","Flat ATK","Flat HP","Flat DEF"]
["2-piece Archaic Petra",null,null,null,null,null,null,null,null,0.15]
["2-piece Berserker",null,null,null,0.12]
["2-piece Bloodstained Chivalry",null,null,null,null,null,null,0.25]
["2-piece Brave Heart",0.18]
["2-piece Crimson Witch of Flames",null,null,null,null,null,null,null,null,null,0.15]
["2-piece Defender's Will",null,0.3]
["2-piece Gambler",null,null,null,null,null,null,null,null,null,null,null,null,null,null,null,null,null,null,null,0.2]
["2-piece Gladiator's Finale",0.18]
["2-piece Instructor",null,null,null,null,null,null,null,null,null,null,null,null,null,80]
["2-piece Lavawalker",null,null,null,null,null,null,null,null,null,null,null,null,null,null,null,null,null,null,null,null,null,null,null,null,null,null,null,null,null,null,null,null,null,0.4]
["2-piece Maiden's Beloved",null,null,null,null,null,null,null,null,null,null,null,null,null,null,null,0.15]
["2-piece Martial Artist",null,null,null,null,null,null,null,null,null,null,null,null,null,null,null,null,0.15,0.15]
["2-piece Noblesse Oblige",null,null,null,null,null,null,null,null,null,null,null,null,null,null,null,null,null,null,null,null,0.2]
["2-piece Retracing Bolide",null,null,null,null,null,null,null,null,null,null,null,null,null,null,null,null,null,null,null,null,null,null,0.35]
["2-piece Thundering Fury",null,null,null,null,null,null,null,null,null,null,null,null,0.15]
["2-piece Thundersoother",null,null,null,null,null,null,null,null,null,null,null,null,null,null,null,null,null,null,null,null,null,null,null,null,null,null,null,null,null,null,null,null,null,null,null,null,0.4]
["2-piece Viridescent Venerer",null,null,null,null,null,null,null,0.15]
["2-piece Wanderer's Troupe",null,null,null,null,null,null,null,null,null,null,null,null,null,80]
["2-piece Blizzard Strayer",null,null,null,null,null,null,null,null,null,null,0.15]
["2-piece Heart of Depth",null,null,null,null,null,null,null,null,null,null,null,0.15]
["2-piece Pale Flame",null,null,null,null,null,null,0.25]
["2-piece Tenacity of the Millelith",null,null,0.2]
["2-piece Shimenawa's Reminiscence",0.18]
["2-piece Emblem of Severed Fate",null,null,null,null,null,0.2]
["2-piece Ocean-Hued Clam",null,null,null,null,null,null,null,null,null,null,null,null,null,null,null,0.15]
["2-piece Husk of Opulent Dreams",null,0.3]
["2-piece Vermillion Hereafter",0.18]
["2-piece Echoes of an Offering",0.18]
["4-piece Archaic Petra",null,null,null,null,null,null,null,null,null,{"$f":"IF(char3ArtiToggle, 35%, 0%)","v":0},{"$f":"IF(char3ArtiToggle, 35%, 0%)","v":0},{"$f":"IF(char3ArtiToggle, 35%, 0%)","v":0},{"$f":"IF(char3ArtiToggle, 35%, 0%)","v":0}]
["4-piece Berserker",null,null,null,{"$f":"IF(char3ArtiToggle, 24%, 0%)","v":0}]
["4-piece Bloodstained Chivalry",null,null,null,null,null,null,null,null,null,null,null,null,null,null,null,null,null,{"$f":"IF(char3ArtiToggle, 50%, 0%)","v":0}]
["4-piece Brave Heart",null,null,null,null,null,null,null,null,null,null,null,null,null,null,null,null,null,null,null,null,null,{"$f":"IF(char3ArtiToggle, 30%, 0%)","v":0}]
["4-piece Crimson Witch of Flames",null,null,null,null,null,null,null,null,null,{"$f":"char3ArtiStacks*(7.5%)","v":0},null,null,null,null,null,null,null,null,null,null,null,null,null,null,0.4,null,null,null,0.15,0.15]
["4-piece Defender's Will",null,null,null,null,null,null,null,null,null,null,null,null,null,null,null,null,null,null,null,null,null,null,null,null,null,null,null,null,null,null,null,0.3,0.3,0.3,0.3,0.3,0.3]
["4-piece Gambler"]
["4-piece Gladiator's Finale",null,null,null,null,null,null,null,null,null,null,null,null,null,null,null,null,0.35]
["4-piece Instructor",null,null,null,null,null,null,null,null,null,null,null,null,null,{"$f":"IF(char3ArtiToggle, 120, 0)","v":0}]
["4-piece Lavawalker",null,null,null,null,null,null,{"$f":"IF(char3ArtiToggle, 35%, 0)","v":0},0,0,0,0,0,0]
["4-piece Maiden's Beloved",null,null,null,null,null,null,null,null,null,null,null,null,null,null,0.2]
["4-piece Martial Artist",null,null,null,null,null,null,null,null,null,null,null,null,null,null,null,null,{"$f":"IF(char3ArtiToggle, 25%, 0)","v":0},{"$f":"IF(char3ArtiToggle, 25%, 0)","v":0}]
["4-piece Noblesse Oblige",{"$f":"IF(char3ArtiToggle, 20%, 0)","v":0}]
["4-piece Retracing Bolide",null,null,null,null,null,null,null,null,null,null,null,null,null,null,null,null,{"$f":"IF(char3ArtiToggle, 40%, 0)","v":0},{"$f":"IF(char3ArtiToggle, 40%, 0)","v":0}]
["4-piece Thundering Fury"," ",null,null,null,null,null,null,null,null,null,null,null,null,null,null,null,null,null,null,null,null,null,null,null,0.4,null,0.4,0.4]
["4-piece Thundersoother",null,null,null,null,null,null,null,null,null,null,null,null,null,null,null,null,null,null,null,null,null,{"$f":"IF(char3ArtiToggle, 35%, 0)","v":0}]
["4-piece Viridescent Venerer",null,null,null,null,null,null,null,null,null,null,null,null,null,null,null,null,null,null,null,null,null,null,null,0.6]
["4-piece Wanderer's Troupe",null,null,null,null,null,null,null,null,null,null,null,null,null,null,null,null,null,{"$f":"IF(char3ArtiToggle, 35%, 0)","v":0}]
["4-piece Blizzard Strayer",null,null,null,{"$f":"char3ArtiStacks*(20%)","v":0}]
["4-piece Heart of Depth",null,null,null,null,null,null,null,null,null,null,null,null,null,null,null,null,{"$f":"IF(char3ArtiToggle, 30%, 0)","v":0},{"$f":"IF(char3ArtiToggle, 30%, 0)","v":0}]
["4-piece Pale Flame",{"$f":"char3ArtiStacks*9%","v":0},null,null,null,null,null,{"$f":"IF(char3ArtiStacks=2, 25%, 0)","v":0}]
["4-piece Tenacity of the Millelith",{"$f":"IF(char3ArtiToggle, 20%, 0)","v":0},null,null,null,null,null,null,null,null,null,null,null,null,null,null,null,null,null,null,null,null,null,{"$f":"IF(char3ArtiToggle, 30%, 0)","v":0}]
["4-piece Shimenawa's Reminiscence",null,null,null,null,null,null,null,null,null,null,null,null,null,null,null,null,{"$f":"IF(char3ArtiToggle, 50%, 0)","v":0},{"$f":"IF(char3ArtiToggle, 50%, 0)","v":0},{"$f":"IF(char3ArtiToggle, 50%, 0)","v":0}]
["4-piece Emblem of Severed Fate",null,null,null,null,null,null,null,null,null,null,null,null,null,null,null,null,null,null,null,null,{"$f":"IF(char3FinalER*25%>75%, 75%,char3FinalER*25%)","v":0.27755000000000002}]
["4-piece Ocean-Hued Clam"]
["4-piece Husk of Opulent Dreams",null,{"$f":"6%*char3ArtiStacks","v":0},null,null,null,null,null,null,{"$f":"6%*char3ArtiStacks","v":0}]
["4-piece Vermillion Hereafter",{"$f":"8%+(10%*char3ArtiStacks)","v":0.08}]
["4-piece Echoes of an Offering"]
[]
["Artifacts","ATK%","DEF%","HP%","CR%","CDMG%","ER%","Phys DMG%","Anemo DMG%","Geo DMG%","Pyro DMG%","Cryo DMG%","Hydro DMG%","Electro DMG%","EM","Healing Received%","Healing Bonus%","Normal DMG%","Charged DMG%","Plunging DMG%","Skill DMG%","Burst DMG%","DMG%","Shield Strength%","Swirl%","Overload%","Crystallize%","Superconduct%","Electrocharged%","Melt%","Vaporize%","Shatter%","Anemo Res%","Geo Res%","Pyro Res%","Cryo Res%","Hydro Res%","Electro Res%","Phys Res%","Flat ATK","Flat HP","Flat DEF"]
["2-piece Archaic Petra",null,null,null,null,null,null,null,null,0.15]
["2-piece Berserker",null,null,null,0.12]
["2-piece Bloodstained Chivalry",null,null,null,null,null,null,0.25]
["2-piece Brave Heart",0.18]
["2-piece Crimson Witch of Flames",null,null,null,null,null,null,null,null,null,0.15]
["2-piece Defender's Will",null,0.3]
["2-piece Gambler",null,null,null,null,null,null,null,null,null,null,null,null,null,null,null,null,null,null,null,0.2]
["2-piece Gladiator's Finale",0.18]
["2-piece Instructor",null,null,null,null,null,null,null,null,null,null,null,null,null,80]
["2-piece Lavawalker",null,null,null,null,null,null,null,null,null,null,null,null,null,null,null,null,null,null,null,null,null,null,null,null,null,null,null,null,null,null,null,null,null,0.4]
["2-piece Maiden's Beloved",null,null,null,null,null,null,null,null,null,null,null,null,null,null,null,0.15]
["2-piece Martial Artist",null,null,null,null,null,null,null,null,null,null,null,null,null,null,null,null,0.15,0.15]
["2-piece Noblesse Oblige",null,null,null,null,null,null,null,null,null,null,null,null,null,null,null,null,null,null,null,null,0.2]
["2-piece Retracing Bolide",null,null,null,null,null,null,null,null,null,null,null,null,null,null,null,null,null,null,null,null,null,null,0.35]
["2-piece Thundering Fury",null,null,null,null,null,null,null,null,null,null,null,null,0.15]
["2-piece Thundersoother",null,null,null,null,null,null,null,null,null,null,null,null,null,null,null,null,null,null,null,null,null,null,null,null,null,null,null,null,null,null,null,null,null,null,null,null,0.4]
["2-piece Viridescent Venerer",null,null,null,null,null,null,null,0.15]
["2-piece Wanderer's Troupe",null,null,null,null,null,null,null,null,null,null,null,null,null,80]
["2-piece Blizzard Strayer",null,null,null,null,null,null,null,null,null,null,0.15]
["2-piece Heart of Depth",null,null,null,null,null,null,null,null,null,null,null,0.15]
["2-piece Pale Flame",null,null,null,null,null,null,0.25]
["2-piece Tenacity of the Millelith",null,null,0.2]
["2-piece Shimenawa's Reminiscence",0.18]
["2-piece Emblem of Severed Fate",null,null,null,null,null,0.2]
["2-piece Ocean-Hued Clam",null,null,null,null,null,null,null,null,null,null,null,null,null,null,null,0.15]
["2-piece Husk of Opulent Dreams",null,0.3]
["2-piece Vermillion Hereafter",0.18]
["2-piece Echoes of an Offering",0.18]
["4-piece Archaic Petra",null,null,null,null,null,null,null,null,null,{"$f":"IF(char4ArtiToggle, 35%, 0%)","v":0},{"$f":"IF(char4ArtiToggle, 35%, 0%)","v":0},{"$f":"IF(char4ArtiToggle, 35%, 0%)","v":0},{"$f":"IF(char4ArtiToggle, 35%, 0%)","v":0}]
["4-piece Berserker",null,null,null,{"$f":"IF(char4ArtiToggle, 24%, 0%)","v":0}]
["4-piece Bloodstained Chivalry",null,null,null,null,null,null,null,null,null,null,null,null,null,null,null,null,null,{"$f":"IF(char4ArtiToggle, 50%, 0%)","v":0}]
["4-piece Brave Heart",null,null,null,null,null,null,null,null,null,null,null,null,null,null,null,null,null,null,null,null,null,{"$f":"IF(char4ArtiToggle, 30%, 0%)","v":0}]
["4-piece Crimson Witch of Flames",null,null,null,null,null,null,null,null,null,{"$f":"char4ArtiStacks*(7.5%)","v":0},null,null,null,null,null,null,null,null,null,null,null,null,null,null,0.4,null,null,null,0.15,0.15]
["4-piece Defender's Will",null,null,null,null,null,null,null,null,null,null,null,null,null,null,null,null,null,null,null,null,null,null,null,null,null,null,null,null,null,null,null,0.3,0.3,0.3,0.3,0.3,0.3]
["4-piece Gambler"]
["4-piece Gladiator's Finale",null,null,null,null,null,null,null,null,null,null,null,null,null,null,null,null,0.35]
["4-piece Instructor",null,null,null,null,null,null,null,null,null,null,null,null,null,{"$f":"IF(char4ArtiToggle, 120, 0)","v":0}]
["4-piece Lavawalker",null,null,null,null,null,null,{"$f":"IF(char4ArtiToggle, 35%, 0)","v":0},0,0,0,0,0,0]
["4-piece Maiden's Beloved",null,null,null,null,null,null,null,null,null,null,null,null,null,null,0.2]
["4-piece Martial Artist",null,null,null,null,null,null,null,null,null,null,null,null,null,null,null,null,{"$f":"IF(char4ArtiToggle, 25%, 0)","v":0},{"$f":"IF(char4ArtiToggle, 25%, 0)","v":0}]
["4-piece Noblesse Oblige",{"$f":"IF(char4ArtiToggle, 20%, 0)","v":0}]
["4-piece Retracing Bolide",null,null,null,null,null,null,null,null,null,null,null,null,null,null,null,null,{"$f":"IF(char4ArtiToggle, 40%, 0)","v":0},{"$f":"IF(char4ArtiToggle, 40%, 0)","v":0}]
["4-piece Thundering Fury"," ",null,null,null,null,null,null,null,null,null,null,null,null,null,null,null,null,null,null,null,null,null,null,null,0.4,null,0.4,0.4]
["4-piece Thundersoother",null,null,null,null,null,null,null,null,null,null,null,null,null,null,null,null,null,null,null,null,null,{"$f":"IF(char4ArtiToggle, 35%, 0)","v":0}]
["4-piece Viridescent Venerer",null,null,null,null,null,null,null,null,null,null,null,null,null,null,null,null,null,null,null,null,null,null,null,0.6]
["4-piece Wanderer's Troupe",null,null,null,null,null,null,null,null,null,null,null,null,null,null,null,null,null,{"$f":"IF(char4ArtiToggle, 35%, 0)","v":0}]
["4-piece Blizzard Strayer",null,null,null,{"$f":"char4ArtiStacks*(20%)","v":0}]
["4-piece Heart of Depth",null,null,null,null,null,null,null,null,null,null,null,null,null,null,null,null,{"$f":"IF(char4ArtiToggle, 30%, 0)","v":0},{"$f":"IF(char4ArtiToggle, 30%, 0)","v":0}]
["4-piece Pale Flame",{"$f":"char4ArtiStacks*9%","v":0},null,null,null,null,null,{"$f":"IF(char4ArtiStacks=2, 25%, 0)","v":0}]
["4-piece Tenacity of the Millelith",{"$f":"IF(char4ArtiToggle, 20%, 0)","v":0},null,null,null,null,null,null,null,null,null,null,null,null,null,null,null,null,null,null,null,null,null,{"$f":"IF(char4ArtiToggle, 30%, 0)","v":0}]
["4-piece Shimenawa's Reminiscence",null,null,null,null,null,null,null,null,null,null,null,null,null,null,null,null,{"$f":"IF(char4ArtiToggle, 50%, 0)","v":0},{"$f":"IF(char4ArtiToggle, 50%, 0)","v":0},{"$f":"IF(char4ArtiToggle, 50%, 0)","v":0}]
["4-piece Emblem of Severed Fate",null,null,null,null,null,null,null,null,null,null,null,null,null,null,null,null,null,null,null,null,{"$f":"IF(char4FinalER*25%>75%, 75%,char4FinalER*25%)","v":0.55645}]
["4-piece Ocean-Hued Clam"]
["4-piece Husk of Opulent Dreams",null,{"$f":"6%*char4ArtiStacks","v":0},null,null,null,null,null,null,{"$f":"6%*char4ArtiStacks","v":0}]
["4-piece Vermillion Hereafter",{"$f":"8%+(10%*char4ArtiStacks)","v":0.08}]
["4-piece Echoes of an Offering"]

{"sheet":"Artifact Database","index":14,"n_rows":66,"n_cols":30,"rows_kept":66,"cut":false,"hidden":true,"merged":[]}
["Sub Values","KQMC","Perfect","Average",null,"5 Star","Flat HP","Flat ATK","HP%","ATK%","DEF%","Phys DMG%","Pyro DMG%","Cryo DMG%","Hydro DMG%","Anemo DMG%","Geo DMG%","Electro DMG%","EM","ER%","CR%","CDMG%","Healing Bonus%",null,"Possible Mainstats"]
["ATK%",4.9599999999999998E-2,5.8299999999999998E-2,4.9749999999999996E-2,null,0,717,47,7,7,8.6999999999999993,8.6999999999999993,7,7,7,7,7,7,28,7.8,4.7,9.3000000000000007,5.4,null,"Sands","Goblet","Circlet"]
["CDMG%",6.6199999999999995E-2,7.7699999999999991E-2,6.6000000000000003E-2,null,1,920,60,9,9,11.2,11.2,9,9,9,9,9,9,36,10,6,11.9,6.9,null,"HP%","HP%","HP%"]
["CR%",3.3099999999999997E-2,3.8900000000000004E-2,3.3000000000000002E-2,null,2,1123,73,11,11,13.7,13.7,11,11,11,11,11,11,44,12.2,7.4,14.6,8.4,null,"ATK%","ATK%","ATK%"]
["DEF%",6.2E-2,7.2900000000000006E-2,6.2E-2,null,3,1326,86,12.9,12.9,16.2,16.2,12.9,12.9,12.9,12.9,12.9,12.9,52,14.4,8.6999999999999993,17.2,10,null,"DEF%","DEF%","DEF%"]
["HP%",4.9599999999999998E-2,5.8299999999999998E-2,0.05,null,4,1530,100,14.9,14.9,18.600000000000001,16.2,14.9,14.9,14.9,14.9,14.9,14.9,60,16.600000000000001,10,19.899999999999999,11.5,null,"EM","EM","EM"]
["ER%",5.5100000000000003E-2,6.4799999999999996E-2,5.5E-2,null,5,1733,113,16.899999999999999,16.899999999999999,21.1,21.1,16.899999999999999,16.899999999999999,16.899999999999999,16.899999999999999,16.899999999999999,16.899999999999999,68,18.8,11.4,22.5,13,null,"ER%","Phys DMG%","CR%"]
["Flat ATK",16.54,19.45,17,null,6,1936,126,18.899999999999999,18.899999999999999,23.6,23.6,18.899999999999999,18.899999999999999,18.899999999999999,18.899999999999999,18.899999999999999,18.899999999999999,76,21,12.7,25.2,14.5,null,null,"Pyro DMG%","CDMG%"]
["Flat DEF",19.68,23.15,20,null,7,2139,139,20.9,20.9,26.1,26.1,20.9,20.9,20.9,20.9,20.9,20.9,84,23.2,14,27.8,16.100000000000001,null,null,"Cryo DMG%","Healing Bonus%"]
["Flat HP",253.94,298.75,254,null,8,2342,152,22.8,22.8,28.6,28.6,22.8,22.8,22.8,22.8,22.8,22.8,91,25.4,15.4,30.5,17.600000000000001,null,null,"Hydro DMG%"]
["EM",19.82,23.31,19.75,null,9,2545,166,24.8,24.8,31,31,24.8,24.8,24.8,24.8,24.8,24.8,99,27.6,16.7,33.1,19.100000000000001,null,null,"Electro DMG%"]
[null,null,null,null,null,10,2749,179,26.8,26.8,33.5,33.5,26.8,26.8,26.8,26.8,26.8,26.8,107,29.8,18,35.799999999999997,20.6,null,null,"Anemo DMG%"]
[null,null,null,null,null,11,2952,192,28.8,28.8,36,36,28.8,28.8,28.8,28.8,28.8,28.8,115,32,19.3,38.4,22.2,null,null,"Geo DMG%"]
[null,null,null,null,null,12,3155,205,30.8,30.8,38.5,38.5,30.8,30.8,30.8,30.8,30.8,30.8,123,34.200000000000003,20.7,41.1,23.7]
[null,null,null,null,null,13,3358,219,32.799999999999997,32.799999999999997,40.9,40.9,32.799999999999997,32.799999999999997,32.799999999999997,32.799999999999997,32.799999999999997,32.799999999999997,131,36.4,22,43.7,25.2,null,"Implemented Rarities and Level Constraints"]
[null,null,null,null,null,14,3561,232,34.700000000000003,34.700000000000003,43.4,43.4,34.700000000000003,34.700000000000003,34.700000000000003,34.700000000000003,34.700000000000003,34.700000000000003,139,38.6,23.3,46.3,26.7,null,"5 star","4 star","3 star","2 star","1 star"]
[null,null,null,null,null,15,3764,245,36.700000000000003,36.700000000000003,45.9,45.9,36.700000000000003,36.700000000000003,36.700000000000003,36.700000000000003,36.700000000000003,36.700000000000003,147,40.799999999999997,24.7,49,28.3,null,1,1,1,1,1]
[null,null,null,null,null,16,3967,258,38.700000000000003,38.700000000000003,48.4,48.4,38.700000000000003,38.700000000000003,38.700000000000003,38.700000000000003,38.700000000000003,38.700000000000003,155,43,26,51.6,29.8,null,2,2,2,2,2]
[null,null,null,null,null,17,4171,272,40.700000000000003,40.700000000000003,50.8,50.8,40.700000000000003,40.700000000000003,40.700000000000003,40.700000000000003,40.700000000000003,40.700000000000003,163,45.2,27.3,54.3,31.3,null,3,3,3,3,3]
[null,null,null,null,null,18,4374,285,42.7,42.7,53.3,53.3,42.7,42.7,42.7,42.7,42.7,42.7,171,47.4,28.7,56.9,32.799999999999997,null,4,4,4,4,4]
[null,null,null,null,null,19,4577,298,44.6,44.6,55.8,55.8,44.6,44.6,44.6,44.6,44.6,44.6,179,49.6,30,59.6,34.4,null,5,5,5]
[null,null,null,null,null,20,4780,311,46.6,46.6,58.3,58.3,46.6,46.6,46.6,46.6,46.6,46.6,187,51.8,31.1,62.2,35.9,null,6,6,6]
[null,null,null,null,null,"4 Star","HP","ATK","HP%","ATK%","DEF%","Phys DMG%","Pyro DMG%","Cryo DMG%","Hydro DMG%","Anemo DMG%","Geo DMG%","Electro DMG%","EM","ER%","CR%","CDMG%","Healing Bonus%",null,7,7,7]
[null,null,null,null,null,0,645,42,6.3,6.3,7.9,7.9,6.3,6.3,6.3,6.3,6.3,6.3,25,7,4.2,8.4,4.8,null,8,8,8]
[null,null,null,null,null,1,828,54,8.1,8.1,10.1,10.1,8.1,8.1,8.1,8.1,8.1,8.1,32,9,5.4,10.8,6.2,null,9,9,9]
[null,null,null,null,null,2,1011,66,9.9,9.9,12.3,12.3,9.9,9.9,9.9,9.9,9.9,9.9,39,11,6.6,13.1,7.6,null,10,10,10]
[null,null,null,null,null,3,1194,78,11.6,11.6,14.6,14.6,11.6,11.6,11.6,11.6,11.6,11.6,47,12.9,7.8,15.5,9,null,11,11,11]
[null,null,null,null,null,4,1377,90,13.4,13.4,16.8,16.8,13.4,13.4,13.4,13.4,13.4,13.4,54,14.9,9,17.899999999999999,10.3,null,12,12,12]
[null,null,null,null,null,5,1559,102,15.2,15.2,19,19,15.2,15.2,15.2,15.2,15.2,15.2,61,16.899999999999999,10.1,20.3,11.7,null,13,13]
[null,null,null,null,null,6,1742,113,17,17,21.2,21.2,17,17,17,17,17,17,68,18.899999999999999,11.3,22.7,13.1,null,14,14]
[null,null,null,null,null,7,1925,125,18.8,18.8,23.5,23.5,18.8,18.8,18.8,18.8,18.8,18.8,75,20.9,12.5,25,14.4,null,15,15]
[null,null,null,null,null,8,2108,137,20.6,20.6,25.7,25.7,20.6,20.6,20.6,20.6,20.6,20.6,82,22.8,13.7,27.4,15.8,null,16,16]
[null,null,null,null,null,9,2291,149,22.3,22.3,27.9,27.9,22.3,22.3,22.3,22.3,22.3,22.3,89,24.8,14.9,29.8,17.2,null,17]
[null,null,null,null,null,10,2474,161,24.1,24.1,30.2,30.2,24.1,24.1,24.1,24.1,24.1,24.1,97,26.8,16.100000000000001,32.200000000000003,18.600000000000001,null,18]
[null,null,null,null,null,11,2657,173,25.9,25.9,32.4,32.4,25.9,25.9,25.9,25.9,25.9,25.9,104,28.8,17.3,34.5,19.899999999999999,null,19]
[null,null,null,null,null,12,2839,185,27.7,27.7,34.6,34.6,27.7,27.7,27.7,27.7,27.7,27.7,111,30.8,18.5,36.9,21.3,null,20]
[null,null,null,null,null,13,3022,197,29.5,29.5,36.799999999999997,36.799999999999997,29.5,29.5,29.5,29.5,29.5,29.5,118,32.799999999999997,19.7,39.299999999999997,22.7]
[null,null,null,null,null,14,3205,209,31.3,31.3,39.1,39.1,31.3,31.3,31.3,31.3,31.3,31.3,125,34.700000000000003,20.8,41.7,24,null,"Levels Matching Table"]
[null,null,null,null,null,15,3388,221,33,33,41.3,41.3,33,33,33,33,33,33,132,36.700000000000003,22,44.1,25.4,null,"1 star","oneStarArtiLevels"]
[null,null,null,null,null,16,3571,232,34.799999999999997,34.799999999999997,43.5,43.5,34.799999999999997,34.799999999999997,34.799999999999997,34.799999999999997,34.799999999999997,34.799999999999997,139,38.700000000000003,23.2,46.4,26.8,null,"2 star","twoStarArtiLevels"]
[null,null,null,null,null,"3 Star","HP","ATK","HP%","ATK%","DEF%","Physical DMG%","Pyro DMG%","Cryo DMG%","Hydro DMG%","Anemo DMG%","Geo DMG%","Electro DMG%","Elemental Mastery","Energy Recharge%","Crit Rate%","Crit DMG%","Healing Bonus%",null,"3 star","threeStarArtiLevels"]
[null,null,null,null,null,0,430,28,5.2,5.2,6.6,6.6,5.2,5.2,5.2,5.2,5.2,5.2,21,5.8,3.5,7,4,null,"4 star","fourStarArtiLevels"]
[null,null,null,null,null,1,552,36,6.7,6.7,8.4,8.4,6.7,6.7,6.7,6.7,6.7,6.7,27,7.5,4.5,9,5.2,null,"5 star","fiveStarArtiLevels"]
[null,null,null,null,null,2,674,44,8.1999999999999993,8.1999999999999993,10.3,10.3,8.1999999999999993,8.1999999999999993,8.1999999999999993,8.1999999999999993,8.1999999999999993,8.1999999999999993,33,9.1,5.5,11,6.3]
[null,null,null,null,null,3,796,52,9.6999999999999993,9.6999999999999993,12.1,12.1,9.6999999999999993,9.6999999999999993,9.6999999999999993,9.6999999999999993,9.6999999999999993,9.6999999999999993,39,10.8,6.5,12.9,7.5,null,"Arti Stats Matching Table"]
[null,null,null,null,null,4,918,60,11.2,11.2,14,14,11.2,11.2,11.2,11.2,11.2,11.2,45,12.4,7.5,14.9,8.6,null,"1 star","oneStarArtiStats"]
[null,null,null,null,null,5,1040,68,12.7,12.7,15.8,15.8,12.7,12.7,12.7,12.7,12.7,12.7,51,14.1,8.4,16.899999999999999,9.8000000000000007,null,"2 star","twoStarArtiStats"]
[null,null,null,null,null,6,1162,76,14.2,14.2,17.7,17.7,14.2,14.2,14.2,14.2,14.2,14.2,57,15.7,9.4,18.899999999999999,10.9,null,"3 star","threeStarArtiStats"]
[null,null,null,null,null,7,1283,84,15.6,15.6,19.600000000000001,19.600000000000001,15.6,15.6,15.6,15.6,15.6,15.6,63,17.399999999999999,10.4,20.9,12,null,"4 star","fourStarArtiStats"]
[null,null,null,null,null,8,1405,91,17.100000000000001,17.100000000000001,21.4,21.4,17.100000000000001,17.100000000000001,17.100000000000001,17.100000000000001,17.100000000000001,17.100000000000001,69,19,11.4,22.8,13.2,null,"5 star","fiveStarArtiStats"]
[null,null,null,null,null,9,1527,99,18.600000000000001,18.600000000000001,23.3,23.3,18.600000000000001,18.600000000000001,18.600000000000001,18.600000000000001,18.600000000000001,18.600000000000001,75,20.7,12.4,24.8,14.3]
[null,null,null,null,null,10,1649,107,20.100000000000001,20.100000000000001,25.1,25.1,20.100000000000001,20.100000000000001,20.100000000000001,20.100000000000001,20.100000000000001,20.100000000000001,80,22.3,13.4,26.8,15.5]
[null,null,null,null,null,11,1771,115,21.6,21.6,27,27,21.6,21.6,21.6,21.6,21.6,21.6,86,24,14.4,28.8,16.600000000000001,null,"Max Levels"]
[null,null,null,null,null,12,1893,123,23.1,23.1,28.8,28.8,23.1,23.1,23.1,23.1,23.1,23.1,92,25.6,15.4,30.8,17.8,null,"5 star",20]
[null,null,null,null,null,"2 Star","HP","ATK","HP%","ATK%","DEF%","Physical DMG%","Pyro DMG%","Cryo DMG%","Hydro DMG%","Anemo DMG%","Geo DMG%","Electro DMG%","Elemental Mastery","Energy Recharge%","CRIT Rate%","CRIT DMG%","Healing Bonus%",null,"4 star",16]
[null,null,null,null,null,0,258,17,4.2,4.2,5.2,5.2,4.2,4.2,4.2,4.2,4.2,4.2,17,4.7,2.8,5.6,3.2,null,"3 star",12]
[null,null,null,null,null,1,331,22,5.4,5.4,6.7,6.7,5.4,5.4,5.4,5.4,5.4,5.4,22,6,3.6,7.2,4.0999999999999996,null,"2 star",4]
[null,null,null,null,null,2,404,26,6.6,6.6,8.1999999999999993,8.1999999999999993,6.6,6.6,6.6,6.6,6.6,6.6,26,7.3,4.4000000000000004,8.8000000000000007,5.0999999999999996,null,"1 star",4]
[null,null,null,null,null,3,478,31,7.8,7.8,9.6999999999999993,9.6999999999999993,7.8,7.8,7.8,7.8,7.8,7.8,31,8.6,5.2,10.4,6]
[null,null,null,null,null,4,551,36,9,9,11.2,11.2,9,9,9,9,9,9,36,9.9,6,11.9,6.9,null,"Artifact Max Levels","Flower","Feather","Sands","Goblet","Circlet"]
[null,null,null,null,null,"1 Star","HP","ATK","HP%","ATK%","DEF%","Physical DMG%","Pyro DMG%","Cryo DMG%","Hydro DMG%","Anemo DMG%","Geo DMG%","Electro DMG%","Elemental Mastery","Energy Recharge%","CRIT Rate%","CRIT DMG%","Healing Bonus%",null,"char1",{"$f":"VLOOKUP('Char 1'!$L$24, 'Artifact Database'!$Y$54:$Z$58, 2, 0)","v":20},{"$f":"VLOOKUP('Char 1'!$L$26, 'Artifact Database'!$Y$54:$Z$58, 2, 0)","v":20},{"$f":"VLOOKUP('Char 1'!$L$29, 'Artifact Database'!$Y$54:$Z$58, 2, 0)","v":20},{"$f":"VLOOKUP('Char 1'!$L$32, 'Artifact Database'!$Y$54:$Z$58, 2, 0)","v":20},{"$f":"VLOOKUP('Char 1'!$L$35, 'Artifact Database'!$Y$54:$Z$58, 2, 0)","v":20}]
[null,null,null,null,null,0,129,8,3.1,3.1,3.9,3.9,3.1,3.1,3.1,3.1,3.1,3.1,13,3.5,2.1,4.2,2.4,null,"char2",{"$f":"VLOOKUP('Char 2'!$L$24, 'Artifact Database'!$Y$54:$Z$58, 2, 0)","v":20},{"$f":"VLOOKUP('Char 2'!$L$26, 'Artifact Database'!$Y$54:$Z$58, 2, 0)","v":20},{"$f":"VLOOKUP('Char 2'!$L$29, 'Artifact Database'!$Y$54:$Z$58, 2, 0)","v":20},{"$f":"VLOOKUP('Char 2'!$L$32, 'Artifact Database'!$Y$54:$Z$58, 2, 0)","v":20},{"$f":"VLOOKUP('Char 2'!$L$35, 'Artifact Database'!$Y$54:$Z$58, 2, 0)","v":20}]
[null,null,null,null,null,1,178,12,4.3,4.3,5.4,5.4,4.3,4.3,4.3,4.3,4.3,4.3,17,4.8,2.9,5.8,3.3,null,"char3",{"$f":"VLOOKUP('Char 3'!$L$24, 'Artifact Database'!$Y$54:$Z$58, 2, 0)","v":20},{"$f":"VLOOKUP('Char 3'!$L$26, 'Artifact Database'!$Y$54:$Z$58, 2, 0)","v":20},{"$f":"VLOOKUP('Char 3'!$L$29, 'Artifact Database'!$Y$54:$Z$58, 2, 0)","v":20},{"$f":"VLOOKUP('Char 3'!$L$32, 'Artifact Database'!$Y$54:$Z$58, 2, 0)","v":20},{"$f":"VLOOKUP('Char 3'!$L$35, 'Artifact Database'!$Y$54:$Z$58, 2, 0)","v":20}]
[null,null,null,null,null,2,227,15,5.5,5.5,6.9,6.9,5.5,5.5,5.5,5.5,5.5,5.5,22,6.1,3.7,7.4,4.3,null,"char4",{"$f":"VLOOKUP('Char 4'!$L$24, 'Artifact Database'!$Y$54:$Z$58, 2, 0)","v":20},{"$f":"VLOOKUP('Char 4'!$L$26, 'Artifact Database'!$Y$54:$Z$58, 2, 0)","v":20},{"$f":"VLOOKUP('Char 4'!$L$29, 'Artifact Database'!$Y$54:$Z$58, 2, 0)","v":20},{"$f":"VLOOKUP('Char 4'!$L$32, 'Artifact Database'!$Y$54:$Z$58, 2, 0)","v":20},{"$f":"VLOOKUP('Char 4'!$L$35, 'Artifact Database'!$Y$54:$Z$58, 2, 0)","v":20}]
[null,null,null,null,null,3,275,18,6.7,6.7,8.4,8.4,6.7,6.7,6.7,6.7,6.7,6.7,27,7.5,4.5,9,5.2]
[null,null,null,null,null,4,324,21,7.9,7.9,9.9,9.9,7.9,7.9,7.9,7.9,7.9,7.9,32,8.8000000000000007,5.3,10.5,6.1]